{"text_format":"1","workbook":"xlsx","n_sheets":20,"sheets":["Instructions","Combined Gradation","Matl Properties","Aggregate Classification","Weigh Up","Blank Weigh Up","Bulk Gravity","Film Thickness","RX","Summary","DATA_RecycMat","Data_Revisions","GRAD CHART","DATA_CHART","DATA_Std Spec GRADATIONS","DATA_AC","Data_Charts","DATA_QUARRY","DATA_Sheet3","DATA_MIXES"],"not_rendered":{"charts":10,"images":2,"macros":1,"external_links":0,"defined_names":1349,"comments":6,"pivot_tables":0},"unopened":[],"bounds":{"document_bytes":16777216,"sheet_cells":100000,"rows_first":2000,"rows_last":500,"rows_between":2000,"halvings":0,"cell_chars":16384,"cell_head_chars":4096},"cells_cut":0,"cells_raw":0,"read":"whole","date_system":"1900"}

{"sheet":"Instructions","index":0,"n_rows":71,"n_cols":14,"rows_kept":71,"cut":false,"hidden":false,"merged":[[26,2,27,11],[41,2,42,11],[59,1,60,11],[50,1,51,11],[52,2,54,11],[28,2,30,11],[31,2,31,11],[32,2,33,11],[34,2,36,11],[37,3,38,11],[39,3,39,11],[67,1,68,11],[70,1,71,11],[44,1,45,11],[56,1,57,11],[46,2,46,11],[62,2,63,11],[65,2,65,11],[4,1,4,11],[6,1,8,11],[13,1,13,11],[23,2,25,11],[21,2,22,11],[14,1,14,11],[10,1,10,11],[11,1,11,11],[16,1,18,11],[20,2,20,11]]}
[null,"TEXAS DEPARTMENT OF TRANSPORTATION"]
[]
[null,"HMACP MIXTURE DESIGN"]
[]
[null,"Use this template to perform the mixture design of Hot Mix Asphalt or Warm Mix Asphalt mixtures according to the 2014 Specifications handbook."]
[]
[null,"If you have questions or comments concerning this template or the mixture design procedures, please call Travis Patton at 512-506-5841 of the Flexible Pavements Branch of the Materials & Pavements Section within the Construction Division.",null,null,null,null,null,null,null,null,null,null,null," "]
[]
[]
[]
[null,"If you would like to obtain an updated version of this Site Manager template go to "]
[null,"http://www.txdot.gov/inside-txdot/forms-publications/consultants-contractors/forms/site-manager.html"]
[]
[null,"To move from page to page, click on the different worksheet tabs at the bottom of the page."]
[null,"This template provides notes throughout the worksheets when design requirements are not met."]
[]
["*","COMBINED GRADATION SHEET: Start at this worksheet. Select the 2014 specification year and the mix type. This information will affect the calculation, labeling, and formatting of the worksheets in this mixture design template."]
[]
[]
[]
[null,"•","Spec Year: Select the specification year from the dropdown list before selecting the mix type."]
[null,"•","Mix Type: Select the mix type from the dropdown list that most closely matches your mix. This value will determine what sieve sizes and tolerances are displayed on the worksheets."]
[]
[null,"•","WMA: Select \"Yes\" from the dropdown list when the mixture design includes WMA additives. Select \"No\" if WMA additives are not included in the mixture design, even though a WMA technology may be used during production. WMA information must be entered before entering bin percentages."]
[]
[]
[null,"•","Course/Lift: From this dropdown list, select the mixture description and its location from the final riding surface. The mixture description must be selected before entering the recycled materials information to establish the maximum allowable amount of recycled materials."]
[]
[null,"•","Aggregate Bin Fractions: Select the aggregate type, source, and number from the dropdown lists. Refer to the BRSQC for additional aggregate and quarry information. To obtain the latest version of the BRSQC go to:"]
[]
[]
[null,null,"http://www.txdot.gov/txdot_library/publications/producer_list.htm"]
[null,null,"If the aggregate is not listed in the BRSQC but approved by the Engineer, select an aggregate source from the dropdown list and enter a description in the aggregate Sample ID cell."]
[]
[null,"•","Recycled Materials: Select the recycled material type and source from the dropdown lists. When using Recycled Asphalt Shingles (RAS), select the type of RAS used from the dropdown list.  The template calculates the recycled binder percent and the recycled to total binder ratio of the mixture."]
[]
[]
[null,null," NOTES:","1. For each recycled material, enter the bin percentages and the asphalt content (as Measured Recycled Asphalt Binder (%)) by weight of the total mix. The template calculates the recycled aggregate bin percentages by weight of the total aggregate."]
[]
[null,null,null,"2. For RAP, enter the measured high temperature PG grade (PGH) if available."]
[]
[null,"•","Binder Substitution: When using binder substitution, select \"Yes\" from the dropdown list and enter the originally specified and the substitute binders."]
[]
[]
["*","SUMMARY SHEET: Use this worksheet to determine the optimum asphalt content and mixture properties according to the mixture design procedure."]
[]
[null,"•","For informational purposes, enter the mixing and molding temperatures used for the mixture design."]
[null," NOTE:"]
[null,null,"Use the adjusted Optimum asphalt content (OAC) for QC/QA "]
[]
["*","MATL PROPERTIES SHEET: Use this worksheet to enter the material properties for each aggregate stockpile, fine aggregate, combined aggregate, and recycled materials."]
[]
[null,"•","When the material quality requirements are changed according to general notes or when shown on the plans, enter the new requirements in the \"Modified Spec. Limit\" column."]
[]
[]
[]
["*","AGGREGATE CLASSIFICATION SHEET: Use this worksheet to verify the amount of Class A material retained on the No. 4 or No. 8 sieve when blending Class A with Class B aggregate."]
[]
[]
["*","WEIGH UP SHEET: Use this worksheet to calculate the weight of the batches of mix used for molds, rice gravity, and any other required test."]
[]
[]
[null,"•","WARNING: When using recycled materials and changing the asphalt content in the Combined Gradation sheet, ensure that the Total Bin is 100%."]
[]
[null," NOTE:"]
[null,null,"Less Asphalt by Weight of Recycled Material is decreased due to reduced binder availability (if applicable)."]
[]
["*","BLANK WEIGH UP SHEET: Use this worksheet to prepare blank samples to calculate the ignition oven correction factors in accordance with Tex-236-F."]
[]
[]
["*","BULK GRAVITY SHEET: Use this worksheet to calculate the aggregate combined bulk specific gravity and the coarse aggregate combined bulk specific gravity if applicable."]

{"sheet":"Combined Gradation","index":1,"n_rows":97,"n_cols":34,"rows_kept":97,"cut":false,"hidden":false,"merged":[[28,18,28,19],[28,20,28,21],[28,22,28,23],[28,14,28,17],[29,14,29,17],[27,14,27,17],[27,18,27,19],[27,20,27,21],[27,22,27,23],[29,18,29,19],[29,20,29,21],[29,22,29,23],[24,1,24,3],[24,4,24,5],[20,1,20,3],[24,6,24,7],[24,8,24,9],[24,10,24,11],[24,12,24,13],[24,14,24,15],[24,16,24,17],[23,1,23,3],[23,4,23,5],[23,6,23,7],[30,33,33,33],[30,28,32,30],[30,31,33,31],[30,25,32,27],[30,32,33,32],[30,16,30,17],[25,18,25,19],[45,1,45,4],[43,1,43,2],[36,1,36,2],[37,1,37,2],[31,1,31,3],[33,1,33,2],[39,1,39,2],[38,1,38,2],[34,1,34,2],[25,25,26,27],[45,18,45,20],[26,14,26,15],[25,16,25,17],[25,14,25,15],[26,16,26,17],[25,20,25,21],[42,1,42,2],[52,14,56,24],[40,1,40,2],[41,1,41,2],[45,12,45,15],[29,1,29,3],[26,8,26,9],[25,1,25,3],[26,1,26,3],[62,3,62,8],[30,1,30,3],[29,4,29,5],[26,6,26,7],[29,6,29,7],[26,4,26,5],[25,4,25,5],[35,1,35,2],[25,6,25,7],[25,8,25,9],[25,10,25,11],[30,4,30,5],[30,6,30,7],[30,8,30,9],[52,13,56,13],[53,1,54,12],[51,1,51,7],[47,5,47,10],[49,1,49,4],[47,1,47,4],[45,5,45,7],[47,26,47,27],[47,19,47,25],[45,21,45,22],[49,5,49,10],[49,11,49,13],[47,15,47,17],[49,15,49,17],[47,11,47,13],[49,19,49,21],[45,8,45,10],[51,8,51,9],[68,9,68,10],[58,9,58,10],[55,1,55,12],[62,1,62,2],[60,1,60,2],[57,1,57,2],[58,1,58,2],[68,1,68,2],[66,9,66,10],[62,9,62,10],[60,9,60,10],[60,3,60,8],[56,1,56,12],[64,1,64,2],[64,3,64,8],[64,9,64,10],[58,3,58,8],[82,11,82,16],[82,7,82,8],[82,9,82,10],[84,5,84,6],[84,7,84,8],[82,1,82,6],[74,9,74,10],[70,1,70,2],[70,3,70,8],[70,9,70,10],[72,1,72,2],[72,3,72,8],[72,9,72,10],[76,1,76,2],[76,3,76,8],[76,9,76,10],[80,1,80,2],[80,3,80,8],[80,9,80,10],[78,1,78,2],[78,3,78,8],[78,9,78,10],[86,1,86,6],[86,7,86,8],[81,7,81,8],[66,1,66,2],[66,3,66,8],[74,1,74,2],[74,3,74,8],[68,3,68,8],[84,1,84,2],[84,3,84,4],[9,1,9,4],[22,1,22,3],[14,1,14,4],[17,7,17,8],[11,5,11,8],[21,4,21,5],[10,1,10,4],[12,5,12,8],[10,9,10,12],[12,9,12,12],[11,1,11,4],[12,1,12,4],[11,9,11,12],[21,1,21,3],[21,8,21,9],[22,6,22,7],[22,8,22,9],[22,4,22,5],[22,10,22,11],[21,10,21,11],[22,12,22,13],[21,12,21,13],[21,6,21,7],[20,8,20,9],[6,9,6,12],[7,9,7,12],[8,9,8,12],[9,9,9,12],[20,14,20,15],[20,6,20,7],[0,0,0,2],[6,5,6,8],[7,5,7,8],[8,5,8,8],[6,1,6,4],[7,1,7,4],[8,1,8,4],[17,15,17,16],[15,13,15,16],[15,1,15,4],[14,5,14,16],[17,1,17,3],[15,9,15,12],[17,4,17,6],[17,9,17,11],[13,1,13,4],[9,5,9,8],[10,5,10,8],[15,5,15,8],[17,12,17,14],[20,16,20,17],[13,5,13,16],[14,17,14,20],[20,4,20,5],[20,10,20,11],[20,12,20,13],[13,17,13,20],[19,4,19,17],[30,12,30,13],[25,12,25,13],[23,12,23,13],[23,8,23,9],[26,12,26,13],[30,10,30,11],[29,12,29,13],[45,16,45,17],[23,14,23,15],[30,14,30,15],[23,16,23,17],[29,8,29,9],[29,10,29,11],[26,10,26,11],[23,10,23,11],[12,21,12,23],[11,24,13,25],[23,22,23,23],[15,21,15,23],[20,20,20,21],[21,18,21,19],[19,18,19,23],[22,22,22,23],[25,22,25,23],[22,20,22,21],[23,20,23,21],[22,18,22,19],[17,17,17,20],[17,21,17,23],[14,21,14,23],[24,18,24,19],[24,20,24,21],[24,22,24,23],[23,18,23,19],[12,13,12,16],[26,18,26,23],[13,21,13,23],[29,24,29,27],[11,26,12,27],[21,26,22,27],[12,17,12,20],[4,26,5,27],[22,14,22,15],[22,16,22,17],[20,18,20,19],[20,22,20,23],[21,22,21,23],[21,20,21,21],[21,14,21,15],[10,13,10,16],[11,13,11,16],[21,16,21,17],[6,13,6,16],[7,13,7,16],[8,13,8,16],[9,13,9,16],[19,26,20,27],[14,24,17,25]]}
["TxDOT Manuals >",null,null,null,"Tex-207-F",null,"Tex-226-F",null,"Tex-227-F",null,"Tex-235-F",null,"Tex-242-F",null,"Tex-530-F"]
[null,"TEXAS DEPARTMENT OF TRANSPORTATION",null,null,null,null,null,null,null,null,null,null,null,null,null,null,null,"UPLC:",895]
[null,null,null,null,null,null,null,null,null,null,null,null,null,null,null,null,null,"DLT:",12]
[]
[null,"2014 HMACP MIXTURE DESIGN : COMBINED GRADATION",null,null,null,null,null,null,null,null,null,null,null,null,null,null,null,"SN:","tx2mixde14.xlsm::43921.438727",null,null,null,null,null,null,null,"Maximum Allowable, %",null,null,null,null,null,"or ",30]
[null,null,null,null,null,null,null,null,null,null,null,null,null,null,null,null,{"$f":"\"TX2MIXDE14 - File Version: \" & TEXT(MID(sn,SEARCH(\"::\",sn,1)+2,20),\"mm/dd/yy hh:mm:ss\")","v":"TX2MIXDE14 - File Version: 03/31/20 10:31:46"}]
[null,"SAMPLE ID:",null,null,null,null,null,null,null,"SAMPLE DATE:",null,null,null,null,null,null,null,null,null,null,null,null,null,null,null,null,"Frac RAP:",{"$f":"FracRAPCheck","v":35}]
[null,"LOT NUMBER:",null,null,null,null,null,null,null,"LETTING DATE:",null,null,null,"",null,null,null,null,null,null,null,null,null,null,null,null,"Unfrac RAP:",{"$f":"UnfracRAPCheck","v":0}]
[null,"SAMPLE STATUS:",null,null,null,null,null,null,null,"CONTROLLING CSJ:",null,null,null,null,null,null,null,null,null,null,null,null,null,null,null,null,"RAS:",{"$f":"IFERROR(RASCheck,\"\")","v":5}]
[null,"COUNTY:",null,null,null,null,null,null,null,"SPEC YEAR:",null,null,null,"2014",null,null,null,null,null,null,null,null,null,null,null,null,"RB Ratio:",{"$f":"IFERROR(bindercheck,\"\")","v":30}]
[null,"SAMPLED BY:",null,null,null,null,null,null,null,"SPEC ITEM:",null,null,null,null,null,null,null,null,null,null,null,null,null,null,{"$f":"NOT(OR(WMACheck<>\"\",V13=\"No\",V13=\"No (WMA during prod.)\",ISBLANK(V13)))","v":false}]
[null,"SAMPLE LOCATION:",null,null,null,null,null,null,null,"SPECIAL PROVISION:",null,null,null,null,null,null,null,null,null,null,null,null,null,null,{"$f":"IF(AND(OR($V$13=\"Yes\",$V$13=\"No (WMA during prod.)\"),$V$14>275),\"    Mixture not <<defined as WMA\",\"\")","v":""},null,"Recycled     Binder, %"]
[null,"MATERIAL CODE:",null,null,null,null,null,null,null,"MIX TYPE:",null,null,null,"SS-3074-BMD-SP-C",null,null,null,"WMA Additive in Design?"]
[null,"MATERIAL NAME:",null,null,null,null,null,null,null,null,null,null,null,null,null,null,null,"Target Discharge Temp., ºF:",null,null,null,null,null,null,null,null,{"$f":"S21&\":\"","v":"Bin No.8 :"},{"$f":"S31*Bin8RecAC/100","v":0.33750000000000002}]
[null,"PRODUCER:",null,null,null,null,null,null,null,null,null,null,null,null,null,null,null,"WMA TECHNOLOGY:",null,null,null,null,null,null,"Use this value in the QC/QA template>>",null,{"$f":"U21&\":\"","v":"Bin No.9 :"},{"$f":"U31*Bin9RecAC/100","v":9.375E-2}]
[null,"AREA ENGINEER:",null,null,null,null,null,null,null,"PROJECT MANAGER:",null,null,null,null,null,null,null,"WMA","RATE:",null,"UNITS:",null,null,null,null,null,{"$f":"W21&\":\"","v":"Bin No.10 :"},{"$f":"W31*Bin10RecAC/100","v":0.75}]
[]
[null,"COURSE\\LIFT:",null,null,"Surface",null,null,"STATION:",null,"",null,null,"DIST. FROM CL:",null,null,"",null,"CONTRACTOR DESIGN # :",null,null,null,null,null,null,null,null,"Total",{"$f":"IF(version>=10,SUM(AB14:AB16),ROUND(SUM(AB14:AB16),1))","v":1.1812499999999999}]
[]
[null,null,null,null,{"$f":"IF(version>4,\"AGGREGATE BIN FRACTIONS\",\"BIN FRACTIONS\")","v":"AGGREGATE BIN FRACTIONS"},null,null,null,null,null,null,null,null,null,null,null,null,null,"\"RECYCLED MATERIALS\"",null,null,null,null,null,null,null,"Ratio of Recycled to Total Binder, %"]
[null,"Aggregate",null,null,"Bin No.1",null,"Bin No.2",null,"Bin No.3",null,"Bin No.4",null,"Bin No.5",null,"Bin No.6 ",null,"Bin No.7 ",null,"Bin No.8 ",null,"Bin No.9 ",null,"Bin No.10 "]
[null,"Source:",null,null,null,null,null,null,null,null,null,null,null,null,null,null,null,null,"Fractionated RAP",null,"Fractionated RAP",null,"RAS",null,"Material Type",null,"(based on binder percent (%) entered below in this worksheet)"]
[null," Pit:",null,null,null,null,null,null,null,null,null,null,null,null,null,null,null,null,null,null,null,null,null,null,"Material Source"]
[null,"Number:",null,null,null,null,null,null,null,null,null,null,null,null,null,null,null,null,null,null,null,null,null,null,"RAS Type",null,"Adjusted",{"$f":"IF(Binder=\"\",\"\",RecBinder/Binder*100)","v":22.287735849056602}]
[null,"Producer:",null,null,null,null,null,null,null,null,null,null,null,null,null,null,null,null,null,null,null,null,null,null,"RAP/RAS Producer",null,"Measured",{"$f":"100*(((S29*Field718)/(100*Binder))+((U29*Field719)/(100*Binder))+((W29*Field720)/(100*Binder)))","v":29.716981132075471},null,{"$f":"IF(Bin8Recyc=\"RAS\",S31,0)","v":0},{"$f":"IF(Bin9Recyc=\"RAS\",T31,0)","v":0},{"$f":"IF(Bin10Recyc=\"RAS\",U31,0)","v":5},{"$f":"SUM(AD25:AF25)","v":5}]
[null,"Sample ID:",null,null,null,null,null,null,null,null,null,null,null,null,null,null,null,null,null,null,null,null,null,null,"Sample ID",{"$f":"IFERROR(IF($AB$24>bindercheck,\"Recycled Binder exceeds maximum allowable %\",\"\"),\"\")","v":""}]
[null,"Recycled Material?:",null,null,null,null,null,null,null,null,null,null,null,null,null,null,null,null,"Recycled Asphalt Binder (%)"]
[null,null,null,null,null,null,null,null,null,null,null,null,null,null,"Measured PGH of RAP (if available)",null,null,null,85,null,85]
[null,null,null,null,null,null,null,null,null,null,null,null,null,null,"Measured Recycled Asphalt Binder (%)",null,null,null,3,null,2.5,null,20]
[null,"Asphalt%:",null,null,null,null,null,null,null,null,null,null,null,null,"Adjusted Recycled Asphalt Binder (%)",null,null,null,{"$f":"IF(OR(AB25>20,$S$28>100,SUM(S31,U31)>20),$S$29*0.75,$S$29)","v":2.25},null,{"$f":"IF(OR(AB25>20,$U$28>100,SUM(S31,U31)>20),$U$29*0.75,$U$29)","v":1.875},null,{"$f":"IF(OR(AB25>20,Field720>3),$W$29*0.75,$W$29)","v":15},null,"Combined Gradation"]
[null,"Hydrated Lime?:",null,null,null,null,null,null,null,null,null,null,null,null,null,null,null,null,15,"% of Tot. Mix",5,"% of Tot. Mix",5,"% of Tot. Mix","Total Bin","Lower & Upper Specification Limits",null,null,"Restricted Zone",null,null,"Individual % Retained","Cumulative % Retained","Sieve Size"]
[null,"Individual Bin (%):",null,null,null,"Percent",null,"Percent",null,"Percent",null,"Percent",null,"Percent",null,"Percent",null,"Percent",{"$f":"ROUND(S$31*(100-Bin8RecAC)/(100-Binder-percentfiber),1)","v":15.5},"% of Aggreg",{"$f":"ROUND(U$31*(100-Bin9RecAC)/(100-Binder-percentfiber),1)","v":5.2},"% of Aggreg",{"$f":"ROUND(W$31*(100-Bin10RecAC)/(100-Binder-percentfiber),1)","v":4.5},"% of Aggreg",{"$f":"SUM(E32,G32,I32,K32,M32,O32,Q32,S32,U32,W32)/100","v":0.252}]
[null,null,null,null,48.1]
[null,"Sieve Size:",null,null,"Cum.% Passing","Wtd Cum. %","Cum.% Passing","Wtd Cum. %","Cum.% Passing","Wtd Cum. %","Cum.% Passing","Wtd Cum. %","Cum.% Passing","Wtd Cum. %","Cum.% Passing","Wtd Cum. %","Cum.% Passing","Wtd Cum. %","Cum.% Passing","Wtd Cum. %","Cum.% Passing","Wtd Cum. %","Cum.% Passing","Wtd Cum. %","Cum. % Passing","Lower","Upper","Within Spec's","Lower","Upper","Within Spec's"]
[null,{"$f":"IF(ISERROR(INDEX(INDIRECT(VLOOKUP(Grade,MIX_RANGE,2,0)),1,2)),\"\",INDEX(INDIRECT(VLOOKUP(Grade,MIX_RANGE,2,0)),1,2))","v":"1\""},null,{"$f":"IF(ISERROR(INDEX(INDIRECT(VLOOKUP(Grade,MIX_RANGE,2,0)),1,4)),0,INDEX(INDIRECT(VLOOKUP(Grade,MIX_RANGE,2,0)),1,4))","v":25},null,{"$f":"IF(E35=\"\",\"\",E35*(Bin1Frac/100))","v":""},null,{"$f":"IF(G35=\"\",\"\",G35*(Bin2Frac/100))","v":""},null,{"$f":"IF(I35=\"\",\"\",I35*(Bin3Frac/100))","v":""},null,{"$f":"IF(K35=\"\",\"\",K35*(Bin4Frac/100))","v":""},null,{"$f":"IF(M35=\"\",\"\",M35*(Bin5Frac/100))","v":""},null,{"$f":"IF(O35=\"\",\"\",O35*(Bin6Frac/100))","v":""},null,{"$f":"IF(Q35=\"\",\"\",Q35*(Bin7Frac/100))","v":""},null,{"$f":"IF(S35=\"\",\"\",S35*(Bin8Frac/100))","v":""},null,{"$f":"IF(U35=\"\",\"\",U35*(Bin9Frac/100))","v":""},null,{"$f":"IF(W35=\"\",\"\",W35*(Bin10Frac/100))","v":""},{"$f":"IF(AND(F35=\"\",H35=\"\",J35=\"\",L35=\"\",N35=\"\",P35=\"\",R35=\"\",T35=\"\",V35=\"\",X35=\"\"),\"\",SUM(F35,H35,J35,L35,N35,P35,R35,T35,V35,X35))","v":""},{"$f":"IF(ISERROR(INDEX(INDIRECT(VLOOKUP(Grade,MIX_RANGE,2,0)),1,5)),\"\",INDEX(INDIRECT(VLOOKUP(Grade,MIX_RANGE,2,0)),1,5))","v":100},{"$f":"IF(ISERROR(INDEX(INDIRECT(VLOOKUP(Grade,MIX_RANGE,2,0)),1,6)),\"\",INDEX(INDIRECT(VLOOKUP(Grade,MIX_RANGE,2,0)),1,6))","v":100},{"$f":"IF(OR(Z35=\"\",AA35=\"\"),\"\",IF(OR(Y35<Z35,Y35>AA35),\"No\",\"Yes\"))","v":"No"},{"$f":"IF(ISERROR(OR(INDEX(INDIRECT(VLOOKUP(Grade,MIX_RANGE,2,0)),1,8),INDEX(INDIRECT(VLOOKUP(Grade,MIX_RANGE,2,0)),1,9))),\"\",INDEX(INDIRECT(VLOOKUP(Grade,MIX_RANGE,2,0)),1,8))","v":""},{"$f":"IF(ISERROR(INDEX(INDIRECT(VLOOKUP(Grade,MIX_RANGE,2,0)),1,9)),\"\",INDEX(INDIRECT(VLOOKUP(Grade,MIX_RANGE,2,0)),1,9))","v":0},{"$f":"IF(OR(AC35=\"\",AD35=\"\"),\"\",IF(AND(Y35>=AC35,Y35<=AD35),\"No\",\"Yes\"))","v":""},{"$f":"IF(AG35=\"\",\"\",AG35)","v":""},{"$f":"IF(Y35=\"\",\"\",100-Y35)","v":""},{"$f":"$B35","v":"1\""}]
[null,{"$f":"IF(ISERROR(INDEX(INDIRECT(VLOOKUP(Grade,MIX_RANGE,2,0)),2,2)),\"\",INDEX(INDIRECT(VLOOKUP(Grade,MIX_RANGE,2,0)),2,2))","v":"3/4\""},null,{"$f":"IF(ISERROR(INDEX(INDIRECT(VLOOKUP(Grade,MIX_RANGE,2,0)),2,4)),0,INDEX(INDIRECT(VLOOKUP(Grade,MIX_RANGE,2,0)),2,4))","v":19},null,"",null,"",null,"",null,"",null,{"$f":"IF(M36=\"\",\"\",M36*(Bin5Frac/100))","v":""},null,"",null,{"$f":"IF(Q36=\"\",\"\",Q36*(Bin7Frac/100))","v":""},null,{"$f":"IF(S36=\"\",\"\",S36*(Bin8Frac/100))","v":""},null,"",null,{"$f":"IF(W36=\"\",\"\",W36*(Bin10Frac/100))","v":""},"",{"$f":"IF(ISERROR(INDEX(INDIRECT(VLOOKUP(Grade,MIX_RANGE,2,0)),2,5)),\"\",INDEX(INDIRECT(VLOOKUP(Grade,MIX_RANGE,2,0)),2,5))","v":98},{"$f":"IF(ISERROR(INDEX(INDIRECT(VLOOKUP(Grade,MIX_RANGE,2,0)),2,6)),\"\",INDEX(INDIRECT(VLOOKUP(Grade,MIX_RANGE,2,0)),2,6))","v":100},"No",{"$f":"IF(ISERROR(OR(INDEX(INDIRECT(VLOOKUP(Grade,MIX_RANGE,2,0)),2,8),INDEX(INDIRECT(VLOOKUP(Grade,MIX_RANGE,2,0)),2,9))),\"\",INDEX(INDIRECT(VLOOKUP(Grade,MIX_RANGE,2,0)),2,8))","v":""},{"$f":"IF(ISERROR(INDEX(INDIRECT(VLOOKUP(Grade,MIX_RANGE,2,0)),2,9)),\"\",INDEX(INDIRECT(VLOOKUP(Grade,MIX_RANGE,2,0)),2,9))","v":0},"",{"$f":"IF(IF(Y36=\"\",\"\",100-Y36-AG35)=\"\",\"\",IF(Y36=\"\",\"\",100-Y36-AG35))","v":""},{"$f":"IF(Y36=\"\",\"\",100-Y36)","v":""},"3/4\""]
[null,{"$f":"IF(ISERROR(INDEX(INDIRECT(VLOOKUP(Grade,MIX_RANGE,2,0)),3,2)),\"\",INDEX(INDIRECT(VLOOKUP(Grade,MIX_RANGE,2,0)),3,2))","v":"1/2\""},null,{"$f":"IF(ISERROR(INDEX(INDIRECT(VLOOKUP(Grade,MIX_RANGE,2,0)),3,4)),0,INDEX(INDIRECT(VLOOKUP(Grade,MIX_RANGE,2,0)),3,4))","v":12.5},null,"",null,"",null,"",null,"",null,"",null,"",null,{"$f":"IF(Q37=\"\",\"\",Q37*(Bin7Frac/100))","v":""},null,"",null,"",null,"","",{"$f":"IF(ISERROR(INDEX(INDIRECT(VLOOKUP(Grade,MIX_RANGE,2,0)),3,5)),\"\",INDEX(INDIRECT(VLOOKUP(Grade,MIX_RANGE,2,0)),3,5))","v":90},{"$f":"IF(ISERROR(INDEX(INDIRECT(VLOOKUP(Grade,MIX_RANGE,2,0)),3,6)),\"\",INDEX(INDIRECT(VLOOKUP(Grade,MIX_RANGE,2,0)),3,6))","v":100},"No",{"$f":"IF(ISERROR(OR(INDEX(INDIRECT(VLOOKUP(Grade,MIX_RANGE,2,0)),3,8),INDEX(INDIRECT(VLOOKUP(Grade,MIX_RANGE,2,0)),3,9))),\"\",INDEX(INDIRECT(VLOOKUP(Grade,MIX_RANGE,2,0)),3,8))","v":""},{"$f":"IF(ISERROR(INDEX(INDIRECT(VLOOKUP(Grade,MIX_RANGE,2,0)),3,9)),\"\",INDEX(INDIRECT(VLOOKUP(Grade,MIX_RANGE,2,0)),3,9))","v":0},"","","","1/2\""]
[null,{"$f":"IF(ISERROR(INDEX(INDIRECT(VLOOKUP(Grade,MIX_RANGE,2,0)),4,2)),\"\",INDEX(INDIRECT(VLOOKUP(Grade,MIX_RANGE,2,0)),4,2))","v":"3/8\""},null,{"$f":"IF(ISERROR(INDEX(INDIRECT(VLOOKUP(Grade,MIX_RANGE,2,0)),4,4)),0,INDEX(INDIRECT(VLOOKUP(Grade,MIX_RANGE,2,0)),4,4))","v":9.5},null,"",null,"",null,"",null,"",null,"",null,"",null,"",null,"",null,"",null,"","",{"$f":"IF(ISERROR(INDEX(INDIRECT(VLOOKUP(Grade,MIX_RANGE,2,0)),4,5)),\"\",INDEX(INDIRECT(VLOOKUP(Grade,MIX_RANGE,2,0)),4,5))","v":58},{"$f":"IF(ISERROR(INDEX(INDIRECT(VLOOKUP(Grade,MIX_RANGE,2,0)),4,6)),\"\",INDEX(INDIRECT(VLOOKUP(Grade,MIX_RANGE,2,0)),4,6))","v":90},"No",{"$f":"IF(ISERROR(OR(INDEX(INDIRECT(VLOOKUP(Grade,MIX_RANGE,2,0)),4,8),INDEX(INDIRECT(VLOOKUP(Grade,MIX_RANGE,2,0)),4,9))),\"\",INDEX(INDIRECT(VLOOKUP(Grade,MIX_RANGE,2,0)),4,8))","v":""},{"$f":"IF(ISERROR(INDEX(INDIRECT(VLOOKUP(Grade,MIX_RANGE,2,0)),4,9)),\"\",INDEX(INDIRECT(VLOOKUP(Grade,MIX_RANGE,2,0)),4,9))","v":0},"","","","3/8\""]
[null,{"$f":"IF(ISERROR(INDEX(INDIRECT(VLOOKUP(Grade,MIX_RANGE,2,0)),5,2)),\"\",INDEX(INDIRECT(VLOOKUP(Grade,MIX_RANGE,2,0)),5,2))","v":"No. 4"},null,{"$f":"IF(ISERROR(INDEX(INDIRECT(VLOOKUP(Grade,MIX_RANGE,2,0)),5,4)),0,INDEX(INDIRECT(VLOOKUP(Grade,MIX_RANGE,2,0)),5,4))","v":4.75},null,"",null,"",null,"",null,"",null,"",null,"",null,"",null,"",null,"",null,"","",{"$f":"IF(ISERROR(INDEX(INDIRECT(VLOOKUP(Grade,MIX_RANGE,2,0)),5,5)),\"\",INDEX(INDIRECT(VLOOKUP(Grade,MIX_RANGE,2,0)),5,5))","v":28},{"$f":"IF(ISERROR(INDEX(INDIRECT(VLOOKUP(Grade,MIX_RANGE,2,0)),5,6)),\"\",INDEX(INDIRECT(VLOOKUP(Grade,MIX_RANGE,2,0)),5,6))","v":90},"No",{"$f":"IF(ISERROR(OR(INDEX(INDIRECT(VLOOKUP(Grade,MIX_RANGE,2,0)),5,8),INDEX(INDIRECT(VLOOKUP(Grade,MIX_RANGE,2,0)),5,9))),\"\",INDEX(INDIRECT(VLOOKUP(Grade,MIX_RANGE,2,0)),5,8))","v":""},{"$f":"IF(ISERROR(INDEX(INDIRECT(VLOOKUP(Grade,MIX_RANGE,2,0)),5,9)),\"\",INDEX(INDIRECT(VLOOKUP(Grade,MIX_RANGE,2,0)),5,9))","v":0},"","","","No. 4"]
[null,{"$f":"IF(ISERROR(INDEX(INDIRECT(VLOOKUP(Grade,MIX_RANGE,2,0)),6,2)),\"\",INDEX(INDIRECT(VLOOKUP(Grade,MIX_RANGE,2,0)),6,2))","v":"No. 8"},null,{"$f":"IF(ISERROR(INDEX(INDIRECT(VLOOKUP(Grade,MIX_RANGE,2,0)),6,4)),0,INDEX(INDIRECT(VLOOKUP(Grade,MIX_RANGE,2,0)),6,4))","v":2.36},null,"",null,"",null,"",null,"",null,"",null,"",null,"",null,"",null,"",null,"","",{"$f":"IF(ISERROR(INDEX(INDIRECT(VLOOKUP(Grade,MIX_RANGE,2,0)),6,5)),\"\",INDEX(INDIRECT(VLOOKUP(Grade,MIX_RANGE,2,0)),6,5))","v":28},{"$f":"IF(ISERROR(INDEX(INDIRECT(VLOOKUP(Grade,MIX_RANGE,2,0)),6,6)),\"\",INDEX(INDIRECT(VLOOKUP(Grade,MIX_RANGE,2,0)),6,6))","v":58},"No",{"$f":"IF(ISERROR(OR(INDEX(INDIRECT(VLOOKUP(Grade,MIX_RANGE,2,0)),6,8),INDEX(INDIRECT(VLOOKUP(Grade,MIX_RANGE,2,0)),6,9))),\"\",INDEX(INDIRECT(VLOOKUP(Grade,MIX_RANGE,2,0)),6,8))","v":39.1},{"$f":"IF(ISERROR(INDEX(INDIRECT(VLOOKUP(Grade,MIX_RANGE,2,0)),6,9)),\"\",INDEX(INDIRECT(VLOOKUP(Grade,MIX_RANGE,2,0)),6,9))","v":39.1},"Yes","","","No. 8"]
[null,{"$f":"IF(ISERROR(INDEX(INDIRECT(VLOOKUP(Grade,MIX_RANGE,2,0)),7,2)),\"\",INDEX(INDIRECT(VLOOKUP(Grade,MIX_RANGE,2,0)),7,2))","v":"No. 16"},null,{"$f":"IF(ISERROR(INDEX(INDIRECT(VLOOKUP(Grade,MIX_RANGE,2,0)),7,4)),0,INDEX(INDIRECT(VLOOKUP(Grade,MIX_RANGE,2,0)),7,4))","v":1.18},null,"",null,"",null,"",null,"",null,"",null,"",null,"",null,"",null,"",null,"","",{"$f":"IF(ISERROR(INDEX(INDIRECT(VLOOKUP(Grade,MIX_RANGE,2,0)),7,5)),\"\",INDEX(INDIRECT(VLOOKUP(Grade,MIX_RANGE,2,0)),7,5))","v":2},{"$f":"IF(ISERROR(INDEX(INDIRECT(VLOOKUP(Grade,MIX_RANGE,2,0)),7,6)),\"\",INDEX(INDIRECT(VLOOKUP(Grade,MIX_RANGE,2,0)),7,6))","v":58},"No",{"$f":"IF(ISERROR(OR(INDEX(INDIRECT(VLOOKUP(Grade,MIX_RANGE,2,0)),7,8),INDEX(INDIRECT(VLOOKUP(Grade,MIX_RANGE,2,0)),7,9))),\"\",INDEX(INDIRECT(VLOOKUP(Grade,MIX_RANGE,2,0)),7,8))","v":25.6},{"$f":"IF(ISERROR(INDEX(INDIRECT(VLOOKUP(Grade,MIX_RANGE,2,0)),7,9)),\"\",INDEX(INDIRECT(VLOOKUP(Grade,MIX_RANGE,2,0)),7,9))","v":31.6},"Yes","","","No. 16"]
[null,{"$f":"IF(ISERROR(INDEX(INDIRECT(VLOOKUP(Grade,MIX_RANGE,2,0)),8,2)),\"\",INDEX(INDIRECT(VLOOKUP(Grade,MIX_RANGE,2,0)),8,2))","v":"No. 30"},null,{"$f":"IF(ISERROR(INDEX(INDIRECT(VLOOKUP(Grade,MIX_RANGE,2,0)),8,4)),0,INDEX(INDIRECT(VLOOKUP(Grade,MIX_RANGE,2,0)),8,4))","v":0.6},null,"",null,"",null,"",null,"",null,"",null,"",null,"",null,"",null,"",null,"","",{"$f":"IF(ISERROR(INDEX(INDIRECT(VLOOKUP(Grade,MIX_RANGE,2,0)),8,5)),\"\",INDEX(INDIRECT(VLOOKUP(Grade,MIX_RANGE,2,0)),8,5))","v":2},{"$f":"IF(ISERROR(INDEX(INDIRECT(VLOOKUP(Grade,MIX_RANGE,2,0)),8,6)),\"\",INDEX(INDIRECT(VLOOKUP(Grade,MIX_RANGE,2,0)),8,6))","v":58},"No",{"$f":"IF(ISERROR(OR(INDEX(INDIRECT(VLOOKUP(Grade,MIX_RANGE,2,0)),8,8),INDEX(INDIRECT(VLOOKUP(Grade,MIX_RANGE,2,0)),8,9))),\"\",INDEX(INDIRECT(VLOOKUP(Grade,MIX_RANGE,2,0)),8,8))","v":19.100000000000001},{"$f":"IF(ISERROR(INDEX(INDIRECT(VLOOKUP(Grade,MIX_RANGE,2,0)),8,9)),\"\",INDEX(INDIRECT(VLOOKUP(Grade,MIX_RANGE,2,0)),8,9))","v":23.1},"Yes","","","No. 30"]
[null,{"$f":"IF(ISERROR(INDEX(INDIRECT(VLOOKUP(Grade,MIX_RANGE,2,0)),9,2)),\"\",INDEX(INDIRECT(VLOOKUP(Grade,MIX_RANGE,2,0)),9,2))","v":"No. 50"},null,{"$f":"IF(ISERROR(INDEX(INDIRECT(VLOOKUP(Grade,MIX_RANGE,2,0)),9,4)),0,INDEX(INDIRECT(VLOOKUP(Grade,MIX_RANGE,2,0)),9,4))","v":0.3},null,"",null,"",null,"",null,"",null,"",null,"",null,"",null,{"$f":"IF(S43=\"\",\"\",S43*(Bin8Frac/100))","v":""},null,"",null,"","",{"$f":"IF(ISERROR(INDEX(INDIRECT(VLOOKUP(Grade,MIX_RANGE,2,0)),9,5)),\"\",INDEX(INDIRECT(VLOOKUP(Grade,MIX_RANGE,2,0)),9,5))","v":2},{"$f":"IF(ISERROR(INDEX(INDIRECT(VLOOKUP(Grade,MIX_RANGE,2,0)),9,6)),\"\",INDEX(INDIRECT(VLOOKUP(Grade,MIX_RANGE,2,0)),9,6))","v":58},"No",{"$f":"IF(ISERROR(OR(INDEX(INDIRECT(VLOOKUP(Grade,MIX_RANGE,2,0)),9,8),INDEX(INDIRECT(VLOOKUP(Grade,MIX_RANGE,2,0)),9,9))),\"\",INDEX(INDIRECT(VLOOKUP(Grade,MIX_RANGE,2,0)),9,8))","v":15.5},{"$f":"IF(ISERROR(INDEX(INDIRECT(VLOOKUP(Grade,MIX_RANGE,2,0)),9,9)),\"\",INDEX(INDIRECT(VLOOKUP(Grade,MIX_RANGE,2,0)),9,9))","v":15.5},"Yes","","","No. 50"]
[null,{"$f":"IF(ISERROR(INDEX(INDIRECT(VLOOKUP(Grade,MIX_RANGE,2,0)),10,2)),\"\",INDEX(INDIRECT(VLOOKUP(Grade,MIX_RANGE,2,0)),10,2))","v":"No. 200"},null,{"$f":"IF(ISERROR(INDEX(INDIRECT(VLOOKUP(Grade,MIX_RANGE,2,0)),10,4)),0,INDEX(INDIRECT(VLOOKUP(Grade,MIX_RANGE,2,0)),10,4))","v":7.4999999999999997E-2},null,"",null,"",null,"",null,"",null,"",null,"",null,"",null,"",null,"",null,"","",{"$f":"IF(ISERROR(INDEX(INDIRECT(VLOOKUP(Grade,MIX_RANGE,2,0)),10,5)),\"\",INDEX(INDIRECT(VLOOKUP(Grade,MIX_RANGE,2,0)),10,5))","v":2},{"$f":"IF(ISERROR(INDEX(INDIRECT(VLOOKUP(Grade,MIX_RANGE,2,0)),10,6)),\"\",INDEX(INDIRECT(VLOOKUP(Grade,MIX_RANGE,2,0)),10,6))","v":10},"No",{"$f":"IF(ISERROR(OR(INDEX(INDIRECT(VLOOKUP(Grade,MIX_RANGE,2,0)),10,8),INDEX(INDIRECT(VLOOKUP(Grade,MIX_RANGE,2,0)),10,9))),\"\",INDEX(INDIRECT(VLOOKUP(Grade,MIX_RANGE,2,0)),10,8))","v":""},{"$f":"IF(ISERROR(INDEX(INDIRECT(VLOOKUP(Grade,MIX_RANGE,2,0)),10,9)),\"\",INDEX(INDIRECT(VLOOKUP(Grade,MIX_RANGE,2,0)),10,9))","v":0},"","","","No. 200"]
[null,"(Bold Italic) Not within specifications     (Bold Italic) Not within specificaitons- Restricted Zone     (Italic) Not cumulative",null,null,null,null,null,null,null,null,null,null,null,null,null,null,null,null,{"$f":"IF(LEFT(Grade,2)=\"SS\",IF(Bin8Samp<>\"\",IF(LEFT(Bin8Samp,7)=\"RAP 1/2\",IF(S51<95,\"*\",\"\"),IF(LEFT(Bin8Samp,7)=\"RAP 3/8\",IF(S52<95,\"*\",\"\"),\"\")),\"\"),IF(Bin8Samp<>\"\",IF(LEFT(Bin8Samp,8)=\"Fine 1/2\",IF(S51<100,\"*\",\"\"),IF(LEFT(Bin8Samp,8)=\"Fine 3/8\",IF(S52<100,\"*\",\"\"),IF(LEFT(Bin8Samp,8)=\"Coarse 1\",IF(S51>0,\"*\",\"\"),IF(LEFT(Bin8Samp,8)=\"Coarse 3\",IF(S52>0,\"*\",\"\"),\"\")))),\"\"))","v":""},null,{"$f":"IF(LEFT(Grade,2)=\"SS\",IF(Bin9Samp<>\"\",IF(LEFT(Bin9Samp,7)=\"RAP 1/2\",IF(U51<95,\"*\",\"\"),IF(LEFT(Bin9Samp,7)=\"RAP 3/8\",IF(U52<95,\"*\",\"\"),\"\")),\"\"),IF(LEFT(Grade,2)=\"SS\",IF(Bin9Samp<>\"\",IF(LEFT(Bin9Samp,7)=\"RAP 1/2\",IF(U51<95,\"*\",\"\"),IF(LEFT(Bin9Samp,7)=\"RAP 3/8\",IF(U52<95,\"*\",\"\"),\"\")),\"\"),IF(Bin9Samp<>\"\",IF(LEFT(Bin9Samp,8)=\"Fine 1/2\",IF(U51<100,\"*\",\"\"),IF(LEFT(Bin9Samp,8)=\"Fine 3/8\",IF(U52<100,\"*\",\"\"),IF(LEFT(Bin9Samp,8)=\"Coarse 1\",IF(U51>0,\"*\",\"\"),IF(LEFT(Bin9Samp,8)=\"Coarse 3\",IF(U52>0,\"*\",\"\"),\"\")))),\"\")))","v":""},null,{"$f":"IF(LEFT(Grade,2)=\"SS\",IF(Bin10Samp<>\"\",IF(LEFT(Bin10Samp,7)=\"RAP 1/2\",IF(W51<95,\"*\",\"\"),IF(LEFT(Bin10Samp,7)=\"RAP 3/8\",IF(W52<95,\"*\",\"\"),\"\")),\"\"),IF(Bin10Samp<>\"\",IF(LEFT(Bin10Samp,8)=\"Fine 1/2\",IF(W51<100,\"*\",\"\"),IF(LEFT(Bin10Samp,8)=\"Fine 3/8\",IF(W52<100,\"*\",\"\"),IF(LEFT(Bin10Samp,8)=\"Coarse 1\",IF(W51>0,\"*\",\"\"),IF(LEFT(Bin10Samp,8)=\"Coarse 3\",IF(W52>0,\"*\",\"\"),\"\")))),\"\"))","v":""},null,{"$f":"IF(OR(S45<>\"\",U45<>\"\",W45<>\"\"),\"* Fractionated RAP stockpile fails spec\",\"\")","v":""},null,null,null,null,null,null,null,{"$f":"IF(version>=13,\"\",IF(Y45=\"\",\"\",100-Y45))","v":""}]
[null,"Lift Thickness, in:",null,null,null,null,null,null,"Binder Substitution?",null,null,null,"Binder Originally Specified:",null,null,null,"PG 76-22",null,"Substitute Binder:",null,null,null,null,{"$f":"IF(OR(AC_SUB=\"\",AC_SUB=\"NA\"),\"\",IF(LEFT(Grade,2)=\"SS\",IF(AC_SUB=SS_Sub,\"\",\"<<Error\"),\"\"))","v":""},{"$f":"MATCH(Q46,GRADES)-1","v":13},{"$f":"IF(NOT(ISWMA),MATCH(AC_SUB,OFFSET(SUB_HMA,AC_ROW,1,1,COUNTA(OFFSET(SUB_HMA,AC_ROW,1,1,4))),0),MATCH(AC_SUB,OFFSET(SUB_WMA,AC_ROW,1,1,COUNTA(OFFSET(SUB_WMA,AC_ROW,1,1,2))),0))","v":{"$error":"#N/A"}},{"$f":"MATCH(courselift,course,0)","v":1}]
[]
[null,{"$f":"IF(OR(BinderSub=\"Yes\",version>7), \"Asphalt Source:\",\"Asphalt Source & Grade:\")","v":"Asphalt Source:"},null,null,null,"Ergon Austin",null,null,null,null,null,"Binder Percent, (%):",null,null,5.3,"Asphalt Spec. Grav.:",null,null,null,"Membrane Target Application Rate, gal/yd2"]
[]
[null,"Antistripping Agent:",null,null,null,null,null,null,null,null,null,"Percent, (%):",null,null,null,{"$f":"IFERROR(IF(VLOOKUP(Grade,MIX_RANGE,11), \"Fiber Content, %:\",\"\"),\"\")","v":""},null,null,null,{"$f":"IFERROR(IF(VLOOKUP(Grade,MIX_RANGE,10), \"% Crumb Rubber:\",\"\"),\"\")","v":""},null,null,null,{"$f":"IF(ISBLANK(percentrubber),\"\",IF(percentrubber<15,\"Minimum of 15%\",\"\"))","v":""}]
[null,null,null,null,null,null,null,null,null,null,null,null,null,null,null,{"$f":"IF(ISBLANK(percentfiber), \"\", IF(RAS>=3,IF(OR(percentfiber<0.1,percentfiber>0.5),\"Outside allowed range of 0.1-0.5%\",\"\"),IF(OR(percentfiber<0.2,percentfiber>0.5),\"Outside allowable range of 0.2-0.5%\",\"\")))","v":""},null,null,{"$f":"IF(version>=13,VLOOKUP(\"1/2\"\"\",$B$35:$S$44,18,0),LOOKUP(\"1/2\"\"\",$B$35:$C$44,S35:S44))","v":0},null,{"$f":"IF(version>=13,VLOOKUP(\"1/2\"\"\",$B$35:$U$44,20,0),LOOKUP(\"1/2\"\"\",$B$35:$C$44,U35:U44))","v":0},null,{"$f":"IF(version>=13,VLOOKUP(\"1/2\"\"\",$B$35:$W$44,22,0),LOOKUP(\"1/2\"\"\",$B$35:$C$44,W35:W44))","v":0}]
[null,"Dry Rodded Unit Weight of Coarse Agg. (pcf)",null,null,null,null,null,null,null,null,null,null,null,null,null,null,null,null,{"$f":"IF(version>=13,VLOOKUP(\"3/8\"\"\",$B$35:$S$44,18,0),LOOKUP(\"3/8\",$B$35:$C$44,S35:S44))","v":0},null,{"$f":"IF(version>=13,VLOOKUP(\"3/8\"\"\",$B$35:$U$44,20,0),LOOKUP(\"3/8\"\"\",$B$35:$C$44,U35:U44))","v":0},null,{"$f":"IF(version>=13,VLOOKUP(\"3/8\"\"\",$B$35:$W$44,22,0),LOOKUP(\"3/8\"\"\",$B$35:$C$44,W35:W44))","v":0}]
[null,"Remarks:",null,null,{"$f":"NOW()","v":"2020-10-28T23:16:33.930"},null,null,null,null,null,null,null,null,"Notes:",{"$f":"IFERROR(IF(RAS>RASCheck,\"Exceeds maximum allowable RAS percentage\",\"\"),\"\")","v":""}]
[]
[]
[]
[]
[null,"Test Method:",null,null,"Tested By:",null,null,null,null,"Tested Date:"]
[null,"TX207"]
[]
[null,"TX226"]
[]
[null,"TX227"]
[]
[null,"TX227PII"]
[]
[null,"TX235"]
[]
[null,"TX242"]
[]
[null,"TX530"]
[]
[]
[]
[]
[]
[null,"TX207PI"]
[]
[null,"TX207PVI"]
[null,null,null,null,null,null,null,null,null,"2019-11-13"]
[null,"TX207PVIII"]
[null,"Test Stamp Code:",null,null,null,null,null,"Omit Test:",null,"Completed Date:",null,"Reviewed By:"]
[]
[null,"Locked By:",null,"TxDOT:",null,"District:",null,"Area:"]
[null,"",null,"",null,"",null,""]
[null,"Authorized By:",null,null,null,null,null,"Authorized Date:"]
[null,null,null,null,null,null,null,null,null,{"$f":"IF(OR(AuthorizedDate>43906,AuthorizedDate=\"\"),14,IF(AuthorizedDate>43765,13,IF(AuthorizedDate>43641,12,IF(AuthorizedDate>43184,11,IF(AuthorizedDate>42755,10,IF(AuthorizedDate>42650,9,IF(AuthorizedDate>41316,8,IF(AuthorizedDate>40850,7,IF(AuthorizedDate>40661,6,IF(AuthorizedDate>40333,5,IF(AuthorizedDate>39493,4,IF(AuthorizedDate>39022,3,IF(AuthorizedDate>38579,2,1)))))))))))))","v":14}]
[]
[null,null,null,null,null,null,null,{"$f":"AuthorizedDate","v":0}]
[]
[]
[]
[]
[]
[null,null,null,null,{"$f":"IFERROR(INDEX(ROCKS,SMALL((IF(LEN(ROCKS),ROW(INDIRECT(\"1:\"&ROWS(ROCKS))))),ROW(A2)),1),\"\")","v":""}]
[null,null,null,null,{"$f":"IFERROR(INDEX(ROCKS,SMALL((IF(LEN(ROCKS),ROW(INDIRECT(\"1:\"&ROWS(ROCKS))))),ROW(A3)),1),\"\")","v":""}]
[null,null,null,null,{"$f":"IFERROR(INDEX(ROCKS,SMALL((IF(LEN(ROCKS),ROW(INDIRECT(\"1:\"&ROWS(ROCKS))))),ROW(A4)),1),\"\")","v":""}]

{"sheet":"Matl Properties","index":2,"n_rows":51,"n_cols":53,"rows_kept":51,"cut":false,"hidden":false,"merged":[[22,4,22,7],[49,1,49,2],[49,9,49,10],[40,9,40,10],[26,1,26,2],[27,1,27,2],[28,1,28,2],[29,1,29,2],[33,1,33,2],[30,9,30,10],[38,9,38,10],[44,9,44,10],[33,9,33,10],[27,9,27,10],[31,1,31,2],[32,1,32,2],[49,12,49,13],[49,15,49,16],[45,14,45,16],[46,15,46,16],[47,1,47,2],[48,1,48,2],[47,9,47,10],[48,9,48,10],[47,12,47,13],[48,12,48,13],[47,15,47,16],[48,15,48,16],[45,1,45,3],[46,1,46,2],[46,9,46,10],[45,8,45,10],[45,11,45,13],[46,12,46,13],[44,12,44,13],[43,9,43,10],[43,12,43,13],[37,1,37,4],[39,8,39,10],[38,1,38,2],[35,1,35,2],[36,1,36,2],[34,23,34,25],[34,11,34,13],[34,14,34,16],[40,12,40,13],[40,1,44,1],[39,1,39,3],[39,20,39,22],[39,23,39,25],[41,9,41,10],[42,24,42,25],[41,18,41,19],[41,21,41,22],[38,15,38,16],[34,1,34,4],[42,9,42,10],[42,12,42,13],[39,26,39,28],[39,11,39,13],[39,14,39,16],[39,17,39,19],[36,9,36,10],[34,17,34,19],[34,20,34,22],[30,1,30,2],[30,15,30,16],[31,15,31,16],[32,15,32,16],[35,18,35,19],[36,18,36,19],[37,8,37,10],[38,27,38,28],[35,27,35,28],[35,21,35,22],[38,21,38,22],[38,24,38,25],[35,24,35,25],[38,18,38,19],[36,24,36,25],[36,27,36,28],[33,27,33,28],[27,15,27,16],[28,15,28,16],[29,15,29,16],[28,12,28,13],[30,18,30,19],[31,18,31,19],[32,18,32,19],[31,12,31,13],[27,18,27,19],[28,18,28,19],[31,24,31,25],[32,24,32,25],[33,5,33,7],[34,26,34,28],[32,12,32,13],[31,21,31,22],[32,21,32,22],[32,27,32,28],[33,21,33,22],[34,8,34,10],[31,9,31,10],[32,9,32,10],[20,17,20,19],[21,17,21,19],[22,17,22,19],[22,20,22,22],[22,26,22,28],[30,21,30,22],[28,21,28,22],[29,21,29,22],[30,24,30,25],[29,18,29,19],[18,14,18,16],[18,17,18,19],[19,14,19,16],[19,4,19,7],[16,17,16,18],[19,8,19,10],[24,18,24,19],[24,27,24,28],[28,27,28,28],[26,27,26,28],[27,27,27,28],[20,14,20,16],[21,14,21,16],[22,14,22,16],[24,15,24,16],[25,26,25,28],[24,21,24,22],[24,24,24,25],[21,23,21,25],[22,23,22,25],[26,21,26,22],[27,21,27,22],[25,20,25,22],[25,23,25,25],[19,36,21,36],[19,35,21,35],[19,34,21,34],[19,20,19,22],[20,20,20,22],[21,20,21,22],[19,26,19,28],[20,26,20,28],[21,26,21,28],[20,23,20,25],[19,23,19,25],[7,1,7,3],[7,4,7,6],[7,7,7,9],[51,1,52,8],[8,1,8,3],[8,4,8,6],[9,1,9,3],[9,4,9,6],[10,1,10,3],[10,4,10,6],[9,7,9,9],[10,7,10,9],[11,1,11,3],[24,1,24,2],[29,9,29,10],[28,9,28,10],[25,8,25,10],[25,1,25,4],[13,4,13,12],[12,1,12,3],[19,11,19,13],[29,12,29,13],[30,12,30,13],[27,12,27,13],[5,1,5,3],[5,4,5,6],[5,7,5,9],[5,10,5,12],[6,1,6,3],[6,4,6,6],[6,7,6,9],[6,10,6,12],[26,18,26,19],[16,13,16,16],[13,1,13,3],[18,11,18,13],[18,8,18,10],[24,9,24,10],[24,12,24,13],[20,11,20,13],[21,11,21,13],[22,11,22,13],[26,9,26,10],[26,12,26,13],[22,8,22,10],[25,11,25,13],[20,4,20,7],[21,4,21,7],[14,1,14,3],[14,4,14,6],[16,1,16,3],[16,5,16,6],[11,4,11,6],[11,7,11,9],[11,10,11,12],[16,11,16,12],[14,7,14,9],[14,10,14,12],[16,7,16,8],[16,9,16,10],[41,12,41,13],[41,15,41,16],[42,21,42,22],[42,27,42,28],[40,15,40,16],[40,18,40,19],[37,23,37,25],[7,10,7,12],[10,10,10,12],[36,15,36,16],[35,9,35,10],[35,12,35,13],[38,12,38,13],[40,21,40,22],[40,24,40,25],[35,15,35,16],[37,20,37,22],[12,4,12,12],[26,15,26,16],[25,14,25,16],[25,17,25,19],[19,17,19,19],[18,20,18,22],[18,23,18,25],[8,7,8,9],[8,10,8,12],[9,10,9,12],[20,8,20,10],[21,8,21,10],[40,27,40,28],[26,24,26,25],[27,24,27,25],[28,24,28,25],[29,24,29,25],[29,27,29,28],[30,27,30,28],[31,27,31,28],[18,26,18,28],[33,12,33,13],[33,15,33,16],[33,18,33,19],[36,21,36,22],[37,11,37,13],[37,14,37,16],[37,17,37,19],[37,26,37,28],[33,24,33,25],[36,12,36,13],[44,24,44,25],[44,27,44,28],[44,15,44,16],[44,18,44,19],[44,21,44,22],[41,24,41,25],[41,27,41,28],[42,18,42,19],[43,27,43,28],[43,18,43,19],[43,21,43,22],[43,15,43,16],[43,24,43,25],[42,15,42,16]]}
[null,"TEXAS DEPARTMENT OF TRANSPORTATION"]
[null,{"$f":"IF(location=\"\",\"\",location)","v":""}]
[]
[null,"HMACP MIXTURE DESIGN : MATERIAL PROPERTIES"]
[]
[null,"SAMPLE ID:",null,null,{"$f":"IF(sampleid=\"\",\"\",sampleid)","v":""},null,null,"SAMPLE DATE:",null,null,{"$f":"IF(sampleddate=\"\",\"\",sampleddate)","v":""}]
[null,"LOT NUMBER:",null,null,{"$f":"IF(testnumber=\"\",\"\",testnumber)","v":""},null,null,"LETTING DATE:",null,null,{"$f":"IF(lettingdate=\"\",\"\",lettingdate)","v":""}]
[null,"SAMPLE STATUS:",null,null,{"$f":"IF(status=\"\",\"\",status)","v":""},null,null,"CONTROLLING CSJ:",null,null,{"$f":"IF(ccsj=\"\",\"\",ccsj)","v":""}]
[null,"COUNTY:",null,null,{"$f":"IF(county=\"\",\"\",county)","v":""},null,null,"SPEC YEAR:",null,null,{"$f":"+IF(specyear=\"\",\"\",specyear)","v":"2014"}]
[null,"SAMPLED BY:",null,null,{"$f":"IF(sampledby=\"\",\"\",sampledby)","v":""},null,null,"SPEC ITEM:",null,null,{"$f":"IF(specitem=\"\",\"\",specitem)","v":""}]
[null,"SAMPLE LOCATION:",null,null,{"$f":"IF(samplelocation=\"\",\"\",samplelocation)","v":""},null,null,"SPECIAL PROVISION:",null,null,{"$f":"IF(specialprovision=\"\",\"\",specialprovision)","v":""}]
[null,"MATERIAL CODE:",null,null,{"$f":"IF(material=\"\",\"\",material)","v":""},null,null,"MIX TYPE:",null,null,{"$f":"IF(Grade=\"\",\"\",Grade)","v":"SS-3074-BMD-SP-C"}]
[null,"MATERIAL NAME:",null,null,{"$f":"IF(matl_nm=\"\",\"\",matl_nm)","v":""}]
[null,"PRODUCER:",null,null,{"$f":"IF(producer=\"\",\"\",producer)","v":""}]
[null,"AREA ENGINEER:",null,null,{"$f":"IF(areaengineer=\"\",\"\",areaengineer)","v":""},null,null,"PROJECT MANAGER:",null,null,{"$f":"IF(projectmanager=\"\",\"\",projectmanager)","v":""}]
[]
[null,"COURSE\\LIFT:",null,null,{"$f":"IF(courselift=\"\",\"\",courselift)","v":"Surface"},"STATION:",null,{"$f":"IF(station=\"\",\"\",station)","v":""},null,"DIST. FROM CL:",null,{"$f":"IF(distfromcl=\"\",\"\",distfromcl)","v":""},null,"CONTRACTOR DESIGN # :",null,null,null,{"$f":"IF(condesignnum=\"\",\"\",condesignnum)","v":""}]
[]
[null,null,null,null,null,null,null,null,"Bin No.1",null,null,"Bin No.2",null,null,"Bin No.3",null,null,"Bin No.4",null,null,"Bin No.5",null,null,"Bin No.6 ",null,null,"Bin No.7 "]
[null,null,null,null,"Individual Bin (%):",null,null,null,{"$f":"IF(Bin1Frac=\"\",\"\",\"Bin No.1 = \"&Bin1Frac&\" %\")","v":""},null,null,{"$f":"IF(Bin2Frac=\"\",\"\",\"Bin No.2 = \"&Bin2Frac&\" %\")","v":""},null,null,{"$f":"IF(Bin3Frac=\"\",\"\",\"Bin No.3 = \"&Bin3Frac&\" %\")","v":""},null,null,{"$f":"IF(Bin4Frac=\"\",\"\",\"Bin No.4 = \"&Bin4Frac&\" %\")","v":""},null,null,{"$f":"IF(Bin5Frac=\"\",\"\",\"Bin No.5 = \"&Bin5Frac&\" %\")","v":""},null,null,{"$f":"IF(Bin6Frac=\"\",\"\",\"Bin No.6 = \"&Bin6Frac&\" %\")","v":""},null,null,{"$f":"IF(Bin7Frac=\"\",\"\",\"Bin No.7 = \"&Bin7Frac&\" %\")","v":""}]
[null,null,null,null,"Aggregate Source:",null,null,null,{"$f":"IF(Bin1Source=\"\",\"\",Bin1Source)","v":""},null,null,{"$f":"IF(Bin2Source=\"\",\"\",Bin2Source)","v":""},null,null,{"$f":"IF(Bin3Source=\"\",\"\",Bin3Source)","v":""},null,null,{"$f":"IF(Bin4Source=\"\",\"\",Bin4Source)","v":""},null,null,{"$f":"IF(Bin5Source=\"\",\"\",Bin5Source)","v":""},null,null,{"$f":"IF(Bin6Source=\"\",\"\",Bin6Source)","v":""},null,null,{"$f":"IF(Bin7Source=\"\",\"\",Bin7Source)","v":""}]
[null,null,null,null,"Aggregate Number:",null,null,null,{"$f":"IF(Bin1Aggr=\"\",\"\",Bin1Aggr)","v":""},null,null,{"$f":"IF(Bin2Aggr=\"\",\"\",Bin2Aggr)","v":""},null,null,{"$f":"IF(Bin3Aggr=\"\",\"\",Bin3Aggr)","v":""},null,null,{"$f":"IF(Bin4Aggr=\"\",\"\",Bin4Aggr)","v":""},null,null,{"$f":"IF(Bin5Aggr=\"\",\"\",Bin5Aggr)","v":""},null,null,{"$f":"IF(Bin6Aggr=\"\",\"\",Bin6Aggr)","v":""},null,null,{"$f":"IF(Bin7Aggr=\"\",\"\",Bin7Aggr)","v":""}]
[null,null,null,null,"Sample ID:",null,null,null,{"$f":"IF(Bin1samp=\"\",\"\",Bin1samp)","v":""},null,null,{"$f":"IF(Bin2Samp=\"\",\"\",Bin2Samp)","v":""},null,null,{"$f":"IF(Bin3Samp=\"\",\"\",Bin3Samp)","v":""},null,null,{"$f":"IF(Bin4Samp=\"\",\"\",Bin4Samp)","v":""},null,null,{"$f":"IF(Bin5Samp=\"\",\"\",Bin5Samp)","v":""},null,null,{"$f":"IF(Bin6Samp=\"\",\"\",Bin6Samp)","v":""},null,null,{"$f":"IF(Bin7Samp=\"\",\"\",Bin7Samp)","v":""}]
[]
[null,"Test Name",null,"SiteManager Test Template","Test Method","Spec. Min or Max","Spec. Limit","Modified Spec. Limit","Result","Sample ID",null,"Result","Sample ID",null,"Result","Sample ID",null,"Result","Sample ID",null,"Result","Sample ID",null,"Result","Sample ID",null,"Result","Sample ID"]
[null,"Stockpile",null,null,null,null,null,null,"Bin No.1",null,null,"Bin No.2",null,null,"Bin No.3",null,null,"Bin No.4",null,null,"Bin No.5",null,null,"Bin No.6 ",null,null,"Bin No.7 "]
[null,"Decantation",null,"Tx217","Tex-217-F","Max.",1.5,null,null,null,null,null,null,null,null,null,null,null,null,null,null,null,null,null,null,null,null,null,null,null,{"$f":"IF(AND(version>5,$H$27=\"\"),$G$27,IF($H$27=\"\",\"\",$H$27))","v":1.5}]
[null,"Deleterious Mat'l",null,"Tx217","Tex-217-F","Max.",{"$f":"VLOOKUP(N_MIX_TYPE, MIX_RANGE, 28, 0)","v":1},null,null,null,null,null,null,null,null,null,null,null,null,null,null,null,null,null,null,null,null,null,null,null,{"$f":"IF(AND(version>5,$H$28=\"\"),$G$28,IF($H$28=\"\",\"\",$H$28))","v":1}]
[null,"Surface Aggregate Classification",null,"Tx4AgClas","Tex-438-A, Tex-612-J","Min."]
[null,"Magnesium Sulfate Soundness",null,"Tx411M","Tex-411-A","Max.",{"$f":"VLOOKUP(N_MIX_TYPE, MIX_RANGE, 29, 0)","v":25},null,null,null,null,null,null,null,null,null,null,null,null,null,null,null,null,null,null,null,null,null,null,null,{"$f":"IF(AND(version>5,$H$30=\"\"),$G$30,IF($H$30=\"\",\"\",$H$30))","v":25}]
[null,"LA Abrasion",null,"Tx410","Tex-410-A","Max.",{"$f":"VLOOKUP(N_MIX_TYPE, MIX_RANGE, 30, 0)","v":35},null,null,null,null,null,null,null,null,null,null,null,null,null,null,null,null,null,null,null,null,null,null,null,{"$f":"IF(AND(version>5,$H$31=\"\"),$G$31,IF($H$31=\"\",\"\",$H$31))","v":35}]
[null,"Crushed Faces Count",null,"Tx460","Tex-460-A","Min.",{"$f":"VLOOKUP(N_MIX_TYPE, MIX_RANGE, 31, 0)","v":85},null,null,null,null,null,null,null,null,null,null,null,null,null,null,null,null,null,null,null,null,null,null,null,{"$f":"IF(AND(version>5,$H$32=\"\"),$G$32,IF($H$32=\"\",\"\",$H$32))","v":85}]
[null,"Flat & Elongated",null,"Tx280","Tex-280-F","Max.",10,null,null,null,null,null,null,null,null,null,null,null,null,null,null,null,null,null,null,null,null,null,null,null,{"$f":"IF(AND(version>5,$H$33=\"\"),$G$33,IF($H$33=\"\",\"\",$H$33))","v":10}]
[null,"Micro-Deval Abrasion",null,"Tx461","Tex-461-A",{"$f":"IF(VLOOKUP(N_MIX_TYPE, MIX_RANGE, 31, 0),\"Use results to estimate the Mg Sulfate Soundness Loss\",\"Use as an indicator of the need for further investigation\")","v":"Use results to estimate the Mg Sulfate Soundness Loss"}]
[null,"Fine Aggregate",null,null,null,null,null,null,"Bin No.1",null,null,"Bin No.2",null,null,"Bin No.3",null,null,"Bin No.4",null,null,"Bin No.5",null,null,"Bin No.6 ",null,null,"Bin No.7 "]
[null,"Bar Linear Shrinkage",null,"Tx107","Tex-107-E","Max.",3,null,null,null,null,null,null,null,null,null,null,null,null,null,null,null,null,null,null,null,null,null,null,null,{"$f":"IF(AND(version>5,$H$36=\"\"),$G$36,IF($H$36=\"\",\"\",$H$36))","v":3}]
[null,"Methylene Blue",null,"-","AASHTO T330","Max.",{"$f":"IF(LEFT(N_MIX_TYPE,3)=\"348\",10,\"\")","v":""},null,null,null,null,null,null,null,null,null,null,null,null,null,null,null,null,null,null,null,null,null,null,null,{"$f":"IF(AND(version>5,$H$37=\"\"),$G$37,IF($H$37=\"\",\"\",$H$37))","v":""}]
[null,"Combined Aggregate",null,null,null,null,null,null,"Bin No.1",null,null,"Bin No.2",null,null,"Bin No.3",null,null,"Bin No.4",null,null,"Bin No.5",null,null,"Bin No.6 ",null,null,"Bin No.7 ",null,null,null,null,null,null,null,null,null,null,null,null,null,null,null,null,null,null,null,null,null,null,null,null,null,{"$f":"IF(LEFT(Grade,2)=\"SS\",1,0)","v":1}]
[null,"Sand Equivalent",null,"Tx203","Tex-203-F","Min.",45,null,null,null,null,null,null,null,null,null,null,null,null,null,null,null,null,null,null,null,null,null,null,null,{"$f":"IF(AND(version>5,$H$39=\"\"),$G$39,IF($H$39=\"\",\"\",$H$39))","v":45}]
[null,"User Defined Testing",null,null,null,null,null,null,"Bin No.1",null,null,"Bin No.2",null,null,"Bin No.3",null,null,"Bin No.4",null,null,"Bin No.5",null,null,"Bin No.6 ",null,null,"Bin No.7 "]
[null,"Use this area to enter any test methods, speciafications & test result that apply to this material(s) but are not not listed above.",1]
[null,null,2]
[null,null,3]
[null,null,4]
[null,null,5]
[null,"Recycled Materials",null,null,null,null,null,null,"Bin No.8",null,null,"Bin No.9",null,null,"Bin No.10"]
[null,"Deleterious Mat'l",null,"Tx217","Tex-217-F, Part III","Max.",0.5,null,null,null,null,null,null,null,null,null,null,null,null,null,null,null,null,null,null,null,null,null,null,null,{"$f":"IF(AND(version>5,$H$47=\"\"),$G$47,IF($H$47=\"\",\"\",$H$47))","v":0.5}]
[null,"Decantation",null,"Tx406","Tex-406-A, Part I","Max.",5,null,null,null,null,null,null,null,null,null,null,null,null,null,null,null,null,null,null,null,null,null,null,null,{"$f":"IF(AND(version>5,$H$48=\"\"),$G$48,IF($H$48=\"\",\"\",$H$48))","v":5}]
[null,"Plasticity Index",null,"Tx104-6","Tex-106-E","Max.",8,null,null,null,null,null,null,null,null,null,null,null,null,null,null,null,null,null,null,null,null,null,null,null,{"$f":"IF(AND(version>5,$H$48=\"\"),$G$48,IF($H$48=\"\",\"\",$H$48))","v":5}]
[null,"User Defined Testing"]
[null,"Remarks:"]

{"sheet":"Aggregate Classification","index":3,"n_rows":47,"n_cols":59,"rows_kept":47,"cut":false,"hidden":false,"merged":[[40,1,40,2],[40,3,40,4],[40,7,40,8],[19,11,19,14],[14,9,14,15],[18,3,18,6],[18,7,18,10],[22,27,22,30],[38,27,38,28],[31,27,31,28],[32,27,32,28],[33,27,33,28],[37,27,37,28],[35,27,35,28],[37,23,37,24],[38,23,38,24],[26,27,26,28],[27,27,27,28],[28,27,28,28],[29,27,29,28],[30,27,30,28],[31,23,31,24],[26,23,26,24],[27,23,27,24],[11,4,11,8],[12,1,12,3],[10,4,10,8],[10,9,10,15],[13,4,13,20],[14,4,14,8],[19,19,19,22],[11,1,11,3],[13,1,13,3],[14,1,14,3],[11,16,11,20],[16,13,16,16],[16,17,16,20],[14,16,14,20],[12,4,12,20],[18,19,18,22],[16,21,16,27],[11,9,11,15],[10,16,10,20],[18,11,18,14],[18,15,18,18],[16,9,16,12],[16,5,16,8],[16,1,16,3],[6,16,6,20],[7,16,7,20],[8,16,8,20],[5,1,5,3],[7,1,7,3],[6,1,6,3],[9,1,9,3],[8,1,8,3],[10,1,10,3],[5,16,5,20],[7,9,7,15],[8,9,8,15],[9,4,9,8],[5,9,5,15],[6,9,6,15],[9,9,9,15],[9,16,9,20],[5,4,5,8],[6,4,6,8],[7,4,7,8],[8,4,8,8],[19,15,19,18],[21,7,21,10],[21,1,21,2],[21,3,21,6],[20,1,20,2],[19,3,19,6],[19,1,19,2],[35,3,35,4],[31,3,31,4],[34,7,34,8],[31,7,31,8],[35,7,35,8],[35,11,35,12],[35,15,35,16],[27,15,27,16],[28,15,28,16],[29,15,29,16],[24,1,24,2],[37,19,37,20],[34,19,34,20],[36,19,36,20],[30,15,30,16],[30,23,30,24],[28,19,28,20],[29,19,29,20],[30,19,30,20],[33,23,33,24],[32,23,32,24],[28,23,28,24],[29,23,29,24],[31,19,31,20],[36,23,36,24],[27,19,27,20],[38,3,38,4],[27,7,27,8],[28,7,28,8],[29,7,29,8],[27,11,27,12],[32,7,32,8],[33,7,33,8],[37,7,37,8],[38,7,38,8],[28,11,28,12],[29,11,29,12],[30,11,30,12],[38,11,38,12],[34,11,34,12],[36,11,36,12],[32,11,32,12],[36,7,36,8],[31,15,31,16],[35,19,35,20],[32,19,32,20],[33,19,33,20],[31,11,31,12],[33,15,33,16],[37,1,37,2],[24,3,25,4],[24,5,25,5],[22,7,22,10],[24,10,25,10],[37,11,37,12],[26,11,26,12],[26,15,26,16],[37,15,37,16],[34,15,34,16],[36,15,36,16],[32,15,32,16],[26,7,26,8],[24,11,25,12],[24,9,25,9],[33,11,33,12],[37,3,37,4],[36,3,36,4],[34,3,34,4],[32,3,32,4],[33,3,33,4],[30,7,30,8],[20,19,20,22],[19,7,19,10],[22,1,22,2],[22,11,22,14],[26,3,26,4],[24,19,25,20],[24,22,25,22],[22,15,22,18],[24,14,25,14],[24,18,25,18],[24,21,25,21],[22,19,22,22],[20,3,20,6],[20,11,20,14],[21,11,21,14],[21,19,21,22],[20,15,20,18],[26,19,26,20],[24,17,25,17],[24,13,25,13],[24,15,25,16],[20,7,20,10],[22,3,22,6],[21,15,21,18],[34,27,34,28],[36,27,36,28],[35,23,35,24],[22,23,22,26],[24,26,25,26],[24,30,25,30],[19,27,19,30],[47,1,48,19],[21,23,21,26],[20,27,20,30],[21,27,21,30],[30,3,30,4],[27,3,27,4],[28,3,28,4],[29,3,29,4],[24,6,25,6],[24,7,25,8],[44,1,44,7],[42,1,42,7],[20,23,20,26],[19,23,19,26],[38,1,38,2],[43,1,43,7],[40,11,40,12],[19,31,19,34],[20,31,20,34],[21,31,21,34],[22,31,22,34],[24,31,25,32],[24,33,25,33],[24,34,25,34],[16,58,16,59],[34,23,34,24],[24,29,25,29],[24,23,25,24],[24,27,25,28],[24,25,25,25],[16,28,16,32],[18,23,18,26],[18,27,18,30],[18,31,18,34],[32,31,32,32],[33,31,33,32],[34,31,34,32],[34,35,34,36],[18,39,18,42],[19,39,19,42],[20,39,20,42],[35,31,35,32],[36,31,36,32],[37,31,37,32],[26,31,26,32],[27,31,27,32],[28,31,28,32],[29,31,29,32],[30,31,30,32],[31,31,31,32],[35,35,35,36],[36,35,36,36],[37,35,37,36],[38,35,38,36],[27,35,27,36],[28,35,28,36],[29,35,29,36],[30,35,30,36],[31,35,31,36],[32,35,32,36],[21,39,21,42],[22,39,22,42],[24,39,25,40],[24,41,25,41],[24,42,25,42],[33,35,33,36],[18,35,18,38],[19,35,19,38],[20,35,20,38],[21,35,21,38],[22,35,22,38],[24,35,25,36],[24,37,25,37],[24,38,25,38],[26,35,26,36],[32,39,32,40],[33,39,33,40],[34,39,34,40],[35,39,35,40],[36,39,36,40],[37,39,37,40],[26,39,26,40],[27,39,27,40],[28,39,28,40],[29,39,29,40],[30,39,30,40],[31,39,31,40],[40,13,40,14],[40,15,40,16],[40,17,40,18],[40,37,40,38],[40,39,40,40],[40,27,40,28],[40,29,40,30],[40,31,40,32],[40,33,40,34],[42,15,42,23],[43,15,43,23],[44,15,44,23],[40,35,40,36],[40,19,40,20],[40,21,40,22],[40,23,40,24],[40,25,40,26],[38,39,38,40],[38,31,38,32],[38,15,38,16],[38,19,38,20]]}
[null,"TEXAS DEPARTMENT OF TRANSPORTATION"]
[null,{"$f":"IF(location=\"\",\"\",location)","v":""}]
[]
[null,"HMACP MIXTURE DESIGN : Aggregate Classification"]
[]
[null,"SAMPLE ID:",null,null,{"$f":"IF(sampleid=\"\",\"\",sampleid)","v":""},null,null,null,null,"SAMPLE DATE:",null,null,null,null,null,null,{"$f":"IF(sampleddate=\"\",\"\",sampleddate)","v":""}]
[null,"LOT NUMBER:",null,null,{"$f":"IF(testnumber=\"\",\"\",testnumber)","v":""},null,null,null,null,"LETTING DATE:",null,null,null,null,null,null,{"$f":"IF(lettingdate=\"\",\"\",lettingdate)","v":""}]
[null,"SAMPLE STATUS:",null,null,{"$f":"IF(status=\"\",\"\",status)","v":""},null,null,null,null,"CONTROLLING CSJ:",null,null,null,null,null,null,{"$f":"IF(ccsj=\"\",\"\",ccsj)","v":""}]
[null,"COUNTY:",null,null,{"$f":"IF(county=\"\",\"\",county)","v":""},null,null,null,null,"SPEC YEAR:",null,null,null,null,null,null,{"$f":"+IF(specyear=\"\",\"\",specyear)","v":"2014"}]
[null,"SAMPLED BY:",null,null,{"$f":"IF(sampledby=\"\",\"\",sampledby)","v":""},null,null,null,null,"SPEC ITEM:",null,null,null,null,null,null,{"$f":"IF(specitem=\"\",\"\",specitem)","v":""}]
[null,"SAMPLE LOCATION:",null,null,{"$f":"IF(samplelocation=\"\",\"\",samplelocation)","v":""},null,null,null,null,"SPECIAL PROVISION:",null,null,null,null,null,null,{"$f":"IF(specialprovision=\"\",\"\",specialprovision)","v":""}]
[null,"MATERIAL CODE:",null,null,{"$f":"IF(material=\"\",\"\",material)","v":""},null,null,null,null,"MIX TYPE:",null,null,null,null,null,null,{"$f":"IF(Grade=\"\",\"\",Grade)","v":"SS-3074-BMD-SP-C"}]
[null,"MATERIAL NAME:",null,null,{"$f":"IF(matl_nm=\"\",\"\",matl_nm)","v":""}]
[null,"PRODUCER:",null,null,{"$f":"IF(producer=\"\",\"\",producer)","v":""}]
[null,"AREA ENGINEER:",null,null,{"$f":"IF(areaengineer=\"\",\"\",areaengineer)","v":""},null,null,null,null,"PROJECT MANAGER:",null,null,null,null,null,null,{"$f":"IF(projectmanager=\"\",\"\",projectmanager)","v":""}]
[]
[null,"COURSE\\LIFT:",null,null,{"$f":"IF(courselift=\"\",\"\",courselift)","v":"Surface"},"STATION:",null,null,null,{"$f":"IF(station=\"\",\"\",station)","v":""},null,null,null,"DIST. FROM CL:",null,null,null,{"$f":"IF(distfromcl=\"\",\"\",distfromcl)","v":""},null,null,null,"CONTRACTOR DESIGN # :",null,null,null,null,null,null,{"$f":"IF(condesignnum=\"\",\"\",condesignnum)","v":""},null,null,null,null,null,null,null,null,null,null,null,null,null,null,null,null,null,null,null,null,null,null,null,null,null,null,null,null,null,{"$f":"IF(condesignnum=\"\",\"\",condesignnum)","v":""}]
[null,"Aggregate Classification"]
[null,null,null,"Bin No.1",null,null,null,"Bin No.2",null,null,null,"Bin No.3",null,null,null,"Bin No.4",null,null,null,"Bin No.5",null,null,null,"Bin No.6 ",null,null,null,"Bin No.7 ",null,null,null,"Bin No.8 ",null,null,null,"Bin No.9 ",null,null,null,"Bin No.10 "]
[null,"Individual Bin (%):",null,{"$f":"IF(Bin1Frac=\"\",\"\",\"Bin No.1 = \"&Bin1Frac&\" %\")","v":""},null,null,null,{"$f":"IF(Bin2Frac=\"\",\"\",\"Bin No.2 = \"&Bin2Frac&\" %\")","v":""},null,null,null,{"$f":"IF(Bin3Frac=\"\",\"\",\"Bin No.3 = \"&Bin3Frac&\" %\")","v":""},null,null,null,{"$f":"IF(Bin4Frac=\"\",\"\",\"Bin No.4 = \"&Bin4Frac&\" %\")","v":""},null,null,null,{"$f":"IF(Bin5Frac=\"\",\"\",\"Bin No.5 = \"&Bin5Frac&\" %\")","v":""},null,null,null,{"$f":"IF(Bin6Frac=\"\",\"\",\"Bin No.6 = \"&Bin6Frac&\" %\")","v":""},null,null,null,{"$f":"IF(Bin7Frac=\"\",\"\",\"Bin No.7 = \"&Bin7Frac&\" %\")","v":""},null,null,null,{"$f":"IF(Bin8Frac=0,\"\",\"Bin No.8 = \"&ROUND(Bin8Frac,1)&\" %\")","v":"Bin No.8 = 15.5 %"},null,null,null,{"$f":"IF(Bin9Frac=0,\"\",\"Bin No.9 = \"&ROUND(Bin9Frac,1)&\" %\")","v":"Bin No.9 = 5.2 %"},null,null,null,{"$f":"IF(Bin10Frac=0,\"\",\"Bin No.10 = \"&ROUND(Bin10Frac,1)&\" %\")","v":"Bin No.10 = 4.5 %"}]
[null,"Aggregate Source:",null,{"$f":"IF(Bin1Source=\"\",\"\",Bin1Source)","v":""},null,null,null,{"$f":"IF(Bin2Source=\"\",\"\",Bin2Source)","v":""},null,null,null,{"$f":"IF(Bin3Source=\"\",\"\",Bin3Source)","v":""},null,null,null,{"$f":"IF(Bin4Source=\"\",\"\",Bin4Source)","v":""},null,null,null,{"$f":"IF(Bin5Source=\"\",\"\",Bin5Source)","v":""},null,null,null,{"$f":"IF(Bin6Source=\"\",\"\",Bin6Source)","v":""},null,null,null,{"$f":"IF(Bin7Source=\"\",\"\",Bin7Source)","v":""},null,null,null,{"$f":"IF(Bin8Recyc=\"\",\"\",Bin8Recyc)","v":"Fractionated RAP"},null,null,null,{"$f":"IF(Bin9Recyc=\"\",\"\",Bin9Recyc)","v":"Fractionated RAP"},null,null,null,{"$f":"IF(Bin10Recyc=\"\",\"\",Bin10Recyc)","v":"RAS"}]
[null,"Aggregate Number:",null,{"$f":"IF(Bin1Aggr=\"\",\"\",Bin1Aggr)","v":""},null,null,null,{"$f":"IF(Bin2Aggr=\"\",\"\",Bin2Aggr)","v":""},null,null,null,{"$f":"IF(Bin3Aggr=\"\",\"\",Bin3Aggr)","v":""},null,null,null,{"$f":"IF(Bin4Aggr=\"\",\"\",Bin4Aggr)","v":""},null,null,null,{"$f":"IF(Bin5Aggr=\"\",\"\",Bin5Aggr)","v":""},null,null,null,{"$f":"IF(Bin6Aggr=\"\",\"\",Bin6Aggr)","v":""},null,null,null,{"$f":"IF(Bin7Aggr=\"\",\"\",Bin7Aggr)","v":""},null,null,null,{"$f":"IF(Bin8Samp=\"\",\"\",Bin8Samp)","v":""},null,null,null,{"$f":"IF(Bin9Samp=\"\",\"\",Bin9Samp)","v":""},null,null,null,{"$f":"IF(Bin10Samp=\"\",\"\",Bin10Samp)","v":""}]
[null,"Class (A) Rock (Y/N):"]
[]
[null,"Sieve Size:",null,"Individual Ret., %",null,"No. 10","No. 4","Individual Ret., %",null,"No. 10","No. 4","Individual Ret., %",null,"No. 10","No. 4","Individual Ret., %",null,"No. 10","No. 4","Individual Ret., %",null,"No. 10","No. 4","Individual Ret., %",null,"No. 10","No. 4","Individual Ret., %",null,"No. 10","No. 4","Individual Ret., %",null,"No. 10","No. 4","Individual Ret., %",null,"No. 10","No. 4","Individual Ret., %",null,"No. 10","No. 4"]
[null,"Passing","Retained"]
[null,"-",{"$f":"IF(ISERROR(INDEX(INDIRECT(VLOOKUP(Grade,MIX_RANGE,2,IF(version>=14,0,1))),1,2)),\"Pan\",INDEX(INDIRECT(VLOOKUP(Grade,MIX_RANGE,2,IF(version>=14,0,1))),1,2))","v":"1\""},{"$f":"IF(OR(D20=\"\",B27=\"\"),\"\",N('Combined Gradation'!E32)-N('Combined Gradation'!F35))","v":""},null,{"$f":"IF(SSize1=2,(Bin1Frac/100)*SUM(D$27:D27),0)","v":0},{"$f":"IF(SSize1=4.75,(Bin1Frac/100)*SUM(D$27:D27),0)","v":0},{"$f":"IF(OR(H20=\"\",B27=\"\"),\"\",N('Combined Gradation'!G32)-N('Combined Gradation'!H35))","v":""},null,{"$f":"IF(SSize1=2,(Bin1Frac/100)*SUM(H$27:H27),0)","v":0},{"$f":"IF(SSize1=4.75,(Bin1Frac/100)*SUM(H$27:H27),0)","v":0},{"$f":"IF(OR(L20=\"\",B27=\"\"),\"\",N('Combined Gradation'!I32)-N('Combined Gradation'!J35))","v":""},null,{"$f":"IF(SSize1=2,(Bin1Frac/100)*SUM(L$27:L27),0)","v":0},{"$f":"IF(SSize1=4.75,(Bin1Frac/100)*SUM(L$27:L27),0)","v":0},{"$f":"IF(OR(P20=\"\",B27=\"\"),\"\",N('Combined Gradation'!K32)-N('Combined Gradation'!L35))","v":""},null,{"$f":"IF(SSize1=2,(Bin1Frac/100)*SUM(P$27:P27),0)","v":0},{"$f":"IF(SSize1=4.75,(Bin1Frac/100)*SUM(P$27:P27),0)","v":0},{"$f":"IF(OR(T20=\"\",B27=\"\"),\"\",N('Combined Gradation'!M32)-N('Combined Gradation'!N35))","v":""},null,{"$f":"IF(SSize1=2,(Bin1Frac/100)*SUM(T$27:T27),0)","v":0},{"$f":"IF(SSize1=4.75,(Bin1Frac/100)*SUM(T$27:T27),0)","v":0},{"$f":"IF(OR(X20=\"\",B27=\"\"),\"\",N('Combined Gradation'!O32)-N('Combined Gradation'!P35))","v":""},null,{"$f":"IF(SSize1=2,(Bin1Frac/100)*SUM(X$27:X27),0)","v":0},{"$f":"IF(SSize1=4.75,(Bin1Frac/100)*SUM(X$27:X27),0)","v":0},{"$f":"IF(OR(AB20=\"\",B27=\"\"),\"\",N('Combined Gradation'!Q32)-N('Combined Gradation'!R35))","v":""},null,{"$f":"IF(SSize1=2,(Bin1Frac/100)*SUM(AB$27:AB27),0)","v":0},{"$f":"IF(SSize1=4.75,(Bin1Frac/100)*SUM(AB$27:AB27),0)","v":0},{"$f":"IF(OR(AF20=\"\",B27=\"\"),\"\",N('Combined Gradation'!S32)-N('Combined Gradation'!T35))","v":15.5},null,{"$f":"IF(SSize1=2,(Bin1Frac/100)*SUM(AF$27:AF27),0)","v":0},{"$f":"IF(SSize1=4.75,(Bin1Frac/100)*SUM(AF$27:AF27),0)","v":0},{"$f":"IF(OR(AJ20=\"\",B27=\"\"),\"\",N('Combined Gradation'!U32)-N('Combined Gradation'!V35))","v":5.2},null,{"$f":"IF(SSize1=2,(Bin1Frac/100)*SUM(AJ$27:AJ27),0)","v":0},{"$f":"IF(SSize1=4.75,(Bin1Frac/100)*SUM(AJ$27:AJ27),0)","v":0},{"$f":"IF(OR(AN20=\"\",B27=\"\"),\"\",N('Combined Gradation'!W32)-N('Combined Gradation'!X35))","v":4.5},null,{"$f":"IF(SSize1=2,(Bin1Frac/100)*SUM(AN$27:AN27),0)","v":0},{"$f":"IF(SSize1=4.75,(Bin1Frac/100)*SUM(AN$27:AN27),0)","v":0}]
[null,{"$f":"IF(ISERROR(INDEX(INDIRECT(VLOOKUP(Grade,MIX_RANGE,2,IF(version>=14,0,1))),1,2)),\"Pan\",INDEX(INDIRECT(VLOOKUP(Grade,MIX_RANGE,2,IF(version>=14,0,1))),1,2))","v":"1\""},{"$f":"IF(ISERROR(INDEX(INDIRECT(VLOOKUP(Grade,MIX_RANGE,2,IF(version>=14,0,1))),2,2)),\"Pan\",INDEX(INDIRECT(VLOOKUP(Grade,MIX_RANGE,2,IF(version>=14,0,1))),2,2))","v":"3/4\""},{"$f":"IF(OR(D20=\"\",B28=\"\"),\"\",(N('Combined Gradation'!F35)-N('Combined Gradation'!F36)))","v":""},null,{"$f":"IF(SSize2=2,(Bin1Frac/100)*SUM(D$27:D28),0)","v":0},{"$f":"IF(SSize2=4.75,(Bin1Frac/100)*SUM(D$27:D28),0)","v":0},{"$f":"IF(OR(H20=\"\",B28=\"\"),\"\",(N('Combined Gradation'!H35)-N('Combined Gradation'!H36)))","v":""},null,{"$f":"IF(SSize2=2,(Bin1Frac/100)*SUM(H$27:H28),0)","v":0},{"$f":"IF(SSize2=4.75,(Bin1Frac/100)*SUM(H$27:H28),0)","v":0},{"$f":"IF(OR(L20=\"\",B28=\"\"),\"\",(N('Combined Gradation'!J35)-N('Combined Gradation'!J36)))","v":""},null,{"$f":"IF(SSize2=2,(Bin1Frac/100)*SUM(L$27:L28),0)","v":0},{"$f":"IF(SSize2=4.75,(Bin1Frac/100)*SUM(L$27:L28),0)","v":0},{"$f":"IF(OR(P20=\"\",B28=\"\"),\"\",(N('Combined Gradation'!L35)-N('Combined Gradation'!L36)))","v":""},null,{"$f":"IF(SSize2=2,(Bin1Frac/100)*SUM(P$27:P28),0)","v":0},{"$f":"IF(SSize2=4.75,(Bin1Frac/100)*SUM(P$27:P28),0)","v":0},{"$f":"IF(OR(T20=\"\",B28=\"\"),\"\",(N('Combined Gradation'!N35)-N('Combined Gradation'!N36)))","v":""},null,{"$f":"IF(SSize2=2,(Bin1Frac/100)*SUM(T$27:T28),0)","v":0},{"$f":"IF(SSize2=4.75,(Bin1Frac/100)*SUM(T$27:T28),0)","v":0},{"$f":"IF(OR(X20=\"\",B28=\"\"),\"\",(N('Combined Gradation'!P35)-N('Combined Gradation'!P36)))","v":""},null,{"$f":"IF(SSize2=2,(Bin1Frac/100)*SUM(X$27:X28),0)","v":0},{"$f":"IF(SSize2=4.75,(Bin1Frac/100)*SUM(X$27:X28),0)","v":0},{"$f":"IF(OR(AB20=\"\",B28=\"\"),\"\",(N('Combined Gradation'!R35)-N('Combined Gradation'!R36)))","v":""},null,{"$f":"IF(SSize2=2,(Bin1Frac/100)*SUM(AB$27:AB28),0)","v":0},{"$f":"IF(SSize2=4.75,(Bin1Frac/100)*SUM(AB$27:AB28),0)","v":0},{"$f":"IF(OR(AF20=\"\",B28=\"\"),\"\",(N('Combined Gradation'!T35)-N('Combined Gradation'!T36)))","v":0},null,{"$f":"IF(SSize2=2,(Bin1Frac/100)*SUM(AF$27:AF28),0)","v":0},{"$f":"IF(SSize2=4.75,(Bin1Frac/100)*SUM(AF$27:AF28),0)","v":0},{"$f":"IF(OR(AJ20=\"\",B28=\"\"),\"\",(N('Combined Gradation'!V35)-N('Combined Gradation'!V36)))","v":0},null,{"$f":"IF(SSize2=2,(Bin1Frac/100)*SUM(AJ$27:AJ28),0)","v":0},{"$f":"IF(SSize2=4.75,(Bin1Frac/100)*SUM(AJ$27:AJ28),0)","v":0},{"$f":"IF(OR(AN20=\"\",B28=\"\"),\"\",(N('Combined Gradation'!X35)-N('Combined Gradation'!X36)))","v":0},null,{"$f":"IF(SSize2=2,(Bin1Frac/100)*SUM(AN$27:AN28),0)","v":0},{"$f":"IF(SSize2=4.75,(Bin1Frac/100)*SUM(AN$27:AN28),0)","v":0}]
[null,{"$f":"IF(ISERROR(INDEX(INDIRECT(VLOOKUP(Grade,MIX_RANGE,2,IF(version>=14,0,1))),2,2)),\"Pan\",INDEX(INDIRECT(VLOOKUP(Grade,MIX_RANGE,2,IF(version>=14,0,1))),2,2))","v":"3/4\""},{"$f":"IF(ISERROR(INDEX(INDIRECT(VLOOKUP(Grade,MIX_RANGE,2,IF(version>=14,0,1))),3,2)),\"Pan\",INDEX(INDIRECT(VLOOKUP(Grade,MIX_RANGE,2,IF(version>=14,0,1))),3,2))","v":"1/2\""},{"$f":"IF(OR(D20=\"\",B29=\"\"),\"\",(N('Combined Gradation'!F36)-N('Combined Gradation'!F37)))","v":""},null,{"$f":"IF(SSize3=2,(Bin1Frac/100)*SUM(D$27:D29),0)","v":0},{"$f":"IF(SSize3=4.75,(Bin1Frac/100)*SUM(D$27:D29),0)","v":0},{"$f":"IF(OR(H20=\"\",B29=\"\"),\"\",(N('Combined Gradation'!H36)-N('Combined Gradation'!H37)))","v":""},null,{"$f":"IF(SSize3=2,(Bin1Frac/100)*SUM(H$27:H29),0)","v":0},{"$f":"IF(SSize3=4.75,(Bin1Frac/100)*SUM(H$27:H29),0)","v":0},{"$f":"IF(OR(L20=\"\",B29=\"\"),\"\",(N('Combined Gradation'!J36)-N('Combined Gradation'!J37)))","v":""},null,{"$f":"IF(SSize3=2,(Bin1Frac/100)*SUM(L$27:L29),0)","v":0},{"$f":"IF(SSize3=4.75,(Bin1Frac/100)*SUM(L$27:L29),0)","v":0},{"$f":"IF(OR(P20=\"\",B29=\"\"),\"\",(N('Combined Gradation'!L36)-N('Combined Gradation'!L37)))","v":""},null,{"$f":"IF(SSize3=2,(Bin1Frac/100)*SUM(P$27:P29),0)","v":0},{"$f":"IF(SSize3=4.75,(Bin1Frac/100)*SUM(P$27:P29),0)","v":0},{"$f":"IF(OR(T20=\"\",B29=\"\"),\"\",(N('Combined Gradation'!N36)-N('Combined Gradation'!N37)))","v":""},null,{"$f":"IF(SSize3=2,(Bin1Frac/100)*SUM(T$27:T29),0)","v":0},{"$f":"IF(SSize3=4.75,(Bin1Frac/100)*SUM(T$27:T29),0)","v":0},{"$f":"IF(OR(X20=\"\",B29=\"\"),\"\",(N('Combined Gradation'!P36)-N('Combined Gradation'!P37)))","v":""},null,{"$f":"IF(SSize3=2,(Bin1Frac/100)*SUM(X$27:X29),0)","v":0},{"$f":"IF(SSize3=4.75,(Bin1Frac/100)*SUM(X$27:X29),0)","v":0},{"$f":"IF(OR(AB20=\"\",B29=\"\"),\"\",(N('Combined Gradation'!R36)-N('Combined Gradation'!R37)))","v":""},null,{"$f":"IF(SSize3=2,(Bin1Frac/100)*SUM(AB$27:AB29),0)","v":0},{"$f":"IF(SSize3=4.75,(Bin1Frac/100)*SUM(AB$27:AB29),0)","v":0},{"$f":"IF(OR(AF20=\"\",B29=\"\"),\"\",(N('Combined Gradation'!T36)-N('Combined Gradation'!T37)))","v":0},null,{"$f":"IF(SSize3=2,(Bin1Frac/100)*SUM(AF$27:AF29),0)","v":0},{"$f":"IF(SSize3=4.75,(Bin1Frac/100)*SUM(AF$27:AF29),0)","v":0},{"$f":"IF(OR(AJ20=\"\",B29=\"\"),\"\",(N('Combined Gradation'!V36)-N('Combined Gradation'!V37)))","v":0},null,{"$f":"IF(SSize3=2,(Bin1Frac/100)*SUM(AJ$27:AJ29),0)","v":0},{"$f":"IF(SSize3=4.75,(Bin1Frac/100)*SUM(AJ$27:AJ29),0)","v":0},{"$f":"IF(OR(AN20=\"\",B29=\"\"),\"\",(N('Combined Gradation'!X36)-N('Combined Gradation'!X37)))","v":0},null,{"$f":"IF(SSize3=2,(Bin1Frac/100)*SUM(AN$27:AN29),0)","v":0},{"$f":"IF(SSize3=4.75,(Bin1Frac/100)*SUM(AN$27:AN29),0)","v":0}]
[null,{"$f":"IF(ISERROR(INDEX(INDIRECT(VLOOKUP(Grade,MIX_RANGE,2,IF(version>=14,0,1))),3,2)),\"Pan\",INDEX(INDIRECT(VLOOKUP(Grade,MIX_RANGE,2,IF(version>=14,0,1))),3,2))","v":"1/2\""},{"$f":"IF(ISERROR(INDEX(INDIRECT(VLOOKUP(Grade,MIX_RANGE,2,IF(version>=14,0,1))),4,2)),\"Pan\",INDEX(INDIRECT(VLOOKUP(Grade,MIX_RANGE,2,IF(version>=14,0,1))),4,2))","v":"3/8\""},{"$f":"IF(OR(D20=\"\",B30=\"\"),\"\",(N('Combined Gradation'!F37)-N('Combined Gradation'!F38)))","v":""},null,{"$f":"IF(SSize4=2,(Bin1Frac/100)*SUM(D$27:D30),0)","v":0},{"$f":"IF(SSize4=4.75,(Bin1Frac/100)*SUM(D$27:D30),0)","v":0},{"$f":"IF(OR(H20=\"\",B30=\"\"),\"\",(N('Combined Gradation'!H37)-N('Combined Gradation'!H38)))","v":""},null,{"$f":"IF(SSize4=2,(Bin1Frac/100)*SUM(H$27:H30),0)","v":0},{"$f":"IF(SSize4=4.75,(Bin1Frac/100)*SUM(H$27:H30),0)","v":0},{"$f":"IF(OR(L20=\"\",B30=\"\"),\"\",(N('Combined Gradation'!J37)-N('Combined Gradation'!J38)))","v":""},null,{"$f":"IF(SSize4=2,(Bin1Frac/100)*SUM(L$27:L30),0)","v":0},{"$f":"IF(SSize4=4.75,(Bin1Frac/100)*SUM(L$27:L30),0)","v":0},{"$f":"IF(OR(P20=\"\",B30=\"\"),\"\",(N('Combined Gradation'!L37)-N('Combined Gradation'!L38)))","v":""},null,{"$f":"IF(SSize4=2,(Bin1Frac/100)*SUM(P$27:P30),0)","v":0},{"$f":"IF(SSize4=4.75,(Bin1Frac/100)*SUM(P$27:P30),0)","v":0},{"$f":"IF(OR(T20=\"\",B30=\"\"),\"\",(N('Combined Gradation'!N37)-N('Combined Gradation'!N38)))","v":""},null,{"$f":"IF(SSize4=2,(Bin1Frac/100)*SUM(T$27:T30),0)","v":0},{"$f":"IF(SSize4=4.75,(Bin1Frac/100)*SUM(T$27:T30),0)","v":0},{"$f":"IF(OR(X20=\"\",B30=\"\"),\"\",(N('Combined Gradation'!P37)-N('Combined Gradation'!P38)))","v":""},null,{"$f":"IF(SSize4=2,(Bin1Frac/100)*SUM(X$27:X30),0)","v":0},{"$f":"IF(SSize4=4.75,(Bin1Frac/100)*SUM(X$27:X30),0)","v":0},{"$f":"IF(OR(AB20=\"\",B30=\"\"),\"\",(N('Combined Gradation'!R37)-N('Combined Gradation'!R38)))","v":""},null,{"$f":"IF(SSize4=2,(Bin1Frac/100)*SUM(AB$27:AB30),0)","v":0},{"$f":"IF(SSize4=4.75,(Bin1Frac/100)*SUM(AB$27:AB30),0)","v":0},{"$f":"IF(OR(AF20=\"\",B30=\"\"),\"\",(N('Combined Gradation'!T37)-N('Combined Gradation'!T38)))","v":0},null,{"$f":"IF(SSize4=2,(Bin1Frac/100)*SUM(AF$27:AF30),0)","v":0},{"$f":"IF(SSize4=4.75,(Bin1Frac/100)*SUM(AF$27:AF30),0)","v":0},{"$f":"IF(OR(AJ20=\"\",B30=\"\"),\"\",(N('Combined Gradation'!V37)-N('Combined Gradation'!V38)))","v":0},null,{"$f":"IF(SSize4=2,(Bin1Frac/100)*SUM(AJ$27:AJ30),0)","v":0},{"$f":"IF(SSize4=4.75,(Bin1Frac/100)*SUM(AJ$27:AJ30),0)","v":0},{"$f":"IF(OR(AN20=\"\",B30=\"\"),\"\",(N('Combined Gradation'!X37)-N('Combined Gradation'!X38)))","v":0},null,{"$f":"IF(SSize4=2,(Bin1Frac/100)*SUM(AN$27:AN30),0)","v":0},{"$f":"IF(SSize4=4.75,(Bin1Frac/100)*SUM(AN$27:AN30),0)","v":0}]
[null,{"$f":"IF(ISERROR(INDEX(INDIRECT(VLOOKUP(Grade,MIX_RANGE,2,IF(version>=14,0,1))),4,2)),\"Pan\",INDEX(INDIRECT(VLOOKUP(Grade,MIX_RANGE,2,IF(version>=14,0,1))),4,2))","v":"3/8\""},{"$f":"IF(ISERROR(INDEX(INDIRECT(VLOOKUP(Grade,MIX_RANGE,2,IF(version>=14,0,1))),5,2)),\"Pan\",INDEX(INDIRECT(VLOOKUP(Grade,MIX_RANGE,2,IF(version>=14,0,1))),5,2))","v":"No. 4"},{"$f":"IF(OR(D20=\"\",B31=\"\"),\"\",(N('Combined Gradation'!F38)-N('Combined Gradation'!F39)))","v":""},null,{"$f":"IF(SSize5=2,(Bin1Frac/100)*SUM(D$27:D31),0)","v":0},{"$f":"IF(SSize5=4.75,(Bin1Frac/100)*SUM(D$27:D31),0)","v":0},{"$f":"IF(OR(H20=\"\",B31=\"\"),\"\",(N('Combined Gradation'!H38)-N('Combined Gradation'!H39)))","v":""},null,{"$f":"IF(SSize5=2,(Bin1Frac/100)*SUM(H$27:H31),0)","v":0},{"$f":"IF(SSize5=4.75,(Bin1Frac/100)*SUM(H$27:H31),0)","v":0},{"$f":"IF(OR(L20=\"\",B31=\"\"),\"\",(N('Combined Gradation'!J38)-N('Combined Gradation'!J39)))","v":""},null,{"$f":"IF(SSize5=2,(Bin1Frac/100)*SUM(L$27:L31),0)","v":0},{"$f":"IF(SSize5=4.75,(Bin1Frac/100)*SUM(L$27:L31),0)","v":0},{"$f":"IF(OR(P20=\"\",B31=\"\"),\"\",(N('Combined Gradation'!L38)-N('Combined Gradation'!L39)))","v":""},null,{"$f":"IF(SSize5=2,(Bin1Frac/100)*SUM(P$27:P31),0)","v":0},{"$f":"IF(SSize5=4.75,(Bin1Frac/100)*SUM(P$27:P31),0)","v":0},{"$f":"IF(OR(T20=\"\",B31=\"\"),\"\",(N('Combined Gradation'!N38)-N('Combined Gradation'!N39)))","v":""},null,{"$f":"IF(SSize5=2,(Bin1Frac/100)*SUM(T$27:T31),0)","v":0},{"$f":"IF(SSize5=4.75,(Bin1Frac/100)*SUM(T$27:T31),0)","v":0},{"$f":"IF(OR(X20=\"\",B31=\"\"),\"\",(N('Combined Gradation'!P38)-N('Combined Gradation'!P39)))","v":""},null,{"$f":"IF(SSize5=2,(Bin1Frac/100)*SUM(X$27:X31),0)","v":0},{"$f":"IF(SSize5=4.75,(Bin1Frac/100)*SUM(X$27:X31),0)","v":0},{"$f":"IF(OR(AB20=\"\",B31=\"\"),\"\",(N('Combined Gradation'!R38)-N('Combined Gradation'!R39)))","v":""},null,{"$f":"IF(SSize5=2,(Bin1Frac/100)*SUM(AB$27:AB31),0)","v":0},{"$f":"IF(SSize5=4.75,(Bin1Frac/100)*SUM(AB$27:AB31),0)","v":0},{"$f":"IF(OR(AF20=\"\",B31=\"\"),\"\",(N('Combined Gradation'!T38)-N('Combined Gradation'!T39)))","v":0},null,{"$f":"IF(SSize5=2,(Bin1Frac/100)*SUM(AF$27:AF31),0)","v":0},{"$f":"IF(SSize5=4.75,(Bin1Frac/100)*SUM(AF$27:AF31),0)","v":0},{"$f":"IF(OR(AJ20=\"\",B31=\"\"),\"\",(N('Combined Gradation'!V38)-N('Combined Gradation'!V39)))","v":0},null,{"$f":"IF(SSize5=2,(Bin1Frac/100)*SUM(AJ$27:AJ31),0)","v":0},{"$f":"IF(SSize5=4.75,(Bin1Frac/100)*SUM(AJ$27:AJ31),0)","v":0},{"$f":"IF(OR(AN20=\"\",B31=\"\"),\"\",(N('Combined Gradation'!X38)-N('Combined Gradation'!X39)))","v":0},null,{"$f":"IF(SSize5=2,(Bin1Frac/100)*SUM(AN$27:AN31),0)","v":0},{"$f":"IF(SSize5=4.75,(Bin1Frac/100)*SUM(AN$27:AN31),0)","v":0}]
[null,{"$f":"IF(ISERROR(INDEX(INDIRECT(VLOOKUP(Grade,MIX_RANGE,2,IF(version>=14,0,1))),5,2)),\"Pan\",INDEX(INDIRECT(VLOOKUP(Grade,MIX_RANGE,2,IF(version>=14,0,1))),5,2))","v":"No. 4"},{"$f":"IF(ISERROR(INDEX(INDIRECT(VLOOKUP(Grade,MIX_RANGE,2,IF(version>=14,0,1))),6,2)),\"Pan\",INDEX(INDIRECT(VLOOKUP(Grade,MIX_RANGE,2,IF(version>=14,0,1))),6,2))","v":"No. 8"},{"$f":"IF(OR(D20=\"\",B32=\"\"),\"\",(N('Combined Gradation'!F39)-N('Combined Gradation'!F40)))","v":""},null,{"$f":"IF(SSize6=2,(Bin1Frac/100)*SUM(D$27:D32),0)","v":0},{"$f":"IF(SSize6=4.75,(Bin1Frac/100)*SUM(D$27:D32),0)","v":0},{"$f":"IF(OR(H20=\"\",B32=\"\"),\"\",(N('Combined Gradation'!H39)-N('Combined Gradation'!H40)))","v":""},null,{"$f":"IF(SSize6=2,(Bin1Frac/100)*SUM(H$27:H32),0)","v":0},{"$f":"IF(SSize6=4.75,(Bin1Frac/100)*SUM(H$27:H32),0)","v":0},{"$f":"IF(OR(L20=\"\",B32=\"\"),\"\",(N('Combined Gradation'!J39)-N('Combined Gradation'!J40)))","v":""},null,{"$f":"IF(SSize6=2,(Bin1Frac/100)*SUM(L$27:L32),0)","v":0},{"$f":"IF(SSize6=4.75,(Bin1Frac/100)*SUM(L$27:L32),0)","v":0},{"$f":"IF(OR(P20=\"\",B32=\"\"),\"\",(N('Combined Gradation'!L39)-N('Combined Gradation'!L40)))","v":""},null,{"$f":"IF(SSize6=2,(Bin1Frac/100)*SUM(P$27:P32),0)","v":0},{"$f":"IF(SSize6=4.75,(Bin1Frac/100)*SUM(P$27:P32),0)","v":0},{"$f":"IF(OR(T20=\"\",B32=\"\"),\"\",(N('Combined Gradation'!N39)-N('Combined Gradation'!N40)))","v":""},null,{"$f":"IF(SSize6=2,(Bin1Frac/100)*SUM(T$27:T32),0)","v":0},{"$f":"IF(SSize6=4.75,(Bin1Frac/100)*SUM(T$27:T32),0)","v":0},{"$f":"IF(OR(X20=\"\",B32=\"\"),\"\",(N('Combined Gradation'!P39)-N('Combined Gradation'!P40)))","v":""},null,{"$f":"IF(SSize6=2,(Bin1Frac/100)*SUM(X$27:X32),0)","v":0},{"$f":"IF(SSize6=4.75,(Bin1Frac/100)*SUM(X$27:X32),0)","v":0},{"$f":"IF(OR(AB20=\"\",B32=\"\"),\"\",(N('Combined Gradation'!R39)-N('Combined Gradation'!R40)))","v":""},null,{"$f":"IF(SSize6=2,(Bin1Frac/100)*SUM(AB$27:AB32),0)","v":0},{"$f":"IF(SSize6=4.75,(Bin1Frac/100)*SUM(AB$27:AB32),0)","v":0},{"$f":"IF(OR(AF20=\"\",B32=\"\"),\"\",(N('Combined Gradation'!T39)-N('Combined Gradation'!T40)))","v":0},null,{"$f":"IF(SSize6=2,(Bin1Frac/100)*SUM(AF$27:AF32),0)","v":0},{"$f":"IF(SSize6=4.75,(Bin1Frac/100)*SUM(AF$27:AF32),0)","v":0},{"$f":"IF(OR(AJ20=\"\",B32=\"\"),\"\",(N('Combined Gradation'!V39)-N('Combined Gradation'!V40)))","v":0},null,{"$f":"IF(SSize6=2,(Bin1Frac/100)*SUM(AJ$27:AJ32),0)","v":0},{"$f":"IF(SSize6=4.75,(Bin1Frac/100)*SUM(AJ$27:AJ32),0)","v":0},{"$f":"IF(OR(AN20=\"\",B32=\"\"),\"\",(N('Combined Gradation'!X39)-N('Combined Gradation'!X40)))","v":0},null,{"$f":"IF(SSize6=2,(Bin1Frac/100)*SUM(AN$27:AN32),0)","v":0},{"$f":"IF(SSize6=4.75,(Bin1Frac/100)*SUM(AN$27:AN32),0)","v":0}]
[null,{"$f":"IF(ISERROR(INDEX(INDIRECT(VLOOKUP(Grade,MIX_RANGE,2,IF(version>=14,0,1))),6,2)),\"Pan\",INDEX(INDIRECT(VLOOKUP(Grade,MIX_RANGE,2,IF(version>=14,0,1))),6,2))","v":"No. 8"},{"$f":"IF(ISERROR(INDEX(INDIRECT(VLOOKUP(Grade,MIX_RANGE,2,IF(version>=14,0,1))),7,2)),\"Pan\",INDEX(INDIRECT(VLOOKUP(Grade,MIX_RANGE,2,IF(version>=14,0,1))),7,2))","v":"No. 16"},{"$f":"IF(OR(D20=\"\",B33=\"\"),\"\",(N('Combined Gradation'!F40)-N('Combined Gradation'!F41)))","v":""},null,{"$f":"IF(SSize7=2,(Bin1Frac/100)*SUM(D$27:D33),0)","v":0},{"$f":"IF(SSize7=4.75,(Bin1Frac/100)*SUM(D$27:D33),0)","v":0},{"$f":"IF(OR(H20=\"\",B33=\"\"),\"\",(N('Combined Gradation'!H40)-N('Combined Gradation'!H41)))","v":""},null,{"$f":"IF(SSize7=2,(Bin1Frac/100)*SUM(H$27:H33),0)","v":0},{"$f":"IF(SSize7=4.75,(Bin1Frac/100)*SUM(H$27:H33),0)","v":0},{"$f":"IF(OR(L20=\"\",B33=\"\"),\"\",(N('Combined Gradation'!J40)-N('Combined Gradation'!J41)))","v":""},null,{"$f":"IF(SSize7=2,(Bin1Frac/100)*SUM(L$27:L33),0)","v":0},{"$f":"IF(SSize7=4.75,(Bin1Frac/100)*SUM(L$27:L33),0)","v":0},{"$f":"IF(OR(P20=\"\",B33=\"\"),\"\",(N('Combined Gradation'!L40)-N('Combined Gradation'!L41)))","v":""},null,{"$f":"IF(SSize7=2,(Bin1Frac/100)*SUM(P$27:P33),0)","v":0},{"$f":"IF(SSize7=4.75,(Bin1Frac/100)*SUM(P$27:P33),0)","v":0},{"$f":"IF(OR(T20=\"\",B33=\"\"),\"\",(N('Combined Gradation'!N40)-N('Combined Gradation'!N41)))","v":""},null,{"$f":"IF(SSize7=2,(Bin1Frac/100)*SUM(T$27:T33),0)","v":0},{"$f":"IF(SSize7=4.75,(Bin1Frac/100)*SUM(T$27:T33),0)","v":0},{"$f":"IF(OR(X20=\"\",B33=\"\"),\"\",(N('Combined Gradation'!P40)-N('Combined Gradation'!P41)))","v":""},null,{"$f":"IF(SSize7=2,(Bin1Frac/100)*SUM(X$27:X33),0)","v":0},{"$f":"IF(SSize7=4.75,(Bin1Frac/100)*SUM(X$27:X33),0)","v":0},{"$f":"IF(OR(AB20=\"\",B33=\"\"),\"\",(N('Combined Gradation'!R40)-N('Combined Gradation'!R41)))","v":""},null,{"$f":"IF(SSize7=2,(Bin1Frac/100)*SUM(AB$27:AB33),0)","v":0},{"$f":"IF(SSize7=4.75,(Bin1Frac/100)*SUM(AB$27:AB33),0)","v":0},{"$f":"IF(OR(AF20=\"\",B33=\"\"),\"\",(N('Combined Gradation'!T40)-N('Combined Gradation'!T41)))","v":0},null,{"$f":"IF(SSize7=2,(Bin1Frac/100)*SUM(AF$27:AF33),0)","v":0},{"$f":"IF(SSize7=4.75,(Bin1Frac/100)*SUM(AF$27:AF33),0)","v":0},{"$f":"IF(OR(AJ20=\"\",B33=\"\"),\"\",(N('Combined Gradation'!V40)-N('Combined Gradation'!V41)))","v":0},null,{"$f":"IF(SSize7=2,(Bin1Frac/100)*SUM(AJ$27:AJ33),0)","v":0},{"$f":"IF(SSize7=4.75,(Bin1Frac/100)*SUM(AJ$27:AJ33),0)","v":0},{"$f":"IF(OR(AN20=\"\",B33=\"\"),\"\",(N('Combined Gradation'!X40)-N('Combined Gradation'!X41)))","v":0},null,{"$f":"IF(SSize7=2,(Bin1Frac/100)*SUM(AN$27:AN33),0)","v":0},{"$f":"IF(SSize7=4.75,(Bin1Frac/100)*SUM(AN$27:AN33),0)","v":0}]
[null,{"$f":"IF(ISERROR(INDEX(INDIRECT(VLOOKUP(Grade,MIX_RANGE,2,IF(version>=14,0,1))),7,2)),\"Pan\",INDEX(INDIRECT(VLOOKUP(Grade,MIX_RANGE,2,IF(version>=14,0,1))),7,2))","v":"No. 16"},{"$f":"IF(ISERROR(INDEX(INDIRECT(VLOOKUP(Grade,MIX_RANGE,2,IF(version>=14,0,1))),8,2)),\"Pan\",INDEX(INDIRECT(VLOOKUP(Grade,MIX_RANGE,2,IF(version>=14,0,1))),8,2))","v":"No. 30"},{"$f":"IF(OR(D20=\"\",B34=\"\"),\"\",(N('Combined Gradation'!F41)-N('Combined Gradation'!F42)))","v":""},null,{"$f":"IF(SSize8=2,(Bin1Frac/100)*SUM(D$27:D34),0)","v":0},{"$f":"IF(SSize8=4.75,(Bin1Frac/100)*SUM(D$27:D34),0)","v":0},{"$f":"IF(OR(H20=\"\",B34=\"\"),\"\",(N('Combined Gradation'!H41)-N('Combined Gradation'!H42)))","v":""},null,{"$f":"IF(SSize8=2,(Bin1Frac/100)*SUM(H$27:H34),0)","v":0},{"$f":"IF(SSize8=4.75,(Bin1Frac/100)*SUM(H$27:H34),0)","v":0},{"$f":"IF(OR(L20=\"\",B34=\"\"),\"\",(N('Combined Gradation'!J41)-N('Combined Gradation'!J42)))","v":""},null,{"$f":"IF(SSize8=2,(Bin1Frac/100)*SUM(L$27:L34),0)","v":0},{"$f":"IF(SSize8=4.75,(Bin1Frac/100)*SUM(L$27:L34),0)","v":0},{"$f":"IF(OR(P20=\"\",B34=\"\"),\"\",(N('Combined Gradation'!L41)-N('Combined Gradation'!L42)))","v":""},null,{"$f":"IF(SSize8=2,(Bin1Frac/100)*SUM(P$27:P34),0)","v":0},{"$f":"IF(SSize8=4.75,(Bin1Frac/100)*SUM(P$27:P34),0)","v":0},{"$f":"IF(OR(T20=\"\",B34=\"\"),\"\",(N('Combined Gradation'!N41)-N('Combined Gradation'!N42)))","v":""},null,{"$f":"IF(SSize8=2,(Bin1Frac/100)*SUM(T$27:T34),0)","v":0},{"$f":"IF(SSize8=4.75,(Bin1Frac/100)*SUM(T$27:T34),0)","v":0},{"$f":"IF(OR(X20=\"\",B34=\"\"),\"\",(N('Combined Gradation'!P41)-N('Combined Gradation'!P42)))","v":""},null,{"$f":"IF(SSize8=2,(Bin1Frac/100)*SUM(X$27:X34),0)","v":0},{"$f":"IF(SSize8=4.75,(Bin1Frac/100)*SUM(X$27:X34),0)","v":0},{"$f":"IF(OR(AB20=\"\",B34=\"\"),\"\",(N('Combined Gradation'!R41)-N('Combined Gradation'!R42)))","v":""},null,{"$f":"IF(SSize8=2,(Bin1Frac/100)*SUM(AB$27:AB34),0)","v":0},{"$f":"IF(SSize8=4.75,(Bin1Frac/100)*SUM(AB$27:AB34),0)","v":0},{"$f":"IF(OR(AF20=\"\",B34=\"\"),\"\",(N('Combined Gradation'!T41)-N('Combined Gradation'!T42)))","v":0},null,{"$f":"IF(SSize8=2,(Bin1Frac/100)*SUM(AF$27:AF34),0)","v":0},{"$f":"IF(SSize8=4.75,(Bin1Frac/100)*SUM(AF$27:AF34),0)","v":0},{"$f":"IF(OR(AJ20=\"\",B34=\"\"),\"\",(N('Combined Gradation'!V41)-N('Combined Gradation'!V42)))","v":0},null,{"$f":"IF(SSize8=2,(Bin1Frac/100)*SUM(AJ$27:AJ34),0)","v":0},{"$f":"IF(SSize8=4.75,(Bin1Frac/100)*SUM(AJ$27:AJ34),0)","v":0},{"$f":"IF(OR(AN20=\"\",B34=\"\"),\"\",(N('Combined Gradation'!X41)-N('Combined Gradation'!X42)))","v":0},null,{"$f":"IF(SSize8=2,(Bin1Frac/100)*SUM(AN$27:AN34),0)","v":0},{"$f":"IF(SSize8=4.75,(Bin1Frac/100)*SUM(AN$27:AN34),0)","v":0}]
[null,{"$f":"IF(ISERROR(INDEX(INDIRECT(VLOOKUP(Grade,MIX_RANGE,2,IF(version>=14,0,1))),8,2)),\"Pan\",INDEX(INDIRECT(VLOOKUP(Grade,MIX_RANGE,2,IF(version>=14,0,1))),8,2))","v":"No. 30"},{"$f":"IF(ISERROR(INDEX(INDIRECT(VLOOKUP(Grade,MIX_RANGE,2,IF(version>=14,0,1))),9,2)),\"Pan\",INDEX(INDIRECT(VLOOKUP(Grade,MIX_RANGE,2,IF(version>=14,0,1))),9,2))","v":"No. 50"},{"$f":"IF(OR(D20=\"\",B35=\"\"),\"\",(N('Combined Gradation'!F42)-N('Combined Gradation'!F43)))","v":""},null,{"$f":"IF(SSize9=2,(Bin1Frac/100)*SUM(D$27:D35),0)","v":0},{"$f":"IF(SSize9=4.75,(Bin1Frac/100)*SUM(D$27:D35),0)","v":0},{"$f":"IF(OR(H20=\"\",B35=\"\"),\"\",(N('Combined Gradation'!H42)-N('Combined Gradation'!H43)))","v":""},null,{"$f":"IF(SSize9=2,(Bin1Frac/100)*SUM(H$27:H35),0)","v":0},{"$f":"IF(SSize9=4.75,(Bin1Frac/100)*SUM(H$27:H35),0)","v":0},{"$f":"IF(OR(L20=\"\",B35=\"\"),\"\",(N('Combined Gradation'!J42)-N('Combined Gradation'!J43)))","v":""},null,{"$f":"IF(SSize9=2,(Bin1Frac/100)*SUM(L$27:L35),0)","v":0},{"$f":"IF(SSize9=4.75,(Bin1Frac/100)*SUM(L$27:L35),0)","v":0},{"$f":"IF(OR(P20=\"\",B35=\"\"),\"\",(N('Combined Gradation'!L42)-N('Combined Gradation'!L43)))","v":""},null,{"$f":"IF(SSize9=2,(Bin1Frac/100)*SUM(P$27:P35),0)","v":0},{"$f":"IF(SSize9=4.75,(Bin1Frac/100)*SUM(P$27:P35),0)","v":0},{"$f":"IF(OR(T20=\"\",B35=\"\"),\"\",(N('Combined Gradation'!N42)-N('Combined Gradation'!N43)))","v":""},null,{"$f":"IF(SSize9=2,(Bin1Frac/100)*SUM(T$27:T35),0)","v":0},{"$f":"IF(SSize9=4.75,(Bin1Frac/100)*SUM(T$27:T35),0)","v":0},{"$f":"IF(OR(X20=\"\",B35=\"\"),\"\",(N('Combined Gradation'!P42)-N('Combined Gradation'!P43)))","v":""},null,{"$f":"IF(SSize9=2,(Bin1Frac/100)*SUM(X$27:X35),0)","v":0},{"$f":"IF(SSize9=4.75,(Bin1Frac/100)*SUM(X$27:X35),0)","v":0},{"$f":"IF(OR(AB20=\"\",B35=\"\"),\"\",(N('Combined Gradation'!R42)-N('Combined Gradation'!R43)))","v":""},null,{"$f":"IF(SSize9=2,(Bin1Frac/100)*SUM(AB$27:AB35),0)","v":0},{"$f":"IF(SSize9=4.75,(Bin1Frac/100)*SUM(AB$27:AB35),0)","v":0},{"$f":"IF(OR(AF20=\"\",B35=\"\"),\"\",(N('Combined Gradation'!T42)-N('Combined Gradation'!T43)))","v":0},null,{"$f":"IF(SSize9=2,(Bin1Frac/100)*SUM(AF$27:AF35),0)","v":0},{"$f":"IF(SSize9=4.75,(Bin1Frac/100)*SUM(AF$27:AF35),0)","v":0},{"$f":"IF(OR(AJ20=\"\",B35=\"\"),\"\",(N('Combined Gradation'!V42)-N('Combined Gradation'!V43)))","v":0},null,{"$f":"IF(SSize9=2,(Bin1Frac/100)*SUM(AJ$27:AJ35),0)","v":0},{"$f":"IF(SSize9=4.75,(Bin1Frac/100)*SUM(AJ$27:AJ35),0)","v":0},{"$f":"IF(OR(AN20=\"\",B35=\"\"),\"\",(N('Combined Gradation'!X42)-N('Combined Gradation'!X43)))","v":0},null,{"$f":"IF(SSize9=2,(Bin1Frac/100)*SUM(AN$27:AN35),0)","v":0},{"$f":"IF(SSize9=4.75,(Bin1Frac/100)*SUM(AN$27:AN35),0)","v":0}]
[null,{"$f":"IF(ISERROR(INDEX(INDIRECT(VLOOKUP(Grade,MIX_RANGE,2,IF(version>=14,0,1))),9,2)),\"Pan\",INDEX(INDIRECT(VLOOKUP(Grade,MIX_RANGE,2,IF(version>=14,0,1))),9,2))","v":"No. 50"},{"$f":"IF(ISERROR(INDEX(INDIRECT(VLOOKUP(Grade,MIX_RANGE,2,IF(version>=14,0,1))),10,2)),\"Pan\",INDEX(INDIRECT(VLOOKUP(Grade,MIX_RANGE,2,IF(version>=14,0,1))),10,2))","v":"No. 200"},{"$f":"IF(OR(D20=\"\",B36=\"\"),\"\",(N('Combined Gradation'!F43)-N('Combined Gradation'!F44)))","v":""},null,{"$f":"IF(SSize10=2,(Bin1Frac/100)*SUM(D$27:D36),0)","v":0},{"$f":"IF(SSize10=4.75,(Bin1Frac/100)*SUM(D$27:D36),0)","v":0},{"$f":"IF(OR(H20=\"\",B36=\"\"),\"\",(N('Combined Gradation'!H43)-N('Combined Gradation'!H44)))","v":""},null,{"$f":"IF(SSize10=2,(Bin1Frac/100)*SUM(H$27:H36),0)","v":0},{"$f":"IF(SSize10=4.75,(Bin1Frac/100)*SUM(H$27:H36),0)","v":0},{"$f":"IF(OR(L20=\"\",B36=\"\"),\"\",(N('Combined Gradation'!J43)-N('Combined Gradation'!J44)))","v":""},null,{"$f":"IF(SSize10=2,(Bin1Frac/100)*SUM(L$27:L36),0)","v":0},{"$f":"IF(SSize10=4.75,(Bin1Frac/100)*SUM(L$27:L36),0)","v":0},{"$f":"IF(OR(P20=\"\",B36=\"\"),\"\",(N('Combined Gradation'!L43)-N('Combined Gradation'!L44)))","v":""},null,{"$f":"IF(SSize10=2,(Bin1Frac/100)*SUM(P$27:P36),0)","v":0},{"$f":"IF(SSize10=4.75,(Bin1Frac/100)*SUM(P$27:P36),0)","v":0},{"$f":"IF(OR(T20=\"\",B36=\"\"),\"\",(N('Combined Gradation'!N43)-N('Combined Gradation'!N44)))","v":""},null,{"$f":"IF(SSize10=2,(Bin1Frac/100)*SUM(T$27:T36),0)","v":0},{"$f":"IF(SSize10=4.75,(Bin1Frac/100)*SUM(T$27:T36),0)","v":0},{"$f":"IF(OR(X20=\"\",B36=\"\"),\"\",(N('Combined Gradation'!P43)-N('Combined Gradation'!P44)))","v":""},null,{"$f":"IF(SSize10=2,(Bin1Frac/100)*SUM(X$27:X36),0)","v":0},{"$f":"IF(SSize10=4.75,(Bin1Frac/100)*SUM(X$27:X36),0)","v":0},{"$f":"IF(OR(AB20=\"\",B36=\"\"),\"\",(N('Combined Gradation'!R43)-N('Combined Gradation'!R44)))","v":""},null,{"$f":"IF(SSize10=2,(Bin1Frac/100)*SUM(AB$27:AB36),0)","v":0},{"$f":"IF(SSize10=4.75,(Bin1Frac/100)*SUM(AB$27:AB36),0)","v":0},{"$f":"IF(OR(AF20=\"\",B36=\"\"),\"\",(N('Combined Gradation'!T43)-N('Combined Gradation'!T44)))","v":0},null,{"$f":"IF(SSize10=2,(Bin1Frac/100)*SUM(AF$27:AF36),0)","v":0},{"$f":"IF(SSize10=4.75,(Bin1Frac/100)*SUM(AF$27:AF36),0)","v":0},{"$f":"IF(OR(AJ20=\"\",B36=\"\"),\"\",(N('Combined Gradation'!V43)-N('Combined Gradation'!V44)))","v":0},null,{"$f":"IF(SSize10=2,(Bin1Frac/100)*SUM(AJ$27:AJ36),0)","v":0},{"$f":"IF(SSize10=4.75,(Bin1Frac/100)*SUM(AJ$27:AJ36),0)","v":0},{"$f":"IF(OR(AN20=\"\",B36=\"\"),\"\",(N('Combined Gradation'!X43)-N('Combined Gradation'!X44)))","v":0},null,{"$f":"IF(SSize10=2,(Bin1Frac/100)*SUM(AN$27:AN36),0)","v":0},{"$f":"IF(SSize10=4.75,(Bin1Frac/100)*SUM(AN$27:AN36),0)","v":0}]
[null,{"$f":"IF(ISERROR(INDEX(INDIRECT(VLOOKUP(Grade,MIX_RANGE,2,IF(version>=14,0,1))),10,2)),\"Pan\",INDEX(INDIRECT(VLOOKUP(Grade,MIX_RANGE,2,IF(version>=14,0,1))),10,2))","v":"No. 200"},"Pan",{"$f":"IF(OR(D20=\"\",B37=\"\"),\"\",(N('Combined Gradation'!F44)-N('Combined Gradation'!F45)))","v":""},null,null,null,{"$f":"IF(OR(H20=\"\",B37=\"\"),\"\",(N('Combined Gradation'!H44)-N('Combined Gradation'!H45)))","v":""},null,null,null,{"$f":"IF(OR(L20=\"\",B37=\"\"),\"\",(N('Combined Gradation'!J44)-N('Combined Gradation'!J45)))","v":""},null,null,null,{"$f":"IF(OR(P20=\"\",B37=\"\"),\"\",(N('Combined Gradation'!L44)-N('Combined Gradation'!L45)))","v":""},null,null,null,{"$f":"IF(OR(T20=\"\",B37=\"\"),\"\",(N('Combined Gradation'!N44)-N('Combined Gradation'!N45)))","v":""},null,null,null,{"$f":"IF(OR(X20=\"\",B37=\"\"),\"\",(N('Combined Gradation'!P44)-N('Combined Gradation'!P45)))","v":""},null,null,null,{"$f":"IF(OR(AB20=\"\",B37=\"\"),\"\",(N('Combined Gradation'!R44)-N('Combined Gradation'!R45)))","v":""},null,null,null,{"$f":"IF(OR(AF20=\"\",B37=\"\"),\"\",(N('Combined Gradation'!T44)-N('Combined Gradation'!T45)))","v":0},null,null,null,{"$f":"IF(OR(AJ20=\"\",B37=\"\"),\"\",(N('Combined Gradation'!V44)-N('Combined Gradation'!V45)))","v":0},null,null,null,{"$f":"IF(OR(AN20=\"\",B37=\"\"),\"\",(N('Combined Gradation'!X44)-N('Combined Gradation'!X45)))","v":0}]
[null,"Total:",null,{"$f":"IF(COUNTBLANK(D27:D37)=11,\"\",SUM(D27:D37))","v":""},null,{"$f":"MAX(F27:F37)","v":0},{"$f":"MAX(G27:G37)","v":0},{"$f":"IF(COUNTBLANK(H27:H37)=11,\"\",SUM(H27:H37))","v":""},null,{"$f":"SUM(J27:J37)","v":0},null,{"$f":"IF(COUNTBLANK(L27:L37)=11,\"\",SUM(L27:L37))","v":""},null,{"$f":"SUM(N27:N37)","v":0},null,{"$f":"IF(COUNTBLANK(P27:P37)=11,\"\",SUM(P27:P37))","v":""},null,{"$f":"SUM(R27:R37)","v":0},null,{"$f":"IF(COUNTBLANK(T27:T37)=11,\"\",SUM(T27:T37))","v":""},null,{"$f":"SUM(V27:V37)","v":0},null,{"$f":"IF(COUNTBLANK(X27:X37)=11,\"\",SUM(X27:X37))","v":""},null,{"$f":"SUM(Z27:Z37)","v":0},null,{"$f":"IF(COUNTBLANK(AB27:AB37)=11,\"\",SUM(AB27:AB37))","v":""},null,{"$f":"MAX(AD27:AD37)","v":0},{"$f":"MAX(AE27:AE37)","v":0},{"$f":"IF(COUNTBLANK(AF27:AF37)=11,\"\",SUM(AF27:AF37))","v":15.5},null,{"$f":"MAX(AH27:AH37)","v":0},{"$f":"MAX(AI27:AI37)","v":0},{"$f":"IF(COUNTBLANK(AJ27:AJ37)=11,\"\",SUM(AJ27:AJ37))","v":5.2},null,{"$f":"MAX(AL27:AL37)","v":0},{"$f":"MAX(AM27:AM37)","v":0},{"$f":"IF(COUNTBLANK(AN27:AN37)=11,\"\",SUM(AN27:AN37))","v":4.5},null,{"$f":"MAX(AP27:AP37)","v":0},{"$f":"MAX(AQ27:AQ37)","v":0}]
[null,{"$f":"\"Percent of plus No. 4\"","v":"Percent of plus No. 4"},null,{"$f":"IF(COUNTBLANK(D27:D37)=11,\"\",SUM(INDIRECT(D40)))","v":""},null,null,null,{"$f":"IF(COUNTBLANK(H27:H37)=11,\"\",SUM(INDIRECT(H40)))","v":""},null,null,null,{"$f":"IF(COUNTBLANK(L27:L37)=11,\"\",SUM(INDIRECT(L40)))","v":""},null,null,null,{"$f":"IF(COUNTBLANK(P27:P37)=11,\"\",SUM(INDIRECT(P40)))","v":""},null,null,null,{"$f":"IF(COUNTBLANK(T27:T37)=11,\"\",SUM(INDIRECT(T40)))","v":""},null,null,null,{"$f":"IF(COUNTBLANK(X27:X37)=11,\"\",SUM(INDIRECT(X40)))","v":""},null,null,null,{"$f":"IF(COUNTBLANK(AB27:AB37)=11,\"\",SUM(INDIRECT(AB40)))","v":""},null,null,null,{"$f":"IF(COUNTBLANK(AF27:AF37)=11,\"\",SUM(INDIRECT(AF40)))","v":15.5},null,null,null,{"$f":"IF(COUNTBLANK(AJ27:AJ37)=11,\"\",SUM(INDIRECT(AJ40)))","v":5.2},null,null,null,{"$f":"IF(COUNTBLANK(AN27:AN37)=11,\"\",SUM(INDIRECT(AN40)))","v":4.5}]
[null,null,null,{"$f":"\"D\" & ROW(D27) & \":D\" & MATCH(\"No. 4\",C27:C37,0)+ROW(D27)-1","v":"D27:D31"},null,null,null,{"$f":"\"H\" & ROW(H27) & \":H\" & MATCH(\"No. 4\",C27:C37,0)+ROW(H27)-1","v":"H27:H31"},null,null,null,{"$f":"\"L\" & ROW(L27) & \":L\" & MATCH(\"No. 4\",C27:C37,0)+ROW(L27)-1","v":"L27:L31"},null,null,null,{"$f":"\"P\" & ROW(P27) & \":P\" & MATCH(\"No. 4\",C27:C37,0)+ROW(P27)-1","v":"P27:P31"},null,null,null,{"$f":"\"T\" & ROW(T27) & \":T\" & MATCH(\"No. 4\",C27:C37,0)+ROW(T27)-1","v":"T27:T31"},null,null,null,{"$f":"\"X\" & ROW(X27) & \":X\" & MATCH(\"No. 4\",C27:C37,0)+ROW(X27)-1","v":"X27:X31"},null,null,null,{"$f":"\"AB\" & ROW(AB27) & \":AB\" & MATCH(\"No. 4\",C27:C37,0)+ROW(AB27)-1","v":"AB27:AB31"},null,null,null,{"$f":"\"AF\" & ROW(AF27) & \":AF\" & MATCH(\"No. 4\",C27:C37,0)+ROW(AF27)-1","v":"AF27:AF31"},null,null,null,{"$f":"\"Aj\" & ROW(AJ27) & \":Aj\" & MATCH(\"No. 4\",C27:C37,0)+ROW(AJ27)-1","v":"Aj27:Aj31"},null,null,null,{"$f":"\"AN\" & ROW(AN27) & \":AN\" & MATCH(\"No. 4\",C27:C37,0)+ROW(AN27)-1","v":"AN27:AN31"}]
[null,{"$f":"\"Percent of plus No. 8\"","v":"Percent of plus No. 8"},null,{"$f":"IF(COUNTBLANK(D27:D37)=11,\"\",SUM(INDIRECT(D42)))","v":""},null,null,null,{"$f":"IF(COUNTBLANK(H27:H37)=11,\"\",SUM(INDIRECT(H42)))","v":""},null,null,null,{"$f":"IF(COUNTBLANK(L27:L37)=11,\"\",SUM(INDIRECT(L42)))","v":""},null,{"$f":"IF(COUNTBLANK(N27:N37)=11,\"\",SUM(INDIRECT(N42)))","v":{"$error":"#REF!"}},null,{"$f":"IF(COUNTBLANK(P27:P37)=11,\"\",SUM(INDIRECT(P42)))","v":""},null,{"$f":"IF(COUNTBLANK(R27:R37)=11,\"\",SUM(INDIRECT(R42)))","v":{"$error":"#REF!"}},null,{"$f":"IF(COUNTBLANK(T27:T37)=11,\"\",SUM(INDIRECT(T42)))","v":""},null,{"$f":"IF(COUNTBLANK(V27:V37)=11,\"\",SUM(INDIRECT(V42)))","v":{"$error":"#REF!"}},null,{"$f":"IF(COUNTBLANK(X27:X37)=11,\"\",SUM(INDIRECT(X42)))","v":""},null,{"$f":"IF(COUNTBLANK(Z27:Z37)=11,\"\",SUM(INDIRECT(Z42)))","v":{"$error":"#REF!"}},null,{"$f":"IF(COUNTBLANK(AB27:AB37)=11,\"\",SUM(INDIRECT(AB42)))","v":""},null,{"$f":"IF(COUNTBLANK(AD27:AD37)=11,\"\",SUM(INDIRECT(AD42)))","v":{"$error":"#REF!"}},null,{"$f":"IF(COUNTBLANK(AF27:AF37)=11,\"\",SUM(INDIRECT(AF42)))","v":15.5},null,{"$f":"IF(COUNTBLANK(AH27:AH37)=11,\"\",SUM(INDIRECT(AH42)))","v":{"$error":"#REF!"}},null,{"$f":"IF(COUNTBLANK(AJ27:AJ37)=11,\"\",SUM(INDIRECT(AJ42)))","v":5.2},null,{"$f":"IF(COUNTBLANK(AL27:AL37)=11,\"\",SUM(INDIRECT(AL42)))","v":{"$error":"#REF!"}},null,{"$f":"IF(COUNTBLANK(AN27:AN37)=11,\"\",SUM(INDIRECT(AN42)))","v":4.5}]
[null,null,null,{"$f":"\"D\" & ROW(D27) & \":D\" & MATCH(\"No. 8\",C27:C37,0)+ROW(D27)-1","v":"D27:D32"},null,null,null,{"$f":"\"H\" & ROW(H27) & \":H\" & MATCH(\"No. 8\",C27:C37,0)+ROW(H27)-1","v":"H27:H32"},null,null,null,{"$f":"\"L\" & ROW(L27) & \":L\" & MATCH(\"No. 8\",C27:C37,0)+ROW(L27)-1","v":"L27:L32"},null,null,null,{"$f":"\"P\" & ROW(P27) & \":P\" & MATCH(\"No. 8\",C27:C37,0)+ROW(P27)-1","v":"P27:P32"},null,null,null,{"$f":"\"T\" & ROW(T27) & \":T\" & MATCH(\"No. 8\",C27:C37,0)+ROW(T27)-1","v":"T27:T32"},null,null,null,{"$f":"\"X\" & ROW(X27) & \":X\" & MATCH(\"No. 8\",C27:C37,0)+ROW(X27)-1","v":"X27:X32"},null,null,null,{"$f":"\"AB\" & ROW(AB27) & \":AB\" & MATCH(\"No. 8\",C27:C37,0)+ROW(AB27)-1","v":"AB27:AB32"},null,null,null,{"$f":"\"AF\" & ROW(AF27) & \":AF\" & MATCH(\"No. 8\",C27:C37,0)+ROW(AF27)-1","v":"AF27:AF32"},null,null,null,{"$f":"\"AJ\" & ROW(AJ27) & \":AJ\" & MATCH(\"No. 8\",C27:C37,0)+ROW(AJ27)-1","v":"AJ27:AJ32"},null,null,null,{"$f":"\"AN\" & ROW(AN27) & \":AN\" & MATCH(\"No. 8\",C27:C37,0)+ROW(AN27)-1","v":"AN27:AN32"}]
[null,{"$f":"\"Percent of plus No. 4 from class (A) Rock:\"","v":"Percent of plus No. 4 from class (A) Rock:"},null,null,null,null,null,null,{"$f":"IF(AND(D39=\"\",H39=\"\",L39=\"\",P39=\"\",T39=\"\",X39=\"\",AB39=\"\"),\"\",IF(D23=\"Yes\",D39,0)+IF(H23=\"Yes\",H39,0)+IF(L23=\"Yes\",L39,0)+IF(P23=\"Yes\",P39,0)+IF(T23=\"Yes\",T39,0)+IF(X23=\"Yes\",X39,0)+IF(AB23=\"Yes\",AB39,0))","v":""},null,null,null,null,null,null,{"$f":"\"Percent of plus No. 8 from class (A) Rock:\"","v":"Percent of plus No. 8 from class (A) Rock:"},null,null,null,null,null,null,null,null,{"$f":"IF(AND(D41=\"\",H41=\"\",L41=\"\",P41=\"\",T41=\"\",X41=\"\",AB41=\"\"),\"\",IF(D23=\"Yes\",D41,0)+IF(H23=\"Yes\",H41,0)+IF(L23=\"Yes\",L41,0)+IF(P23=\"Yes\",P41,0)+IF(T23=\"Yes\",T41,0)+IF(X23=\"Yes\",X41,0)+IF(AB23=\"Yes\",AB41,0))","v":""}]
[null,{"$f":"\"Total Percent of plus No. 4\"","v":"Total Percent of plus No. 4"},null,null,null,null,null,null,{"$f":"IF(AND(D39=\"\",H39=\"\",L39=\"\",P39=\"\",T39=\"\",X39=\"\",AB39=\"\",AF39=\"\",AJ39=\"\",AN39=\"\"),\"\",SUM(N(D39),N(H39),N(L39),N(P39),N(T39),N(X39),N(AB39),N(AF39),N(AJ39),N(AN39)))","v":25.2},null,null,null,null,null,null,{"$f":"\"Total Percent of plus No. 8\"","v":"Total Percent of plus No. 8"},null,null,null,null,null,null,null,null,{"$f":"IF(AND(D41=\"\",H41=\"\",L41=\"\",P41=\"\",T41=\"\",X41=\"\",AB41=\"\",AF41=\"\",AJ41=\"\",AN41=\"\"),\"\",SUM(N(D41),N(H41),N(L41),N(P41),N(T41),N(X41),N(AB41),N(AF41),N(AJ41),N(AN41)))","v":25.2}]
[null,{"$f":"\"Percent of plus No. 4 from class (A) Rock:\"","v":"Percent of plus No. 4 from class (A) Rock:"},null,null,null,null,null,null,{"$f":"IF(ISERROR(100*I43/I44),\"\",100*I43/I44)","v":""},null,null,null,null,null,null,{"$f":"\"Percent of plus No. 8 from class (A) Rock:\"","v":"Percent of plus No. 8 from class (A) Rock:"},null,null,null,null,null,null,null,null,{"$f":"IF(ISERROR(100*Y43/Y44),\"\",100*Y43/Y44)","v":""}]
[]
[null,"Remarks:"]

{"sheet":"Weigh Up","index":4,"n_rows":57,"n_cols":27,"rows_kept":57,"cut":false,"hidden":false,"merged":[[53,4,53,5],[53,6,53,7],[53,8,53,9],[53,10,53,11],[53,12,53,13],[53,14,53,15],[53,16,53,17],[39,8,39,9],[23,1,23,3],[36,16,36,17],[37,16,37,17],[40,16,40,17],[41,16,41,17],[38,16,38,17],[30,16,30,17],[31,16,31,17],[32,16,32,17],[26,12,26,13],[41,10,41,11],[41,12,41,13],[34,4,34,5],[23,16,23,17],[23,14,23,15],[41,4,41,5],[25,24,29,24],[34,16,34,17],[35,16,35,17],[34,20,34,21],[35,20,35,21],[33,14,33,15],[34,14,34,15],[35,14,35,15],[28,14,29,15],[28,16,29,17],[33,16,33,17],[36,20,36,21],[37,20,37,21],[28,22,29,23],[30,22,30,23],[32,20,32,21],[33,20,33,21],[37,22,37,23],[28,18,29,19],[30,18,30,19],[31,18,31,19],[32,18,32,19],[23,30,25,30],[23,29,25,29],[25,18,25,19],[26,18,26,19],[25,10,25,11],[23,6,23,7],[24,8,24,9],[23,8,23,9],[14,10,14,12],[22,22,22,23],[23,22,23,23],[24,22,24,23],[25,22,25,23],[26,22,26,23],[24,12,24,13],[22,6,22,7],[22,8,22,9],[16,5,16,6],[23,28,25,28],[26,14,26,15],[24,16,24,17],[25,16,25,17],[25,26,29,26],[25,25,29,25],[44,6,44,7],[11,7,11,9],[7,7,7,9],[26,16,26,17],[24,14,24,15],[25,14,25,15],[26,10,26,11],[5,1,5,3],[6,1,6,3],[5,4,5,6],[6,4,6,6],[11,1,11,3],[13,1,13,3],[11,4,11,6],[13,4,13,12],[12,1,12,3],[12,4,12,12],[5,7,5,9],[6,7,6,9],[9,1,9,3],[10,1,10,3],[7,4,7,6],[8,4,8,6],[9,4,9,6],[47,4,47,5],[48,4,48,5],[45,10,45,11],[45,12,45,13],[47,10,47,11],[47,12,47,13],[48,6,48,7],[48,8,48,9],[47,6,47,7],[48,12,48,13],[46,12,46,13],[46,10,46,11],[37,14,37,15],[41,14,41,15],[40,14,40,15],[36,14,36,15],[39,14,39,15],[44,12,44,13],[36,10,36,11],[40,10,40,11],[37,12,37,13],[38,12,38,13],[40,12,40,13],[39,10,39,11],[36,12,36,13],[39,12,39,13],[38,10,38,11],[37,10,37,11],[16,16,16,17],[16,11,16,12],[18,8,18,13],[36,8,36,9],[35,8,35,9],[16,13,16,15],[31,8,31,9],[25,8,25,9],[41,8,41,9],[37,8,37,9],[32,14,32,15],[39,16,39,17],[33,10,33,11],[28,12,29,13],[30,12,30,13],[31,12,31,13],[32,12,32,13],[33,12,33,13],[35,12,35,13],[34,10,34,11],[35,10,35,11],[34,12,34,13],[28,10,29,11],[38,14,38,15],[49,6,49,7],[51,12,51,13],[50,14,50,15],[50,6,50,7],[50,8,50,9],[50,10,50,11],[50,12,50,13],[52,12,52,13],[52,14,52,15],[49,8,49,9],[49,10,49,11],[49,12,49,13],[54,6,54,7],[54,8,54,9],[54,10,54,11],[54,12,54,13],[52,6,52,7],[52,8,52,9],[52,10,52,11],[51,6,51,7],[51,8,51,9],[51,10,51,11],[54,16,54,17],[44,14,44,15],[44,16,44,17],[45,14,45,15],[45,16,45,17],[51,14,51,15],[51,16,51,17],[52,16,52,17],[48,16,48,17],[50,16,50,17],[49,14,49,15],[54,14,54,15],[48,14,48,15],[47,14,47,15],[46,16,46,17],[47,16,47,17],[46,14,46,15],[49,16,49,17],[25,6,25,7],[18,14,18,15],[20,14,20,15],[20,1,20,4],[19,1,19,4],[18,5,18,6],[18,1,18,4],[25,12,25,13],[24,10,24,11],[22,4,22,5],[24,1,24,3],[25,1,25,3],[26,1,26,3],[28,2,28,3],[28,6,29,7],[28,8,29,9],[26,6,26,7],[26,8,26,9],[30,8,30,9],[38,4,38,5],[35,6,35,7],[30,4,30,5],[38,6,38,7],[30,6,30,7],[28,4,29,5],[40,6,40,7],[31,6,31,7],[32,6,32,7],[39,4,39,5],[39,6,39,7],[37,4,37,5],[32,8,32,9],[33,8,33,9],[34,8,34,9],[36,6,36,7],[14,1,14,3],[14,4,14,6],[14,7,14,9],[23,4,23,5],[31,4,31,5],[34,6,34,7],[32,4,32,5],[11,10,11,12],[16,1,16,3],[16,9,16,10],[30,10,30,11],[31,10,31,11],[32,10,32,11],[33,6,33,7],[33,4,33,5],[16,7,16,8],[30,1,41,1],[41,2,41,3],[41,6,41,7],[37,6,37,7],[40,8,40,9],[35,4,35,5],[40,4,40,5],[36,4,36,5],[5,10,5,12],[6,10,6,12],[7,10,7,12],[8,10,8,12],[9,10,9,12],[10,10,10,12],[9,7,9,9],[10,7,10,9],[20,5,20,6],[19,5,19,6],[20,8,20,13],[8,7,8,9],[10,4,10,6],[7,1,7,3],[8,1,8,3],[57,1,58,11],[24,4,24,5],[25,4,25,5],[26,4,26,5],[24,6,24,7],[44,1,54,1],[44,4,44,5],[45,4,45,5],[45,6,45,7],[38,8,38,9],[46,4,46,5],[46,6,46,7],[48,10,48,11],[50,4,50,5],[51,4,51,5],[52,4,52,5],[49,4,49,5],[47,8,47,9],[44,10,44,11],[44,8,44,9],[45,8,45,9],[46,8,46,9],[54,4,54,5],[19,8,19,13],[22,18,22,19],[23,18,23,19],[22,10,22,11],[22,12,22,13],[22,14,22,15],[22,16,22,17],[18,17,20,18],[23,12,23,13],[18,19,20,19],[23,10,23,11],[45,18,45,19],[46,18,46,19],[33,18,33,19],[34,18,34,19],[35,18,35,19],[36,18,36,19],[37,18,37,19],[38,18,38,19],[19,14,19,15],[24,18,24,19],[30,14,30,15],[31,14,31,15],[53,18,53,19],[54,18,54,19],[22,20,22,21],[23,20,23,21],[24,20,24,21],[25,20,25,21],[26,20,26,21],[28,20,29,21],[30,20,30,21],[31,20,31,21],[47,18,47,19],[48,18,48,19],[49,18,49,19],[50,18,50,19],[51,18,51,19],[52,18,52,19],[39,18,39,19],[40,18,40,19],[41,18,41,19],[44,18,44,19],[52,20,52,21],[53,20,53,21],[54,20,54,21],[46,20,46,21],[47,20,47,21],[48,20,48,21],[49,20,49,21],[50,20,50,21],[51,20,51,21],[38,20,38,21],[39,20,39,21],[40,20,40,21],[41,20,41,21],[44,20,44,21],[45,20,45,21],[38,22,38,23],[39,22,39,23],[49,22,49,23],[40,22,40,23],[41,22,41,23],[44,22,44,23],[45,22,45,23],[31,22,31,23],[32,22,32,23],[33,22,33,23],[34,22,34,23],[35,22,35,23],[36,22,36,23],[54,22,54,23],[41,25,43,26],[52,25,54,26],[50,22,50,23],[51,22,51,23],[52,22,52,23],[53,22,53,23],[46,22,46,23],[47,22,47,23],[48,22,48,23]]}
[null,"TEXAS DEPARTMENT OF TRANSPORTATION"]
[null,{"$f":"IF(location=\"\",\"\",location)","v":""}]
[]
[null,"HMACP MIXTURE DESIGN : WEIGH UP SHEET"]
[]
[null,"SAMPLE ID:",null,null,{"$f":"IF(sampleid=\"\",\"\",sampleid)","v":""},null,null,"SAMPLE DATE:",null,null,{"$f":"IF(sampleddate=\"\",\"\",sampleddate)","v":""}]
[null,"LOT NUMBER:",null,null,{"$f":"IF(testnumber=\"\",\"\",testnumber)","v":""},null,null,"LETTING DATE:",null,null,{"$f":"IF(lettingdate=\"\",\"\",lettingdate)","v":""}]
[null,"SAMPLE STATUS:",null,null,{"$f":"IF(status=\"\",\"\",status)","v":""},null,null,"CONTROLLING CSJ:",null,null,{"$f":"IF(ccsj=\"\",\"\",ccsj)","v":""}]
[null,"COUNTY:",null,null,{"$f":"IF(county=\"\",\"\",county)","v":""},null,null,"SPEC YEAR:",null,null,{"$f":"+IF(specyear=\"\",\"\",specyear)","v":"2014"}]
[null,"SAMPLED BY:",null,null,{"$f":"IF(sampledby=\"\",\"\",sampledby)","v":""},null,null,"SPEC ITEM:",null,null,{"$f":"IF(specitem=\"\",\"\",specitem)","v":""}]
[null,"SAMPLE LOCATION:",null,null,{"$f":"IF(samplelocation=\"\",\"\",samplelocation)","v":""},null,null,"SPECIAL PROVISION:",null,null,{"$f":"IF(specialprovision=\"\",\"\",specialprovision)","v":""}]
[null,"MATERIAL CODE:",null,null,{"$f":"IF(material=\"\",\"\",material)","v":""},null,null,"MIX TYPE:",null,null,{"$f":"IF(Grade=\"\",\"\",Grade)","v":"SS-3074-BMD-SP-C"}]
[null,"MATERIAL NAME:",null,null,{"$f":"IF(matl_nm=\"\",\"\",matl_nm)","v":""}]
[null,"PRODUCER:",null,null,{"$f":"IF(producer=\"\",\"\",producer)","v":""}]
[null,"AREA ENGINEER:",null,null,{"$f":"IF(areaengineer=\"\",\"\",areaengineer)","v":""},null,null,"PROJECT MANAGER:",null,null,{"$f":"IF(projectmanager=\"\",\"\",projectmanager)","v":""}]
[]
[null,"COURSE\\LIFT:",null,null,{"$f":"IF(courselift=\"\",\"\",courselift)","v":"Surface"},"STATION:",null,{"$f":"IF(station=\"\",\"\",station)","v":""},null,"DIST. FROM CL:",null,{"$f":"IF(distfromcl=\"\",\"\",distfromcl)","v":""},null,"CONTRACTOR DESIGN # :",null,null,{"$f":"IF(condesignnum=\"\",\"\",condesignnum)","v":""}]
[]
[null,"Aggregate Weight, g:",null,null,null,null,null,null,{"$f":"Binder & IF(version>3,\"% Asphalt by Total Weight, g:\",\"% Asphalt by Weight of Aggregate, g:\")","v":"5.3% Asphalt by Total Weight, g:"},null,null,null,null,null,{"$f":"IF(AggrWt=\"\",\"\",IF(version>5,AggrWt*(Binder/100)/((100-Binder-percentfiber)/100),AggrWt*(Binder/100)/((100-Binder)/100)))","v":""},null,null,{"$f":"IF(VLOOKUP(Grade,MIX_RANGE,11), percentfiber&\"% Fibers by Weight of Total Mixture Weight, g:\",\"\")","v":""},null,{"$f":"IF(AggrWt=\"\",\"\",IF(percentfiber <> \"\", IF(version>5, AggrWt*(percentfiber/(100-percentfiber-Binder)),(AggrWt+F20)*percentfiber/100), 0))","v":""}]
[null,{"$f":"Binder & IF(version>3,\"% Asphalt by Total Weight, g:\",\"% Asphalt by Weight of Aggr, g:\")","v":"5.3% Asphalt by Total Weight, g:"},null,null,null,{"$f":"IF(AggrWt=\"\",\"\",IF(version>5,AggrWt*(Binder/100)/((100-Binder-percentfiber)/100),AggrWt*(Binder/100)/((100-Binder)/100)))","v":""},null,null,{"$f":"IF(version>3,\"Less Asphalt by Weight of Recycled Material, g:\",\"Less Asphalt by Weight of RAP Aggregate, g:\")","v":"Less Asphalt by Weight of Recycled Material, g:"},null,null,null,null,null,{"$f":"IF(version>4,SUM((IF(S42=\"\",0,S42)*Bin8RecAC/100),(IF(U42=\"\",0,U42)*Bin9RecAC/100),(IF(W42=\"\",0,W42)*Bin10RecAC/100)),IF(version>3,SUM((IF(E42=\"\",0,E42)*BIN1rapac/100),(IF(G42=\"\",0,G42)*BIN2Rapac/100),(IF(I42=\"\",0,I42)*Bin3Rapac/100),(IF(K42=\"\",0,K42)*Bin4Rapac/100),(IF(M42=\"\",0,M42)*Bin5Rapac/100),(IF(O42=\"\",0,O42)*Bin6Rapac/100),(IF(Q42=\"\",0,Q42)*Bin7Rapac/100)),IF(ISERROR(SUM((E42*BIN1rapac/100),(G42*BIN2Rapac/100),(I42*Bin3Rapac/100),(K42*Bin4Rapac/100),(M42*Bin5Rapac/100),(O42*Bin6Rapac/100),(Q42*Bin7Rapac/100))),\"\",SUM((E42*BIN1rapac/100),(G42*BIN2Rapac/100),(I42*Bin3Rapac/100),(K42*Bin4Rapac/100),(M42*Bin5Rapac/100),(O42*Bin6Rapac/100),(Q42*Bin7Rapac/100)))))","v":0}]
[null,"Total Weight, g:",null,null,null,{"$f":"IF(AggrWt=\"\",\"\",F19+F20+T19)","v":""},null,null,{"$f":"\"(\" & ACSource & \") Asphalt to Add, g:\"","v":"(Ergon Austin) Asphalt to Add, g:"},null,null,null,null,null,{"$f":"IF(ISERROR(O19-O20),\"\",O19-O20)","v":""}]
[]
[null,null,null,null,"Bin No.1",null,"Bin No.2",null,"Bin No.3",null,"Bin No.4",null,"Bin No.5",null,"Bin No.6 ",null,"Bin No.7 ",null,"Bin No.8 ",null,"Bin No.9 ",null,"Bin No.10 "]
[null,"Individual Bin (%):",null,null,{"$f":"IF(Bin1Frac=\"\",\"\",\"Bin No.1 = \"&Bin1Frac&\" %\")","v":""},null,{"$f":"IF(Bin2Frac=\"\",\"\",\"Bin No.2 = \"&Bin2Frac&\" %\")","v":""},null,{"$f":"IF(Bin3Frac=\"\",\"\",\"Bin No.3 = \"&Bin3Frac&\" %\")","v":""},null,{"$f":"IF(Bin4Frac=\"\",\"\",\"Bin No.4 = \"&Bin4Frac&\" %\")","v":""},null,{"$f":"IF(Bin5Frac=\"\",\"\",\"Bin No.5 = \"&Bin5Frac&\" %\")","v":""},null,{"$f":"IF(Bin6Frac=\"\",\"\",\"Bin No.6 = \"&Bin6Frac&\" %\")","v":""},null,{"$f":"IF(Bin7Frac=\"\",\"\",\"Bin No.7 = \"&Bin7Frac&\" %\")","v":""},null,{"$f":"IF(Bin8Frac=0,\"\",\"Bin No.8 = \"&ROUND(TBin8Frac,1)&\" %\")","v":"Bin No.8 = 15 %"},null,{"$f":"IF(Bin9Frac=0,\"\",\"Bin No.9 = \"&ROUND(TBin9Frac,1)&\" %\")","v":"Bin No.9 = 5 %"},null,{"$f":"IF(Bin10Frac=0,\"\",\"Bin No.10 = \"&ROUND(TBin10Frac,1)&\" %\")","v":"Bin No.10 = 5 %"}]
[null,"Aggregate Source:",null,null,{"$f":"IF(Bin1Source=\"\",\"\",Bin1Source)","v":""},null,{"$f":"IF(Bin2Source=\"\",\"\",Bin2Source)","v":""},null,{"$f":"IF(Bin3Source=\"\",\"\",Bin3Source)","v":""},null,{"$f":"IF(Bin4Source=\"\",\"\",Bin4Source)","v":""},null,{"$f":"IF(Bin5Source=\"\",\"\",Bin5Source)","v":""},null,{"$f":"IF(Bin6Source=\"\",\"\",Bin6Source)","v":""},null,{"$f":"IF(Bin7Source=\"\",\"\",Bin7Source)","v":""},null,{"$f":"IF(Bin8Recyc=\"\",\"\",Bin8Recyc)","v":"Fractionated RAP"},null,{"$f":"IF(Bin9Recyc=\"\",\"\",Bin9Recyc)","v":"Fractionated RAP"},null,{"$f":"IF(Bin10Recyc=\"\",\"\",Bin10Recyc)","v":"RAS"}]
[null,"Aggregate Number:",null,null,{"$f":"IF(Bin1Aggr=\"\",\"\",Bin1Aggr)","v":""},null,{"$f":"IF(Bin2Aggr=\"\",\"\",Bin2Aggr)","v":""},null,{"$f":"IF(Bin3Aggr=\"\",\"\",Bin3Aggr)","v":""},null,{"$f":"IF(Bin4Aggr=\"\",\"\",Bin4Aggr)","v":""},null,{"$f":"IF(Bin5Aggr=\"\",\"\",Bin5Aggr)","v":""},null,{"$f":"IF(Bin6Aggr=\"\",\"\",Bin6Aggr)","v":""},null,{"$f":"IF(Bin7Aggr=\"\",\"\",Bin7Aggr)","v":""},null,{"$f":"IF(Bin8Source=\"\",\"\",Bin8Source)","v":""},null,{"$f":"IF(Bin9Source=\"\",\"\",Bin9Source)","v":""},null,{"$f":"IF(Bin10Source=\"\",\"\",Bin10Source)","v":""},null,"Total Weights",{"$f":"\"Individual\" & CHAR(10) & \"Retained, %\"","v":"Individual\nRetained, %"},"Cumulative Retained, %"]
[null,"Sample ID:",null,null,{"$f":"IF(Bin1samp=\"\",\"\",Bin1samp)","v":""},null,{"$f":"IF(Bin2Samp=\"\",\"\",Bin2Samp)","v":""},null,{"$f":"IF(Bin3Samp=\"\",\"\",Bin3Samp)","v":""},null,{"$f":"IF(Bin4Samp=\"\",\"\",Bin4Samp)","v":""},null,{"$f":"IF(Bin5Samp=\"\",\"\",Bin5Samp)","v":""},null,{"$f":"IF(Bin6Samp=\"\",\"\",Bin6Samp)","v":""},null,{"$f":"IF(Bin7Samp=\"\",\"\",Bin7Samp)","v":""},null,{"$f":"IF(Bin8Samp=\"\",\"\",Bin8Samp)","v":""},null,{"$f":"IF(Bin9Samp=\"\",\"\",Bin9Samp)","v":""},null,{"$f":"IF(Bin10Samp=\"\",\"\",Bin10Samp)","v":""}]
[]
[null,null,"Sieve Size:",null,{"$f":"IF(E24=\"\",\"\",IF(Bin1RAP=\"Yes\",\"RAP Weight\",IF(Bin1Lime=\"Yes\",\"Hydrated Lime Weight\",\"Aggregate Weight\")))","v":""},null,{"$f":"IF(G24=\"\",\"\",IF(Bin2RAP=\"Yes\",\"RAP Weight\",IF(Bin2Lime=\"Yes\",\"Hydrated Lime Weight\",\"Aggregate Weight\")))","v":""},null,{"$f":"IF(I24=\"\",\"\",IF(Bin3RAP=\"Yes\",\"RAP Weight\",IF(Bin3Lime=\"Yes\",\"Hydrated Lime Weight\",\"Aggregate Weight\")))","v":""},null,{"$f":"IF(K24=\"\",\"\",IF(Bin4RAP=\"Yes\",\"RAP Weight\",IF(Bin4Lime=\"Yes\",\"Hydrated Lime Weight\",\"Aggregate Weight\")))","v":""},null,{"$f":"IF(M24=\"\",\"\",IF(Bin5RAP=\"Yes\",\"RAP Weight\",IF(Bin5Lime=\"Yes\",\"Hydrated Lime Weight\",\"Aggregate Weight\")))","v":""},null,{"$f":"IF(O24=\"\",\"\",IF(Bin6RAP=\"Yes\",\"RAP Weight\",IF(Bin6Lime=\"Yes\",\"Hydrated Lime Weight\",\"Aggregate Weight\")))","v":""},null,{"$f":"IF(Q24=\"\",\"\",IF(Bin7RAP=\"Yes\",\"RAP Weight\",IF(Bin7Lime=\"Yes\",\"Hydrated Lime Weight\",\"Aggregate Weight\")))","v":""},null,{"$f":"IF(S24=\"\",\"\",S25&\" Weight\")","v":"Fractionated RAP Weight"},null,{"$f":"IF(U24=\"\",\"\",U25&\" Weight\")","v":"Fractionated RAP Weight"},null,{"$f":"IF(W24=\"\",\"\",W25&\" Weight\")","v":"RAS Weight"}]
[null,null,"Passing","Retained"]
[null,"INDIVIDUAL","-",{"$f":"'Aggregate Classification'!C27","v":"1\""},{"$f":"IF(OR(C31=\"\",E24=\"\"),\"\",IF(Bin1RAP=\"Yes\",AggrWt*((Bin1Frac-N('Combined Gradation'!F35))/100)/((100-BIN1rapac)/100),AggrWt*((Bin1Frac-N('Combined Gradation'!F35))/100)))","v":""},null,{"$f":"IF(OR(C31=\"\",G24=\"\"),\"\",IF(Bin2RAP=\"Yes\",AggrWt*((Bin2Frac-N('Combined Gradation'!H35))/100)/((100-BIN2Rapac)/100),AggrWt*((Bin2Frac-N('Combined Gradation'!H35))/100)))","v":""},null,{"$f":"IF(OR(C31=\"\",I24=\"\"),\"\",IF(Bin3RAP=\"Yes\",AggrWt*((Bin3Frac-N('Combined Gradation'!J35))/100)/((100-Bin3Rapac)/100),AggrWt*((Bin3Frac-N('Combined Gradation'!J35))/100)))","v":""},null,{"$f":"IF(OR(C31=\"\",K24=\"\"),\"\",IF(Bin4RAP=\"Yes\",AggrWt*((Bin4Frac-N('Combined Gradation'!L35))/100)/((100-Bin4Rapac)/100),AggrWt*((Bin4Frac-N('Combined Gradation'!L35))/100)))","v":""},null,{"$f":"IF(OR(C31=\"\",M24=\"\"),\"\",IF(Bin5RAP=\"Yes\",AggrWt*((Bin5Frac-N('Combined Gradation'!N35))/100)/((100-Bin5Rapac)/100),AggrWt*((Bin5Frac-N('Combined Gradation'!N35))/100)))","v":""},null,{"$f":"IF(OR(C31=\"\",O24=\"\"),\"\",IF(Bin6RAP=\"Yes\",AggrWt*((Bin6Frac-N('Combined Gradation'!P35))/100)/((100-Bin6Rapac)/100),AggrWt*((Bin6Frac-N('Combined Gradation'!P35))/100)))","v":""},null,{"$f":"IF(OR(C31=\"\",Q24=\"\"),\"\",IF(Bin7RAP=\"Yes\",AggrWt*((Bin7Frac-N('Combined Gradation'!R35))/100)/((100-Bin7Rapac)/100),AggrWt*((Bin7Frac-N('Combined Gradation'!R35))/100)))","v":""},null,{"$f":"IF(OR(C31=\"\",S$24=\"\"),\"\",AggrWt*(Bin8Frac-N('Combined Gradation'!T35))/(100-Bin8RecAC))","v":0},null,{"$f":"IF(OR(C31=\"\",U$24=\"\"),\"\",AggrWt*(Bin9Frac-N('Combined Gradation'!V35))/(100-Bin9RecAC))","v":0},null,{"$f":"IF(OR(C31=\"\",W$24=\"\"),\"\",AggrWt*(Bin10Frac-N('Combined Gradation'!X35))/(100-Bin10RecAC))","v":0},null,{"$f":"IF(COUNTBLANK(E31:X31)=20,\"\",SUM(E31:X31))","v":0},{"$f":"IF(ISERROR(100*((Y31)/($Y$42))),\"\",100*((Y31)/($Y$42)))","v":""},{"$f":"IF(Z31=\"\",\"\",Z31)","v":""}]
[null,null,{"$f":"'Aggregate Classification'!B28","v":"1\""},{"$f":"'Aggregate Classification'!C28","v":"3/4\""},{"$f":"IF(OR(C32=\"\",E$24=\"\"),\"\",IF(Bin1RAP=\"Yes\",AggrWt*((N('Combined Gradation'!F35)-N('Combined Gradation'!F36))/100)/((100-BIN1rapac)/100),AggrWt*((N('Combined Gradation'!F35)-N('Combined Gradation'!F36))/100)))","v":""},null,{"$f":"IF(OR(C32=\"\",G$24=\"\"),\"\",IF(Bin2RAP=\"Yes\",AggrWt*((N('Combined Gradation'!H35)-N('Combined Gradation'!H36))/100)/((100-BIN2Rapac)/100),AggrWt*((N('Combined Gradation'!H35)-N('Combined Gradation'!H36))/100)))","v":""},null,{"$f":"IF(OR(C32=\"\",I$24=\"\"),\"\",IF(Bin3RAP=\"Yes\",AggrWt*((N('Combined Gradation'!J35)-N('Combined Gradation'!J36))/100)/((100-Bin3Rapac)/100),AggrWt*((N('Combined Gradation'!J35)-N('Combined Gradation'!J36))/100)))","v":""},null,{"$f":"IF(OR(C32=\"\",K$24=\"\"),\"\",IF(Bin4RAP=\"Yes\",AggrWt*((N('Combined Gradation'!L35)-N('Combined Gradation'!L36))/100)/((100-Bin4Rapac)/100),AggrWt*((N('Combined Gradation'!L35)-N('Combined Gradation'!L36))/100)))","v":""},null,{"$f":"IF(OR(C32=\"\",M$24=\"\"),\"\",IF(Bin5RAP=\"Yes\",AggrWt*((N('Combined Gradation'!N35)-N('Combined Gradation'!N36))/100)/((100-Bin5Rapac)/100),AggrWt*((N('Combined Gradation'!N35)-N('Combined Gradation'!N36))/100)))","v":""},null,{"$f":"IF(OR(C32=\"\",O$24=\"\"),\"\",IF(Bin6RAP=\"Yes\",AggrWt*((N('Combined Gradation'!P35)-N('Combined Gradation'!P36))/100)/((100-Bin6Rapac)/100),AggrWt*((N('Combined Gradation'!P35)-N('Combined Gradation'!P36))/100)))","v":""},null,{"$f":"IF(OR(C32=\"\",Q$24=\"\"),\"\",IF(Bin7RAP=\"Yes\",AggrWt*((N('Combined Gradation'!R35)-N('Combined Gradation'!R36))/100)/((100-Bin7Rapac)/100),AggrWt*((N('Combined Gradation'!R35)-N('Combined Gradation'!R36))/100)))","v":""},null,{"$f":"IF(OR(C32=\"\",S$24=\"\"),\"\",AggrWt*(N('Combined Gradation'!T35)-N('Combined Gradation'!T36))/(100-Bin8RecAC))","v":0},null,{"$f":"IF(OR($C32=\"\",U$24=\"\"),\"\",AggrWt*(N('Combined Gradation'!V35)-N('Combined Gradation'!V36))/(100-Bin9RecAC))","v":0},null,{"$f":"IF(OR($C32=\"\",W$24=\"\"),\"\",AggrWt*(N('Combined Gradation'!X35)-N('Combined Gradation'!X36))/(100-Bin10RecAC))","v":0},null,0,"",{"$f":"IF(Z32=\"\",\"\",SUM($Z$31:$Z32))","v":""}]
[null,null,{"$f":"'Aggregate Classification'!B29","v":"3/4\""},{"$f":"'Aggregate Classification'!C29","v":"1/2\""},{"$f":"IF(OR(C33=\"\",E$24=\"\"),\"\",IF(Bin1RAP=\"Yes\",AggrWt*((N('Combined Gradation'!F36)-N('Combined Gradation'!F37))/100)/((100-BIN1rapac)/100),AggrWt*((N('Combined Gradation'!F36)-N('Combined Gradation'!F37))/100)))","v":""},null,{"$f":"IF(OR(C33=\"\",G$24=\"\"),\"\",IF(Bin2RAP=\"Yes\",AggrWt*((N('Combined Gradation'!H36)-N('Combined Gradation'!H37))/100)/((100-BIN2Rapac)/100),AggrWt*((N('Combined Gradation'!H36)-N('Combined Gradation'!H37))/100)))","v":""},null,{"$f":"IF(OR(C33=\"\",I$24=\"\"),\"\",IF(Bin3RAP=\"Yes\",AggrWt*((N('Combined Gradation'!J36)-N('Combined Gradation'!J37))/100)/((100-Bin3Rapac)/100),AggrWt*((N('Combined Gradation'!J36)-N('Combined Gradation'!J37))/100)))","v":""},null,{"$f":"IF(OR(C33=\"\",K$24=\"\"),\"\",IF(Bin4RAP=\"Yes\",AggrWt*((N('Combined Gradation'!L36)-N('Combined Gradation'!L37))/100)/((100-Bin4Rapac)/100),AggrWt*((N('Combined Gradation'!L36)-N('Combined Gradation'!L37))/100)))","v":""},null,{"$f":"IF(OR(C33=\"\",M$24=\"\"),\"\",IF(Bin5RAP=\"Yes\",AggrWt*((N('Combined Gradation'!N36)-N('Combined Gradation'!N37))/100)/((100-Bin5Rapac)/100),AggrWt*((N('Combined Gradation'!N36)-N('Combined Gradation'!N37))/100)))","v":""},null,{"$f":"IF(OR(C33=\"\",O$24=\"\"),\"\",IF(Bin6RAP=\"Yes\",AggrWt*((N('Combined Gradation'!P36)-N('Combined Gradation'!P37))/100)/((100-Bin6Rapac)/100),AggrWt*((N('Combined Gradation'!P36)-N('Combined Gradation'!P37))/100)))","v":""},null,{"$f":"IF(OR(C33=\"\",Q$24=\"\"),\"\",IF(Bin7RAP=\"Yes\",AggrWt*((N('Combined Gradation'!R36)-N('Combined Gradation'!R37))/100)/((100-Bin7Rapac)/100),AggrWt*((N('Combined Gradation'!R36)-N('Combined Gradation'!R37))/100)))","v":""},null,{"$f":"IF(OR(C33=\"\",S$24=\"\"),\"\",AggrWt*(N('Combined Gradation'!T36)-N('Combined Gradation'!T37))/(100-Bin8RecAC))","v":0},null,{"$f":"IF(OR($C33=\"\",U$24=\"\"),\"\",AggrWt*(N('Combined Gradation'!V36)-N('Combined Gradation'!V37))/(100-Bin9RecAC))","v":0},null,{"$f":"IF(OR($C33=\"\",W$24=\"\"),\"\",AggrWt*(N('Combined Gradation'!X36)-N('Combined Gradation'!X37))/(100-Bin10RecAC))","v":0},null,0,"",{"$f":"IF(Z33=\"\",\"\",SUM($Z$31:$Z33))","v":""}]
[null,null,{"$f":"'Aggregate Classification'!B30","v":"1/2\""},{"$f":"'Aggregate Classification'!C30","v":"3/8\""},{"$f":"IF(OR(C34=\"\",E$24=\"\"),\"\",IF(Bin1RAP=\"Yes\",AggrWt*((N('Combined Gradation'!F37)-N('Combined Gradation'!F38))/100)/((100-BIN1rapac)/100),AggrWt*((N('Combined Gradation'!F37)-N('Combined Gradation'!F38))/100)))","v":""},null,{"$f":"IF(OR(C34=\"\",G$24=\"\"),\"\",IF(Bin2RAP=\"Yes\",AggrWt*((N('Combined Gradation'!H37)-N('Combined Gradation'!H38))/100)/((100-BIN2Rapac)/100),AggrWt*((N('Combined Gradation'!H37)-N('Combined Gradation'!H38))/100)))","v":""},null,{"$f":"IF(OR(C34=\"\",I$24=\"\"),\"\",IF(Bin3RAP=\"Yes\",AggrWt*((N('Combined Gradation'!J37)-N('Combined Gradation'!J38))/100)/((100-Bin3Rapac)/100),AggrWt*((N('Combined Gradation'!J37)-N('Combined Gradation'!J38))/100)))","v":""},null,{"$f":"IF(OR(C34=\"\",K$24=\"\"),\"\",IF(Bin4RAP=\"Yes\",AggrWt*((N('Combined Gradation'!L37)-N('Combined Gradation'!L38))/100)/((100-Bin4Rapac)/100),AggrWt*((N('Combined Gradation'!L37)-N('Combined Gradation'!L38))/100)))","v":""},null,{"$f":"IF(OR(C34=\"\",M$24=\"\"),\"\",IF(Bin5RAP=\"Yes\",AggrWt*((N('Combined Gradation'!N37)-N('Combined Gradation'!N38))/100)/((100-Bin5Rapac)/100),AggrWt*((N('Combined Gradation'!N37)-N('Combined Gradation'!N38))/100)))","v":""},null,{"$f":"IF(OR(C34=\"\",O$24=\"\"),\"\",IF(Bin6RAP=\"Yes\",AggrWt*((N('Combined Gradation'!P37)-N('Combined Gradation'!P38))/100)/((100-Bin6Rapac)/100),AggrWt*((N('Combined Gradation'!P37)-N('Combined Gradation'!P38))/100)))","v":""},null,{"$f":"IF(OR(C34=\"\",Q$24=\"\"),\"\",IF(Bin7RAP=\"Yes\",AggrWt*((N('Combined Gradation'!R37)-N('Combined Gradation'!R38))/100)/((100-Bin7Rapac)/100),AggrWt*((N('Combined Gradation'!R37)-N('Combined Gradation'!R38))/100)))","v":""},null,{"$f":"IF(OR(C34=\"\",S$24=\"\"),\"\",AggrWt*(N('Combined Gradation'!T37)-N('Combined Gradation'!T38))/(100-Bin8RecAC))","v":0},null,{"$f":"IF(OR($C34=\"\",U$24=\"\"),\"\",AggrWt*(N('Combined Gradation'!V37)-N('Combined Gradation'!V38))/(100-Bin9RecAC))","v":0},null,{"$f":"IF(OR($C34=\"\",W$24=\"\"),\"\",AggrWt*(N('Combined Gradation'!X37)-N('Combined Gradation'!X38))/(100-Bin10RecAC))","v":0},null,0,"",{"$f":"IF(Z34=\"\",\"\",SUM($Z$31:$Z34))","v":""}]
[null,null,{"$f":"'Aggregate Classification'!B31","v":"3/8\""},{"$f":"'Aggregate Classification'!C31","v":"No. 4"},{"$f":"IF(OR(C35=\"\",E$24=\"\"),\"\",IF(Bin1RAP=\"Yes\",AggrWt*((N('Combined Gradation'!F38)-N('Combined Gradation'!F39))/100)/((100-BIN1rapac)/100),AggrWt*((N('Combined Gradation'!F38)-N('Combined Gradation'!F39))/100)))","v":""},null,{"$f":"IF(OR(C35=\"\",G$24=\"\"),\"\",IF(Bin2RAP=\"Yes\",AggrWt*((N('Combined Gradation'!H38)-N('Combined Gradation'!H39))/100)/((100-BIN2Rapac)/100),AggrWt*((N('Combined Gradation'!H38)-N('Combined Gradation'!H39))/100)))","v":""},null,{"$f":"IF(OR(C35=\"\",I$24=\"\"),\"\",IF(Bin3RAP=\"Yes\",AggrWt*((N('Combined Gradation'!J38)-N('Combined Gradation'!J39))/100)/((100-Bin3Rapac)/100),AggrWt*((N('Combined Gradation'!J38)-N('Combined Gradation'!J39))/100)))","v":""},null,{"$f":"IF(OR(C35=\"\",K$24=\"\"),\"\",IF(Bin4RAP=\"Yes\",AggrWt*((N('Combined Gradation'!L38)-N('Combined Gradation'!L39))/100)/((100-Bin4Rapac)/100),AggrWt*((N('Combined Gradation'!L38)-N('Combined Gradation'!L39))/100)))","v":""},null,{"$f":"IF(OR(C35=\"\",M$24=\"\"),\"\",IF(Bin5RAP=\"Yes\",AggrWt*((N('Combined Gradation'!N38)-N('Combined Gradation'!N39))/100)/((100-Bin5Rapac)/100),AggrWt*((N('Combined Gradation'!N38)-N('Combined Gradation'!N39))/100)))","v":""},null,{"$f":"IF(OR(C35=\"\",O$24=\"\"),\"\",IF(Bin6RAP=\"Yes\",AggrWt*((N('Combined Gradation'!P38)-N('Combined Gradation'!P39))/100)/((100-Bin6Rapac)/100),AggrWt*((N('Combined Gradation'!P38)-N('Combined Gradation'!P39))/100)))","v":""},null,{"$f":"IF(OR(C35=\"\",Q$24=\"\"),\"\",IF(Bin7RAP=\"Yes\",AggrWt*((N('Combined Gradation'!R38)-N('Combined Gradation'!R39))/100)/((100-Bin7Rapac)/100),AggrWt*((N('Combined Gradation'!R38)-N('Combined Gradation'!R39))/100)))","v":""},null,{"$f":"IF(OR(C35=\"\",S$24=\"\"),\"\",AggrWt*(N('Combined Gradation'!T38)-N('Combined Gradation'!T39))/(100-Bin8RecAC))","v":0},null,{"$f":"IF(OR($C35=\"\",U$24=\"\"),\"\",AggrWt*(N('Combined Gradation'!V38)-N('Combined Gradation'!V39))/(100-Bin9RecAC))","v":0},null,{"$f":"IF(OR($C35=\"\",W$24=\"\"),\"\",AggrWt*(N('Combined Gradation'!X38)-N('Combined Gradation'!X39))/(100-Bin10RecAC))","v":0},null,0,"",{"$f":"IF(Z35=\"\",\"\",SUM($Z$31:$Z35))","v":""}]
[null,null,{"$f":"'Aggregate Classification'!B32","v":"No. 4"},{"$f":"'Aggregate Classification'!C32","v":"No. 8"},{"$f":"IF(OR(C36=\"\",E$24=\"\"),\"\",IF(Bin1RAP=\"Yes\",AggrWt*((N('Combined Gradation'!F39)-N('Combined Gradation'!F40))/100)/((100-BIN1rapac)/100),AggrWt*((N('Combined Gradation'!F39)-N('Combined Gradation'!F40))/100)))","v":""},null,{"$f":"IF(OR(C36=\"\",G$24=\"\"),\"\",IF(Bin2RAP=\"Yes\",AggrWt*((N('Combined Gradation'!H39)-N('Combined Gradation'!H40))/100)/((100-BIN2Rapac)/100),AggrWt*((N('Combined Gradation'!H39)-N('Combined Gradation'!H40))/100)))","v":""},null,{"$f":"IF(OR(C36=\"\",I$24=\"\"),\"\",IF(Bin3RAP=\"Yes\",AggrWt*((N('Combined Gradation'!J39)-N('Combined Gradation'!J40))/100)/((100-Bin3Rapac)/100),AggrWt*((N('Combined Gradation'!J39)-N('Combined Gradation'!J40))/100)))","v":""},null,{"$f":"IF(OR(C36=\"\",K$24=\"\"),\"\",IF(Bin4RAP=\"Yes\",AggrWt*((N('Combined Gradation'!L39)-N('Combined Gradation'!L40))/100)/((100-Bin4Rapac)/100),AggrWt*((N('Combined Gradation'!L39)-N('Combined Gradation'!L40))/100)))","v":""},null,{"$f":"IF(OR(C36=\"\",M$24=\"\"),\"\",IF(Bin5RAP=\"Yes\",AggrWt*((N('Combined Gradation'!N39)-N('Combined Gradation'!N40))/100)/((100-Bin5Rapac)/100),AggrWt*((N('Combined Gradation'!N39)-N('Combined Gradation'!N40))/100)))","v":""},null,{"$f":"IF(OR(C36=\"\",O$24=\"\"),\"\",IF(Bin6RAP=\"Yes\",AggrWt*((N('Combined Gradation'!P39)-N('Combined Gradation'!P40))/100)/((100-Bin6Rapac)/100),AggrWt*((N('Combined Gradation'!P39)-N('Combined Gradation'!P40))/100)))","v":""},null,{"$f":"IF(OR(C36=\"\",Q$24=\"\"),\"\",IF(Bin7RAP=\"Yes\",AggrWt*((N('Combined Gradation'!R39)-N('Combined Gradation'!R40))/100)/((100-Bin7Rapac)/100),AggrWt*((N('Combined Gradation'!R39)-N('Combined Gradation'!R40))/100)))","v":""},null,{"$f":"IF(OR(C36=\"\",S$24=\"\"),\"\",AggrWt*(N('Combined Gradation'!T39)-N('Combined Gradation'!T40))/(100-Bin8RecAC))","v":0},null,{"$f":"IF(OR($C36=\"\",U$24=\"\"),\"\",AggrWt*(N('Combined Gradation'!V39)-N('Combined Gradation'!V40))/(100-Bin9RecAC))","v":0},null,{"$f":"IF(OR($C36=\"\",W$24=\"\"),\"\",AggrWt*(N('Combined Gradation'!X39)-N('Combined Gradation'!X40))/(100-Bin10RecAC))","v":0},null,0,"",{"$f":"IF(Z36=\"\",\"\",SUM($Z$31:$Z36))","v":""}]
[null,null,{"$f":"'Aggregate Classification'!B33","v":"No. 8"},{"$f":"'Aggregate Classification'!C33","v":"No. 16"},{"$f":"IF(OR(C37=\"\",E$24=\"\"),\"\",IF(Bin1RAP=\"Yes\",AggrWt*((N('Combined Gradation'!F40)-N('Combined Gradation'!F41))/100)/((100-BIN1rapac)/100),AggrWt*((N('Combined Gradation'!F40)-N('Combined Gradation'!F41))/100)))","v":""},null,{"$f":"IF(OR(C37=\"\",G$24=\"\"),\"\",IF(Bin2RAP=\"Yes\",AggrWt*((N('Combined Gradation'!H40)-N('Combined Gradation'!H41))/100)/((100-BIN2Rapac)/100),AggrWt*((N('Combined Gradation'!H40)-N('Combined Gradation'!H41))/100)))","v":""},null,{"$f":"IF(OR(C37=\"\",I$24=\"\"),\"\",IF(Bin3RAP=\"Yes\",AggrWt*((N('Combined Gradation'!J40)-N('Combined Gradation'!J41))/100)/((100-Bin3Rapac)/100),AggrWt*((N('Combined Gradation'!J40)-N('Combined Gradation'!J41))/100)))","v":""},null,{"$f":"IF(OR(C37=\"\",K$24=\"\"),\"\",IF(Bin4RAP=\"Yes\",AggrWt*((N('Combined Gradation'!L40)-N('Combined Gradation'!L41))/100)/((100-Bin4Rapac)/100),AggrWt*((N('Combined Gradation'!L40)-N('Combined Gradation'!L41))/100)))","v":""},null,{"$f":"IF(OR(C37=\"\",M$24=\"\"),\"\",IF(Bin5RAP=\"Yes\",AggrWt*((N('Combined Gradation'!N40)-N('Combined Gradation'!N41))/100)/((100-Bin5Rapac)/100),AggrWt*((N('Combined Gradation'!N40)-N('Combined Gradation'!N41))/100)))","v":""},null,{"$f":"IF(OR(C37=\"\",O$24=\"\"),\"\",IF(Bin6RAP=\"Yes\",AggrWt*((N('Combined Gradation'!P40)-N('Combined Gradation'!P41))/100)/((100-Bin6Rapac)/100),AggrWt*((N('Combined Gradation'!P40)-N('Combined Gradation'!P41))/100)))","v":""},null,{"$f":"IF(OR(C37=\"\",Q$24=\"\"),\"\",IF(Bin7RAP=\"Yes\",AggrWt*((N('Combined Gradation'!R40)-N('Combined Gradation'!R41))/100)/((100-Bin7Rapac)/100),AggrWt*((N('Combined Gradation'!R40)-N('Combined Gradation'!R41))/100)))","v":""},null,{"$f":"IF(OR(C37=\"\",S$24=\"\"),\"\",AggrWt*(N('Combined Gradation'!T40)-N('Combined Gradation'!T41))/(100-Bin8RecAC))","v":0},null,{"$f":"IF(OR($C37=\"\",U$24=\"\"),\"\",AggrWt*(N('Combined Gradation'!V40)-N('Combined Gradation'!V41))/(100-Bin9RecAC))","v":0},null,{"$f":"IF(OR($C37=\"\",W$24=\"\"),\"\",AggrWt*(N('Combined Gradation'!X40)-N('Combined Gradation'!X41))/(100-Bin10RecAC))","v":0},null,0,"",{"$f":"IF(Z37=\"\",\"\",SUM($Z$31:$Z37))","v":""}]
[null,null,{"$f":"'Aggregate Classification'!B34","v":"No. 16"},{"$f":"'Aggregate Classification'!C34","v":"No. 30"},{"$f":"IF(OR(C38=\"\",E$24=\"\"),\"\",IF(Bin1RAP=\"Yes\",AggrWt*((N('Combined Gradation'!F41)-N('Combined Gradation'!F42))/100)/((100-BIN1rapac)/100),AggrWt*((N('Combined Gradation'!F41)-N('Combined Gradation'!F42))/100)))","v":""},null,{"$f":"IF(OR(C38=\"\",G$24=\"\"),\"\",IF(Bin2RAP=\"Yes\",AggrWt*((N('Combined Gradation'!H41)-N('Combined Gradation'!H42))/100)/((100-BIN2Rapac)/100),AggrWt*((N('Combined Gradation'!H41)-N('Combined Gradation'!H42))/100)))","v":""},null,{"$f":"IF(OR(C38=\"\",I$24=\"\"),\"\",IF(Bin3RAP=\"Yes\",AggrWt*((N('Combined Gradation'!J41)-N('Combined Gradation'!J42))/100)/((100-Bin3Rapac)/100),AggrWt*((N('Combined Gradation'!J41)-N('Combined Gradation'!J42))/100)))","v":""},null,{"$f":"IF(OR(C38=\"\",K$24=\"\"),\"\",IF(Bin4RAP=\"Yes\",AggrWt*((N('Combined Gradation'!L41)-N('Combined Gradation'!L42))/100)/((100-Bin4Rapac)/100),AggrWt*((N('Combined Gradation'!L41)-N('Combined Gradation'!L42))/100)))","v":""},null,{"$f":"IF(OR(C38=\"\",M$24=\"\"),\"\",IF(Bin5RAP=\"Yes\",AggrWt*((N('Combined Gradation'!N41)-N('Combined Gradation'!N42))/100)/((100-Bin5Rapac)/100),AggrWt*((N('Combined Gradation'!N41)-N('Combined Gradation'!N42))/100)))","v":""},null,{"$f":"IF(OR(C38=\"\",O$24=\"\"),\"\",IF(Bin6RAP=\"Yes\",AggrWt*((N('Combined Gradation'!P41)-N('Combined Gradation'!P42))/100)/((100-Bin6Rapac)/100),AggrWt*((N('Combined Gradation'!P41)-N('Combined Gradation'!P42))/100)))","v":""},null,{"$f":"IF(OR(C38=\"\",Q$24=\"\"),\"\",IF(Bin7RAP=\"Yes\",AggrWt*((N('Combined Gradation'!R41)-N('Combined Gradation'!R42))/100)/((100-Bin7Rapac)/100),AggrWt*((N('Combined Gradation'!R41)-N('Combined Gradation'!R42))/100)))","v":""},null,{"$f":"IF(OR(C38=\"\",S$24=\"\"),\"\",AggrWt*(N('Combined Gradation'!T41)-N('Combined Gradation'!T42))/(100-Bin8RecAC))","v":0},null,{"$f":"IF(OR($C38=\"\",U$24=\"\"),\"\",AggrWt*(N('Combined Gradation'!V41)-N('Combined Gradation'!V42))/(100-Bin9RecAC))","v":0},null,{"$f":"IF(OR($C38=\"\",W$24=\"\"),\"\",AggrWt*(N('Combined Gradation'!X41)-N('Combined Gradation'!X42))/(100-Bin10RecAC))","v":0},null,0,"",{"$f":"IF(Z38=\"\",\"\",SUM($Z$31:$Z38))","v":""}]
[null,null,{"$f":"'Aggregate Classification'!B35","v":"No. 30"},{"$f":"'Aggregate Classification'!C35","v":"No. 50"},{"$f":"IF(OR(C39=\"\",E$24=\"\"),\"\",IF(Bin1RAP=\"Yes\",AggrWt*((N('Combined Gradation'!F42)-N('Combined Gradation'!F43))/100)/((100-BIN1rapac)/100),AggrWt*((N('Combined Gradation'!F42)-N('Combined Gradation'!F43))/100)))","v":""},null,{"$f":"IF(OR(C39=\"\",G$24=\"\"),\"\",IF(Bin2RAP=\"Yes\",AggrWt*((N('Combined Gradation'!H42)-N('Combined Gradation'!H43))/100)/((100-BIN2Rapac)/100),AggrWt*((N('Combined Gradation'!H42)-N('Combined Gradation'!H43))/100)))","v":""},null,{"$f":"IF(OR(C39=\"\",I$24=\"\"),\"\",IF(Bin3RAP=\"Yes\",AggrWt*((N('Combined Gradation'!J42)-N('Combined Gradation'!J43))/100)/((100-Bin3Rapac)/100),AggrWt*((N('Combined Gradation'!J42)-N('Combined Gradation'!J43))/100)))","v":""},null,{"$f":"IF(OR(C39=\"\",K$24=\"\"),\"\",IF(Bin4RAP=\"Yes\",AggrWt*((N('Combined Gradation'!L42)-N('Combined Gradation'!L43))/100)/((100-Bin4Rapac)/100),AggrWt*((N('Combined Gradation'!L42)-N('Combined Gradation'!L43))/100)))","v":""},null,{"$f":"IF(OR(C39=\"\",M$24=\"\"),\"\",IF(Bin5RAP=\"Yes\",AggrWt*((N('Combined Gradation'!N42)-N('Combined Gradation'!N43))/100)/((100-Bin5Rapac)/100),AggrWt*((N('Combined Gradation'!N42)-N('Combined Gradation'!N43))/100)))","v":""},null,{"$f":"IF(OR(C39=\"\",O$24=\"\"),\"\",IF(Bin6RAP=\"Yes\",AggrWt*((N('Combined Gradation'!P42)-N('Combined Gradation'!P43))/100)/((100-Bin6Rapac)/100),AggrWt*((N('Combined Gradation'!P42)-N('Combined Gradation'!P43))/100)))","v":""},null,{"$f":"IF(OR(C39=\"\",Q$24=\"\"),\"\",IF(Bin7RAP=\"Yes\",AggrWt*((N('Combined Gradation'!R42)-N('Combined Gradation'!R43))/100)/((100-Bin7Rapac)/100),AggrWt*((N('Combined Gradation'!R42)-N('Combined Gradation'!R43))/100)))","v":""},null,{"$f":"IF(OR(C39=\"\",S$24=\"\"),\"\",AggrWt*(N('Combined Gradation'!T42)-N('Combined Gradation'!T43))/(100-Bin8RecAC))","v":0},null,{"$f":"IF(OR($C39=\"\",U$24=\"\"),\"\",AggrWt*(N('Combined Gradation'!V42)-N('Combined Gradation'!V43))/(100-Bin9RecAC))","v":0},null,{"$f":"IF(OR($C39=\"\",W$24=\"\"),\"\",AggrWt*(N('Combined Gradation'!X42)-N('Combined Gradation'!X43))/(100-Bin10RecAC))","v":0},null,0,"",{"$f":"IF(Z39=\"\",\"\",SUM($Z$31:$Z39))","v":""}]
[null,null,{"$f":"'Aggregate Classification'!B36","v":"No. 50"},{"$f":"'Aggregate Classification'!C36","v":"No. 200"},{"$f":"IF(OR(C40=\"\",E$24=\"\"),\"\",IF(Bin1RAP=\"Yes\",AggrWt*((N('Combined Gradation'!F43)-N('Combined Gradation'!F44))/100)/((100-BIN1rapac)/100),AggrWt*((N('Combined Gradation'!F43)-N('Combined Gradation'!F44))/100)))","v":""},null,{"$f":"IF(OR(C40=\"\",G$24=\"\"),\"\",IF(Bin2RAP=\"Yes\",AggrWt*((N('Combined Gradation'!H43)-N('Combined Gradation'!H44))/100)/((100-BIN2Rapac)/100),AggrWt*((N('Combined Gradation'!H43)-N('Combined Gradation'!H44))/100)))","v":""},null,{"$f":"IF(OR(C40=\"\",I$24=\"\"),\"\",IF(Bin3RAP=\"Yes\",AggrWt*((N('Combined Gradation'!J43)-N('Combined Gradation'!J44))/100)/((100-Bin3Rapac)/100),AggrWt*((N('Combined Gradation'!J43)-N('Combined Gradation'!J44))/100)))","v":""},null,{"$f":"IF(OR(C40=\"\",K$24=\"\"),\"\",IF(Bin4RAP=\"Yes\",AggrWt*((N('Combined Gradation'!L43)-N('Combined Gradation'!L44))/100)/((100-Bin4Rapac)/100),AggrWt*((N('Combined Gradation'!L43)-N('Combined Gradation'!L44))/100)))","v":""},null,{"$f":"IF(OR(C40=\"\",M$24=\"\"),\"\",IF(Bin5RAP=\"Yes\",AggrWt*((N('Combined Gradation'!N43)-N('Combined Gradation'!N44))/100)/((100-Bin5Rapac)/100),AggrWt*((N('Combined Gradation'!N43)-N('Combined Gradation'!N44))/100)))","v":""},null,{"$f":"IF(OR(C40=\"\",O$24=\"\"),\"\",IF(Bin6RAP=\"Yes\",AggrWt*((N('Combined Gradation'!P43)-N('Combined Gradation'!P44))/100)/((100-Bin6Rapac)/100),AggrWt*((N('Combined Gradation'!P43)-N('Combined Gradation'!P44))/100)))","v":""},null,{"$f":"IF(OR(C40=\"\",Q$24=\"\"),\"\",IF(Bin7RAP=\"Yes\",AggrWt*((N('Combined Gradation'!R43)-N('Combined Gradation'!R44))/100)/((100-Bin7Rapac)/100),AggrWt*((N('Combined Gradation'!R43)-N('Combined Gradation'!R44))/100)))","v":""},null,{"$f":"IF(OR(C40=\"\",S$24=\"\"),\"\",AggrWt*(N('Combined Gradation'!T43)-N('Combined Gradation'!T44))/(100-Bin8RecAC))","v":0},null,{"$f":"IF(OR($C40=\"\",U$24=\"\"),\"\",AggrWt*(N('Combined Gradation'!V43)-N('Combined Gradation'!V44))/(100-Bin9RecAC))","v":0},null,{"$f":"IF(OR($C40=\"\",W$24=\"\"),\"\",AggrWt*(N('Combined Gradation'!X43)-N('Combined Gradation'!X44))/(100-Bin10RecAC))","v":0},null,0,"",{"$f":"IF(Z40=\"\",\"\",SUM($Z$31:$Z40))","v":""}]
[null,null,{"$f":"'Aggregate Classification'!B37","v":"No. 200"},"Pan",{"$f":"IF(OR(C41=\"\",E$24=\"\"),\"\",IF(Bin1RAP=\"Yes\",AggrWt*((N('Combined Gradation'!F44)-N('Combined Gradation'!F45))/100)/((100-BIN1rapac)/100),AggrWt*((N('Combined Gradation'!F44)-N('Combined Gradation'!F45))/100)))","v":""},null,{"$f":"IF(OR(C41=\"\",G$24=\"\"),\"\",IF(Bin2RAP=\"Yes\",AggrWt*((N('Combined Gradation'!H44)-N('Combined Gradation'!H45))/100)/((100-BIN2Rapac)/100),AggrWt*((N('Combined Gradation'!H44)-N('Combined Gradation'!H45))/100)))","v":""},null,{"$f":"IF(OR(C41=\"\",I$24=\"\"),\"\",IF(Bin3RAP=\"Yes\",AggrWt*((N('Combined Gradation'!J44)-N('Combined Gradation'!J45))/100)/((100-Bin3Rapac)/100),AggrWt*((N('Combined Gradation'!J44)-N('Combined Gradation'!J45))/100)))","v":""},null,{"$f":"IF(OR(C41=\"\",K$24=\"\"),\"\",IF(Bin4RAP=\"Yes\",AggrWt*((N('Combined Gradation'!L44)-N('Combined Gradation'!L45))/100)/((100-Bin4Rapac)/100),AggrWt*((N('Combined Gradation'!L44)-N('Combined Gradation'!L45))/100)))","v":""},null,{"$f":"IF(OR(C41=\"\",M$24=\"\"),\"\",IF(Bin5RAP=\"Yes\",AggrWt*((N('Combined Gradation'!N44)-N('Combined Gradation'!N45))/100)/((100-Bin5Rapac)/100),AggrWt*((N('Combined Gradation'!N44)-N('Combined Gradation'!N45))/100)))","v":""},null,{"$f":"IF(OR(C41=\"\",O$24=\"\"),\"\",IF(Bin6RAP=\"Yes\",AggrWt*((N('Combined Gradation'!P44)-N('Combined Gradation'!P45))/100)/((100-Bin6Rapac)/100),AggrWt*((N('Combined Gradation'!P44)-N('Combined Gradation'!P45))/100)))","v":""},null,{"$f":"IF(OR(C41=\"\",Q$24=\"\"),\"\",IF(Bin7RAP=\"Yes\",AggrWt*((N('Combined Gradation'!R44)-N('Combined Gradation'!R45))/100)/((100-Bin7Rapac)/100),AggrWt*((N('Combined Gradation'!R44)-N('Combined Gradation'!R45))/100)))","v":""},null,{"$f":"IF(OR(C41=\"\",S$24=\"\"),\"\",AggrWt*(N('Combined Gradation'!T44)-N('Combined Gradation'!T45))/(100-Bin8RecAC))","v":0},null,{"$f":"IF(OR($C41=\"\",U$24=\"\"),\"\",AggrWt*(N('Combined Gradation'!V44)-N('Combined Gradation'!V45))/(100-Bin9RecAC))","v":0},null,{"$f":"IF(OR($C41=\"\",W$24=\"\"),\"\",AggrWt*(N('Combined Gradation'!X44)-N('Combined Gradation'!X45))/(100-Bin10RecAC))","v":0},null,0,"",{"$f":"IF(Z41=\"\",\"\",SUM($Z$31:$Z41))","v":""}]
[null,null,"Totals",null,{"$f":"IF(COUNTBLANK(E31:E41)=11,\"\",SUM(E31:E41))","v":""},null,{"$f":"IF(COUNTBLANK(G31:G41)=11,\"\",SUM(G31:G41))","v":""},null,{"$f":"IF(COUNTBLANK(I31:I41)=11,\"\",SUM(I31:I41))","v":""},null,{"$f":"IF(COUNTBLANK(K31:K41)=11,\"\",SUM(K31:K41))","v":""},null,{"$f":"IF(COUNTBLANK(M31:M41)=11,\"\",SUM(M31:M41))","v":""},null,{"$f":"IF(COUNTBLANK(O31:O41)=11,\"\",SUM(O31:O41))","v":""},null,{"$f":"IF(COUNTBLANK(Q31:Q41)=11,\"\",SUM(Q31:Q41))","v":""},null,{"$f":"IF(COUNTBLANK(S31:S41)=11,\"\",SUM(S31:S41))","v":0},null,{"$f":"IF(COUNTBLANK(U31:U41)=11,\"\",SUM(U31:U41))","v":0},null,{"$f":"IF(COUNTBLANK(W31:W41)=11,\"\",SUM(W31:W41))","v":0},null,0,"Total includes asphalt from the recycled material aggregate"]
[]
[null,"Running Total:"]
[null,"CUMULATIVE","-",{"$f":"D31","v":"1\""},{"$f":"IF(OR(C45=\"\",Bin1Frac=\"\"),\"\",E31)","v":""},null,{"$f":"IF(OR(C45=\"\",Bin2Frac=\"\"),\"\",IF(RunningT=\"No\",G31,MAX(E45:F55)+G31))","v":""},null,{"$f":"IF(OR(C45=\"\",Bin3Frac=\"\"),\"\",IF(RunningT=\"No\",I31,MAX(G45:H55)+I31))","v":""},null,{"$f":"IF(OR(C45=\"\",Bin4Frac=\"\"),\"\",IF(RunningT=\"No\",K31,MAX(I45:J55)+K31))","v":""},null,{"$f":"IF(OR(C45=\"\",Bin5Frac=\"\"),\"\",IF(RunningT=\"No\",M31,MAX(K45:L55)+M31))","v":""},null,{"$f":"IF(OR(C45=\"\",Bin6Frac=\"\"),\"\",IF(RunningT=\"No\",O31,MAX(M45:N55)+O31))","v":""},null,{"$f":"IF(OR(C45=\"\",Bin7Frac=\"\"),\"\",IF(RunningT=\"No\",Q31,MAX(O45:P55)+Q31))","v":""},null,{"$f":"IF(OR(C45=\"\",Bin8Frac=0),\"\",IF(RunningT=\"No\",S31,MAX(E45:R55)+S31))","v":0},null,{"$f":"IF(OR(C45=\"\",Bin9Frac=0),\"\",IF(RunningT=\"No\",U31,MAX(E45:T55)+U31))","v":0},null,{"$f":"IF(OR(C45=\"\",Bin10Frac=0),\"\",IF(RunningT=\"No\",W31,MAX(E45:V55)+W31))","v":0},null,{"$f":"IF(ISERROR(IF(Y31=\"\",\"\",SUM(Y$31:Y31))),\"\",IF(Y31=\"\",\"\",SUM(Y$31:Y31)))","v":0}]
[null,null,{"$f":"C32","v":"1\""},"3/4\"",{"$f":"IF(OR($C46=\"\",Bin1Frac=\"\"),\"\",SUM(E$31:F32))","v":""},null,{"$f":"IF(OR($C46=\"\",Bin2Frac=\"\"),\"\",IF(RunningT=\"No\",SUM(G$31:G32),G45+G32))","v":""},null,{"$f":"IF(OR($C46=\"\",Bin3Frac=\"\"),\"\",IF(RunningT=\"No\",SUM(I$31:I32),I45+I32))","v":""},null,{"$f":"IF(OR($C46=\"\",Bin4Frac=\"\"),\"\",IF(RunningT=\"No\",SUM(K$31:K32),K45+K32))","v":""},null,{"$f":"IF(OR($C46=\"\",Bin5Frac=\"\"),\"\",IF(RunningT=\"No\",SUM(M$31:M32),M45+M32))","v":""},null,{"$f":"IF(OR($C46=\"\",Bin6Frac=\"\"),\"\",IF(RunningT=\"No\",SUM(O$31:O32),O45+O32))","v":""},null,{"$f":"IF(OR($C46=\"\",Bin7Frac=\"\"),\"\",IF(RunningT=\"No\",SUM(Q$31:Q32),Q45+Q32))","v":""},null,{"$f":"IF(OR($C46=\"\",Bin8Frac=0),\"\",IF(RunningT=\"No\",SUM(S$31:S32),S45+S32))","v":0},null,{"$f":"IF(OR($C46=\"\",Bin9Frac=0),\"\",IF(RunningT=\"No\",SUM(U$31:U32),U45+U32))","v":0},null,{"$f":"IF(OR($C46=\"\",Bin10Frac=0),\"\",IF(RunningT=\"No\",SUM(W$31:W32),W45+W32))","v":0},null,{"$f":"IF(ISERROR(IF(Y32=\"\",\"\",SUM(Y$31:Y32))),\"\",IF(Y32=\"\",\"\",SUM(Y$31:Y32)))","v":0}]
[null,null,"3/4\"","1/2\"",{"$f":"IF(OR($C47=\"\",Bin1Frac=\"\"),\"\",SUM(E$31:F33))","v":""},null,{"$f":"IF(OR($C47=\"\",Bin2Frac=\"\"),\"\",IF(RunningT=\"No\",SUM(G$31:G33),G46+G33))","v":""},null,{"$f":"IF(OR($C47=\"\",Bin3Frac=\"\"),\"\",IF(RunningT=\"No\",SUM(I$31:I33),I46+I33))","v":""},null,{"$f":"IF(OR($C47=\"\",Bin4Frac=\"\"),\"\",IF(RunningT=\"No\",SUM(K$31:K33),K46+K33))","v":""},null,{"$f":"IF(OR($C47=\"\",Bin5Frac=\"\"),\"\",IF(RunningT=\"No\",SUM(M$31:M33),M46+M33))","v":""},null,{"$f":"IF(OR($C47=\"\",Bin6Frac=\"\"),\"\",IF(RunningT=\"No\",SUM(O$31:O33),O46+O33))","v":""},null,{"$f":"IF(OR($C47=\"\",Bin7Frac=\"\"),\"\",IF(RunningT=\"No\",SUM(Q$31:Q33),Q46+Q33))","v":""},null,{"$f":"IF(OR($C47=\"\",Bin8Frac=0),\"\",IF(RunningT=\"No\",SUM(S$31:S33),S46+S33))","v":0},null,{"$f":"IF(OR($C47=\"\",Bin9Frac=0),\"\",IF(RunningT=\"No\",SUM(U$31:U33),U46+U33))","v":0},null,{"$f":"IF(OR($C47=\"\",Bin10Frac=0),\"\",IF(RunningT=\"No\",SUM(W$31:W33),W46+W33))","v":0},null,{"$f":"IF(ISERROR(IF(Y33=\"\",\"\",SUM(Y$31:Y33))),\"\",IF(Y33=\"\",\"\",SUM(Y$31:Y33)))","v":0}]
[null,null,"1/2\"","3/8\"",{"$f":"IF(OR($C48=\"\",Bin1Frac=\"\"),\"\",SUM(E$31:F34))","v":""},null,{"$f":"IF(OR($C48=\"\",Bin2Frac=\"\"),\"\",IF(RunningT=\"No\",SUM(G$31:G34),G47+G34))","v":""},null,{"$f":"IF(OR($C48=\"\",Bin3Frac=\"\"),\"\",IF(RunningT=\"No\",SUM(I$31:I34),I47+I34))","v":""},null,{"$f":"IF(OR($C48=\"\",Bin4Frac=\"\"),\"\",IF(RunningT=\"No\",SUM(K$31:K34),K47+K34))","v":""},null,{"$f":"IF(OR($C48=\"\",Bin5Frac=\"\"),\"\",IF(RunningT=\"No\",SUM(M$31:M34),M47+M34))","v":""},null,{"$f":"IF(OR($C48=\"\",Bin6Frac=\"\"),\"\",IF(RunningT=\"No\",SUM(O$31:O34),O47+O34))","v":""},null,{"$f":"IF(OR($C48=\"\",Bin7Frac=\"\"),\"\",IF(RunningT=\"No\",SUM(Q$31:Q34),Q47+Q34))","v":""},null,{"$f":"IF(OR($C48=\"\",Bin8Frac=0),\"\",IF(RunningT=\"No\",SUM(S$31:S34),S47+S34))","v":0},null,{"$f":"IF(OR($C48=\"\",Bin9Frac=0),\"\",IF(RunningT=\"No\",SUM(U$31:U34),U47+U34))","v":0},null,{"$f":"IF(OR($C48=\"\",Bin10Frac=0),\"\",IF(RunningT=\"No\",SUM(W$31:W34),W47+W34))","v":0},null,{"$f":"IF(ISERROR(IF(Y34=\"\",\"\",SUM(Y$31:Y34))),\"\",IF(Y34=\"\",\"\",SUM(Y$31:Y34)))","v":0}]
[null,null,"3/8\"","No. 4",{"$f":"IF(OR($C49=\"\",Bin1Frac=\"\"),\"\",SUM(E$31:F35))","v":""},null,{"$f":"IF(OR($C49=\"\",Bin2Frac=\"\"),\"\",IF(RunningT=\"No\",SUM(G$31:G35),G48+G35))","v":""},null,{"$f":"IF(OR($C49=\"\",Bin3Frac=\"\"),\"\",IF(RunningT=\"No\",SUM(I$31:I35),I48+I35))","v":""},null,{"$f":"IF(OR($C49=\"\",Bin4Frac=\"\"),\"\",IF(RunningT=\"No\",SUM(K$31:K35),K48+K35))","v":""},null,{"$f":"IF(OR($C49=\"\",Bin5Frac=\"\"),\"\",IF(RunningT=\"No\",SUM(M$31:M35),M48+M35))","v":""},null,{"$f":"IF(OR($C49=\"\",Bin6Frac=\"\"),\"\",IF(RunningT=\"No\",SUM(O$31:O35),O48+O35))","v":""},null,{"$f":"IF(OR($C49=\"\",Bin7Frac=\"\"),\"\",IF(RunningT=\"No\",SUM(Q$31:Q35),Q48+Q35))","v":""},null,{"$f":"IF(OR($C49=\"\",Bin8Frac=0),\"\",IF(RunningT=\"No\",SUM(S$31:S35),S48+S35))","v":0},null,{"$f":"IF(OR($C49=\"\",Bin9Frac=0),\"\",IF(RunningT=\"No\",SUM(U$31:U35),U48+U35))","v":0},null,{"$f":"IF(OR($C49=\"\",Bin10Frac=0),\"\",IF(RunningT=\"No\",SUM(W$31:W35),W48+W35))","v":0},null,{"$f":"IF(ISERROR(IF(Y35=\"\",\"\",SUM(Y$31:Y35))),\"\",IF(Y35=\"\",\"\",SUM(Y$31:Y35)))","v":0}]
[null,null,"No. 4","No. 8",{"$f":"IF(OR($C50=\"\",Bin1Frac=\"\"),\"\",SUM(E$31:F36))","v":""},null,{"$f":"IF(OR($C50=\"\",Bin2Frac=\"\"),\"\",IF(RunningT=\"No\",SUM(G$31:G36),G49+G36))","v":""},null,{"$f":"IF(OR($C50=\"\",Bin3Frac=\"\"),\"\",IF(RunningT=\"No\",SUM(I$31:I36),I49+I36))","v":""},null,{"$f":"IF(OR($C50=\"\",Bin4Frac=\"\"),\"\",IF(RunningT=\"No\",SUM(K$31:K36),K49+K36))","v":""},null,{"$f":"IF(OR($C50=\"\",Bin5Frac=\"\"),\"\",IF(RunningT=\"No\",SUM(M$31:M36),M49+M36))","v":""},null,{"$f":"IF(OR($C50=\"\",Bin6Frac=\"\"),\"\",IF(RunningT=\"No\",SUM(O$31:O36),O49+O36))","v":""},null,{"$f":"IF(OR($C50=\"\",Bin7Frac=\"\"),\"\",IF(RunningT=\"No\",SUM(Q$31:Q36),Q49+Q36))","v":""},null,{"$f":"IF(OR($C50=\"\",Bin8Frac=0),\"\",IF(RunningT=\"No\",SUM(S$31:S36),S49+S36))","v":0},null,{"$f":"IF(OR($C50=\"\",Bin9Frac=0),\"\",IF(RunningT=\"No\",SUM(U$31:U36),U49+U36))","v":0},null,{"$f":"IF(OR($C50=\"\",Bin10Frac=0),\"\",IF(RunningT=\"No\",SUM(W$31:W36),W49+W36))","v":0},null,{"$f":"IF(ISERROR(IF(Y36=\"\",\"\",SUM(Y$31:Y36))),\"\",IF(Y36=\"\",\"\",SUM(Y$31:Y36)))","v":0}]
[null,null,"No. 8","No. 16",{"$f":"IF(OR($C51=\"\",Bin1Frac=\"\"),\"\",SUM(E$31:F37))","v":""},null,{"$f":"IF(OR($C51=\"\",Bin2Frac=\"\"),\"\",IF(RunningT=\"No\",SUM(G$31:G37),G50+G37))","v":""},null,{"$f":"IF(OR($C51=\"\",Bin3Frac=\"\"),\"\",IF(RunningT=\"No\",SUM(I$31:I37),I50+I37))","v":""},null,{"$f":"IF(OR($C51=\"\",Bin4Frac=\"\"),\"\",IF(RunningT=\"No\",SUM(K$31:K37),K50+K37))","v":""},null,{"$f":"IF(OR($C51=\"\",Bin5Frac=\"\"),\"\",IF(RunningT=\"No\",SUM(M$31:M37),M50+M37))","v":""},null,{"$f":"IF(OR($C51=\"\",Bin6Frac=\"\"),\"\",IF(RunningT=\"No\",SUM(O$31:O37),O50+O37))","v":""},null,{"$f":"IF(OR($C51=\"\",Bin7Frac=\"\"),\"\",IF(RunningT=\"No\",SUM(Q$31:Q37),Q50+Q37))","v":""},null,{"$f":"IF(OR($C51=\"\",Bin8Frac=0),\"\",IF(RunningT=\"No\",SUM(S$31:S37),S50+S37))","v":0},null,{"$f":"IF(OR($C51=\"\",Bin9Frac=0),\"\",IF(RunningT=\"No\",SUM(U$31:U37),U50+U37))","v":0},null,{"$f":"IF(OR($C51=\"\",Bin10Frac=0),\"\",IF(RunningT=\"No\",SUM(W$31:W37),W50+W37))","v":0},null,{"$f":"IF(ISERROR(IF(Y37=\"\",\"\",SUM(Y$31:Y37))),\"\",IF(Y37=\"\",\"\",SUM(Y$31:Y37)))","v":0}]
[null,null,"No. 16","No. 30",{"$f":"IF(OR($C52=\"\",Bin1Frac=\"\"),\"\",SUM(E$31:F38))","v":""},null,{"$f":"IF(OR($C52=\"\",Bin2Frac=\"\"),\"\",IF(RunningT=\"No\",SUM(G$31:G38),G51+G38))","v":""},null,{"$f":"IF(OR($C52=\"\",Bin3Frac=\"\"),\"\",IF(RunningT=\"No\",SUM(I$31:I38),I51+I38))","v":""},null,{"$f":"IF(OR($C52=\"\",Bin4Frac=\"\"),\"\",IF(RunningT=\"No\",SUM(K$31:K38),K51+K38))","v":""},null,{"$f":"IF(OR($C52=\"\",Bin5Frac=\"\"),\"\",IF(RunningT=\"No\",SUM(M$31:M38),M51+M38))","v":""},null,{"$f":"IF(OR($C52=\"\",Bin6Frac=\"\"),\"\",IF(RunningT=\"No\",SUM(O$31:O38),O51+O38))","v":""},null,{"$f":"IF(OR($C52=\"\",Bin7Frac=\"\"),\"\",IF(RunningT=\"No\",SUM(Q$31:Q38),Q51+Q38))","v":""},null,{"$f":"IF(OR($C52=\"\",Bin8Frac=0),\"\",IF(RunningT=\"No\",SUM(S$31:S38),S51+S38))","v":0},null,{"$f":"IF(OR($C52=\"\",Bin9Frac=0),\"\",IF(RunningT=\"No\",SUM(U$31:U38),U51+U38))","v":0},null,{"$f":"IF(OR($C52=\"\",Bin10Frac=0),\"\",IF(RunningT=\"No\",SUM(W$31:W38),W51+W38))","v":0},null,{"$f":"IF(ISERROR(IF(Y38=\"\",\"\",SUM(Y$31:Y38))),\"\",IF(Y38=\"\",\"\",SUM(Y$31:Y38)))","v":0}]
[null,null,"No. 30","No. 50",{"$f":"IF(OR($C53=\"\",Bin1Frac=\"\"),\"\",SUM(E$31:F39))","v":""},null,{"$f":"IF(OR($C53=\"\",Bin2Frac=\"\"),\"\",IF(RunningT=\"No\",SUM(G$31:G39),G52+G39))","v":""},null,{"$f":"IF(OR($C53=\"\",Bin3Frac=\"\"),\"\",IF(RunningT=\"No\",SUM(I$31:I39),I52+I39))","v":""},null,{"$f":"IF(OR($C53=\"\",Bin4Frac=\"\"),\"\",IF(RunningT=\"No\",SUM(K$31:K39),K52+K39))","v":""},null,{"$f":"IF(OR($C53=\"\",Bin5Frac=\"\"),\"\",IF(RunningT=\"No\",SUM(M$31:M39),M52+M39))","v":""},null,{"$f":"IF(OR($C53=\"\",Bin6Frac=\"\"),\"\",IF(RunningT=\"No\",SUM(O$31:O39),O52+O39))","v":""},null,{"$f":"IF(OR($C53=\"\",Bin7Frac=\"\"),\"\",IF(RunningT=\"No\",SUM(Q$31:Q39),Q52+Q39))","v":""},null,{"$f":"IF(OR($C53=\"\",Bin8Frac=0),\"\",IF(RunningT=\"No\",SUM(S$31:S39),S52+S39))","v":0},null,{"$f":"IF(OR($C53=\"\",Bin9Frac=0),\"\",IF(RunningT=\"No\",SUM(U$31:U39),U52+U39))","v":0},null,{"$f":"IF(OR($C53=\"\",Bin10Frac=0),\"\",IF(RunningT=\"No\",SUM(W$31:W39),W52+W39))","v":0},null,{"$f":"IF(ISERROR(IF(Y39=\"\",\"\",SUM(Y$31:Y39))),\"\",IF(Y39=\"\",\"\",SUM(Y$31:Y39)))","v":0},"Total includes asphalt from the recycled material aggregate"]
[null,null,"No. 50","No. 200",{"$f":"IF(OR($C54=\"\",Bin1Frac=\"\"),\"\",SUM(E$31:F40))","v":""},null,{"$f":"IF(OR($C54=\"\",Bin2Frac=\"\"),\"\",IF(RunningT=\"No\",SUM(G$31:G40),G53+G40))","v":""},null,{"$f":"IF(OR($C54=\"\",Bin3Frac=\"\"),\"\",IF(RunningT=\"No\",SUM(I$31:I40),I53+I40))","v":""},null,{"$f":"IF(OR($C54=\"\",Bin4Frac=\"\"),\"\",IF(RunningT=\"No\",SUM(K$31:K40),K53+K40))","v":""},null,{"$f":"IF(OR($C54=\"\",Bin5Frac=\"\"),\"\",IF(RunningT=\"No\",SUM(M$31:M40),M53+M40))","v":""},null,{"$f":"IF(OR($C54=\"\",Bin6Frac=\"\"),\"\",IF(RunningT=\"No\",SUM(O$31:O40),O53+O40))","v":""},null,{"$f":"IF(OR($C54=\"\",Bin7Frac=\"\"),\"\",IF(RunningT=\"No\",SUM(Q$31:Q40),Q53+Q40))","v":""},null,{"$f":"IF(OR($C54=\"\",Bin8Frac=0),\"\",IF(RunningT=\"No\",SUM(S$31:S40),S53+S40))","v":0},null,{"$f":"IF(OR($C54=\"\",Bin9Frac=0),\"\",IF(RunningT=\"No\",SUM(U$31:U40),U53+U40))","v":0},null,{"$f":"IF(OR($C54=\"\",Bin10Frac=0),\"\",IF(RunningT=\"No\",SUM(W$31:W40),W53+W40))","v":0},null,{"$f":"IF(ISERROR(IF(Y40=\"\",\"\",SUM(Y$31:Y40))),\"\",IF(Y40=\"\",\"\",SUM(Y$31:Y40)))","v":0}]
[null,null,"No. 200","Pan",{"$f":"IF(OR($C55=\"\",Bin1Frac=\"\"),\"\",SUM(E$31:F41))","v":""},null,{"$f":"IF(OR($C55=\"\",Bin2Frac=\"\"),\"\",IF(RunningT=\"No\",SUM(G$31:G41),G54+G41))","v":""},null,{"$f":"IF(OR($C55=\"\",Bin3Frac=\"\"),\"\",IF(RunningT=\"No\",SUM(I$31:I41),I54+I41))","v":""},null,{"$f":"IF(OR($C55=\"\",Bin4Frac=\"\"),\"\",IF(RunningT=\"No\",SUM(K$31:K41),K54+K41))","v":""},null,{"$f":"IF(OR($C55=\"\",Bin5Frac=\"\"),\"\",IF(RunningT=\"No\",SUM(M$31:M41),M54+M41))","v":""},null,{"$f":"IF(OR($C55=\"\",Bin6Frac=\"\"),\"\",IF(RunningT=\"No\",SUM(O$31:O41),O54+O41))","v":""},null,{"$f":"IF(OR($C55=\"\",Bin7Frac=\"\"),\"\",IF(RunningT=\"No\",SUM(Q$31:Q41),Q54+Q41))","v":""},null,{"$f":"IF(OR($C55=\"\",Bin8Frac=0),\"\",IF(RunningT=\"No\",SUM(S$31:S41),S54+S41))","v":0},null,{"$f":"IF(OR($C55=\"\",Bin9Frac=0),\"\",IF(RunningT=\"No\",SUM(U$31:U41),U54+U41))","v":0},null,{"$f":"IF(OR($C55=\"\",Bin10Frac=0),\"\",IF(RunningT=\"No\",SUM(W$31:W41),W54+W41))","v":0},null,{"$f":"IF(ISERROR(IF(Y41=\"\",\"\",SUM(Y$31:Y41))),\"\",IF(Y41=\"\",\"\",SUM(Y$31:Y41)))","v":0}]
[]
[null,"Remarks:",null,{"$f":"NOW()","v":"2020-10-28T23:16:33.930"}]

{"sheet":"Blank Weigh Up","index":5,"n_rows":55,"n_cols":21,"rows_kept":55,"cut":false,"hidden":false,"merged":[[54,16,54,17],[54,19,54,20],[54,6,54,7],[54,8,54,9],[54,10,54,11],[54,12,54,13],[52,14,52,15],[52,16,52,17],[53,14,53,15],[53,16,53,17],[52,6,52,7],[52,8,52,9],[53,6,53,7],[53,8,53,9],[53,10,53,11],[53,12,53,13],[52,10,52,11],[52,12,52,13],[49,16,49,17],[48,6,48,7],[48,8,48,9],[51,6,51,7],[51,8,51,9],[51,10,51,11],[51,12,51,13],[50,6,50,7],[50,8,50,9],[50,10,50,11],[50,12,50,13],[50,14,50,15],[50,16,50,17],[51,14,51,15],[51,16,51,17],[48,16,48,17],[53,4,53,5],[54,4,54,5],[44,6,44,7],[44,8,44,9],[45,6,45,7],[45,8,45,9],[46,10,46,11],[46,12,46,13],[46,14,46,15],[45,10,45,11],[45,12,45,13],[45,14,45,15],[48,10,48,11],[48,12,48,13],[47,10,47,11],[49,10,49,11],[49,12,49,13],[49,14,49,15],[54,14,54,15],[49,8,49,9],[48,14,48,15],[44,1,54,1],[44,4,44,5],[45,4,45,5],[46,4,46,5],[47,4,47,5],[48,4,48,5],[44,10,44,11],[44,12,44,13],[36,12,36,13],[49,4,49,5],[50,4,50,5],[51,4,51,5],[52,4,52,5],[49,6,49,7],[29,1,40,1],[40,2,40,3],[40,4,40,5],[29,4,29,5],[30,4,30,5],[31,4,31,5],[32,4,32,5],[30,10,30,11],[36,4,36,5],[37,4,37,5],[39,14,39,15],[39,16,39,17],[39,6,39,7],[39,8,39,9],[39,10,39,11],[39,12,39,13],[46,6,46,7],[46,8,46,9],[47,6,47,7],[47,8,47,9],[44,16,44,17],[46,16,46,17],[45,16,45,17],[47,12,47,13],[47,14,47,15],[47,16,47,17],[40,6,40,7],[44,14,44,15],[36,6,36,7],[36,8,36,9],[36,10,36,11],[34,6,34,7],[37,14,37,15],[37,16,37,17],[38,14,38,15],[38,16,38,17],[37,6,37,7],[37,8,37,9],[38,6,38,7],[38,8,38,9],[38,10,38,11],[38,12,38,13],[37,10,37,11],[37,12,37,13],[26,2,27,3],[26,6,28,7],[26,8,28,9],[26,10,28,11],[29,6,29,7],[26,4,28,5],[35,6,35,7],[35,8,35,9],[35,10,35,11],[33,4,33,5],[34,4,34,5],[30,6,30,7],[30,8,30,9],[32,6,32,7],[32,8,32,9],[32,10,32,11],[23,18,28,18],[23,19,28,19],[23,20,28,20],[40,8,40,9],[40,10,40,11],[40,12,40,13],[40,14,40,15],[40,16,40,17],[29,8,29,9],[29,10,29,11],[26,16,28,17],[24,12,24,13],[24,14,24,15],[24,16,24,17],[29,12,29,13],[29,14,29,15],[29,16,29,17],[31,8,31,9],[31,10,31,11],[33,8,33,9],[35,12,35,13],[35,14,35,15],[36,14,36,15],[36,16,36,17],[38,4,38,5],[39,4,39,5],[30,12,30,13],[30,14,30,15],[30,16,30,17],[32,12,32,13],[31,12,31,13],[31,14,31,15],[31,16,31,17],[35,4,35,5],[32,14,32,15],[32,16,32,17],[33,14,33,15],[33,16,33,17],[34,14,34,15],[34,16,34,17],[34,8,34,9],[34,10,34,11],[34,12,34,13],[33,10,33,11],[33,12,33,13],[35,16,35,17],[31,6,31,7],[33,6,33,7],[24,4,24,5],[24,6,24,7],[24,8,24,9],[24,10,24,11],[22,12,22,13],[22,14,22,15],[22,8,22,9],[22,10,22,11],[26,14,28,15],[26,12,28,13],[21,10,21,11],[21,12,21,13],[21,14,21,15],[21,16,21,17],[22,16,22,17],[23,4,23,5],[23,6,23,7],[23,8,23,9],[23,10,23,11],[23,12,23,13],[23,14,23,15],[23,16,23,17],[22,4,22,5],[22,6,22,7],[14,10,14,12],[11,10,11,12],[23,1,23,3],[24,1,24,3],[16,13,16,15],[16,16,16,17],[18,1,18,4],[18,5,18,6],[16,1,16,3],[16,5,16,6],[16,7,16,8],[16,9,16,10],[20,4,20,5],[20,6,20,7],[20,8,20,9],[20,10,20,11],[21,1,21,3],[22,1,22,3],[20,12,20,13],[20,14,20,15],[20,16,20,17],[21,4,21,5],[21,6,21,7],[21,8,21,9],[5,7,5,9],[40,19,40,20],[6,7,6,9],[7,7,7,9],[8,7,8,9],[9,7,9,9],[14,1,14,3],[9,4,9,6],[10,4,10,6],[11,4,11,6],[12,4,12,12],[13,1,13,3],[10,7,10,9],[11,7,11,9],[9,10,9,12],[10,10,10,12],[5,10,5,12],[6,10,6,12],[7,10,7,12],[8,10,8,12],[16,11,16,12],[13,4,13,12],[14,4,14,6],[14,7,14,9],[11,1,11,3],[12,1,12,3],[5,1,5,3],[6,1,6,3],[7,1,7,3],[8,1,8,3],[9,1,9,3],[10,1,10,3],[5,4,5,6],[6,4,6,6],[7,4,7,6],[8,4,8,6]]}
[null,"TEXAS DEPARTMENT OF TRANSPORTATION"]
[]
[]
[null,"HMACP MIXTURE DESIGN : WEIGH UP SHEET FOR BLANK SAMPLES"]
[]
[null,"SAMPLE ID:",null,null,{"$f":"IF(sampleid=\"\",\"\",sampleid)","v":""},null,null,"SAMPLE DATE:",null,null,{"$f":"IF(sampleddate=\"\",\"\",sampleddate)","v":""}]
[null,"LOT NUMBER:",null,null,{"$f":"IF(testnumber=\"\",\"\",testnumber)","v":""},null,null,"LETTING DATE:",null,null,{"$f":"IF(lettingdate=\"\",\"\",lettingdate)","v":""}]
[null,"SAMPLE STATUS:",null,null,{"$f":"IF(status=\"\",\"\",status)","v":""},null,null,"CONTROLLING CSJ:",null,null,{"$f":"IF(ccsj=\"\",\"\",ccsj)","v":""}]
[null,"COUNTY:",null,null,{"$f":"IF(county=\"\",\"\",county)","v":""},null,null,"SPEC YEAR:",null,null,{"$f":"+IF(specyear=\"\",\"\",specyear)","v":"2014"}]
[null,"SAMPLED BY:",null,null,{"$f":"IF(sampledby=\"\",\"\",sampledby)","v":""},null,null,"SPEC ITEM:",null,null,{"$f":"IF(specitem=\"\",\"\",specitem)","v":""}]
[null,"SAMPLE LOCATION:",null,null,{"$f":"IF(samplelocation=\"\",\"\",samplelocation)","v":""},null,null,"SPECIAL PROVISION:",null,null,{"$f":"IF(specialprovision=\"\",\"\",specialprovision)","v":""}]
[null,"MATERIAL CODE:",null,null,{"$f":"IF(material=\"\",\"\",material)","v":""},null,null,"MIX TYPE:",null,null,{"$f":"IF(Grade=\"\",\"\",Grade)","v":"SS-3074-BMD-SP-C"}]
[null,"MATERIAL NAME:",null,null,{"$f":"IF(matl_nm=\"\",\"\",matl_nm)","v":""}]
[null,"PRODUCER:",null,null,{"$f":"IF(producer=\"\",\"\",producer)","v":""}]
[null,"AREA ENGINEER:",null,null,{"$f":"IF(areaengineer=\"\",\"\",areaengineer)","v":""},null,null,"PROJECT MANAGER:",null,null,{"$f":"IF(projectmanager=\"\",\"\",projectmanager)","v":""}]
[]
[null,"COURSE\\LIFT:",null,null,{"$f":"IF(courselift=\"\",\"\",courselift)","v":"Surface"},"STATION:",null,{"$f":"IF(station=\"\",\"\",station)","v":""},null,"DIST. FROM CL:",null,{"$f":"IF(distfromcl=\"\",\"\",distfromcl)","v":""},null,"CONTRACTOR DESIGN # :",null,null,{"$f":"IF(condesignnum=\"\",\"\",condesignnum)","v":""}]
[]
[null,"Blank Sample Weight, g:"]
[]
[null,null,null,null,"Bin No.1",null,"Bin No.2",null,"Bin No.3",null,"Bin No.4",null,"Bin No.5",null,"Bin No.6 ",null,"Bin No.7 "]
[null,"Individual Bin (%):",null,null,{"$f":"IF(Bin1Frac=\"\",\"\",\"Bin No.1 = \"&Bin1Frac&\" %\")","v":""},null,{"$f":"IF(Bin2Frac=\"\",\"\",\"Bin No.2 = \"&Bin2Frac&\" %\")","v":""},null,{"$f":"IF(Bin3Frac=\"\",\"\",\"Bin No.3 = \"&Bin3Frac&\" %\")","v":""},null,{"$f":"IF(Bin4Frac=\"\",\"\",\"Bin No.4 = \"&Bin4Frac&\" %\")","v":""},null,{"$f":"IF(Bin5Frac=\"\",\"\",\"Bin No.5 = \"&Bin5Frac&\" %\")","v":""},null,{"$f":"IF(Bin6Frac=\"\",\"\",\"Bin No.6 = \"&Bin6Frac&\" %\")","v":""},null,{"$f":"IF(Bin7Frac=\"\",\"\",\"Bin No.7 = \"&Bin7Frac&\" %\")","v":""}]
[null,"Aggregate Source:",null,null,{"$f":"IF(Bin1Source=\"\",\"\",Bin1Source)","v":""},null,{"$f":"IF(Bin2Source=\"\",\"\",Bin2Source)","v":""},null,{"$f":"IF(Bin3Source=\"\",\"\",Bin3Source)","v":""},null,{"$f":"IF(Bin4Source=\"\",\"\",Bin4Source)","v":""},null,{"$f":"IF(Bin5Source=\"\",\"\",Bin5Source)","v":""},null,{"$f":"IF(Bin6Source=\"\",\"\",Bin6Source)","v":""},null,{"$f":"IF(Bin7Source=\"\",\"\",Bin7Source)","v":""}]
[null,"Aggregate Number:",null,null,{"$f":"IF(Bin1Aggr=\"\",\"\",Bin1Aggr)","v":""},null,{"$f":"IF(Bin2Aggr=\"\",\"\",Bin2Aggr)","v":""},null,{"$f":"IF(Bin3Aggr=\"\",\"\",Bin3Aggr)","v":""},null,{"$f":"IF(Bin4Aggr=\"\",\"\",Bin4Aggr)","v":""},null,{"$f":"IF(Bin5Aggr=\"\",\"\",Bin5Aggr)","v":""},null,{"$f":"IF(Bin6Aggr=\"\",\"\",Bin6Aggr)","v":""},null,{"$f":"IF(Bin7Aggr=\"\",\"\",Bin7Aggr)","v":""},null,"Total Weights",{"$f":"\"Individual\" & CHAR(10) & \"Retained, %\"","v":"Individual\nRetained, %"},"Cumulative Retained, %"]
[null,"Sample ID:",null,null,{"$f":"IF(Bin1samp=\"\",\"\",Bin1samp)","v":""},null,{"$f":"IF(Bin2Samp=\"\",\"\",Bin2Samp)","v":""},null,{"$f":"IF(Bin3Samp=\"\",\"\",Bin3Samp)","v":""},null,{"$f":"IF(Bin4Samp=\"\",\"\",Bin4Samp)","v":""},null,{"$f":"IF(Bin5Samp=\"\",\"\",Bin5Samp)","v":""},null,{"$f":"IF(Bin6Samp=\"\",\"\",Bin6Samp)","v":""},null,{"$f":"IF(Bin7Samp=\"\",\"\",Bin7Samp)","v":""}]
[]
[null,null,"Sieve Size:",null,{"$f":"IF(E22=\"\",\"\",IF(Bin1RAP=\"Yes\",\"Do Not Add Recycled Materials to 'Blank' Samples\", IF(Bin1Lime=\"Yes\", \"Hydrated Lime Weight\",\"Aggregate Weight\")))","v":""},null,{"$f":"IF(G22=\"\",\"\",IF(Bin2RAP=\"Yes\",\"Do Not Add Recycled Materials to 'Blank' Samples\", IF(Bin2Lime=\"Yes\", \"Hydrated Lime Weight\",\"Aggregate Weight\")))","v":""},null,{"$f":"IF(I22=\"\",\"\",IF(Bin3RAP=\"Yes\",\"Do Not Add Recycled Materials to 'Blank' Samples\", IF(Bin3Lime=\"Yes\", \"Hydrated Lime Weight\",\"Aggregate Weight\")))","v":""},null,{"$f":"IF(K22=\"\",\"\",IF(Bin4RAP=\"Yes\",\"Do Not Add Recycled Materials to 'Blank' Samples\", IF(Bin4Lime=\"Yes\", \"Hydrated Lime Weight\",\"Aggregate Weight\")))","v":""},null,{"$f":"IF(M22=\"\",\"\",IF(Bin5RAP=\"Yes\",\"Do Not Add Recycled Materials to 'Blank' Samples\", IF(Bin5Lime=\"Yes\", \"Hydrated Lime Weight\",\"Aggregate Weight\")))","v":""},null,{"$f":"IF(O22=\"\",\"\",IF(Bin6RAP=\"Yes\",\"Do Not Add Recycled Materials to 'Blank' Samples\", IF(Bin6Lime=\"Yes\", \"Hydrated Lime Weight\",\"Aggregate Weight\")))","v":""},null,{"$f":"IF(Q22=\"\",\"\",IF(Bin7RAP=\"Yes\",\"Do Not Add Recycled Materials to 'Blank' Samples\", IF(Bin7Lime=\"Yes\", \"Hydrated Lime Weight\",\"Aggregate Weight\")))","v":""}]
[]
[null,null,"Passing","Retained"]
[null,"INDIVIDUAL","-",{"$f":"'Aggregate Classification'!C27","v":"1\""},{"$f":"IF(OR(C30=\"\",E$22=\"\"),\"\",IF(AND(version<5,Bin1RAP=\"Yes\"),\"\",BlankAggrWt*((Bin1Frac-N('Combined Gradation'!F35))/VirginMat)))","v":""},null,{"$f":"IF(OR(C30=\"\",G$22=\"\"),\"\",IF(AND(version<5,Bin2RAP=\"Yes\"),\"\",BlankAggrWt*((Bin2Frac-N('Combined Gradation'!H35))/VirginMat)))","v":""},null,{"$f":"IF(OR(C30=\"\",I$22=\"\"),\"\",IF(AND(version<5,Bin3RAP=\"Yes\"),\"\",BlankAggrWt*((Bin3Frac-N('Combined Gradation'!J35))/VirginMat)))","v":""},null,{"$f":"IF(OR(C30=\"\",K$22=\"\"),\"\",IF(AND(version<5,Bin4RAP=\"Yes\"),\"\",BlankAggrWt*((Bin4Frac-N('Combined Gradation'!L35))/VirginMat)))","v":""},null,{"$f":"IF(OR(C30=\"\",M$22=\"\"),\"\",IF(AND(version<5,Bin5RAP=\"Yes\"),\"\",BlankAggrWt*((Bin5Frac-N('Combined Gradation'!N35))/VirginMat)))","v":""},null,{"$f":"IF(OR(C30=\"\",O$22=\"\"),\"\",IF(AND(version<5,Bin6RAP=\"Yes\"),\"\",BlankAggrWt*((Bin6Frac-N('Combined Gradation'!P35))/VirginMat)))","v":""},null,{"$f":"IF(OR(C30=\"\",Q$22=\"\"),\"\",IF(AND(version<5,Bin7RAP=\"Yes\"),\"\",BlankAggrWt*((Bin7Frac-N('Combined Gradation'!R35))/VirginMat)))","v":""},null,{"$f":"IF(COUNTBLANK(E30:R30)=14,\"\",SUM(E30:R30))","v":""},{"$f":"IF(ISERROR(100*((S30)/($S$41))),\"\",100*((S30)/($S$41)))","v":""},{"$f":"IF(T30=\"\",\"\",T30)","v":""}]
[null,null,{"$f":"'Aggregate Classification'!B28","v":"1\""},{"$f":"'Aggregate Classification'!C28","v":"3/4\""},{"$f":"IF(OR(C31=\"\",E$22=\"\"),\"\",IF(AND(version<5,Bin1RAP=\"Yes\"),\"\",BlankAggrWt*((N('Combined Gradation'!F35)-N('Combined Gradation'!F36))/VirginMat)))","v":""},null,{"$f":"IF(OR(C31=\"\",G$22=\"\"),\"\",IF(AND(version<5,Bin2RAP=\"Yes\"),\"\",BlankAggrWt*((N('Combined Gradation'!H35)-N('Combined Gradation'!H36))/VirginMat)))","v":""},null,{"$f":"IF(OR(C31=\"\",I$22=\"\"),\"\",IF(AND(version<5,Bin3RAP=\"Yes\"),\"\",BlankAggrWt*((N('Combined Gradation'!J35)-N('Combined Gradation'!J36))/VirginMat)))","v":""},null,{"$f":"IF(OR(C31=\"\",K$22=\"\"),\"\",IF(AND(version<5,Bin4RAP=\"Yes\"),\"\",BlankAggrWt*((N('Combined Gradation'!L35)-N('Combined Gradation'!L36))/VirginMat)))","v":""},null,{"$f":"IF(OR(C31=\"\",M$22=\"\"),\"\",IF(AND(version<5,Bin5RAP=\"Yes\"),\"\",BlankAggrWt*((N('Combined Gradation'!N35)-N('Combined Gradation'!N36))/VirginMat)))","v":""},null,{"$f":"IF(OR(C31=\"\",O$22=\"\"),\"\",IF(AND(version<5,Bin6RAP=\"Yes\"),\"\",BlankAggrWt*((N('Combined Gradation'!P35)-N('Combined Gradation'!P36))/VirginMat)))","v":""},null,{"$f":"IF(OR(C31=\"\",Q$22=\"\"),\"\",IF(AND(version<5,Bin7RAP=\"Yes\"),\"\",BlankAggrWt*((N('Combined Gradation'!R35)-N('Combined Gradation'!R36))/VirginMat)))","v":""},null,{"$f":"IF(COUNTBLANK(E31:R31)=14,\"\",SUM(E31:R31))","v":""},{"$f":"IF(ISERROR(100*((S31)/($S$41))),\"\",100*((S31)/($S$41)))","v":""},{"$f":"IF(T31=\"\",\"\",SUM($T$30:$T31))","v":""}]
[null,null,{"$f":"'Aggregate Classification'!B29","v":"3/4\""},{"$f":"'Aggregate Classification'!C29","v":"1/2\""},{"$f":"IF(OR(C32=\"\",E$22=\"\"),\"\",IF(AND(version<5,Bin1RAP=\"Yes\"),\"\",BlankAggrWt*((N('Combined Gradation'!F36)-N('Combined Gradation'!F37))/VirginMat)))","v":""},null,{"$f":"IF(OR(C32=\"\",G$22=\"\"),\"\",IF(AND(version<5,Bin2RAP=\"Yes\"),\"\",BlankAggrWt*((N('Combined Gradation'!H36)-N('Combined Gradation'!H37))/VirginMat)))","v":""},null,{"$f":"IF(OR(C32=\"\",I$22=\"\"),\"\",IF(AND(version<5,Bin3RAP=\"Yes\"),\"\",BlankAggrWt*((N('Combined Gradation'!J36)-N('Combined Gradation'!J37))/VirginMat)))","v":""},null,{"$f":"IF(OR(C32=\"\",K$22=\"\"),\"\",IF(AND(version<5,Bin4RAP=\"Yes\"),\"\",BlankAggrWt*((N('Combined Gradation'!L36)-N('Combined Gradation'!L37))/VirginMat)))","v":""},null,{"$f":"IF(OR(C32=\"\",M$22=\"\"),\"\",IF(AND(version<5,Bin5RAP=\"Yes\"),\"\",BlankAggrWt*((N('Combined Gradation'!N36)-N('Combined Gradation'!N37))/VirginMat)))","v":""},null,{"$f":"IF(OR(C32=\"\",O$22=\"\"),\"\",IF(AND(version<5,Bin6RAP=\"Yes\"),\"\",BlankAggrWt*((N('Combined Gradation'!P36)-N('Combined Gradation'!P37))/VirginMat)))","v":""},null,{"$f":"IF(OR(C32=\"\",Q$22=\"\"),\"\",IF(AND(version<5,Bin7RAP=\"Yes\"),\"\",BlankAggrWt*((N('Combined Gradation'!R36)-N('Combined Gradation'!R37))/VirginMat)))","v":""},null,"",{"$f":"IF(ISERROR(100*((S32)/($S$41))),\"\",100*((S32)/($S$41)))","v":""},{"$f":"IF(T32=\"\",\"\",SUM($T$30:$T32))","v":""}]
[null,null,{"$f":"'Aggregate Classification'!B30","v":"1/2\""},{"$f":"'Aggregate Classification'!C30","v":"3/8\""},{"$f":"IF(OR(C33=\"\",E$22=\"\"),\"\",IF(AND(version<5,Bin1RAP=\"Yes\"),\"\",BlankAggrWt*((N('Combined Gradation'!F37)-N('Combined Gradation'!F38))/VirginMat)))","v":""},null,{"$f":"IF(OR(C33=\"\",G$22=\"\"),\"\",IF(AND(version<5,Bin2RAP=\"Yes\"),\"\",BlankAggrWt*((N('Combined Gradation'!H37)-N('Combined Gradation'!H38))/VirginMat)))","v":""},null,{"$f":"IF(OR(C33=\"\",I$22=\"\"),\"\",IF(AND(version<5,Bin3RAP=\"Yes\"),\"\",BlankAggrWt*((N('Combined Gradation'!J37)-N('Combined Gradation'!J38))/VirginMat)))","v":""},null,{"$f":"IF(OR(C33=\"\",K$22=\"\"),\"\",IF(AND(version<5,Bin4RAP=\"Yes\"),\"\",BlankAggrWt*((N('Combined Gradation'!L37)-N('Combined Gradation'!L38))/VirginMat)))","v":""},null,{"$f":"IF(OR(C33=\"\",M$22=\"\"),\"\",IF(AND(version<5,Bin5RAP=\"Yes\"),\"\",BlankAggrWt*((N('Combined Gradation'!N37)-N('Combined Gradation'!N38))/VirginMat)))","v":""},null,{"$f":"IF(OR(C33=\"\",O$22=\"\"),\"\",IF(AND(version<5,Bin6RAP=\"Yes\"),\"\",BlankAggrWt*((N('Combined Gradation'!P37)-N('Combined Gradation'!P38))/VirginMat)))","v":""},null,{"$f":"IF(OR(C33=\"\",Q$22=\"\"),\"\",IF(AND(version<5,Bin7RAP=\"Yes\"),\"\",BlankAggrWt*((N('Combined Gradation'!R37)-N('Combined Gradation'!R38))/VirginMat)))","v":""},null,"","",{"$f":"IF(T33=\"\",\"\",SUM($T$30:$T33))","v":""}]
[null,null,{"$f":"'Aggregate Classification'!B31","v":"3/8\""},{"$f":"'Aggregate Classification'!C31","v":"No. 4"},{"$f":"IF(OR(C34=\"\",E$22=\"\"),\"\",IF(AND(version<5,Bin1RAP=\"Yes\"),\"\",BlankAggrWt*((N('Combined Gradation'!F38)-N('Combined Gradation'!F39))/VirginMat)))","v":""},null,{"$f":"IF(OR(C34=\"\",G$22=\"\"),\"\",IF(AND(version<5,Bin2RAP=\"Yes\"),\"\",BlankAggrWt*((N('Combined Gradation'!H38)-N('Combined Gradation'!H39))/VirginMat)))","v":""},null,{"$f":"IF(OR(C34=\"\",I$22=\"\"),\"\",IF(AND(version<5,Bin3RAP=\"Yes\"),\"\",BlankAggrWt*((N('Combined Gradation'!J38)-N('Combined Gradation'!J39))/VirginMat)))","v":""},null,{"$f":"IF(OR(C34=\"\",K$22=\"\"),\"\",IF(AND(version<5,Bin4RAP=\"Yes\"),\"\",BlankAggrWt*((N('Combined Gradation'!L38)-N('Combined Gradation'!L39))/VirginMat)))","v":""},null,{"$f":"IF(OR(C34=\"\",M$22=\"\"),\"\",IF(AND(version<5,Bin5RAP=\"Yes\"),\"\",BlankAggrWt*((N('Combined Gradation'!N38)-N('Combined Gradation'!N39))/VirginMat)))","v":""},null,{"$f":"IF(OR(C34=\"\",O$22=\"\"),\"\",IF(AND(version<5,Bin6RAP=\"Yes\"),\"\",BlankAggrWt*((N('Combined Gradation'!P38)-N('Combined Gradation'!P39))/VirginMat)))","v":""},null,{"$f":"IF(OR(C34=\"\",Q$22=\"\"),\"\",IF(AND(version<5,Bin7RAP=\"Yes\"),\"\",BlankAggrWt*((N('Combined Gradation'!R38)-N('Combined Gradation'!R39))/VirginMat)))","v":""},null,"","",{"$f":"IF(T34=\"\",\"\",SUM($T$30:$T34))","v":""}]
[null,null,{"$f":"'Aggregate Classification'!B32","v":"No. 4"},{"$f":"'Aggregate Classification'!C32","v":"No. 8"},{"$f":"IF(OR(C35=\"\",E$22=\"\"),\"\",IF(AND(version<5,Bin1RAP=\"Yes\"),\"\",BlankAggrWt*((N('Combined Gradation'!F39)-N('Combined Gradation'!F40))/VirginMat)))","v":""},null,{"$f":"IF(OR(C35=\"\",G$22=\"\"),\"\",IF(AND(version<5,Bin2RAP=\"Yes\"),\"\",BlankAggrWt*((N('Combined Gradation'!H39)-N('Combined Gradation'!H40))/VirginMat)))","v":""},null,{"$f":"IF(OR(C35=\"\",I$22=\"\"),\"\",IF(AND(version<5,Bin3RAP=\"Yes\"),\"\",BlankAggrWt*((N('Combined Gradation'!J39)-N('Combined Gradation'!J40))/VirginMat)))","v":""},null,{"$f":"IF(OR(C35=\"\",K$22=\"\"),\"\",IF(AND(version<5,Bin4RAP=\"Yes\"),\"\",BlankAggrWt*((N('Combined Gradation'!L39)-N('Combined Gradation'!L40))/VirginMat)))","v":""},null,{"$f":"IF(OR(C35=\"\",M$22=\"\"),\"\",IF(AND(version<5,Bin5RAP=\"Yes\"),\"\",BlankAggrWt*((N('Combined Gradation'!N39)-N('Combined Gradation'!N40))/VirginMat)))","v":""},null,{"$f":"IF(OR(C35=\"\",O$22=\"\"),\"\",IF(AND(version<5,Bin6RAP=\"Yes\"),\"\",BlankAggrWt*((N('Combined Gradation'!P39)-N('Combined Gradation'!P40))/VirginMat)))","v":""},null,{"$f":"IF(OR(C35=\"\",Q$22=\"\"),\"\",IF(AND(version<5,Bin7RAP=\"Yes\"),\"\",BlankAggrWt*((N('Combined Gradation'!R39)-N('Combined Gradation'!R40))/VirginMat)))","v":""},null,"","",{"$f":"IF(T35=\"\",\"\",SUM($T$30:$T35))","v":""}]
[null,null,{"$f":"'Aggregate Classification'!B33","v":"No. 8"},{"$f":"'Aggregate Classification'!C33","v":"No. 16"},{"$f":"IF(OR(C36=\"\",E$22=\"\"),\"\",IF(AND(version<5,Bin1RAP=\"Yes\"),\"\",BlankAggrWt*((N('Combined Gradation'!F40)-N('Combined Gradation'!F41))/VirginMat)))","v":""},null,{"$f":"IF(OR(C36=\"\",G$22=\"\"),\"\",IF(AND(version<5,Bin2RAP=\"Yes\"),\"\",BlankAggrWt*((N('Combined Gradation'!H40)-N('Combined Gradation'!H41))/VirginMat)))","v":""},null,{"$f":"IF(OR(C36=\"\",I$22=\"\"),\"\",IF(AND(version<5,Bin3RAP=\"Yes\"),\"\",BlankAggrWt*((N('Combined Gradation'!J40)-N('Combined Gradation'!J41))/VirginMat)))","v":""},null,{"$f":"IF(OR(C36=\"\",K$22=\"\"),\"\",IF(AND(version<5,Bin4RAP=\"Yes\"),\"\",BlankAggrWt*((N('Combined Gradation'!L40)-N('Combined Gradation'!L41))/VirginMat)))","v":""},null,{"$f":"IF(OR(C36=\"\",M$22=\"\"),\"\",IF(AND(version<5,Bin5RAP=\"Yes\"),\"\",BlankAggrWt*((N('Combined Gradation'!N40)-N('Combined Gradation'!N41))/VirginMat)))","v":""},null,{"$f":"IF(OR(C36=\"\",O$22=\"\"),\"\",IF(AND(version<5,Bin6RAP=\"Yes\"),\"\",BlankAggrWt*((N('Combined Gradation'!P40)-N('Combined Gradation'!P41))/VirginMat)))","v":""},null,{"$f":"IF(OR(C36=\"\",Q$22=\"\"),\"\",IF(AND(version<5,Bin7RAP=\"Yes\"),\"\",BlankAggrWt*((N('Combined Gradation'!R40)-N('Combined Gradation'!R41))/VirginMat)))","v":""},null,"","",{"$f":"IF(T36=\"\",\"\",SUM($T$30:$T36))","v":""}]
[null,null,{"$f":"'Aggregate Classification'!B34","v":"No. 16"},{"$f":"'Aggregate Classification'!C34","v":"No. 30"},{"$f":"IF(OR(C37=\"\",E$22=\"\"),\"\",IF(AND(version<5,Bin1RAP=\"Yes\"),\"\",BlankAggrWt*((N('Combined Gradation'!F41)-N('Combined Gradation'!F42))/VirginMat)))","v":""},null,{"$f":"IF(OR(C37=\"\",G$22=\"\"),\"\",IF(AND(version<5,Bin2RAP=\"Yes\"),\"\",BlankAggrWt*((N('Combined Gradation'!H41)-N('Combined Gradation'!H42))/VirginMat)))","v":""},null,{"$f":"IF(OR(C37=\"\",I$22=\"\"),\"\",IF(AND(version<5,Bin3RAP=\"Yes\"),\"\",BlankAggrWt*((N('Combined Gradation'!J41)-N('Combined Gradation'!J42))/VirginMat)))","v":""},null,{"$f":"IF(OR(C37=\"\",K$22=\"\"),\"\",IF(AND(version<5,Bin4RAP=\"Yes\"),\"\",BlankAggrWt*((N('Combined Gradation'!L41)-N('Combined Gradation'!L42))/VirginMat)))","v":""},null,{"$f":"IF(OR(C37=\"\",M$22=\"\"),\"\",IF(AND(version<5,Bin5RAP=\"Yes\"),\"\",BlankAggrWt*((N('Combined Gradation'!N41)-N('Combined Gradation'!N42))/VirginMat)))","v":""},null,{"$f":"IF(OR(C37=\"\",O$22=\"\"),\"\",IF(AND(version<5,Bin6RAP=\"Yes\"),\"\",BlankAggrWt*((N('Combined Gradation'!P41)-N('Combined Gradation'!P42))/VirginMat)))","v":""},null,{"$f":"IF(OR(C37=\"\",Q$22=\"\"),\"\",IF(AND(version<5,Bin7RAP=\"Yes\"),\"\",BlankAggrWt*((N('Combined Gradation'!R41)-N('Combined Gradation'!R42))/VirginMat)))","v":""},null,"","",{"$f":"IF(T37=\"\",\"\",SUM($T$30:$T37))","v":""}]
[null,null,{"$f":"'Aggregate Classification'!B35","v":"No. 30"},{"$f":"'Aggregate Classification'!C35","v":"No. 50"},{"$f":"IF(OR(C38=\"\",E$22=\"\"),\"\",IF(AND(version<5,Bin1RAP=\"Yes\"),\"\",BlankAggrWt*((N('Combined Gradation'!F42)-N('Combined Gradation'!F43))/VirginMat)))","v":""},null,{"$f":"IF(OR(C38=\"\",G$22=\"\"),\"\",IF(AND(version<5,Bin2RAP=\"Yes\"),\"\",BlankAggrWt*((N('Combined Gradation'!H42)-N('Combined Gradation'!H43))/VirginMat)))","v":""},null,{"$f":"IF(OR(C38=\"\",I$22=\"\"),\"\",IF(AND(version<5,Bin3RAP=\"Yes\"),\"\",BlankAggrWt*((N('Combined Gradation'!J42)-N('Combined Gradation'!J43))/VirginMat)))","v":""},null,{"$f":"IF(OR(C38=\"\",K$22=\"\"),\"\",IF(AND(version<5,Bin4RAP=\"Yes\"),\"\",BlankAggrWt*((N('Combined Gradation'!L42)-N('Combined Gradation'!L43))/VirginMat)))","v":""},null,{"$f":"IF(OR(C38=\"\",M$22=\"\"),\"\",IF(AND(version<5,Bin5RAP=\"Yes\"),\"\",BlankAggrWt*((N('Combined Gradation'!N42)-N('Combined Gradation'!N43))/VirginMat)))","v":""},null,{"$f":"IF(OR(C38=\"\",O$22=\"\"),\"\",IF(AND(version<5,Bin6RAP=\"Yes\"),\"\",BlankAggrWt*((N('Combined Gradation'!P42)-N('Combined Gradation'!P43))/VirginMat)))","v":""},null,{"$f":"IF(OR(C38=\"\",Q$22=\"\"),\"\",IF(AND(version<5,Bin7RAP=\"Yes\"),\"\",BlankAggrWt*((N('Combined Gradation'!R42)-N('Combined Gradation'!R43))/VirginMat)))","v":""},null,"","",{"$f":"IF(T38=\"\",\"\",SUM($T$30:$T38))","v":""}]
[null,null,{"$f":"'Aggregate Classification'!B36","v":"No. 50"},{"$f":"'Aggregate Classification'!C36","v":"No. 200"},{"$f":"IF(OR(C39=\"\",E$22=\"\"),\"\",IF(AND(version<5,Bin1RAP=\"Yes\"),\"\",BlankAggrWt*((N('Combined Gradation'!F43)-N('Combined Gradation'!F44))/VirginMat)))","v":""},null,{"$f":"IF(OR(C39=\"\",G$22=\"\"),\"\",IF(AND(version<5,Bin2RAP=\"Yes\"),\"\",BlankAggrWt*((N('Combined Gradation'!H43)-N('Combined Gradation'!H44))/VirginMat)))","v":""},null,{"$f":"IF(OR(C39=\"\",I$22=\"\"),\"\",IF(AND(version<5,Bin3RAP=\"Yes\"),\"\",BlankAggrWt*((N('Combined Gradation'!J43)-N('Combined Gradation'!J44))/VirginMat)))","v":""},null,{"$f":"IF(OR(C39=\"\",K$22=\"\"),\"\",IF(AND(version<5,Bin4RAP=\"Yes\"),\"\",BlankAggrWt*((N('Combined Gradation'!L43)-N('Combined Gradation'!L44))/VirginMat)))","v":""},null,{"$f":"IF(OR(C39=\"\",M$22=\"\"),\"\",IF(AND(version<5,Bin5RAP=\"Yes\"),\"\",BlankAggrWt*((N('Combined Gradation'!N43)-N('Combined Gradation'!N44))/VirginMat)))","v":""},null,{"$f":"IF(OR(C39=\"\",O$22=\"\"),\"\",IF(AND(version<5,Bin6RAP=\"Yes\"),\"\",BlankAggrWt*((N('Combined Gradation'!P43)-N('Combined Gradation'!P44))/VirginMat)))","v":""},null,{"$f":"IF(OR(C39=\"\",Q$22=\"\"),\"\",IF(AND(version<5,Bin7RAP=\"Yes\"),\"\",BlankAggrWt*((N('Combined Gradation'!R43)-N('Combined Gradation'!R44))/VirginMat)))","v":""},null,"","",{"$f":"IF(T39=\"\",\"\",SUM($T$30:$T39))","v":""}]
[null,null,{"$f":"'Aggregate Classification'!B37","v":"No. 200"},"Pan",{"$f":"IF(OR(C40=\"\",E$22=\"\"),\"\",IF(AND(version<5,Bin1RAP=\"Yes\"),\"\",BlankAggrWt*((N('Combined Gradation'!F44)-N('Combined Gradation'!F45))/VirginMat)))","v":""},null,{"$f":"IF(OR(C40=\"\",G$22=\"\"),\"\",IF(AND(version<5,Bin2RAP=\"Yes\"),\"\",BlankAggrWt*((N('Combined Gradation'!H44)-N('Combined Gradation'!H45))/VirginMat)))","v":""},null,{"$f":"IF(OR(C40=\"\",I$22=\"\"),\"\",IF(AND(version<5,Bin3RAP=\"Yes\"),\"\",BlankAggrWt*((N('Combined Gradation'!J44)-N('Combined Gradation'!J45))/VirginMat)))","v":""},null,{"$f":"IF(OR(C40=\"\",K$22=\"\"),\"\",IF(AND(version<5,Bin4RAP=\"Yes\"),\"\",BlankAggrWt*((N('Combined Gradation'!L44)-N('Combined Gradation'!L45))/VirginMat)))","v":""},null,{"$f":"IF(OR(C40=\"\",M$22=\"\"),\"\",IF(AND(version<5,Bin5RAP=\"Yes\"),\"\",BlankAggrWt*((N('Combined Gradation'!N44)-N('Combined Gradation'!N45))/VirginMat)))","v":""},null,{"$f":"IF(OR(C40=\"\",O$22=\"\"),\"\",IF(AND(version<5,Bin6RAP=\"Yes\"),\"\",BlankAggrWt*((N('Combined Gradation'!P44)-N('Combined Gradation'!P45))/VirginMat)))","v":""},null,{"$f":"IF(OR(C40=\"\",Q$22=\"\"),\"\",IF(AND(version<5,Bin7RAP=\"Yes\"),\"\",BlankAggrWt*((N('Combined Gradation'!R44)-N('Combined Gradation'!R45))/VirginMat)))","v":""},null,"","",{"$f":"IF(T40=\"\",\"\",SUM($T$30:$T40))","v":""}]
[null,null,"Totals",null,{"$f":"IF(COUNTBLANK(E30:E40)=11,\"\",SUM(E30:E40))","v":""},null,{"$f":"IF(COUNTBLANK(G30:G40)=11,\"\",SUM(G30:G40))","v":""},null,{"$f":"IF(COUNTBLANK(I30:I40)=11,\"\",SUM(I30:I40))","v":""},null,{"$f":"IF(COUNTBLANK(K30:K40)=11,\"\",SUM(K30:K40))","v":""},null,{"$f":"IF(COUNTBLANK(M30:M40)=11,\"\",SUM(M30:M40))","v":""},null,{"$f":"IF(COUNTBLANK(O30:O40)=11,\"\",SUM(O30:O40))","v":""},null,{"$f":"IF(COUNTBLANK(Q30:Q40)=11,\"\",SUM(Q30:Q40))","v":""},null,{"$f":"IF(COUNTBLANK(E41:R41)=14,\"\",SUM(E41:R41))","v":""},"Total does not include recycled material"]
[]
[]
[null,"Running Total:"]
[null,"CUMULATIVE","-",{"$f":"D30","v":"1\""},{"$f":"IF(OR(C45=\"\",Bin1Frac=\"\",AND(version<5,Bin1RAP=\"Yes\")),\"\",E30)","v":""},null,{"$f":"IF(OR(C45=\"\",Bin2Frac=\"\",AND(version<5,Bin2RAP=\"Yes\")),\"\",IF(BlankRunningT=\"No\",G30,MAX(E45:F55)+G30))","v":""},null,{"$f":"IF(OR(C45=\"\",Bin3Frac=\"\",AND(version<5,Bin3RAP=\"Yes\")),\"\",IF(BlankRunningT=\"No\",I30,MAX(E45:H55)+I30))","v":""},null,{"$f":"IF(OR(C45=\"\",Bin4Frac=\"\",AND(version<5,Bin4RAP=\"Yes\")),\"\",IF(BlankRunningT=\"No\",K30,MAX(E45:J55)+K30))","v":""},null,{"$f":"IF(OR(C45=\"\",Bin5Frac=\"\",AND(version<5,Bin5RAP=\"Yes\")),\"\",IF(BlankRunningT=\"No\",M30,MAX(E45:L55)+M30))","v":""},null,{"$f":"IF(OR(C45=\"\",Bin6Frac=\"\",AND(version<5,Bin6RAP=\"Yes\")),\"\",IF(BlankRunningT=\"No\",O30,MAX(E45:N55)+O30))","v":""},null,{"$f":"IF(OR(C45=\"\",Bin7Frac=\"\",AND(version<5,Bin7RAP=\"Yes\")),\"\",IF(BlankRunningT=\"No\",Q30,MAX(E45:P55)+Q30))","v":""},null,{"$f":"IF(ISERROR(IF(S30=\"\",\"\",SUM(S$30:S30))),\"\",IF(S30=\"\",\"\",SUM(S$30:S30)))","v":""}]
[null,null,{"$f":"C31","v":"1\""},"3/4\"",{"$f":"IF(OR($C46=\"\",Bin1Frac=\"\",AND(version<5,Bin1RAP=\"Yes\")),\"\",SUM(E$30:F31))","v":""},null,{"$f":"IF(OR($C46=\"\",Bin2Frac=\"\",AND(version<5,Bin2RAP=\"Yes\")),\"\",IF(BlankRunningT=\"No\",SUM(G30:H31),G45+G31))","v":""},null,{"$f":"IF(OR($C46=\"\",Bin3Frac=\"\",AND(version<5,Bin3RAP=\"Yes\")),\"\",IF(BlankRunningT=\"No\",SUM(I30:J31),I45+I31))","v":""},null,{"$f":"IF(OR($C46=\"\",Bin4Frac=\"\",AND(version<5,Bin4RAP=\"Yes\")),\"\",IF(BlankRunningT=\"No\",SUM(K30:L31),K45+K31))","v":""},null,{"$f":"IF(OR($C46=\"\",Bin5Frac=\"\",AND(version<5,Bin5RAP=\"Yes\")),\"\",IF(BlankRunningT=\"No\",SUM(M30:N31),M45+M31))","v":""},null,{"$f":"IF(OR($C46=\"\",Bin6Frac=\"\",AND(version<5,Bin6RAP=\"Yes\")),\"\",IF(BlankRunningT=\"No\",SUM(O30:P31),O45+O31))","v":""},null,{"$f":"IF(OR($C46=\"\",Bin7Frac=\"\",AND(version<5,Bin7RAP=\"Yes\")),\"\",IF(BlankRunningT=\"No\",SUM(Q30:R31),Q45+Q31))","v":""},null,{"$f":"IF(ISERROR(IF(S31=\"\",\"\",SUM(S$30:S31))),\"\",IF(S31=\"\",\"\",SUM(S$30:S31)))","v":""}]
[null,null,"3/4\"","1/2\"",{"$f":"IF(OR($C47=\"\",Bin1Frac=\"\",AND(version<5,Bin1RAP=\"Yes\")),\"\",SUM(E$30:F32))","v":""},null,{"$f":"IF(OR($C47=\"\",Bin2Frac=\"\",AND(version<5,Bin2RAP=\"Yes\")),\"\",IF(BlankRunningT=\"No\",SUM(G30:H32),G46+G32))","v":""},null,{"$f":"IF(OR($C47=\"\",Bin3Frac=\"\",AND(version<5,Bin3RAP=\"Yes\")),\"\",IF(BlankRunningT=\"No\",SUM(I30:J32),I46+I32))","v":""},null,{"$f":"IF(OR($C47=\"\",Bin4Frac=\"\",AND(version<5,Bin4RAP=\"Yes\")),\"\",IF(BlankRunningT=\"No\",SUM(K30:L32),K46+K32))","v":""},null,{"$f":"IF(OR($C47=\"\",Bin5Frac=\"\",AND(version<5,Bin5RAP=\"Yes\")),\"\",IF(BlankRunningT=\"No\",SUM(M30:N32),M46+M32))","v":""},null,{"$f":"IF(OR($C47=\"\",Bin6Frac=\"\",AND(version<5,Bin6RAP=\"Yes\")),\"\",IF(BlankRunningT=\"No\",SUM(O30:P32),O46+O32))","v":""},null,{"$f":"IF(OR($C47=\"\",Bin7Frac=\"\",AND(version<5,Bin7RAP=\"Yes\")),\"\",IF(BlankRunningT=\"No\",SUM(Q30:R32),Q46+Q32))","v":""},null,{"$f":"IF(ISERROR(IF(S32=\"\",\"\",SUM(S$30:S32))),\"\",IF(S32=\"\",\"\",SUM(S$30:S32)))","v":""}]
[null,null,"1/2\"","3/8\"",{"$f":"IF(OR($C48=\"\",Bin1Frac=\"\",AND(version<5,Bin1RAP=\"Yes\")),\"\",SUM(E$30:F33))","v":""},null,{"$f":"IF(OR($C48=\"\",Bin2Frac=\"\",AND(version<5,Bin2RAP=\"Yes\")),\"\",IF(BlankRunningT=\"No\",SUM(G30:H33),G47+G33))","v":""},null,{"$f":"IF(OR($C48=\"\",Bin3Frac=\"\",AND(version<5,Bin3RAP=\"Yes\")),\"\",IF(BlankRunningT=\"No\",SUM(I30:J33),I47+I33))","v":""},null,{"$f":"IF(OR($C48=\"\",Bin4Frac=\"\",AND(version<5,Bin4RAP=\"Yes\")),\"\",IF(BlankRunningT=\"No\",SUM(K30:L33),K47+K33))","v":""},null,{"$f":"IF(OR($C48=\"\",Bin5Frac=\"\",AND(version<5,Bin5RAP=\"Yes\")),\"\",IF(BlankRunningT=\"No\",SUM(M30:N33),M47+M33))","v":""},null,{"$f":"IF(OR($C48=\"\",Bin6Frac=\"\",AND(version<5,Bin6RAP=\"Yes\")),\"\",IF(BlankRunningT=\"No\",SUM(O30:P33),O47+O33))","v":""},null,{"$f":"IF(OR($C48=\"\",Bin7Frac=\"\",AND(version<5,Bin7RAP=\"Yes\")),\"\",IF(BlankRunningT=\"No\",SUM(Q30:R33),Q47+Q33))","v":""},null,{"$f":"IF(ISERROR(IF(S33=\"\",\"\",SUM(S$30:S33))),\"\",IF(S33=\"\",\"\",SUM(S$30:S33)))","v":""}]
[null,null,"3/8\"","No. 4",{"$f":"IF(OR($C49=\"\",Bin1Frac=\"\",AND(version<5,Bin1RAP=\"Yes\")),\"\",SUM(E$30:F34))","v":""},null,{"$f":"IF(OR($C49=\"\",Bin2Frac=\"\",AND(version<5,Bin2RAP=\"Yes\")),\"\",IF(BlankRunningT=\"No\",SUM(G30:H34),G48+G34))","v":""},null,{"$f":"IF(OR($C49=\"\",Bin3Frac=\"\",AND(version<5,Bin3RAP=\"Yes\")),\"\",IF(BlankRunningT=\"No\",SUM(I30:J34),I48+I34))","v":""},null,{"$f":"IF(OR($C49=\"\",Bin4Frac=\"\",AND(version<5,Bin4RAP=\"Yes\")),\"\",IF(BlankRunningT=\"No\",SUM(K30:L34),K48+K34))","v":""},null,{"$f":"IF(OR($C49=\"\",Bin5Frac=\"\",AND(version<5,Bin5RAP=\"Yes\")),\"\",IF(BlankRunningT=\"No\",SUM(M30:N34),M48+M34))","v":""},null,{"$f":"IF(OR($C49=\"\",Bin6Frac=\"\",AND(version<5,Bin6RAP=\"Yes\")),\"\",IF(BlankRunningT=\"No\",SUM(O30:P34),O48+O34))","v":""},null,{"$f":"IF(OR($C49=\"\",Bin7Frac=\"\",AND(version<5,Bin7RAP=\"Yes\")),\"\",IF(BlankRunningT=\"No\",SUM(Q30:R34),Q48+Q34))","v":""},null,{"$f":"IF(ISERROR(IF(S34=\"\",\"\",SUM(S$30:S34))),\"\",IF(S34=\"\",\"\",SUM(S$30:S34)))","v":""}]
[null,null,"No. 4","No. 8",{"$f":"IF(OR($C50=\"\",Bin1Frac=\"\",AND(version<5,Bin1RAP=\"Yes\")),\"\",SUM(E$30:F35))","v":""},null,{"$f":"IF(OR($C50=\"\",Bin2Frac=\"\",AND(version<5,Bin2RAP=\"Yes\")),\"\",IF(BlankRunningT=\"No\",SUM(G30:H35),G49+G35))","v":""},null,{"$f":"IF(OR($C50=\"\",Bin3Frac=\"\",AND(version<5,Bin3RAP=\"Yes\")),\"\",IF(BlankRunningT=\"No\",SUM(I30:J35),I49+I35))","v":""},null,{"$f":"IF(OR($C50=\"\",Bin4Frac=\"\",AND(version<5,Bin4RAP=\"Yes\")),\"\",IF(BlankRunningT=\"No\",SUM(K30:L35),K49+K35))","v":""},null,{"$f":"IF(OR($C50=\"\",Bin5Frac=\"\",AND(version<5,Bin5RAP=\"Yes\")),\"\",IF(BlankRunningT=\"No\",SUM(M30:N35),M49+M35))","v":""},null,{"$f":"IF(OR($C50=\"\",Bin6Frac=\"\",AND(version<5,Bin6RAP=\"Yes\")),\"\",IF(BlankRunningT=\"No\",SUM(O30:P35),O49+O35))","v":""},null,{"$f":"IF(OR($C50=\"\",Bin7Frac=\"\",AND(version<5,Bin7RAP=\"Yes\")),\"\",IF(BlankRunningT=\"No\",SUM(Q30:R35),Q49+Q35))","v":""},null,{"$f":"IF(ISERROR(IF(S35=\"\",\"\",SUM(S$30:S35))),\"\",IF(S35=\"\",\"\",SUM(S$30:S35)))","v":""}]
[null,null,"No. 8","No. 16",{"$f":"IF(OR($C51=\"\",Bin1Frac=\"\",AND(version<5,Bin1RAP=\"Yes\")),\"\",SUM(E$30:F36))","v":""},null,{"$f":"IF(OR($C51=\"\",Bin2Frac=\"\",AND(version<5,Bin2RAP=\"Yes\")),\"\",IF(BlankRunningT=\"No\",SUM(G30:H36),G50+G36))","v":""},null,{"$f":"IF(OR($C51=\"\",Bin3Frac=\"\",AND(version<5,Bin3RAP=\"Yes\")),\"\",IF(BlankRunningT=\"No\",SUM(I30:J36),I50+I36))","v":""},null,{"$f":"IF(OR($C51=\"\",Bin4Frac=\"\",AND(version<5,Bin4RAP=\"Yes\")),\"\",IF(BlankRunningT=\"No\",SUM(K30:L36),K50+K36))","v":""},null,{"$f":"IF(OR($C51=\"\",Bin5Frac=\"\",AND(version<5,Bin5RAP=\"Yes\")),\"\",IF(BlankRunningT=\"No\",SUM(M30:N36),M50+M36))","v":""},null,{"$f":"IF(OR($C51=\"\",Bin6Frac=\"\",AND(version<5,Bin6RAP=\"Yes\")),\"\",IF(BlankRunningT=\"No\",SUM(O30:P36),O50+O36))","v":""},null,{"$f":"IF(OR($C51=\"\",Bin7Frac=\"\",AND(version<5,Bin7RAP=\"Yes\")),\"\",IF(BlankRunningT=\"No\",SUM(Q30:R36),Q50+Q36))","v":""},null,{"$f":"IF(ISERROR(IF(S36=\"\",\"\",SUM(S$30:S36))),\"\",IF(S36=\"\",\"\",SUM(S$30:S36)))","v":""}]
[null,null,"No. 16","No. 30",{"$f":"IF(OR($C52=\"\",Bin1Frac=\"\",AND(version<5,Bin1RAP=\"Yes\")),\"\",SUM(E$30:F37))","v":""},null,{"$f":"IF(OR($C52=\"\",Bin2Frac=\"\",AND(version<5,Bin2RAP=\"Yes\")),\"\",IF(BlankRunningT=\"No\",SUM(G30:H37),G51+G37))","v":""},null,{"$f":"IF(OR($C52=\"\",Bin3Frac=\"\",AND(version<5,Bin3RAP=\"Yes\")),\"\",IF(BlankRunningT=\"No\",SUM(I30:J37),I51+I37))","v":""},null,{"$f":"IF(OR($C52=\"\",Bin4Frac=\"\",AND(version<5,Bin4RAP=\"Yes\")),\"\",IF(BlankRunningT=\"No\",SUM(K30:L37),K51+K37))","v":""},null,{"$f":"IF(OR($C52=\"\",Bin5Frac=\"\",AND(version<5,Bin5RAP=\"Yes\")),\"\",IF(BlankRunningT=\"No\",SUM(M30:N37),M51+M37))","v":""},null,{"$f":"IF(OR($C52=\"\",Bin6Frac=\"\",AND(version<5,Bin6RAP=\"Yes\")),\"\",IF(BlankRunningT=\"No\",SUM(O30:P37),O51+O37))","v":""},null,{"$f":"IF(OR($C52=\"\",Bin7Frac=\"\",AND(version<5,Bin7RAP=\"Yes\")),\"\",IF(BlankRunningT=\"No\",SUM(Q30:R37),Q51+Q37))","v":""},null,{"$f":"IF(ISERROR(IF(S37=\"\",\"\",SUM(S$30:S37))),\"\",IF(S37=\"\",\"\",SUM(S$30:S37)))","v":""}]
[null,null,"No. 30","No. 50",{"$f":"IF(OR($C53=\"\",Bin1Frac=\"\",AND(version<5,Bin1RAP=\"Yes\")),\"\",SUM(E$30:F38))","v":""},null,{"$f":"IF(OR($C53=\"\",Bin2Frac=\"\",AND(version<5,Bin2RAP=\"Yes\")),\"\",IF(BlankRunningT=\"No\",SUM(G30:H38),G52+G38))","v":""},null,{"$f":"IF(OR($C53=\"\",Bin3Frac=\"\",AND(version<5,Bin3RAP=\"Yes\")),\"\",IF(BlankRunningT=\"No\",SUM(I30:J38),I52+I38))","v":""},null,{"$f":"IF(OR($C53=\"\",Bin4Frac=\"\",AND(version<5,Bin4RAP=\"Yes\")),\"\",IF(BlankRunningT=\"No\",SUM(K30:L38),K52+K38))","v":""},null,{"$f":"IF(OR($C53=\"\",Bin5Frac=\"\",AND(version<5,Bin5RAP=\"Yes\")),\"\",IF(BlankRunningT=\"No\",SUM(M30:N38),M52+M38))","v":""},null,{"$f":"IF(OR($C53=\"\",Bin6Frac=\"\",AND(version<5,Bin6RAP=\"Yes\")),\"\",IF(BlankRunningT=\"No\",SUM(O30:P38),O52+O38))","v":""},null,{"$f":"IF(OR($C53=\"\",Bin7Frac=\"\",AND(version<5,Bin7RAP=\"Yes\")),\"\",IF(BlankRunningT=\"No\",SUM(Q30:R38),Q52+Q38))","v":""},null,{"$f":"IF(ISERROR(IF(S38=\"\",\"\",SUM(S$30:S38))),\"\",IF(S38=\"\",\"\",SUM(S$30:S38)))","v":""}]
[null,null,"No. 50","No. 200",{"$f":"IF(OR($C54=\"\",Bin1Frac=\"\",AND(version<5,Bin1RAP=\"Yes\")),\"\",SUM(E$30:F39))","v":""},null,{"$f":"IF(OR($C54=\"\",Bin2Frac=\"\",AND(version<5,Bin2RAP=\"Yes\")),\"\",IF(BlankRunningT=\"No\",SUM(G30:H39),G53+G39))","v":""},null,{"$f":"IF(OR($C54=\"\",Bin3Frac=\"\",AND(version<5,Bin3RAP=\"Yes\")),\"\",IF(BlankRunningT=\"No\",SUM(I30:J39),I53+I39))","v":""},null,{"$f":"IF(OR($C54=\"\",Bin4Frac=\"\",AND(version<5,Bin4RAP=\"Yes\")),\"\",IF(BlankRunningT=\"No\",SUM(K30:L39),K53+K39))","v":""},null,{"$f":"IF(OR($C54=\"\",Bin5Frac=\"\",AND(version<5,Bin5RAP=\"Yes\")),\"\",IF(BlankRunningT=\"No\",SUM(M30:N39),M53+M39))","v":""},null,{"$f":"IF(OR($C54=\"\",Bin6Frac=\"\",AND(version<5,Bin6RAP=\"Yes\")),\"\",IF(BlankRunningT=\"No\",SUM(O30:P39),O53+O39))","v":""},null,{"$f":"IF(OR($C54=\"\",Bin7Frac=\"\",AND(version<5,Bin7RAP=\"Yes\")),\"\",IF(BlankRunningT=\"No\",SUM(Q30:R39),Q53+Q39))","v":""},null,{"$f":"IF(ISERROR(IF(S39=\"\",\"\",SUM(S$30:S39))),\"\",IF(S39=\"\",\"\",SUM(S$30:S39)))","v":""}]
[null,null,"No. 200","Pan",{"$f":"IF(OR($C55=\"\",Bin1Frac=\"\",AND(version<5,Bin1RAP=\"Yes\")),\"\",SUM(E$30:F40))","v":""},null,{"$f":"IF(OR($C55=\"\",Bin2Frac=\"\",AND(version<5,Bin2RAP=\"Yes\")),\"\",IF(BlankRunningT=\"No\",SUM(G30:H40),G54+G40))","v":""},null,{"$f":"IF(OR($C55=\"\",Bin3Frac=\"\",AND(version<5,Bin3RAP=\"Yes\")),\"\",IF(BlankRunningT=\"No\",SUM(I30:J40),I54+I40))","v":""},null,{"$f":"IF(OR($C55=\"\",Bin4Frac=\"\",AND(version<5,Bin4RAP=\"Yes\")),\"\",IF(BlankRunningT=\"No\",SUM(K30:L40),K54+K40))","v":""},null,{"$f":"IF(OR($C55=\"\",Bin5Frac=\"\",AND(version<5,Bin5RAP=\"Yes\")),\"\",IF(BlankRunningT=\"No\",SUM(M30:N40),M54+M40))","v":""},null,{"$f":"IF(OR($C55=\"\",Bin6Frac=\"\",AND(version<5,Bin6RAP=\"Yes\")),\"\",IF(BlankRunningT=\"No\",SUM(O30:P40),O54+O40))","v":""},null,{"$f":"IF(OR($C55=\"\",Bin7Frac=\"\",AND(version<5,Bin7RAP=\"Yes\")),\"\",IF(BlankRunningT=\"No\",SUM(Q30:R40),Q54+Q40))","v":""},null,{"$f":"IF(ISERROR(IF(S40=\"\",\"\",SUM(S$30:S40))),\"\",IF(S40=\"\",\"\",SUM(S$30:S40)))","v":""}]

{"sheet":"Bulk Gravity","index":6,"n_rows":45,"n_cols":43,"rows_kept":45,"cut":false,"hidden":false,"merged":[[5,9,5,15],[6,9,6,15],[7,9,7,15],[8,9,8,15],[5,16,5,20],[6,16,6,20],[7,16,7,20],[8,16,8,20],[16,21,16,27],[16,9,16,12],[10,16,10,20],[11,16,11,20],[12,4,12,20],[9,16,9,20],[14,16,14,20],[13,4,13,20],[14,4,14,8],[14,9,14,15],[5,4,5,8],[6,4,6,8],[7,4,7,8],[8,4,8,8],[9,4,9,8],[10,4,10,8],[37,1,37,2],[19,27,19,28],[19,11,19,12],[20,1,20,2],[21,1,21,2],[22,1,22,2],[22,3,22,4],[21,23,21,24],[19,1,19,2],[20,25,20,26],[24,16,25,16],[24,17,25,17],[24,18,25,18],[24,19,25,19],[24,20,25,20],[24,11,25,11],[24,12,25,12],[24,8,25,8],[24,9,25,9],[22,7,22,8],[22,9,22,10],[19,42,21,42],[20,3,20,4],[20,23,20,24],[19,15,19,16],[19,19,19,20],[19,23,19,24],[19,3,19,4],[19,7,19,8],[19,41,21,41],[21,9,21,10],[20,27,20,28],[21,25,21,26],[21,27,21,28],[21,15,21,16],[21,17,21,18],[21,11,21,12],[21,13,21,14],[21,3,21,4],[21,7,21,8],[11,4,11,8],[11,1,11,3],[13,1,13,3],[14,1,14,3],[9,1,9,3],[12,1,12,3],[10,1,10,3],[5,1,5,3],[6,1,6,3],[7,1,7,3],[8,1,8,3],[18,3,18,6],[18,7,18,10],[9,9,9,15],[10,9,10,15],[11,9,11,15],[16,13,16,16],[45,1,46,19],[16,5,16,8],[16,1,16,3],[24,1,24,2],[24,3,25,3],[24,4,25,4],[24,7,25,7],[24,13,25,13],[24,14,25,14],[22,15,22,16],[20,7,20,8],[20,9,20,10],[20,11,20,12],[20,13,20,14],[20,15,20,16],[42,3,42,8],[41,3,41,8],[24,10,25,10],[41,15,41,20],[24,15,25,15],[18,11,18,14],[18,15,18,18],[18,19,18,22],[16,17,16,20],[21,19,21,20],[21,21,21,22],[20,17,20,18],[20,19,20,20],[20,21,20,22],[22,19,22,20],[22,21,22,22],[22,11,22,12],[22,13,22,14],[22,17,22,18],[16,28,16,31],[24,21,25,21],[24,28,25,28],[24,24,25,24],[24,25,25,25],[24,26,25,26],[24,27,25,27],[24,22,25,22],[24,23,25,23],[18,23,18,26],[18,27,18,28],[22,31,22,32],[22,23,22,24],[22,27,22,28],[22,25,22,26],[24,39,25,39],[24,40,25,40],[18,39,18,40],[19,39,19,40],[20,39,20,40],[21,39,21,40],[24,31,25,31],[24,32,25,32],[18,35,18,36],[19,35,19,36],[20,35,20,36],[21,35,21,36],[22,35,22,36],[24,35,25,35],[24,36,25,36],[18,31,18,32],[19,31,19,32],[20,31,20,32],[21,31,21,32],[22,39,22,40]]}
[null,"TEXAS DEPARTMENT OF TRANSPORTATION"]
[null,{"$f":"IF(location=\"\",\"\",location)","v":""}]
[]
[null,"HMACP MIXTURE DESIGN : BULK GRAVITY"]
[]
[null,"SAMPLE ID:",null,null,{"$f":"IF(sampleid=\"\",\"\",sampleid)","v":""},null,null,null,null,"SAMPLE DATE:",null,null,null,null,null,null,{"$f":"IF(sampleddate=\"\",\"\",sampleddate)","v":""}]
[null,"LOT NUMBER:",null,null,{"$f":"IF(testnumber=\"\",\"\",testnumber)","v":""},null,null,null,null,"LETTING DATE:",null,null,null,null,null,null,{"$f":"IF(lettingdate=\"\",\"\",lettingdate)","v":""}]
[null,"SAMPLE STATUS:",null,null,{"$f":"IF(status=\"\",\"\",status)","v":""},null,null,null,null,"CONTROLLING CSJ:",null,null,null,null,null,null,{"$f":"IF(ccsj=\"\",\"\",ccsj)","v":""}]
[null,"COUNTY:",null,null,{"$f":"IF(county=\"\",\"\",county)","v":""},null,null,null,null,"SPEC YEAR:",null,null,null,null,null,null,{"$f":"IF(specyear=\"\",\"\",specyear)","v":"2014"}]
[null,"SAMPLED BY:",null,null,{"$f":"IF(sampledby=\"\",\"\",sampledby)","v":""},null,null,null,null,"SPEC ITEM:",null,null,null,null,null,null,{"$f":"IF(specitem=\"\",\"\",specitem)","v":""}]
[null,"SAMPLE LOCATION:",null,null,{"$f":"IF(samplelocation=\"\",\"\",samplelocation)","v":""},null,null,null,null,"SPECIAL PROVISION:",null,null,null,null,null,null,{"$f":"IF(specialprovision=\"\",\"\",specialprovision)","v":""}]
[null,"MATERIAL CODE:",null,null,{"$f":"IF(material=\"\",\"\",material)","v":""},null,null,null,null,"MIX TYPE:",null,null,null,null,null,null,{"$f":"IF(Grade=\"\",\"\",Grade)","v":"SS-3074-BMD-SP-C"}]
[null,"MATERIAL NAME:",null,null,{"$f":"IF(matl_nm=\"\",\"\",matl_nm)","v":""}]
[null,"PRODUCER:",null,null,{"$f":"IF(producer=\"\",\"\",producer)","v":""}]
[null,"AREA ENGINEER:",null,null,{"$f":"IF(areaengineer=\"\",\"\",areaengineer)","v":""},null,null,null,null,"PROJECT MANAGER:",null,null,null,null,null,null,{"$f":"IF(projectmanager=\"\",\"\",projectmanager)","v":""}]
[]
[null,"COURSE\\LIFT:",null,null,{"$f":"IF(courselift=\"\",\"\",courselift)","v":"Surface"},"STATION:",null,null,null,{"$f":"IF(station=\"\",\"\",station)","v":""},null,null,null,"DIST. FROM CL:",null,null,null,{"$f":"IF(distfromcl=\"\",\"\",distfromcl)","v":""},null,null,null,"CONTRACTOR DESIGN # :",null,null,null,null,null,null,{"$f":"IF(condesignnum=\"\",\"\",condesignnum)","v":""}]
[]
[null,null,null,"Bin No.1",null,null,null,"Bin No.2",null,null,null,"Bin No.3",null,null,null,"Bin No.4",null,null,null,"Bin No.5",null,null,null,"Bin No.6 ",null,null,null,"Bin No.7 ",null,null,null,"Bin No.8",null,null,null,"Bin No.9 ",null,null,null,"Bin No.10 "]
[null,"Individual Bin (%):",null,{"$f":"IF(Bin1Frac=\"\",\"\",\"Bin No.1 = \"&Bin1Frac&\" %\")","v":""},null,null,null,{"$f":"IF(Bin2Frac=\"\",\"\",\"Bin No.2 = \"&Bin2Frac&\" %\")","v":""},null,null,null,{"$f":"IF(Bin3Frac=\"\",\"\",\"Bin No.3 = \"&Bin3Frac&\" %\")","v":""},null,null,null,{"$f":"IF(Bin4Frac=\"\",\"\",\"Bin No.4 = \"&Bin4Frac&\" %\")","v":""},null,null,null,{"$f":"IF(Bin5Frac=\"\",\"\",\"Bin No.5 = \"&Bin5Frac&\" %\")","v":""},null,null,null,{"$f":"IF(Bin6Frac=\"\",\"\",\"Bin No.6 = \"&Bin6Frac&\" %\")","v":""},null,null,null,{"$f":"IF(Bin7Frac=\"\",\"\",\"Bin No.7 = \"&Bin7Frac&\" %\")","v":""},null,null,null,{"$f":"IF(Bin8Frac=0,\"\",\"Bin No.8 = \"&ROUND(TBin8Frac,1)&\" %\")","v":"Bin No.8 = 15 %"},null,null,null,{"$f":"IF(Bin9Frac=0,\"\",\"Bin No.9 = \"&ROUND(TBin9Frac,1)&\" %\")","v":"Bin No.9 = 5 %"},null,null,null,{"$f":"IF(Bin10Frac=0,\"\",\"Bin No.10 = \"&ROUND(TBin10Frac,1)&\" %\")","v":"Bin No.10 = 5 %"}]
[null,"Aggregate Source:",null,{"$f":"IF(Bin1Source=\"\",\"\",Bin1Source)","v":""},null,null,null,{"$f":"IF(Bin2Source=\"\",\"\",Bin2Source)","v":""},null,null,null,{"$f":"IF(Bin3Source=\"\",\"\",Bin3Source)","v":""},null,null,null,{"$f":"IF(Bin4Source=\"\",\"\",Bin4Source)","v":""},null,null,null,{"$f":"IF(Bin5Source=\"\",\"\",Bin5Source)","v":""},null,null,null,{"$f":"IF(Bin6Source=\"\",\"\",Bin6Source)","v":""},null,null,null,{"$f":"IF(Bin7Source=\"\",\"\",Bin7Source)","v":""},null,null,null,{"$f":"IF(Bin8Recyc=\"\",\"\",Bin8Recyc)","v":"Fractionated RAP"},null,null,null,{"$f":"IF(Bin9Recyc=\"\",\"\",Bin9Recyc)","v":"Fractionated RAP"},null,null,null,{"$f":"IF(Bin10Recyc=\"\",\"\",Bin10Recyc)","v":"RAS"}]
[null,"Aggregate Number:",null,{"$f":"IF(Bin1Aggr=\"\",\"\",Bin1Aggr)","v":""},null,null,null,{"$f":"IF(Bin2Aggr=\"\",\"\",Bin2Aggr)","v":""},null,null,null,{"$f":"IF(Bin3Aggr=\"\",\"\",Bin3Aggr)","v":""},null,null,null,{"$f":"IF(Bin4Aggr=\"\",\"\",Bin4Aggr)","v":""},null,null,null,{"$f":"IF(Bin5Aggr=\"\",\"\",Bin5Aggr)","v":""},null,null,null,{"$f":"IF(Bin6Aggr=\"\",\"\",Bin6Aggr)","v":""},null,null,null,{"$f":"IF(Bin7Aggr=\"\",\"\",Bin7Aggr)","v":""},null,null,null,{"$f":"IF(Bin8Source=\"\",\"\",Bin8Source)","v":""},null,null,null,{"$f":"IF(Bin9Source=\"\",\"\",Bin9Source)","v":""},null,null,null,{"$f":"IF(Bin10Source=\"\",\"\",Bin10Source)","v":""}]
[null,"Sample ID:",null,{"$f":"IF(Bin1samp=\"\",\"\",Bin1samp)","v":""},null,null,null,{"$f":"IF(Bin2Samp=\"\",\"\",Bin2Samp)","v":""},null,null,null,{"$f":"IF(Bin3Samp=\"\",\"\",Bin3Samp)","v":""},null,null,null,{"$f":"IF(Bin4Samp=\"\",\"\",Bin4Samp)","v":""},null,null,null,{"$f":"IF(Bin5Samp=\"\",\"\",Bin5Samp)","v":""},null,null,null,{"$f":"IF(Bin6Samp=\"\",\"\",Bin6Samp)","v":""},null,null,null,{"$f":"IF(Bin7Samp=\"\",\"\",Bin7Samp)","v":""},null,null,null,{"$f":"IF(Bin8Samp=\"\",\"\",Bin8Samp)","v":""},null,null,null,{"$f":"IF(Bin9Samp=\"\",\"\",Bin9Samp)","v":""},null,null,null,{"$f":"IF(Bin10Samp=\"\",\"\",Bin10Samp)","v":""}]
[]
[null,"Sieve Size:",null,"Individual Ret., %","Bulk SG",null,null,"Individual Ret., %","Bulk SG",null,null,"Individual Ret., %","Bulk SG",null,null,"Individual Ret., %","Bulk SG",null,null,"Individual Ret., %","Bulk SG",null,null,"Individual Ret., %","Bulk SG",null,null,"Individual Ret., %","Bulk SG",null,null,"Individual Ret., %","Bulk SG",null,null,"Individual Ret., %","Bulk SG",null,null,"Individual Ret., %","Bulk SG"]
[null,"Passing","Retained"]
[null,null,{"$f":"'Aggregate Classification'!C27","v":"1\""},{"$f":"IF(OR(Bin1Frac=\"\",B27=\"\"),\"\",100-N('Combined Gradation'!E35))","v":""},null,{"$f":"IF(ISERROR(D27/E27),0,(D27/E27))","v":0},{"$f":"IF(E27<>\"\",D27,0)","v":0},{"$f":"IF(OR(Bin2Frac=\"\",B27=\"\"),\"\",100-N('Combined Gradation'!G35))","v":""},null,{"$f":"IF(ISERROR(H27/I27),0,(H27/I27))","v":0},{"$f":"IF(I27<>\"\",H27,0)","v":0},{"$f":"IF(OR(Bin3Frac=\"\",B27=\"\"),\"\",100-N('Combined Gradation'!I35))","v":""},null,{"$f":"IF(ISERROR(L27/M27),0,(L27/M27))","v":0},{"$f":"IF(M27<>\"\",L27,0)","v":0},{"$f":"IF(OR(Bin4Frac=\"\",B27=\"\"),\"\",100-N('Combined Gradation'!K35))","v":""},null,{"$f":"IF(ISERROR(P27/Q27),0,(P27/Q27))","v":0},{"$f":"IF(Q27<>\"\",P27,0)","v":0},{"$f":"IF(OR(Bin5Frac=\"\",B27=\"\"),\"\",100-N('Combined Gradation'!M35))","v":""},null,{"$f":"IF(ISERROR(T27/U27),0,(T27/U27))","v":0},{"$f":"IF(U27<>\"\",T27,0)","v":0},{"$f":"IF(OR(Bin6Frac=\"\",B27=\"\"),\"\",100-N('Combined Gradation'!O35))","v":""},null,{"$f":"IF(ISERROR(X27/Y27),0,(X27/Y27))","v":0},{"$f":"IF(Y27<>\"\",X27,0)","v":0},{"$f":"IF(OR(Bin7Frac=\"\",B27=\"\"),\"\",100-N('Combined Gradation'!Q35))","v":""},null,{"$f":"IF(ISERROR(AB27/AC27),0,(AB27/AC27))","v":0},{"$f":"IF(AC27<>\"\",AB27,0)","v":0},{"$f":"IF(OR(Bin8Frac=0,B27=\"\"),\"\",100-N('Combined Gradation'!S35))","v":""},null,{"$f":"IF(ISERROR(AF27/AG27),0,(AF27/AG27))","v":0},{"$f":"IF(AG27<>\"\",AF27,0)","v":0},{"$f":"IF(OR(Bin9Frac=0,B27=\"\"),\"\",100-N('Combined Gradation'!U35))","v":""},null,{"$f":"IF(ISERROR(AJ27/AK27),0,(AJ27/AK27))","v":0},{"$f":"IF(AK27<>\"\",AJ27,0)","v":0},{"$f":"IF(OR(Bin10Frac=\"\",B27=\"\"),\"\",100-N('Combined Gradation'!W35))","v":""},null,{"$f":"IF(ISERROR(AN27/AO27),0,(AN27/AO27))","v":0},{"$f":"IF(AO27<>\"\",AN27,0)","v":0}]
[null,{"$f":"'Aggregate Classification'!B28","v":"1\""},{"$f":"'Aggregate Classification'!C28","v":"3/4\""},{"$f":"IF(OR(Bin1Frac=\"\",B28=\"\"),\"\",(N('Combined Gradation'!E35)-N('Combined Gradation'!E36)))","v":""},null,0,{"$f":"IF(E28<>\"\",D28,0)","v":0},{"$f":"IF(OR(Bin2Frac=\"\",B28=\"\"),\"\",(N('Combined Gradation'!G35)-N('Combined Gradation'!G36)))","v":""},null,0,0,{"$f":"IF(OR(Bin3Frac=\"\",B28=\"\"),\"\",(N('Combined Gradation'!I35)-N('Combined Gradation'!I36)))","v":""},null,{"$f":"IF(ISERROR(L28/M28),0,(L28/M28))","v":0},{"$f":"IF(M28<>\"\",L28,0)","v":0},{"$f":"IF(OR(Bin4Frac=\"\",B28=\"\"),\"\",(N('Combined Gradation'!K35)-N('Combined Gradation'!K36)))","v":""},null,{"$f":"IF(ISERROR(P28/Q28),0,(P28/Q28))","v":0},{"$f":"IF(Q28<>\"\",P28,0)","v":0},{"$f":"IF(OR(Bin5Frac=\"\",B28=\"\"),\"\",(N('Combined Gradation'!M35)-N('Combined Gradation'!M36)))","v":""},null,{"$f":"IF(ISERROR(T28/U28),0,(T28/U28))","v":0},{"$f":"IF(U28<>\"\",T28,0)","v":0},{"$f":"IF(OR(Bin6Frac=\"\",B28=\"\"),\"\",(N('Combined Gradation'!O35)-N('Combined Gradation'!O36)))","v":""},null,{"$f":"IF(ISERROR(X28/Y28),0,(X28/Y28))","v":0},{"$f":"IF(Y28<>\"\",X28,0)","v":0},{"$f":"IF(OR(Bin7Frac=\"\",B28=\"\"),\"\",(N('Combined Gradation'!Q35)-N('Combined Gradation'!Q36)))","v":""},null,{"$f":"IF(ISERROR(AB28/AC28),0,(AB28/AC28))","v":0},{"$f":"IF(AC28<>\"\",AB28,0)","v":0},{"$f":"IF(OR(Bin8Frac=0,B28=\"\"),\"\",(N('Combined Gradation'!S35)-N('Combined Gradation'!S36)))","v":0},null,{"$f":"IF(ISERROR(AF28/AG28),0,(AF28/AG28))","v":0},{"$f":"IF(AG28<>\"\",AF28,0)","v":0},{"$f":"IF(OR(Bin9Frac=0,B28=\"\"),\"\",(N('Combined Gradation'!U35)-N('Combined Gradation'!U36)))","v":0},null,0,{"$f":"IF(AK28<>\"\",AJ28,0)","v":0},{"$f":"IF(OR(Bin10Frac=\"\",B28=\"\"),\"\",(N('Combined Gradation'!W35)-N('Combined Gradation'!W36)))","v":0},null,0,0]
[null,{"$f":"'Aggregate Classification'!B29","v":"3/4\""},{"$f":"'Aggregate Classification'!C29","v":"1/2\""},{"$f":"IF(OR(Bin1Frac=\"\",B29=\"\"),\"\",(N('Combined Gradation'!E36)-N('Combined Gradation'!E37)))","v":""},null,0,0,{"$f":"IF(OR(Bin2Frac=\"\",B29=\"\"),\"\",(N('Combined Gradation'!G36)-N('Combined Gradation'!G37)))","v":""},null,0,0,{"$f":"IF(OR(Bin3Frac=\"\",B29=\"\"),\"\",(N('Combined Gradation'!I36)-N('Combined Gradation'!I37)))","v":""},null,0,0,{"$f":"IF(OR(Bin4Frac=\"\",B29=\"\"),\"\",(N('Combined Gradation'!K36)-N('Combined Gradation'!K37)))","v":""},null,0,0,{"$f":"IF(OR(Bin5Frac=\"\",B29=\"\"),\"\",(N('Combined Gradation'!M36)-N('Combined Gradation'!M37)))","v":""},null,0,0,{"$f":"IF(OR(Bin6Frac=\"\",B29=\"\"),\"\",(N('Combined Gradation'!O36)-N('Combined Gradation'!O37)))","v":""},null,0,0,{"$f":"IF(OR(Bin7Frac=\"\",B29=\"\"),\"\",(N('Combined Gradation'!Q36)-N('Combined Gradation'!Q37)))","v":""},null,0,0,{"$f":"IF(OR(Bin8Frac=0,B29=\"\"),\"\",(N('Combined Gradation'!S36)-N('Combined Gradation'!S37)))","v":0},null,{"$f":"IF(version=5,IF(AF29<>\"\",(AF29/2.558),0),IF(ISERROR(AF29/AG29),0,(AF29/AG29)))","v":0},{"$f":"IF(version=5,AF29,IF(AG29<>\"\",AF29,0))","v":0},{"$f":"IF(OR(Bin9Frac=0,B29=\"\"),\"\",(N('Combined Gradation'!U36)-N('Combined Gradation'!U37)))","v":0},null,0,{"$f":"IF(AK29<>\"\",AJ29,0)","v":0},{"$f":"IF(OR(Bin10Frac=\"\",B29=\"\"),\"\",(N('Combined Gradation'!W36)-N('Combined Gradation'!W37)))","v":0},null,0,0]
[null,{"$f":"'Aggregate Classification'!B30","v":"1/2\""},{"$f":"'Aggregate Classification'!C30","v":"3/8\""},{"$f":"IF(OR(Bin1Frac=\"\",B30=\"\"),\"\",(N('Combined Gradation'!E37)-N('Combined Gradation'!E38)))","v":""},null,0,0,{"$f":"IF(OR(Bin2Frac=\"\",B30=\"\"),\"\",(N('Combined Gradation'!G37)-N('Combined Gradation'!G38)))","v":""},null,0,0,{"$f":"IF(OR(Bin3Frac=\"\",B30=\"\"),\"\",(N('Combined Gradation'!I37)-N('Combined Gradation'!I38)))","v":""},null,0,0,{"$f":"IF(OR(Bin4Frac=\"\",B30=\"\"),\"\",(N('Combined Gradation'!K37)-N('Combined Gradation'!K38)))","v":""},null,0,0,{"$f":"IF(OR(Bin5Frac=\"\",B30=\"\"),\"\",(N('Combined Gradation'!M37)-N('Combined Gradation'!M38)))","v":""},null,0,0,{"$f":"IF(OR(Bin6Frac=\"\",B30=\"\"),\"\",(N('Combined Gradation'!O37)-N('Combined Gradation'!O38)))","v":""},null,0,0,{"$f":"IF(OR(Bin7Frac=\"\",B30=\"\"),\"\",(N('Combined Gradation'!Q37)-N('Combined Gradation'!Q38)))","v":""},null,0,0,{"$f":"IF(OR(Bin8Frac=0,B30=\"\"),\"\",(N('Combined Gradation'!S37)-N('Combined Gradation'!S38)))","v":0},null,{"$f":"IF(version=5,IF(AF30<>\"\",(AF30/2.558),0),IF(ISERROR(AF30/AG30),0,(AF30/AG30)))","v":0},0,{"$f":"IF(OR(Bin9Frac=0,B30=\"\"),\"\",(N('Combined Gradation'!U37)-N('Combined Gradation'!U38)))","v":0},null,0,{"$f":"IF(AK30<>\"\",AJ30,0)","v":0},{"$f":"IF(OR(Bin10Frac=\"\",B30=\"\"),\"\",(N('Combined Gradation'!W37)-N('Combined Gradation'!W38)))","v":0},null,0,0]
[null,{"$f":"'Aggregate Classification'!B31","v":"3/8\""},{"$f":"'Aggregate Classification'!C31","v":"No. 4"},{"$f":"IF(OR(Bin1Frac=\"\",B31=\"\"),\"\",(N('Combined Gradation'!E38)-N('Combined Gradation'!E39)))","v":""},null,0,0,{"$f":"IF(OR(Bin2Frac=\"\",B31=\"\"),\"\",(N('Combined Gradation'!G38)-N('Combined Gradation'!G39)))","v":""},null,0,0,{"$f":"IF(OR(Bin3Frac=\"\",B31=\"\"),\"\",(N('Combined Gradation'!I38)-N('Combined Gradation'!I39)))","v":""},null,0,0,{"$f":"IF(OR(Bin4Frac=\"\",B31=\"\"),\"\",(N('Combined Gradation'!K38)-N('Combined Gradation'!K39)))","v":""},null,0,0,{"$f":"IF(OR(Bin5Frac=\"\",B31=\"\"),\"\",(N('Combined Gradation'!M38)-N('Combined Gradation'!M39)))","v":""},null,0,0,{"$f":"IF(OR(Bin6Frac=\"\",B31=\"\"),\"\",(N('Combined Gradation'!O38)-N('Combined Gradation'!O39)))","v":""},null,0,0,{"$f":"IF(OR(Bin7Frac=\"\",B31=\"\"),\"\",(N('Combined Gradation'!Q38)-N('Combined Gradation'!Q39)))","v":""},null,0,0,{"$f":"IF(OR(Bin8Frac=0,B31=\"\"),\"\",(N('Combined Gradation'!S38)-N('Combined Gradation'!S39)))","v":0},null,{"$f":"IF(version=5,IF(AF31<>\"\",(AF31/2.558),0),IF(ISERROR(AF31/AG31),0,(AF31/AG31)))","v":0},0,{"$f":"IF(OR(Bin9Frac=0,B31=\"\"),\"\",(N('Combined Gradation'!U38)-N('Combined Gradation'!U39)))","v":0},null,0,{"$f":"IF(AK31<>\"\",AJ31,0)","v":0},{"$f":"IF(OR(Bin10Frac=\"\",B31=\"\"),\"\",(N('Combined Gradation'!W38)-N('Combined Gradation'!W39)))","v":0},null,0,0]
[null,{"$f":"'Aggregate Classification'!B32","v":"No. 4"},{"$f":"'Aggregate Classification'!C32","v":"No. 8"},{"$f":"IF(OR(Bin1Frac=\"\",B32=\"\"),\"\",(N('Combined Gradation'!E39)-N('Combined Gradation'!E40)))","v":""},null,0,0,{"$f":"IF(OR(Bin2Frac=\"\",B32=\"\"),\"\",(N('Combined Gradation'!G39)-N('Combined Gradation'!G40)))","v":""},null,0,0,{"$f":"IF(OR(Bin3Frac=\"\",B32=\"\"),\"\",(N('Combined Gradation'!I39)-N('Combined Gradation'!I40)))","v":""},null,0,0,{"$f":"IF(OR(Bin4Frac=\"\",B32=\"\"),\"\",(N('Combined Gradation'!K39)-N('Combined Gradation'!K40)))","v":""},null,0,0,{"$f":"IF(OR(Bin5Frac=\"\",B32=\"\"),\"\",(N('Combined Gradation'!M39)-N('Combined Gradation'!M40)))","v":""},null,0,0,{"$f":"IF(OR(Bin6Frac=\"\",B32=\"\"),\"\",(N('Combined Gradation'!O39)-N('Combined Gradation'!O40)))","v":""},null,0,0,{"$f":"IF(OR(Bin7Frac=\"\",B32=\"\"),\"\",(N('Combined Gradation'!Q39)-N('Combined Gradation'!Q40)))","v":""},null,0,0,{"$f":"IF(OR(Bin8Frac=0,B32=\"\"),\"\",(N('Combined Gradation'!S39)-N('Combined Gradation'!S40)))","v":0},null,{"$f":"IF(version=5,IF(AF32<>\"\",(AF32/2.558),0),IF(ISERROR(AF32/AG32),0,(AF32/AG32)))","v":0},0,{"$f":"IF(OR(Bin9Frac=0,B32=\"\"),\"\",(N('Combined Gradation'!U39)-N('Combined Gradation'!U40)))","v":0},null,0,{"$f":"IF(AK32<>\"\",AJ32,0)","v":0},{"$f":"IF(OR(Bin10Frac=\"\",B32=\"\"),\"\",(N('Combined Gradation'!W39)-N('Combined Gradation'!W40)))","v":0},null,0,0]
[null,{"$f":"'Aggregate Classification'!B33","v":"No. 8"},{"$f":"'Aggregate Classification'!C33","v":"No. 16"},{"$f":"IF(OR(Bin1Frac=\"\",B33=\"\"),\"\",(N('Combined Gradation'!E40)-N('Combined Gradation'!E41)))","v":""},null,0,0,{"$f":"IF(OR(Bin2Frac=\"\",B33=\"\"),\"\",(N('Combined Gradation'!G40)-N('Combined Gradation'!G41)))","v":""},null,0,0,{"$f":"IF(OR(Bin3Frac=\"\",B33=\"\"),\"\",(N('Combined Gradation'!I40)-N('Combined Gradation'!I41)))","v":""},null,0,0,{"$f":"IF(OR(Bin4Frac=\"\",B33=\"\"),\"\",(N('Combined Gradation'!K40)-N('Combined Gradation'!K41)))","v":""},null,0,0,{"$f":"IF(OR(Bin5Frac=\"\",B33=\"\"),\"\",(N('Combined Gradation'!M40)-N('Combined Gradation'!M41)))","v":""},null,0,0,{"$f":"IF(OR(Bin6Frac=\"\",B33=\"\"),\"\",(N('Combined Gradation'!O40)-N('Combined Gradation'!O41)))","v":""},null,0,0,{"$f":"IF(OR(Bin7Frac=\"\",B33=\"\"),\"\",(N('Combined Gradation'!Q40)-N('Combined Gradation'!Q41)))","v":""},null,0,0,{"$f":"IF(OR(Bin8Frac=0,B33=\"\"),\"\",(N('Combined Gradation'!S40)-N('Combined Gradation'!S41)))","v":0},null,{"$f":"IF(version=5,IF(AF33<>\"\",(AF33/2.558),0),IF(ISERROR(AF33/AG33),0,(AF33/AG33)))","v":0},0,{"$f":"IF(OR(Bin9Frac=0,B33=\"\"),\"\",(N('Combined Gradation'!U40)-N('Combined Gradation'!U41)))","v":0},null,0,0,{"$f":"IF(OR(Bin10Frac=\"\",B33=\"\"),\"\",(N('Combined Gradation'!W40)-N('Combined Gradation'!W41)))","v":0},null,0,0]
[null,{"$f":"'Aggregate Classification'!B34","v":"No. 16"},{"$f":"'Aggregate Classification'!C34","v":"No. 30"},{"$f":"IF(OR(Bin1Frac=\"\",B34=\"\"),\"\",(N('Combined Gradation'!E41)-N('Combined Gradation'!E42)))","v":""},null,0,0,{"$f":"IF(OR(Bin2Frac=\"\",B34=\"\"),\"\",(N('Combined Gradation'!G41)-N('Combined Gradation'!G42)))","v":""},null,0,0,{"$f":"IF(OR(Bin3Frac=\"\",B34=\"\"),\"\",(N('Combined Gradation'!I41)-N('Combined Gradation'!I42)))","v":""},null,0,0,{"$f":"IF(OR(Bin4Frac=\"\",B34=\"\"),\"\",(N('Combined Gradation'!K41)-N('Combined Gradation'!K42)))","v":""},null,0,0,{"$f":"IF(OR(Bin5Frac=\"\",B34=\"\"),\"\",(N('Combined Gradation'!M41)-N('Combined Gradation'!M42)))","v":""},null,0,0,{"$f":"IF(OR(Bin6Frac=\"\",B34=\"\"),\"\",(N('Combined Gradation'!O41)-N('Combined Gradation'!O42)))","v":""},null,0,0,{"$f":"IF(OR(Bin7Frac=\"\",B34=\"\"),\"\",(N('Combined Gradation'!Q41)-N('Combined Gradation'!Q42)))","v":""},null,0,0,{"$f":"IF(OR(Bin8Frac=0,B34=\"\"),\"\",(N('Combined Gradation'!S41)-N('Combined Gradation'!S42)))","v":0},null,{"$f":"IF(version=5,IF(AF34<>\"\",(AF34/2.591),0),IF(ISERROR(AF34/AG34),0,(AF34/AG34)))","v":0},0,{"$f":"IF(OR(Bin9Frac=0,B34=\"\"),\"\",(N('Combined Gradation'!U41)-N('Combined Gradation'!U42)))","v":0},null,0,0,{"$f":"IF(OR(Bin10Frac=\"\",B34=\"\"),\"\",(N('Combined Gradation'!W41)-N('Combined Gradation'!W42)))","v":0},null,0,0]
[null,{"$f":"'Aggregate Classification'!B35","v":"No. 30"},{"$f":"'Aggregate Classification'!C35","v":"No. 50"},{"$f":"IF(OR(Bin1Frac=\"\",B35=\"\"),\"\",(N('Combined Gradation'!E42)-N('Combined Gradation'!E43)))","v":""},null,0,0,{"$f":"IF(OR(Bin2Frac=\"\",B35=\"\"),\"\",(N('Combined Gradation'!G42)-N('Combined Gradation'!G43)))","v":""},null,0,0,{"$f":"IF(OR(Bin3Frac=\"\",B35=\"\"),\"\",(N('Combined Gradation'!I42)-N('Combined Gradation'!I43)))","v":""},null,0,0,{"$f":"IF(OR(Bin4Frac=\"\",B35=\"\"),\"\",(N('Combined Gradation'!K42)-N('Combined Gradation'!K43)))","v":""},null,0,0,{"$f":"IF(OR(Bin5Frac=\"\",B35=\"\"),\"\",(N('Combined Gradation'!M42)-N('Combined Gradation'!M43)))","v":""},null,0,0,{"$f":"IF(OR(Bin6Frac=\"\",B35=\"\"),\"\",(N('Combined Gradation'!O42)-N('Combined Gradation'!O43)))","v":""},null,0,0,{"$f":"IF(OR(Bin7Frac=\"\",B35=\"\"),\"\",(N('Combined Gradation'!Q42)-N('Combined Gradation'!Q43)))","v":""},null,0,0,{"$f":"IF(OR(Bin8Frac=0,B35=\"\"),\"\",(N('Combined Gradation'!S42)-N('Combined Gradation'!S43)))","v":0},null,{"$f":"IF(version=5,IF(AF35<>\"\",(AF35/2.591),0),IF(ISERROR(AF35/AG35),0,(AF35/AG35)))","v":0},0,{"$f":"IF(OR(Bin9Frac=0,B35=\"\"),\"\",(N('Combined Gradation'!U42)-N('Combined Gradation'!U43)))","v":0},null,0,0,{"$f":"IF(OR(Bin10Frac=\"\",B35=\"\"),\"\",(N('Combined Gradation'!W42)-N('Combined Gradation'!W43)))","v":0},null,0,0]
[null,{"$f":"'Aggregate Classification'!B36","v":"No. 50"},{"$f":"'Aggregate Classification'!C36","v":"No. 200"},{"$f":"IF(OR(Bin1Frac=\"\",B36=\"\"),\"\",(N('Combined Gradation'!E43)-N('Combined Gradation'!E44)))","v":""},null,0,0,{"$f":"IF(OR(Bin2Frac=\"\",B36=\"\"),\"\",(N('Combined Gradation'!G43)-N('Combined Gradation'!G44)))","v":""},null,0,0,{"$f":"IF(OR(Bin3Frac=\"\",B36=\"\"),\"\",(N('Combined Gradation'!I43)-N('Combined Gradation'!I44)))","v":""},null,0,0,{"$f":"IF(OR(Bin4Frac=\"\",B36=\"\"),\"\",(N('Combined Gradation'!K43)-N('Combined Gradation'!K44)))","v":""},null,0,0,{"$f":"IF(OR(Bin5Frac=\"\",B36=\"\"),\"\",(N('Combined Gradation'!M43)-N('Combined Gradation'!M44)))","v":""},null,0,0,{"$f":"IF(OR(Bin6Frac=\"\",B36=\"\"),\"\",(N('Combined Gradation'!O43)-N('Combined Gradation'!O44)))","v":""},null,0,0,{"$f":"IF(OR(Bin7Frac=\"\",B36=\"\"),\"\",(N('Combined Gradation'!Q43)-N('Combined Gradation'!Q44)))","v":""},null,0,0,{"$f":"IF(OR(Bin8Frac=0,B36=\"\"),\"\",(N('Combined Gradation'!S43)-N('Combined Gradation'!S44)))","v":0},null,{"$f":"IF(ISERROR(AF36/AG36),0,(AF36/AG36))","v":0},{"$f":"IF(AG36<>\"\",AF36,0)","v":0},{"$f":"IF(OR(Bin9Frac=0,B36=\"\"),\"\",(N('Combined Gradation'!U43)-N('Combined Gradation'!U44)))","v":0},null,0,{"$f":"IF(AK36<>\"\",AJ36,0)","v":0},{"$f":"IF(OR(Bin10Frac=\"\",B36=\"\"),\"\",(N('Combined Gradation'!W43)-N('Combined Gradation'!W44)))","v":0},null,0,0]
[null,{"$f":"'Aggregate Classification'!B37","v":"No. 200"},"Pan",{"$f":"IF(OR(Bin1Frac=\"\",B37=\"\"),\"\",(N('Combined Gradation'!E44)-N('Combined Gradation'!E45)))","v":""},null,0,0,{"$f":"IF(OR(Bin2Frac=\"\",B37=\"\"),\"\",(N('Combined Gradation'!G44)-N('Combined Gradation'!G45)))","v":""},null,0,0,{"$f":"IF(OR(Bin3Frac=\"\",B37=\"\"),\"\",(N('Combined Gradation'!I44)-N('Combined Gradation'!I45)))","v":""},null,0,0,{"$f":"IF(OR(Bin4Frac=\"\",B37=\"\"),\"\",(N('Combined Gradation'!K44)-N('Combined Gradation'!K45)))","v":""},null,0,0,{"$f":"IF(OR(Bin5Frac=\"\",B37=\"\"),\"\",(N('Combined Gradation'!M44)-N('Combined Gradation'!M45)))","v":""},null,0,0,{"$f":"IF(OR(Bin6Frac=\"\",B37=\"\"),\"\",(N('Combined Gradation'!O44)-N('Combined Gradation'!O45)))","v":""},null,0,0,{"$f":"IF(OR(Bin7Frac=\"\",B37=\"\"),\"\",(N('Combined Gradation'!Q44)-N('Combined Gradation'!Q45)))","v":""},null,0,0,{"$f":"IF(OR(Bin8Frac=0,B37=\"\"),\"\",(N('Combined Gradation'!S44)-N('Combined Gradation'!S45)))","v":0},null,{"$f":"IF(ISERROR(AF37/AG37),0,(AF37/AG37))","v":0},{"$f":"IF(AG37<>\"\",AF37,0)","v":0},{"$f":"IF(OR(Bin9Frac=0,B37=\"\"),\"\",(N('Combined Gradation'!U44)-N('Combined Gradation'!U45)))","v":0},null,0,0,{"$f":"IF(OR(Bin10Frac=\"\",B37=\"\"),\"\",(N('Combined Gradation'!W44)-N('Combined Gradation'!W45)))","v":0},null,0,0]
[null,"Totals",null,{"$f":"IF(COUNTBLANK(D27:D37)=11,\"\",SUM(D27:D37))","v":""},{"$f":"IF(ISERROR(SUM(G27:G37)/SUM(F27:F37)),\"\",SUM(G27:G37)/SUM(F27:F37))","v":""},null,null,{"$f":"IF(COUNTBLANK(H27:H37)=11,\"\",SUM(H27:H37))","v":""},{"$f":"IF(ISERROR(SUM(K27:K37)/SUM(J27:J37)),\"\",SUM(K27:K37)/SUM(J27:J37))","v":""},null,null,{"$f":"IF(COUNTBLANK(L27:L37)=11,\"\",SUM(L27:L37))","v":""},{"$f":"IF(ISERROR(SUM(O27:O37)/SUM(N27:N37)),\"\",SUM(O27:O37)/SUM(N27:N37))","v":""},null,null,{"$f":"IF(COUNTBLANK(P27:P37)=11,\"\",SUM(P27:P37))","v":""},{"$f":"IF(ISERROR(SUM(S27:S37)/SUM(R27:R37)),\"\",SUM(S27:S37)/SUM(R27:R37))","v":""},null,null,{"$f":"IF(COUNTBLANK(T27:T37)=11,\"\",SUM(T27:T37))","v":""},{"$f":"IF(ISERROR(SUM(W27:W37)/SUM(V27:V37)),\"\",SUM(W27:W37)/SUM(V27:V37))","v":""},null,null,{"$f":"IF(COUNTBLANK(X27:X37)=11,\"\",SUM(X27:X37))","v":""},{"$f":"IF(ISERROR(SUM(AA27:AA37)/SUM(Z27:Z37)),\"\",SUM(AA27:AA37)/SUM(Z27:Z37))","v":""},null,null,{"$f":"IF(COUNTBLANK(AB27:AB37)=11,\"\",SUM(AB27:AB37))","v":""},{"$f":"IF(ISERROR(SUM(AE27:AE37)/SUM(AD27:AD37)),\"\",SUM(AE27:AE37)/SUM(AD27:AD37))","v":""},null,null,{"$f":"IF(COUNTBLANK(AF27:AF37)=11,\"\",SUM(AF27:AF37))","v":0},{"$f":"IF(ISERROR(SUM(AI27:AI37)/SUM(AH27:AH37)),\"\",SUM(AI27:AI37)/SUM(AH27:AH37))","v":""},null,null,{"$f":"IF(COUNTBLANK(AJ27:AJ37)=11,\"\",SUM(AJ27:AJ37))","v":0},{"$f":"IF(ISERROR(SUM(AM27:AM37)/SUM(AL27:AL37)),\"\",SUM(AM27:AM37)/SUM(AL27:AL37))","v":""},null,null,{"$f":"IF(COUNTBLANK(AN27:AN37)=11,\"\",SUM(AN27:AN37))","v":0},{"$f":"IF(ISERROR(SUM(AQ27:AQ37)/SUM(AP27:AP37)),\"\",SUM(AQ27:AQ37)/SUM(AP27:AP37))","v":""}]
[null,null,null,null,{"$f":"IF(ISERROR(Bin1Frac/E38),\"\",(Bin1Frac/E38))","v":""},{"$f":"\"F\" & 26 + INDEX(INDIRECT(VLOOKUP(Grade,MIX_RANGE,2)),1,10)","v":"F26"},{"$f":"\"G\" & 26 + INDEX(INDIRECT(VLOOKUP(Grade,MIX_RANGE,2)),1,10)","v":"G26"},null,{"$f":"IF(ISERROR(Bin2Frac/I38),\"\",(Bin2Frac/I38))","v":""},{"$f":"\"J\" & 26 + INDEX(INDIRECT(VLOOKUP(Grade,MIX_RANGE,2)),1,10)","v":"J26"},{"$f":"\"K\" & 26 + INDEX(INDIRECT(VLOOKUP(Grade,MIX_RANGE,2)),1,10)","v":"K26"},null,{"$f":"IF(ISERROR(Bin3Frac/M38),\"\",(Bin3Frac/M38))","v":""},{"$f":"\"N\" & 26 + INDEX(INDIRECT(VLOOKUP(Grade,MIX_RANGE,2)),1,10)","v":"N26"},{"$f":"\"O\" & 26 + INDEX(INDIRECT(VLOOKUP(Grade,MIX_RANGE,2)),1,10)","v":"O26"},null,{"$f":"IF(ISERROR(Bin4Frac/Q38),\"\",(Bin4Frac/Q38))","v":""},{"$f":"\"R\" & 26 + INDEX(INDIRECT(VLOOKUP(Grade,MIX_RANGE,2)),1,10)","v":"R26"},{"$f":"\"S\" & 26 + INDEX(INDIRECT(VLOOKUP(Grade,MIX_RANGE,2)),1,10)","v":"S26"},null,{"$f":"IF(ISERROR(Bin5Frac/U38),\"\",(Bin5Frac/U38))","v":""},{"$f":"\"V\" & 26 + INDEX(INDIRECT(VLOOKUP(Grade,MIX_RANGE,2)),1,10)","v":"V26"},{"$f":"\"W\" & 26 + INDEX(INDIRECT(VLOOKUP(Grade,MIX_RANGE,2)),1,10)","v":"W26"},null,{"$f":"IF(ISERROR(Bin6Frac/Y38),\"\",(Bin6Frac/Y38))","v":""},{"$f":"\"Z\" & 26 + INDEX(INDIRECT(VLOOKUP(Grade,MIX_RANGE,2)),1,10)","v":"Z26"},{"$f":"\"AA\" & 26 + INDEX(INDIRECT(VLOOKUP(Grade,MIX_RANGE,2)),1,10)","v":"AA26"},null,{"$f":"IF(ISERROR(Bin7Frac/AC38),\"\",(Bin7Frac/AC38))","v":""},{"$f":"\"AD\" & 26 + INDEX(INDIRECT(VLOOKUP(Grade,MIX_RANGE,2)),1,10)","v":"AD26"},{"$f":"\"AE\" & 26 + INDEX(INDIRECT(VLOOKUP(Grade,MIX_RANGE,2)),1,10)","v":"AE26"},null,{"$f":"IF(ISERROR(Bin8Frac/AG38),\"\",(Bin8Frac/AG38))","v":""},{"$f":"\"AH\" & 26 + INDEX(INDIRECT(VLOOKUP(Grade,MIX_RANGE,2)),1,10)","v":"AH26"},{"$f":"\"AI\" & 26 + INDEX(INDIRECT(VLOOKUP(Grade,MIX_RANGE,2)),1,10)","v":"AI26"},null,{"$f":"IF(ISERROR(Bin9Frac/AK38),\"\",(Bin9Frac/AK38))","v":""},{"$f":"\"AL\" & 26 + INDEX(INDIRECT(VLOOKUP(Grade,MIX_RANGE,2)),1,10)","v":"AL26"},{"$f":"\"AM\" & 26 + INDEX(INDIRECT(VLOOKUP(Grade,MIX_RANGE,2)),1,10)","v":"AM26"},null,{"$f":"IF(ISERROR(Bin10Frac/AO38),\"\",(Bin10Frac/AO38))","v":""},{"$f":"\"AP\" & 26 + INDEX(INDIRECT(VLOOKUP(Grade,MIX_RANGE,2)),1,10)","v":"AP26"},{"$f":"\"AQ\" & 26 + INDEX(INDIRECT(VLOOKUP(Grade,MIX_RANGE,2)),1,10)","v":"AQ26"}]
[null,null,null,null,{"$f":"IF(ISERROR(SUM(G27:INDIRECT(G39))),\"\",IF(SUM(G27:INDIRECT(G39))=0,\"\",SUM(G27:INDIRECT(G39))))","v":""},{"$f":"IF(ISERROR(SUM(G27:INDIRECT(G39))/SUM(F27:INDIRECT(F39))),\"\",SUM(G27:INDIRECT(G39))/SUM(F27:INDIRECT(F39)))","v":""},null,null,{"$f":"IF(ISERROR(SUM(K27:INDIRECT(K39))),\"\",IF(SUM(K27:INDIRECT(K39))=0,\"\",SUM(K27:INDIRECT(K39))))","v":""},{"$f":"IF(ISERROR(SUM(K27:INDIRECT(K39))/SUM(J27:INDIRECT(J39))),\"\",SUM(K27:INDIRECT(K39))/SUM(J27:INDIRECT(J39)))","v":""},null,null,{"$f":"IF(ISERROR(SUM(O27:INDIRECT(O39))),\"\",IF(SUM(O27:INDIRECT(O39))=0,\"\",SUM(O27:INDIRECT(O39))))","v":""},{"$f":"IF(ISERROR(SUM(O27:INDIRECT(O39))/SUM(N27:INDIRECT(N39))),\"\",SUM(O27:INDIRECT(O39))/SUM(N27:INDIRECT(N39)))","v":""},null,null,{"$f":"IF(ISERROR(SUM(S27:INDIRECT(S39))),\"\",IF(SUM(S27:INDIRECT(S39))=0,\"\",SUM(S27:INDIRECT(S39))))","v":""},{"$f":"IF(ISERROR(SUM(S27:INDIRECT(S39))/SUM(R27:INDIRECT(R39))),\"\",SUM(S27:INDIRECT(S39))/SUM(R27:INDIRECT(R39)))","v":""},null,null,{"$f":"IF(ISERROR(SUM(W27:INDIRECT(W39))),\"\",IF(SUM(W27:INDIRECT(W39))=0,\"\",SUM(W27:INDIRECT(W39))))","v":""},{"$f":"IF(ISERROR(SUM(W27:INDIRECT(W39))/SUM(V27:INDIRECT(V39))),\"\",SUM(W27:INDIRECT(W39))/SUM(V27:INDIRECT(V39)))","v":""},null,null,{"$f":"IF(ISERROR(SUM(AA27:INDIRECT(AA39))),\"\",IF(SUM(AA27:INDIRECT(AA39))=0,\"\",SUM(AA27:INDIRECT(AA39))))","v":""},{"$f":"IF(ISERROR(SUM(AA27:INDIRECT(AA39))/SUM(Z27:INDIRECT(Z39))),\"\",SUM(AA27:INDIRECT(AA39))/SUM(Z27:INDIRECT(Z39)))","v":""},null,null,{"$f":"IF(ISERROR(SUM(AE27:INDIRECT(AE39))),\"\",IF(SUM(AE27:INDIRECT(AE39))=0,\"\",SUM(AE27:INDIRECT(AE39))))","v":""},{"$f":"IF(ISERROR(SUM(AE27:INDIRECT(AE39))/SUM(AD27:INDIRECT(AD39))),\"\",SUM(AE27:INDIRECT(AE39))/SUM(AD27:INDIRECT(AD39)))","v":""},null,null,{"$f":"IF(ISERROR(SUM(AI27:INDIRECT(AI39))),\"\",IF(SUM(AI27:INDIRECT(AI39))=0,\"\",SUM(AI27:INDIRECT(AI39))))","v":""},{"$f":"IF(ISERROR(SUM(AI27:INDIRECT(AI39))/SUM(AH27:INDIRECT(AH39))),\"\",SUM(AI27:INDIRECT(AI39))/SUM(AH27:INDIRECT(AH39)))","v":""},null,null,{"$f":"IF(ISERROR(SUM(AM27:INDIRECT(AM39))),\"\",IF(SUM(AM27:INDIRECT(AM39))=0,\"\",SUM(AM27:INDIRECT(AM39))))","v":""},{"$f":"IF(ISERROR(SUM(AM27:INDIRECT(AM39))/SUM(AL27:INDIRECT(AL39))),\"\",SUM(AM27:INDIRECT(AM39))/SUM(AL27:INDIRECT(AL39)))","v":""},null,null,{"$f":"IF(ISERROR(SUM(AQ27:INDIRECT(AQ39))),\"\",IF(SUM(AQ27:INDIRECT(AQ39))=0,\"\",SUM(AQ27:INDIRECT(AQ39))))","v":""},{"$f":"IF(ISERROR(SUM(AQ27:INDIRECT(AQ39))/SUM(AP27:INDIRECT(AP39))),\"\",SUM(AQ27:INDIRECT(AQ39))/SUM(AP27:INDIRECT(AP39)))","v":""}]
[]
[null,null,null,"Combined Bulk Specific Gravity:",null,null,null,null,null,null,null,{"$f":"IF(AND(E39=\"\",I39=\"\",M39=\"\",Q39=\"\",U39=\"\",Y39=\"\",AC39=\"\",AG39=\"\",AK39=\"\",AO39=\"\"),\"\",IF(ISERROR((IF(E39>0,Bin1Frac,0)+IF(I39>0,Bin2Frac,0)+IF(M39>0,Bin3Frac,0)+IF(Q39>0,Bin4Frac,0)+IF(U39>0,Bin5Frac,0)+IF(Y39>0,Bin6Frac,0)+IF(AC39>0,Bin7Frac,0)+IF(AG39>0,Bin8Frac,0)+IF(AK39>0,Bin9Frac,0)+IF(AO39>0,Bin10Frac,0))/SUM(E39,I39,M39,Q39,U39,Y39,AC39,AG39,AK39,AO39)),\"\",(IF(E39>0,Bin1Frac,0)+IF(I39>0,Bin2Frac,0)+IF(M39>0,Bin3Frac,0)+IF(Q39>0,Bin4Frac,0)+IF(U39>0,Bin5Frac,0)+IF(Y39>0,Bin6Frac,0)+IF(AC39>0,Bin7Frac,0)+IF(AG39>0,Bin8Frac,0)+IF(AK39>0,Bin9Frac,0)+IF(AO39>0,Bin10Frac,0))/SUM(E39,I39,M39,Q39,U39,Y39,AC39,AG39,AK39,AO39)))","v":""},null,null,null,"Specific Gravity of Asphalt:",null,null,null,null,null,null,null,{"$f":"IF(SGAsph=\"\",\"\",SGAsph)","v":""}]
[null,null,null,"Coarse Agg. Combined BSG:",null,null,null,null,null,null,null,{"$f":"IF(AND(E40=\"\",I40=\"\",M40=\"\",Q40=\"\",U40=\"\",Y40=\"\",AC40=\"\",AG40=\"\",AK40=\"\",AO40=\"\"),\"\",(IF(E40=\"\",0,Bin1Frac*E40)/100+IF(I40=\"\",0,Bin2Frac*I40)/100+IF(M40=\"\",0,Bin3Frac*M40)/100+IF(Q40=\"\",0,Bin4Frac*Q40)/100+IF(U40=\"\",0,Bin5Frac*U40)/100+IF(Y40=\"\",0,Bin6Frac*Y40)/100+IF(AC40=\"\",0,Bin7Frac*AC40)/100+IF(AG40=\"\",0,Bin8Frac*AG40)/100+IF(AK40=\"\",0,Bin9Frac*AK40)/100+IF(AO40=\"\",0,Bin10Frac*AO40)/100)/(IF(ISERROR((Bin1Frac*E40)/100/F40),0,(Bin1Frac*E40)/100/F40)+IF(ISERROR((Bin2Frac*I40)/100/J40),0,(Bin2Frac*I40)/100/J40)+IF(ISERROR((Bin3Frac*M40)/100/N40),0,(Bin3Frac*M40)/100/N40)+IF(ISERROR((Bin4Frac*Q40)/100/R40),0,(Bin4Frac*Q40)/100/R40)+IF(ISERROR(Bin5Frac*U40/100/V40),0,Bin5Frac*U40/100/V40)+IF(ISERROR(Bin6Frac*Y40/100/Z40),0,Bin6Frac*Y40/100/Z40)+IF(ISERROR(Bin7Frac*AC40/100/AD40),0,Bin7Frac*AC40/100/AD40)+IF(ISERROR(Bin8Frac*AG40/100/AH40),0,Bin8Frac*AG40/100/AH40)+IF(ISERROR(Bin9Frac*AK40/100/AL40),0,Bin9Frac*AK40/100/AL40)+IF(ISERROR(Bin10Frac*AO40/100/AP40),0,Bin10Frac*AO40/100/AP40)))","v":""},null,null,null,{"$f":"IF(OR(LEFT(Grade,7)=\"ITEM340\",LEFT(Grade,7)=\"ITEM341\",LEFT(Grade,6)=\"SS3XXX\"),IF(ROUND(MAX($E38,$I38,$M38,$Q38,$U38,$Y38,$AC38,$AG38,$AK38,$AO38)-MIN($E38,$I38,$M38,$Q38,$U38,$Y38,$AC38,$AG38,$AK38,$AO38),3)<0.3,\"\",\"Specific gravities vary by 0.300 or more. Design by volume is required if using TGC.\"),\"\")","v":""}]
[]
[null,"Remarks:",null,{"$f":"NOW()","v":"2020-10-28T23:16:33.930"}]

{"sheet":"Film Thickness","index":7,"n_rows":66,"n_cols":32,"rows_kept":66,"cut":false,"hidden":true,"merged":[[32,19,33,20],[34,19,34,20],[35,19,35,20],[32,13,33,14],[34,13,34,14],[35,13,35,14],[32,15,33,16],[34,15,34,16],[35,15,35,16],[32,17,33,18],[34,17,34,18],[35,17,35,18],[0,1,0,12],[2,1,3,12],[5,1,5,3],[6,1,6,3],[5,4,5,6],[6,4,6,6],[6,7,6,9],[45,1,46,2],[43,1,44,2],[9,4,9,6],[10,4,10,6],[43,5,44,6],[36,1,36,2],[37,1,37,2],[38,1,38,2],[9,1,9,3],[10,1,10,3],[13,1,13,3],[14,1,14,3],[12,1,12,3],[12,4,12,12],[14,10,14,12],[14,7,14,9],[7,1,7,3],[8,1,8,3],[11,7,11,9],[11,1,11,3],[11,4,11,6],[7,7,7,9],[8,7,8,9],[9,7,9,9],[7,4,7,6],[8,4,8,6],[14,4,14,6],[10,7,10,9],[7,10,7,12],[6,10,6,12],[5,10,5,12],[13,4,13,12],[11,10,11,12],[10,10,10,12],[9,10,9,12],[8,10,8,12],[5,7,5,9],[16,1,16,3],[16,5,16,6],[16,9,16,10],[16,7,16,8],[19,2,20,3],[19,4,20,5],[19,6,20,7],[22,4,22,5],[16,11,16,12],[19,10,20,11],[19,8,20,9],[21,8,21,9],[22,8,22,9],[21,2,21,3],[22,2,22,3],[22,6,22,7],[34,11,34,12],[27,2,27,3],[34,7,34,8],[35,7,35,8],[23,2,23,3],[24,2,24,3],[25,2,25,3],[26,2,26,3],[35,3,35,4],[27,8,27,9],[25,4,25,5],[25,6,25,7],[27,4,27,5],[28,2,28,3],[29,2,29,3],[32,1,33,2],[34,1,34,2],[32,7,33,8],[30,6,30,7],[35,1,35,2],[30,2,30,3],[34,9,34,10],[35,9,35,10],[30,4,30,5],[24,6,24,7],[21,10,30,11],[30,8,30,9],[34,5,34,6],[32,5,33,6],[26,4,26,5],[23,8,23,9],[24,8,24,9],[23,4,23,5],[23,6,23,7],[25,8,25,9],[32,9,33,10],[26,6,26,7],[26,8,26,9],[24,4,24,5],[21,4,21,5],[21,6,21,7],[27,6,27,7],[28,4,28,5],[28,6,28,7],[28,8,28,9],[29,4,29,5],[29,6,29,7],[29,8,29,9],[35,11,35,12],[32,3,33,4],[34,3,34,4],[32,11,33,12],[43,11,44,12],[45,7,46,8],[45,9,46,10],[45,11,46,12],[43,7,44,8],[43,9,44,10],[45,5,46,6],[43,3,44,4],[45,3,46,4],[38,9,38,10],[37,7,37,8],[38,7,38,8],[36,9,36,10],[36,11,38,12],[36,3,38,4],[35,5,35,6],[37,9,37,10],[36,7,36,8],[36,5,36,6],[37,5,37,6],[38,5,38,6],[48,9,48,10],[51,3,51,4],[51,5,51,6],[51,7,51,8],[51,9,51,10],[49,3,49,4],[49,5,49,6],[49,7,49,8],[50,3,50,4],[48,3,48,4],[48,5,48,6],[48,7,48,8],[50,5,50,6],[50,7,50,8],[49,9,49,10],[50,9,50,10],[40,1,40,2],[40,3,40,4],[40,5,40,6],[40,7,40,8],[40,9,40,10],[40,11,40,12],[65,6,65,7],[65,8,65,9],[65,10,65,11],[63,6,63,11],[64,6,64,7],[64,8,64,9],[52,3,52,4],[52,5,52,6],[52,7,52,8],[52,9,52,10],[64,10,64,11],[53,3,53,4],[53,5,53,6],[53,7,53,8],[53,9,53,10]]}
[null,"TEXAS DEPARTMENT OF TRANSPORTATION"]
[null,""]
[null,"HMACP MIXTURE DESIGN : SUMMARY SHEET"]
[]
[]
[null,"SAMPLE ID:",null,null,{"$f":"IF(sampleid=\"\",\"\",sampleid)","v":""},null,null,"SAMPLE DATE:",null,null,{"$f":"IF(sampleddate=\"\",\"\",sampleddate)","v":""}]
[null,"LOT NUMBER:",null,null,{"$f":"IF(testnumber=\"\",\"\",testnumber)","v":""},null,null,"LETTING DATE:",null,null,{"$f":"IF(lettingdate=\"\",\"\",lettingdate)","v":""}]
[null,"SAMPLE STATUS:",null,null,{"$f":"IF(status=\"\",\"\",status)","v":""},null,null,"CONTROLLING CSJ:",null,null,{"$f":"IF(ccsj=\"\",\"\",ccsj)","v":""}]
[null,"COUNTY:",null,null,{"$f":"IF(county=\"\",\"\",county)","v":""},null,null,"SPEC YEAR:",null,null,{"$f":"+IF(specyear=\"\",\"\",specyear)","v":"2014"}]
[null,"SAMPLED BY:",null,null,{"$f":"IF(sampledby=\"\",\"\",sampledby)","v":""},null,null,"SPEC ITEM:",null,null,{"$f":"IF(specitem=\"\",\"\",specitem)","v":""}]
[null,"SAMPLE LOCATION:",null,null,{"$f":"IF(samplelocation=\"\",\"\",samplelocation)","v":""},null,null,"SPECIAL PROVISION:",null,null,{"$f":"IF(specialprovision=\"\",\"\",specialprovision)","v":""}]
[null,"MATERIAL CODE:",null,null,{"$f":"IF(material=\"\",\"\",material)","v":""},null,null,"MIX TYPE:",null,null,{"$f":"IF(Grade=\"\",\"\",Grade)","v":"SS-3074-BMD-SP-C"}]
[null,"MATERIAL NAME:",null,null,{"$f":"IF(matl_nm=\"\",\"\",matl_nm)","v":""}]
[null,"PRODUCER:",null,null,{"$f":"IF(producer=\"\",\"\",producer)","v":""}]
[null,"AREA ENGINEER:",null,null,{"$f":"IF(areaengineer=\"\",\"\",areaengineer)","v":""},null,null,"PROJECT MANAGER:",null,null,{"$f":"IF(projectmanager=\"\",\"\",projectmanager)","v":""}]
[]
[null,"COURSE\\LIFT:",null,null,{"$f":"IF(courselift=\"\",\"\",courselift)","v":"Surface"},"STATION:",null,{"$f":"IF(station=\"\",\"\",station)","v":""},null,"DIST. FROM CL:",null,{"$f":"IF(distfromcl=\"\",\"\",distfromcl)","v":""}]
[]
[]
[null,null,"Sieve Size:",null,"Cumulative % Passing",null,"Suface Area Factor",null,"Surface Area (m2/kg)",null,"Asphalt Absorption"]
[]
[null,null,{"$f":"'Combined Gradation'!B35","v":"1\""},null,{"$f":"IF(C22=\"\",\"\",INDEX(DUST,1,22))","v":""},null,{"$f":"IF(C22=\"\",\"\",INDEX(INDIRECT(VLOOKUP(Grade,MIX_RANGE,2,0)),1,19))","v":{"$error":"#REF!"}},null,{"$f":"IF(ISERROR(G22*E22/100),\"-\",G22*E22/100)","v":"-"},null,{"$f":"IF(ISERROR((EffSG-Gsb)/(Gsb*EffSG)*SGAsph*100),\"\",((EffSG-Gsb)/(Gsb*EffSG))*SGAsph*100)","v":""}]
[null,null,{"$f":"'Combined Gradation'!B36","v":"3/4\""},null,{"$f":"IF(C23=\"\",\"\",INDEX(DUST,2,22))","v":""},null,{"$f":"IF(C23=\"\",\"\",INDEX(INDIRECT(VLOOKUP(Grade,MIX_RANGE,2,0)),2,19))","v":{"$error":"#REF!"}},null,{"$f":"IF(ISERROR(G23*E23/100),\"-\",G23*E23/100)","v":"-"}]
[null,null,{"$f":"'Combined Gradation'!B37","v":"1/2\""},null,{"$f":"IF(C24=\"\",\"\",INDEX(DUST,3,22))","v":""},null,{"$f":"IF(C24=\"\",\"\",INDEX(INDIRECT(VLOOKUP(Grade,MIX_RANGE,2,0)),3,19))","v":{"$error":"#REF!"}},null,"-"]
[null,null,{"$f":"'Combined Gradation'!B38","v":"3/8\""},null,{"$f":"IF(C25=\"\",\"\",INDEX(DUST,4,22))","v":""},null,{"$f":"IF(C25=\"\",\"\",INDEX(INDIRECT(VLOOKUP(Grade,MIX_RANGE,2,0)),4,19))","v":{"$error":"#REF!"}},null,"-"]
[null,null,{"$f":"'Combined Gradation'!B39","v":"No. 4"},null,{"$f":"IF(C26=\"\",\"\",INDEX(DUST,5,22))","v":""},null,{"$f":"IF(C26=\"\",\"\",INDEX(INDIRECT(VLOOKUP(Grade,MIX_RANGE,2,0)),5,19))","v":{"$error":"#REF!"}},null,"-"]
[null,null,{"$f":"'Combined Gradation'!B40","v":"No. 8"},null,{"$f":"IF(C27=\"\",\"\",INDEX(DUST,6,22))","v":""},null,{"$f":"IF(C27=\"\",\"\",INDEX(INDIRECT(VLOOKUP(Grade,MIX_RANGE,2,0)),6,19))","v":{"$error":"#REF!"}},null,"-"]
[null,null,{"$f":"'Combined Gradation'!B41","v":"No. 16"},null,{"$f":"IF(C28=\"\",\"\",INDEX(DUST,7,22))","v":""},null,{"$f":"IF(C28=\"\",\"\",INDEX(INDIRECT(VLOOKUP(Grade,MIX_RANGE,2,0)),7,19))","v":{"$error":"#REF!"}},null,"-"]
[null,null,{"$f":"'Combined Gradation'!B42","v":"No. 30"},null,{"$f":"IF(C29=\"\",\"\",INDEX(DUST,8,22))","v":""},null,{"$f":"IF(C29=\"\",\"\",INDEX(INDIRECT(VLOOKUP(Grade,MIX_RANGE,2,0)),8,19))","v":{"$error":"#REF!"}},null,"-"]
[null,null,{"$f":"'Combined Gradation'!B43","v":"No. 50"},null,{"$f":"IF(C30=\"\",\"\",INDEX(DUST,9,22))","v":""},null,{"$f":"IF(C30=\"\",\"\",INDEX(INDIRECT(VLOOKUP(Grade,MIX_RANGE,2,0)),9,19))","v":{"$error":"#REF!"}},null,"-",null,null,null,null,"No. 200","No. 100","No. 50","No. 30","No. 16","SF100","SF30","S100","S30","S1","S2"]
[null,null,{"$f":"'Combined Gradation'!B44","v":"No. 200"},null,{"$f":"IF(C31=\"\",\"\",INDEX(DUST,10,22))","v":""},null,{"$f":"IF(C31=\"\",\"\",INDEX(INDIRECT(VLOOKUP(Grade,MIX_RANGE,2,0)),10,19))","v":{"$error":"#REF!"}},null,"-",null,null,null,null,{"$f":"VLOOKUP(N30,$C$22:$F$31,3,0)","v":""},{"$f":"N31+(P31-N31)/2","v":{"$error":"#VALUE!"}},{"$f":"VLOOKUP(P30,$C$22:$F$31,3,0)","v":""},{"$f":"P31+(R31-P31)/2","v":{"$error":"#VALUE!"}},{"$f":"VLOOKUP(R30,$C$22:$F$31,3,0)","v":""},12.29,2.87,{"$f":"S31*O31/100","v":{"$error":"#VALUE!"}},{"$f":"Q31*T31/100","v":{"$error":"#VALUE!"}},{"$f":"SUM(I22:J31)+U31+V31","v":{"$error":"#VALUE!"}},{"$f":"SUM(N31:P31)/5","v":{"$error":"#VALUE!"}}]
[]
[null,"Asphalt Content (%)",null,"Specific Gravity Of Specimen (Ga)",null,"Maximum Specific Gravity (Gr)",null,"Effective Asphalt Content (%)",null,"Film Thickness (microns)",null,"Density from Gt (Percent)",null,"Volume Asphalt, Vb",null,"Volume Absorbed Asphalt, Vba",null,"Volume Effective Asphalt, Vbe",null,"Alt. Film Thickness (microns)"]
[]
[null,{"$f":"IF(version>=9,Summary!B53,IF(TSAC1=\"\",\"\",TSAC1))","v":0},null,{"$f":"IF(version>=9,AVERAGE(Summary!L53:M54),IF(TSGA1=\"\",\"\",TSGA1))","v":{"$error":"#DIV/0!"}},null,{"$f":"IF(version>=9,Summary!J53,IF(TSGR1=\"\",\"\",TSGR1))","v":""},null,{"$f":"IF(B35=\"\",\"\",B35-((Pba*(100-B35))/100))","v":{"$error":"#VALUE!"}},null,{"$f":"IF(H35=\"\",\"\",1000000*((H35/100)/(1-(H35/100))/(W31*SGAsph*1000)))","v":{"$error":"#VALUE!"}},null,{"$f":"IF(ISERROR(100*(D35/(100/(((100-B35)/EffSG)+(B35/SGAsph))))),\"\",100*(D35/(100/(((100-B35)/EffSG)+(B35/SGAsph)))))","v":""},null,{"$f":"actac1*D35/SGAsph","v":{"$error":"#DIV/0!"}},null,{"$f":"D35*Pba/SGAsph","v":{"$error":"#DIV/0!"}},null,{"$f":"N35-P35","v":{"$error":"#DIV/0!"}},null,{"$f":"1000*R35/($X$31*D35*(100-actac1))","v":{"$error":"#DIV/0!"}},null,null,null,null,null,null,{"$f":"actac1","v":0},{"$f":"actden1","v":""},92,{"$f":"AA35","v":0},{"$f":"actft1","v":{"$error":"#VALUE!"}},9]
[null,{"$f":"IF(version>=9,Summary!B55,IF(TSAC2=\"\",\"\",TSAC2))","v":0},null,{"$f":"IF(version>=9,AVERAGE(Summary!L55:M56),IF(TSGA2=\"\",\"\",TSGA2))","v":{"$error":"#DIV/0!"}},null,{"$f":"IF(version>=9,Summary!J55,IF(TSGR2=\"\",\"\",TSGR2))","v":""},null,{"$f":"IF(B36=\"\",\"\",B36-((Pba*(100-B36))/100))","v":{"$error":"#VALUE!"}},null,{"$f":"IF(H36=\"\",\"\",1000000*((H36/100)/(1-(H36/100))/(W31*SGAsph*1000)))","v":{"$error":"#VALUE!"}},null,{"$f":"IF(ISERROR(100*(D36/(100/(((100-B36)/EffSG)+(B36/SGAsph))))),\"\",100*(D36/(100/(((100-B36)/EffSG)+(B36/SGAsph)))))","v":""},null,{"$f":"actac2*D36/SGAsph","v":{"$error":"#DIV/0!"}},null,{"$f":"D36*Pba/SGAsph","v":{"$error":"#DIV/0!"}},null,{"$f":"N36-P36","v":{"$error":"#DIV/0!"}},null,{"$f":"1000*R36/($X$31*D36*(100-actac1))","v":{"$error":"#DIV/0!"}},null,null,null,null,null,null,{"$f":"actac2","v":0},{"$f":"actden2","v":""},92,{"$f":"AA36","v":0},{"$f":"actft2","v":{"$error":"#VALUE!"}},9]
[null,{"$f":"IF(filmac3=\"\",\"\",filmac3)","v":""},null,null,null,{"$f":"IF(filmgr3=\"\",\"\",filmgr3)","v":""},null,{"$f":"IF(B37=\"\",\"\",B37-((Pba*(100-B37))/100))","v":""},null,{"$f":"IF(H37=\"\",\"\",1000000*((H37/100)/(1-(H37/100))/(SUM(I$22:I$31)*SGAsph*1000)))","v":""},null,null,null,null,null,null,null,null,null,null,null,null,null,null,null,null,null,null,92,null,null,9]
[null,{"$f":"filmac4","v":""},null,null,null,{"$f":"filmgr4","v":""},null,{"$f":"IF(B38=\"\",\"\",B38-((Pba*(100-B38))/100))","v":""},null,{"$f":"IF(H38=\"\",\"\",1000000*((H38/100)/(1-(H38/100))/(SUM(I$22:I$31)*SGAsph*1000)))","v":""},null,null,null,null,null,null,null,null,null,null,null,null,null,null,null,null,null,null,92,null,null,9]
[null,{"$f":"filmac5","v":""},null,null,null,{"$f":"filmgr5","v":""},null,{"$f":"IF(B39=\"\",\"\",B39-((Pba*(100-B39))/100))","v":""},null,{"$f":"IF(H39=\"\",\"\",1000000*((H39/100)/(1-(H39/100))/(SUM(I$22:I$31)*SGAsph*1000)))","v":""},null,null,null,null,null,null,null,null,null,null,null,null,null,null,null,null,null,null,92,null,null,9]
[null,"Final specimen",null,null,null,null,null,null,null,null,null,null,null,null,null,null,null,null,null,null,null,null,null,null,null,null,{"$f":"B41","v":0},{"$f":"L41","v":""},92,{"$f":"AA40","v":0},{"$f":"J41","v":{"$error":"#VALUE!"}},9]
[null,{"$f":"Summary!B66","v":0},null,{"$f":"Summary!D66","v":0},null,{"$f":"Summary!F66","v":0},null,{"$f":"IF(B41=\"\",\"\",B41-((Pba*(100-B41))/100))","v":{"$error":"#VALUE!"}},null,{"$f":"IF(H41=\"\",\"\",1000000*((H41/100)/(1-(H41/100))/(W31*SGAsph*1000)))","v":{"$error":"#VALUE!"}},null,{"$f":"IF(ISERROR(100*(D41/(100/(((100-B41)/EffSG)+(B41/SGAsph))))),\"\",100*(D41/(100/(((100-B41)/EffSG)+(B41/SGAsph)))))","v":""}]
[]
[]
[null,"Asphalt Content at Minimum Film Thickness (%)",null,"Effective Asphalt Content at Min Film Thickness (%)",null,"Minimum Film Thickness (microns)",null,"Asphalt Content at Maximum Film Thickness (%)",null,"Effective Ashpalt Content at Max Film Thickness (%)",null,"Maximum Film Thickness (microns)"]
[]
[null,{"$f":"IF(Gsb=\"\",\"\",(9*W31*SGAsph*(100+Pba)+1000*Pba)/(9*W31*SGAsph*(1+Pba/100)+1000+10*Pba))","v":""},null,{"$f":"IF(Gsb=\"\",\"\",B46-(Pba*(100-B46)/100))","v":""},null,{"$f":"IF(Gsb=\"\",\"\",1000000*((D46/100)/(1-(D46/100))/(W31*SGAsph*1000)))","v":""},null,{"$f":"IF(Gsb=\"\",\"\",(11*W31*SGAsph*(100+Pba)+1000*Pba)/(11*W31*SGAsph*(1+Pba/100)+1000+10*Pba))","v":""},null,{"$f":"IF(Gsb=\"\",\"\",H46-(Pba*(100-H46)/100))","v":""},null,{"$f":"IF(Gsb=\"\",\"\",1000000*((J46/100)/(1-(J46/100))/(W31*SGAsph*1000)))","v":""}]
[]
[]
[null,null,null,"AC Range",null,"Min FT",null,"Min Density",null,"Max Density"]
[null,null,null,{"$f":"IF(LEFT(Grade,8)=\"ITEM3142\",0,\"\")","v":""},null,{"$f":"IF(LEFT(Grade,8)=\"ITEM3142\",9,\"\")","v":""},null,{"$f":"IF(LEFT(Grade,8)=\"ITEM3142\",INDEX(INDIRECT(Grade),1,13),\"\")","v":""},null,{"$f":"IF(LEFT(Grade,8)=\"ITEM3142\",INDEX(INDIRECT(Grade),1,14),\"\")","v":""}]
[null,null,null,{"$f":"IF(LEFT(Grade,8)=\"ITEM3142\",100,\"\")","v":""},null,{"$f":"IF(LEFT(Grade,8)=\"ITEM3142\",9,\"\")","v":""},null,{"$f":"IF(LEFT(Grade,8)=\"ITEM3142\",INDEX(INDIRECT(Grade),1,13),\"\")","v":""},null,{"$f":"IF(LEFT(Grade,8)=\"ITEM3142\",INDEX(INDIRECT(Grade),1,14),\"\")","v":""}]
[null,null,null,"Spec Min AC",null,"Spec Max AC",null,"FT Range",null,"Density Range"]
[null,null,null,{"$f":"IF(LEFT(Grade,8)=\"ITEM3142\",INDEX(INDIRECT(Grade),1,11),\"\")","v":""},null,{"$f":"IF(LEFT(Grade,8)=\"ITEM3142\",INDEX(INDIRECT(Grade),1,12),\"\")","v":""},null,{"$f":"IF(LEFT(Grade,8)=\"ITEM3142\",0,\"\")","v":""},null,{"$f":"IF(LEFT(Grade,8)=\"ITEM3142\",0,\"\")","v":""}]
[null,null,null,{"$f":"IF(LEFT(Grade,8)=\"ITEM3142\",INDEX(INDIRECT(Grade),1,11),\"\")","v":""},null,{"$f":"IF(LEFT(Grade,8)=\"ITEM3142\",INDEX(INDIRECT(Grade),1,12),\"\")","v":""},null,{"$f":"IF(LEFT(Grade,8)=\"ITEM3142\",100,\"\")","v":""},null,{"$f":"IF(LEFT(Grade,8)=\"ITEM3142\",125,\"\")","v":""}]
[]
[]
[]
[]
[]
[]
[]
[]
[]
[null,null,null,null,null,null,"PREDICTION ESTIMATES"]
[null,null,null,null,null,null,"AC %",null,"Film Thickness (microns)",null,"Density (%)"]
[null,null,null,null,null,null,null,null,{"$f":"IF(G66=\"\",\"\",1000000*(((G66-(Pba*(100-G66)/100))/100)/(1-((G66-(Pba*(100-G66)/100))/100))/(SUM(I$22:J$31)*SGAsph*1000)))","v":""},null,{"$f":"IF(G66=\"\",\"\",TREND(L35:L36,B35:B36,G66))","v":""}]

{"sheet":"RX","index":8,"n_rows":1788,"n_cols":10,"rows_kept":1788,"cut":false,"hidden":true,"merged":[]}
[{"$f":"COUNT(A3:A4997)","v":1786}]
["Fld_nbr","Value","Desc_1","Desc_2","Desc_3","Desc_4","Desc_5","Desc_6","Desc_7","Desc_8"]
[1,{"$f":"IF('Combined Gradation'!$B$54=\"\",\"\",'Combined Gradation'!$B$54)","v":""},{"$f":"'Combined Gradation'!$B$53","v":"Remarks:"}]
[2,{"$f":"IF('Combined Gradation'!$E$18=\"\",\"\",'Combined Gradation'!$E$18)","v":"Surface"},{"$f":"IF('Combined Gradation'!$B$18=\"\",\"\",'Combined Gradation'!$B$18)","v":"COURSE\\LIFT:"}]
[3,{"$f":"IF('Combined Gradation'!$D$59=\"\",\"\",'Combined Gradation'!$D$59)","v":""},"Tested By ",{"$f":"IF('Combined Gradation'!$B$59=\"\",\"\",'Combined Gradation'!$B$59)","v":"TX207"}]
[4,{"$f":"IF('Combined Gradation'!$J$59=\"\",\"\",'Combined Gradation'!$J$59)","v":""},"Tested Date ",{"$f":"IF('Combined Gradation'!$B$59=\"\",\"\",'Combined Gradation'!$B$59)","v":"TX207"}]
[5,{"$f":"IF('Combined Gradation'!$D$61=\"\",\"\",'Combined Gradation'!$D$61)","v":""},"Tested By ",{"$f":"IF('Combined Gradation'!$B$61=\"\",\"\",'Combined Gradation'!$B$61)","v":"TX226"}]
[6,{"$f":"IF('Combined Gradation'!$J$61=\"\",\"\",'Combined Gradation'!$J$61)","v":""},"Tested Date ",{"$f":"IF('Combined Gradation'!$B$61=\"\",\"\",'Combined Gradation'!$B$61)","v":"TX226"}]
[7,{"$f":"IF('Combined Gradation'!$D$63=\"\",\"\",'Combined Gradation'!$D$63)","v":""},"Tested By ",{"$f":"IF('Combined Gradation'!$B$63=\"\",\"\",'Combined Gradation'!$B$63)","v":"TX227"}]
[8,{"$f":"IF('Combined Gradation'!$J$63=\"\",\"\",'Combined Gradation'!$J$63)","v":""},"Tested Date ",{"$f":"IF('Combined Gradation'!$B$63=\"\",\"\",'Combined Gradation'!$B$63)","v":"TX227"}]
[9,{"$f":"IF('Combined Gradation'!$D$67=\"\",\"\",'Combined Gradation'!$D$67)","v":""},"Tested By ",{"$f":"IF('Combined Gradation'!$B$67=\"\",\"\",'Combined Gradation'!$B$67)","v":"TX235"}]
[10,{"$f":"IF('Combined Gradation'!$J$67=\"\",\"\",'Combined Gradation'!$J$67)","v":""},"Tested Date ",{"$f":"IF('Combined Gradation'!$B$67=\"\",\"\",'Combined Gradation'!$B$67)","v":"TX235"}]
[11,{"$f":"IF('Combined Gradation'!$D$69=\"\",\"\",'Combined Gradation'!$D$69)","v":""},"Tested By ",{"$f":"IF('Combined Gradation'!$B$69=\"\",\"\",'Combined Gradation'!$B$69)","v":"TX242"}]
[12,{"$f":"IF('Combined Gradation'!$J$69=\"\",\"\",'Combined Gradation'!$J$69)","v":""},"Tested Date ",{"$f":"IF('Combined Gradation'!$B$69=\"\",\"\",'Combined Gradation'!$B$69)","v":"TX242"}]
[13,{"$f":"IF('Combined Gradation'!$D$71=\"\",\"\",'Combined Gradation'!$D$71)","v":""},"Tested By ",{"$f":"IF('Combined Gradation'!$B$71=\"\",\"\",'Combined Gradation'!$B$71)","v":"TX530"}]
[14,{"$f":"IF('Combined Gradation'!$J$71=\"\",\"\",'Combined Gradation'!$J$71)","v":""},"Tested Date ",{"$f":"IF('Combined Gradation'!$B$71=\"\",\"\",'Combined Gradation'!$B$71)","v":"TX530"}]
[15,{"$f":"IF('Combined Gradation'!$D$73=\"\",\"\",'Combined Gradation'!$D$73)","v":""},"Tested By ",{"$f":"IF('Combined Gradation'!$B$73=\"\",\"\",'Combined Gradation'!$B$73)","v":""}]
[16,{"$f":"IF('Combined Gradation'!$J$73=\"\",\"\",'Combined Gradation'!$J$73)","v":""},"Tested Date ",{"$f":"IF('Combined Gradation'!$B$73=\"\",\"\",'Combined Gradation'!$B$73)","v":""}]
[17,{"$f":"IF('Combined Gradation'!$D$75=\"\",\"\",'Combined Gradation'!$D$75)","v":""},"Tested By ",{"$f":"IF('Combined Gradation'!$B$75=\"\",\"\",'Combined Gradation'!$B$75)","v":""}]
[18,{"$f":"IF('Combined Gradation'!$J$75=\"\",\"\",'Combined Gradation'!$J$75)","v":""},"Tested Date ",{"$f":"IF('Combined Gradation'!$B$75=\"\",\"\",'Combined Gradation'!$B$75)","v":""}]
[19,{"$f":"IF('Combined Gradation'!$V$18=\"\",\"\",'Combined Gradation'!$V$18)","v":""},{"$f":"IF('Combined Gradation'!$R$18=\"\",\"\",'Combined Gradation'!$R$18)","v":"CONTRACTOR DESIGN # :"}]
[20,{"$f":"IF('Combined Gradation'!$E$22=\"\",\"\",'Combined Gradation'!$E$22)","v":""},{"$f":"IF('Combined Gradation'!$B$5=\"\",\"\",'Combined Gradation'!$B$5)","v":"2014 HMACP MIXTURE DESIGN : COMBINED GRADATION"},{"$f":"IF('Combined Gradation'!$B$22=\"\",\"\",'Combined Gradation'!$B$22)","v":"Source:"},{"$f":"IF('Combined Gradation'!$E$21=\"\",\"\",'Combined Gradation'!$E$21)","v":"Bin No.1"}]
[21,{"$f":"IF('Combined Gradation'!$G$22=\"\",\"\",'Combined Gradation'!$G$22)","v":""},{"$f":"IF('Combined Gradation'!$B$5=\"\",\"\",'Combined Gradation'!$B$5)","v":"2014 HMACP MIXTURE DESIGN : COMBINED GRADATION"},{"$f":"IF('Combined Gradation'!$B$22=\"\",\"\",'Combined Gradation'!$B$22)","v":"Source:"},{"$f":"IF('Combined Gradation'!$G$21=\"\",\"\",'Combined Gradation'!$G$21)","v":"Bin No.2"}]
[22,{"$f":"IF('Combined Gradation'!$I$22=\"\",\"\",'Combined Gradation'!$I$22)","v":""},{"$f":"IF('Combined Gradation'!$B$5=\"\",\"\",'Combined Gradation'!$B$5)","v":"2014 HMACP MIXTURE DESIGN : COMBINED GRADATION"},{"$f":"IF('Combined Gradation'!$B$22=\"\",\"\",'Combined Gradation'!$B$22)","v":"Source:"},{"$f":"IF('Combined Gradation'!$I$21=\"\",\"\",'Combined Gradation'!$I$21)","v":"Bin No.3"}]
[23,{"$f":"IF('Combined Gradation'!$K$22=\"\",\"\",'Combined Gradation'!$K$22)","v":""},{"$f":"IF('Combined Gradation'!$B$5=\"\",\"\",'Combined Gradation'!$B$5)","v":"2014 HMACP MIXTURE DESIGN : COMBINED GRADATION"},{"$f":"IF('Combined Gradation'!$B$22=\"\",\"\",'Combined Gradation'!$B$22)","v":"Source:"},{"$f":"IF('Combined Gradation'!$K$21=\"\",\"\",'Combined Gradation'!$K$21)","v":"Bin No.4"}]
[24,{"$f":"IF('Combined Gradation'!$M$22=\"\",\"\",'Combined Gradation'!$M$22)","v":""},{"$f":"IF('Combined Gradation'!$B$5=\"\",\"\",'Combined Gradation'!$B$5)","v":"2014 HMACP MIXTURE DESIGN : COMBINED GRADATION"},{"$f":"IF('Combined Gradation'!$B$22=\"\",\"\",'Combined Gradation'!$B$22)","v":"Source:"},{"$f":"IF('Combined Gradation'!$M$21=\"\",\"\",'Combined Gradation'!$M$21)","v":"Bin No.5"}]
[25,{"$f":"IF('Combined Gradation'!$O$22=\"\",\"\",'Combined Gradation'!$O$22)","v":""},{"$f":"IF('Combined Gradation'!$B$5=\"\",\"\",'Combined Gradation'!$B$5)","v":"2014 HMACP MIXTURE DESIGN : COMBINED GRADATION"},{"$f":"IF('Combined Gradation'!$B$22=\"\",\"\",'Combined Gradation'!$B$22)","v":"Source:"},{"$f":"IF('Combined Gradation'!$O$21=\"\",\"\",'Combined Gradation'!$O$21)","v":"Bin No.6 "}]
[26,{"$f":"IF('Combined Gradation'!$Q$22=\"\",\"\",'Combined Gradation'!$Q$22)","v":""},{"$f":"IF('Combined Gradation'!$B$5=\"\",\"\",'Combined Gradation'!$B$5)","v":"2014 HMACP MIXTURE DESIGN : COMBINED GRADATION"},{"$f":"IF('Combined Gradation'!$B$22=\"\",\"\",'Combined Gradation'!$B$22)","v":"Source:"},{"$f":"IF('Combined Gradation'!$Q$21=\"\",\"\",'Combined Gradation'!$Q$21)","v":"Bin No.7 "}]
[27,{"$f":"IF('Combined Gradation'!$E$23=\"\",\"\",'Combined Gradation'!$E$23)","v":""},{"$f":"IF('Combined Gradation'!$B$5=\"\",\"\",'Combined Gradation'!$B$5)","v":"2014 HMACP MIXTURE DESIGN : COMBINED GRADATION"},{"$f":"IF('Combined Gradation'!$B$23=\"\",\"\",'Combined Gradation'!$B$23)","v":" Pit:"},{"$f":"IF('Combined Gradation'!$E$21=\"\",\"\",'Combined Gradation'!$E$21)","v":"Bin No.1"}]
[28,{"$f":"IF('Combined Gradation'!$G$23=\"\",\"\",'Combined Gradation'!$G$23)","v":""},{"$f":"IF('Combined Gradation'!$B$5=\"\",\"\",'Combined Gradation'!$B$5)","v":"2014 HMACP MIXTURE DESIGN : COMBINED GRADATION"},{"$f":"IF('Combined Gradation'!$B$23=\"\",\"\",'Combined Gradation'!$B$23)","v":" Pit:"},{"$f":"IF('Combined Gradation'!$G$21=\"\",\"\",'Combined Gradation'!$G$21)","v":"Bin No.2"}]
[29,{"$f":"IF('Combined Gradation'!$I$23=\"\",\"\",'Combined Gradation'!$I$23)","v":""},{"$f":"IF('Combined Gradation'!$B$5=\"\",\"\",'Combined Gradation'!$B$5)","v":"2014 HMACP MIXTURE DESIGN : COMBINED GRADATION"},{"$f":"IF('Combined Gradation'!$B$23=\"\",\"\",'Combined Gradation'!$B$23)","v":" Pit:"},{"$f":"IF('Combined Gradation'!$I$21=\"\",\"\",'Combined Gradation'!$I$21)","v":"Bin No.3"}]
[30,{"$f":"IF('Combined Gradation'!$K$23=\"\",\"\",'Combined Gradation'!$K$23)","v":""},{"$f":"IF('Combined Gradation'!$B$5=\"\",\"\",'Combined Gradation'!$B$5)","v":"2014 HMACP MIXTURE DESIGN : COMBINED GRADATION"},{"$f":"IF('Combined Gradation'!$B$23=\"\",\"\",'Combined Gradation'!$B$23)","v":" Pit:"},{"$f":"IF('Combined Gradation'!$K$21=\"\",\"\",'Combined Gradation'!$K$21)","v":"Bin No.4"}]
[31,{"$f":"IF('Combined Gradation'!$M$23=\"\",\"\",'Combined Gradation'!$M$23)","v":""},{"$f":"IF('Combined Gradation'!$B$5=\"\",\"\",'Combined Gradation'!$B$5)","v":"2014 HMACP MIXTURE DESIGN : COMBINED GRADATION"},{"$f":"IF('Combined Gradation'!$B$23=\"\",\"\",'Combined Gradation'!$B$23)","v":" Pit:"},{"$f":"IF('Combined Gradation'!$M$21=\"\",\"\",'Combined Gradation'!$M$21)","v":"Bin No.5"}]
[32,{"$f":"IF('Combined Gradation'!$O$23=\"\",\"\",'Combined Gradation'!$O$23)","v":""},{"$f":"IF('Combined Gradation'!$B$5=\"\",\"\",'Combined Gradation'!$B$5)","v":"2014 HMACP MIXTURE DESIGN : COMBINED GRADATION"},{"$f":"IF('Combined Gradation'!$B$23=\"\",\"\",'Combined Gradation'!$B$23)","v":" Pit:"},{"$f":"IF('Combined Gradation'!$O$21=\"\",\"\",'Combined Gradation'!$O$21)","v":"Bin No.6 "}]
[33,{"$f":"IF('Combined Gradation'!$Q$23=\"\",\"\",'Combined Gradation'!$Q$23)","v":""},{"$f":"IF('Combined Gradation'!$B$5=\"\",\"\",'Combined Gradation'!$B$5)","v":"2014 HMACP MIXTURE DESIGN : COMBINED GRADATION"},{"$f":"IF('Combined Gradation'!$B$23=\"\",\"\",'Combined Gradation'!$B$23)","v":" Pit:"},{"$f":"IF('Combined Gradation'!$Q$21=\"\",\"\",'Combined Gradation'!$Q$21)","v":"Bin No.7 "}]
[34,{"$f":"IF('Combined Gradation'!$E$24=\"\",\"\",'Combined Gradation'!$E$24)","v":""},{"$f":"IF('Combined Gradation'!$B$5=\"\",\"\",'Combined Gradation'!$B$5)","v":"2014 HMACP MIXTURE DESIGN : COMBINED GRADATION"},{"$f":"IF('Combined Gradation'!$B$24=\"\",\"\",'Combined Gradation'!$B$24)","v":"Number:"},{"$f":"IF('Combined Gradation'!$E$21=\"\",\"\",'Combined Gradation'!$E$21)","v":"Bin No.1"}]
[35,{"$f":"IF('Combined Gradation'!$G$24=\"\",\"\",'Combined Gradation'!$G$24)","v":""},{"$f":"IF('Combined Gradation'!$B$5=\"\",\"\",'Combined Gradation'!$B$5)","v":"2014 HMACP MIXTURE DESIGN : COMBINED GRADATION"},{"$f":"IF('Combined Gradation'!$B$24=\"\",\"\",'Combined Gradation'!$B$24)","v":"Number:"},{"$f":"IF('Combined Gradation'!$G$21=\"\",\"\",'Combined Gradation'!$G$21)","v":"Bin No.2"}]
[36,{"$f":"IF('Combined Gradation'!$I$24=\"\",\"\",'Combined Gradation'!$I$24)","v":""},{"$f":"IF('Combined Gradation'!$B$5=\"\",\"\",'Combined Gradation'!$B$5)","v":"2014 HMACP MIXTURE DESIGN : COMBINED GRADATION"},{"$f":"IF('Combined Gradation'!$B$24=\"\",\"\",'Combined Gradation'!$B$24)","v":"Number:"},{"$f":"IF('Combined Gradation'!$I$21=\"\",\"\",'Combined Gradation'!$I$21)","v":"Bin No.3"}]
[37,{"$f":"IF('Combined Gradation'!$K$24=\"\",\"\",'Combined Gradation'!$K$24)","v":""},{"$f":"IF('Combined Gradation'!$B$5=\"\",\"\",'Combined Gradation'!$B$5)","v":"2014 HMACP MIXTURE DESIGN : COMBINED GRADATION"},{"$f":"IF('Combined Gradation'!$B$24=\"\",\"\",'Combined Gradation'!$B$24)","v":"Number:"},{"$f":"IF('Combined Gradation'!$K$21=\"\",\"\",'Combined Gradation'!$K$21)","v":"Bin No.4"}]
[38,{"$f":"IF('Combined Gradation'!$M$24=\"\",\"\",'Combined Gradation'!$M$24)","v":""},{"$f":"IF('Combined Gradation'!$B$5=\"\",\"\",'Combined Gradation'!$B$5)","v":"2014 HMACP MIXTURE DESIGN : COMBINED GRADATION"},{"$f":"IF('Combined Gradation'!$B$24=\"\",\"\",'Combined Gradation'!$B$24)","v":"Number:"},{"$f":"IF('Combined Gradation'!$M$21=\"\",\"\",'Combined Gradation'!$M$21)","v":"Bin No.5"}]
[39,{"$f":"IF('Combined Gradation'!$O$24=\"\",\"\",'Combined Gradation'!$O$24)","v":""},{"$f":"IF('Combined Gradation'!$B$5=\"\",\"\",'Combined Gradation'!$B$5)","v":"2014 HMACP MIXTURE DESIGN : COMBINED GRADATION"},{"$f":"IF('Combined Gradation'!$B$24=\"\",\"\",'Combined Gradation'!$B$24)","v":"Number:"},{"$f":"IF('Combined Gradation'!$O$21=\"\",\"\",'Combined Gradation'!$O$21)","v":"Bin No.6 "}]
[40,{"$f":"IF('Combined Gradation'!$Q$24=\"\",\"\",'Combined Gradation'!$Q$24)","v":""},{"$f":"IF('Combined Gradation'!$B$5=\"\",\"\",'Combined Gradation'!$B$5)","v":"2014 HMACP MIXTURE DESIGN : COMBINED GRADATION"},{"$f":"IF('Combined Gradation'!$B$24=\"\",\"\",'Combined Gradation'!$B$24)","v":"Number:"},{"$f":"IF('Combined Gradation'!$Q$21=\"\",\"\",'Combined Gradation'!$Q$21)","v":"Bin No.7 "}]
[41,{"$f":"IF('Combined Gradation'!$E$26=\"\",\"\",'Combined Gradation'!$E$26)","v":""},{"$f":"IF('Combined Gradation'!$B$5=\"\",\"\",'Combined Gradation'!$B$5)","v":"2014 HMACP MIXTURE DESIGN : COMBINED GRADATION"},{"$f":"IF('Combined Gradation'!$B$26=\"\",\"\",'Combined Gradation'!$B$26)","v":"Sample ID:"},{"$f":"IF('Combined Gradation'!$E$21=\"\",\"\",'Combined Gradation'!$E$21)","v":"Bin No.1"}]
[42,{"$f":"IF('Combined Gradation'!$G$26=\"\",\"\",'Combined Gradation'!$G$26)","v":""},{"$f":"IF('Combined Gradation'!$B$5=\"\",\"\",'Combined Gradation'!$B$5)","v":"2014 HMACP MIXTURE DESIGN : COMBINED GRADATION"},{"$f":"IF('Combined Gradation'!$B$26=\"\",\"\",'Combined Gradation'!$B$26)","v":"Sample ID:"},{"$f":"IF('Combined Gradation'!$G$21=\"\",\"\",'Combined Gradation'!$G$21)","v":"Bin No.2"}]
[43,{"$f":"IF('Combined Gradation'!$I$26=\"\",\"\",'Combined Gradation'!$I$26)","v":""},{"$f":"IF('Combined Gradation'!$B$5=\"\",\"\",'Combined Gradation'!$B$5)","v":"2014 HMACP MIXTURE DESIGN : COMBINED GRADATION"},{"$f":"IF('Combined Gradation'!$B$26=\"\",\"\",'Combined Gradation'!$B$26)","v":"Sample ID:"},{"$f":"IF('Combined Gradation'!$I$21=\"\",\"\",'Combined Gradation'!$I$21)","v":"Bin No.3"}]
[44,{"$f":"IF('Combined Gradation'!$K$26=\"\",\"\",'Combined Gradation'!$K$26)","v":""},{"$f":"IF('Combined Gradation'!$B$5=\"\",\"\",'Combined Gradation'!$B$5)","v":"2014 HMACP MIXTURE DESIGN : COMBINED GRADATION"},{"$f":"IF('Combined Gradation'!$B$26=\"\",\"\",'Combined Gradation'!$B$26)","v":"Sample ID:"},{"$f":"IF('Combined Gradation'!$K$21=\"\",\"\",'Combined Gradation'!$K$21)","v":"Bin No.4"}]
[45,{"$f":"IF('Combined Gradation'!$M$26=\"\",\"\",'Combined Gradation'!$M$26)","v":""},{"$f":"IF('Combined Gradation'!$B$5=\"\",\"\",'Combined Gradation'!$B$5)","v":"2014 HMACP MIXTURE DESIGN : COMBINED GRADATION"},{"$f":"IF('Combined Gradation'!$B$26=\"\",\"\",'Combined Gradation'!$B$26)","v":"Sample ID:"},{"$f":"IF('Combined Gradation'!$M$21=\"\",\"\",'Combined Gradation'!$M$21)","v":"Bin No.5"}]
[46,{"$f":"IF('Combined Gradation'!$O$26=\"\",\"\",'Combined Gradation'!$O$26)","v":""},{"$f":"IF('Combined Gradation'!$B$5=\"\",\"\",'Combined Gradation'!$B$5)","v":"2014 HMACP MIXTURE DESIGN : COMBINED GRADATION"},{"$f":"IF('Combined Gradation'!$B$26=\"\",\"\",'Combined Gradation'!$B$26)","v":"Sample ID:"},{"$f":"IF('Combined Gradation'!$O$21=\"\",\"\",'Combined Gradation'!$O$21)","v":"Bin No.6 "}]
[47,{"$f":"IF('Combined Gradation'!$Q$26=\"\",\"\",'Combined Gradation'!$Q$26)","v":""},{"$f":"IF('Combined Gradation'!$B$5=\"\",\"\",'Combined Gradation'!$B$5)","v":"2014 HMACP MIXTURE DESIGN : COMBINED GRADATION"},{"$f":"IF('Combined Gradation'!$B$26=\"\",\"\",'Combined Gradation'!$B$26)","v":"Sample ID:"},{"$f":"IF('Combined Gradation'!$Q$21=\"\",\"\",'Combined Gradation'!$Q$21)","v":"Bin No.7 "}]
[48,{"$f":"IF('Combined Gradation'!$E$27=\"\",\"\",'Combined Gradation'!$E$27)","v":""},{"$f":"IF('Combined Gradation'!$B$5=\"\",\"\",'Combined Gradation'!$B$5)","v":"2014 HMACP MIXTURE DESIGN : COMBINED GRADATION"},{"$f":"IF('Combined Gradation'!$B$27=\"\",\"\",'Combined Gradation'!$B$27)","v":"Recycled Material?:"},{"$f":"IF('Combined Gradation'!$E$21=\"\",\"\",'Combined Gradation'!$E$21)","v":"Bin No.1"}]
[49,{"$f":"IF('Combined Gradation'!$G$27=\"\",\"\",'Combined Gradation'!$G$27)","v":""},{"$f":"IF('Combined Gradation'!$B$5=\"\",\"\",'Combined Gradation'!$B$5)","v":"2014 HMACP MIXTURE DESIGN : COMBINED GRADATION"},{"$f":"IF('Combined Gradation'!$B$27=\"\",\"\",'Combined Gradation'!$B$27)","v":"Recycled Material?:"},{"$f":"IF('Combined Gradation'!$G$21=\"\",\"\",'Combined Gradation'!$G$21)","v":"Bin No.2"}]
[50,{"$f":"IF('Combined Gradation'!$I$27=\"\",\"\",'Combined Gradation'!$I$27)","v":""},{"$f":"IF('Combined Gradation'!$B$5=\"\",\"\",'Combined Gradation'!$B$5)","v":"2014 HMACP MIXTURE DESIGN : COMBINED GRADATION"},{"$f":"IF('Combined Gradation'!$B$27=\"\",\"\",'Combined Gradation'!$B$27)","v":"Recycled Material?:"},{"$f":"IF('Combined Gradation'!$I$21=\"\",\"\",'Combined Gradation'!$I$21)","v":"Bin No.3"}]
[51,{"$f":"IF('Combined Gradation'!$K$27=\"\",\"\",'Combined Gradation'!$K$27)","v":""},{"$f":"IF('Combined Gradation'!$B$5=\"\",\"\",'Combined Gradation'!$B$5)","v":"2014 HMACP MIXTURE DESIGN : COMBINED GRADATION"},{"$f":"IF('Combined Gradation'!$B$27=\"\",\"\",'Combined Gradation'!$B$27)","v":"Recycled Material?:"},{"$f":"IF('Combined Gradation'!$K$21=\"\",\"\",'Combined Gradation'!$K$21)","v":"Bin No.4"}]
[52,{"$f":"IF('Combined Gradation'!$M$27=\"\",\"\",'Combined Gradation'!$M$27)","v":""},{"$f":"IF('Combined Gradation'!$B$5=\"\",\"\",'Combined Gradation'!$B$5)","v":"2014 HMACP MIXTURE DESIGN : COMBINED GRADATION"},{"$f":"IF('Combined Gradation'!$B$27=\"\",\"\",'Combined Gradation'!$B$27)","v":"Recycled Material?:"},{"$f":"IF('Combined Gradation'!$M$21=\"\",\"\",'Combined Gradation'!$M$21)","v":"Bin No.5"}]
[53,{"$f":"IF('Combined Gradation'!$O$27=\"\",\"\",'Combined Gradation'!$O$27)","v":""},{"$f":"IF('Combined Gradation'!$B$5=\"\",\"\",'Combined Gradation'!$B$5)","v":"2014 HMACP MIXTURE DESIGN : COMBINED GRADATION"},{"$f":"IF('Combined Gradation'!$B$27=\"\",\"\",'Combined Gradation'!$B$27)","v":"Recycled Material?:"},{"$f":"IF('Combined Gradation'!$O$21=\"\",\"\",'Combined Gradation'!$O$21)","v":"Bin No.6 "}]
[54,{"$f":"IF('Combined Gradation'!$Q$27=\"\",\"\",'Combined Gradation'!$Q$27)","v":""},{"$f":"IF('Combined Gradation'!$B$5=\"\",\"\",'Combined Gradation'!$B$5)","v":"2014 HMACP MIXTURE DESIGN : COMBINED GRADATION"},{"$f":"IF('Combined Gradation'!$B$27=\"\",\"\",'Combined Gradation'!$B$27)","v":"Recycled Material?:"},{"$f":"IF('Combined Gradation'!$Q$21=\"\",\"\",'Combined Gradation'!$Q$21)","v":"Bin No.7 "}]
[55,{"$f":"IF('Combined Gradation'!$E$30=\"\",\"\",'Combined Gradation'!$E$30)","v":""},{"$f":"IF('Combined Gradation'!$B$5=\"\",\"\",'Combined Gradation'!$B$5)","v":"2014 HMACP MIXTURE DESIGN : COMBINED GRADATION"},{"$f":"IF('Combined Gradation'!$B$30=\"\",\"\",'Combined Gradation'!$B$30)","v":"Asphalt%:"},{"$f":"IF('Combined Gradation'!$E$21=\"\",\"\",'Combined Gradation'!$E$21)","v":"Bin No.1"}]
[56,{"$f":"IF('Combined Gradation'!$G$30=\"\",\"\",'Combined Gradation'!$G$30)","v":""},{"$f":"IF('Combined Gradation'!$B$5=\"\",\"\",'Combined Gradation'!$B$5)","v":"2014 HMACP MIXTURE DESIGN : COMBINED GRADATION"},{"$f":"IF('Combined Gradation'!$B$30=\"\",\"\",'Combined Gradation'!$B$30)","v":"Asphalt%:"},{"$f":"IF('Combined Gradation'!$G$21=\"\",\"\",'Combined Gradation'!$G$21)","v":"Bin No.2"}]
[57,{"$f":"IF('Combined Gradation'!$I$30=\"\",\"\",'Combined Gradation'!$I$30)","v":""},{"$f":"IF('Combined Gradation'!$B$5=\"\",\"\",'Combined Gradation'!$B$5)","v":"2014 HMACP MIXTURE DESIGN : COMBINED GRADATION"},{"$f":"IF('Combined Gradation'!$B$30=\"\",\"\",'Combined Gradation'!$B$30)","v":"Asphalt%:"},{"$f":"IF('Combined Gradation'!$I$21=\"\",\"\",'Combined Gradation'!$I$21)","v":"Bin No.3"}]
[58,{"$f":"IF('Combined Gradation'!$K$30=\"\",\"\",'Combined Gradation'!$K$30)","v":""},{"$f":"IF('Combined Gradation'!$B$5=\"\",\"\",'Combined Gradation'!$B$5)","v":"2014 HMACP MIXTURE DESIGN : COMBINED GRADATION"},{"$f":"IF('Combined Gradation'!$B$30=\"\",\"\",'Combined Gradation'!$B$30)","v":"Asphalt%:"},{"$f":"IF('Combined Gradation'!$K$21=\"\",\"\",'Combined Gradation'!$K$21)","v":"Bin No.4"}]
[59,{"$f":"IF('Combined Gradation'!$M$30=\"\",\"\",'Combined Gradation'!$M$30)","v":""},{"$f":"IF('Combined Gradation'!$B$5=\"\",\"\",'Combined Gradation'!$B$5)","v":"2014 HMACP MIXTURE DESIGN : COMBINED GRADATION"},{"$f":"IF('Combined Gradation'!$B$30=\"\",\"\",'Combined Gradation'!$B$30)","v":"Asphalt%:"},{"$f":"IF('Combined Gradation'!$M$21=\"\",\"\",'Combined Gradation'!$M$21)","v":"Bin No.5"}]
[60,{"$f":"IF('Combined Gradation'!#REF!=\"\",\"\",'Combined Gradation'!#REF!)","v":{"$error":"#REF!"}},{"$f":"IF('Combined Gradation'!$B$5=\"\",\"\",'Combined Gradation'!$B$5)","v":"2014 HMACP MIXTURE DESIGN : COMBINED GRADATION"},{"$f":"IF('Combined Gradation'!$B$30=\"\",\"\",'Combined Gradation'!$B$30)","v":"Asphalt%:"},{"$f":"IF('Combined Gradation'!$O$21=\"\",\"\",'Combined Gradation'!$O$21)","v":"Bin No.6 "}]
[61,{"$f":"IF('Combined Gradation'!$O$30=\"\",\"\",'Combined Gradation'!$O$30)","v":"Adjusted Recycled Asphalt Binder (%)"},{"$f":"IF('Combined Gradation'!$B$5=\"\",\"\",'Combined Gradation'!$B$5)","v":"2014 HMACP MIXTURE DESIGN : COMBINED GRADATION"},{"$f":"IF('Combined Gradation'!$B$30=\"\",\"\",'Combined Gradation'!$B$30)","v":"Asphalt%:"},{"$f":"IF('Combined Gradation'!$Q$21=\"\",\"\",'Combined Gradation'!$Q$21)","v":"Bin No.7 "}]
[62,{"$f":"IF('Combined Gradation'!$E$32=\"\",\"\",'Combined Gradation'!$E$32)","v":""},{"$f":"IF('Combined Gradation'!$B$5=\"\",\"\",'Combined Gradation'!$B$5)","v":"2014 HMACP MIXTURE DESIGN : COMBINED GRADATION"},{"$f":"IF('Combined Gradation'!$B$32=\"\",\"\",'Combined Gradation'!$B$32)","v":"Individual Bin (%):"},{"$f":"IF('Combined Gradation'!$E$21=\"\",\"\",'Combined Gradation'!$E$21)","v":"Bin No.1"}]
[63,{"$f":"IF('Combined Gradation'!$G$32=\"\",\"\",'Combined Gradation'!$G$32)","v":""},{"$f":"IF('Combined Gradation'!$B$5=\"\",\"\",'Combined Gradation'!$B$5)","v":"2014 HMACP MIXTURE DESIGN : COMBINED GRADATION"},{"$f":"IF('Combined Gradation'!$B$32=\"\",\"\",'Combined Gradation'!$B$32)","v":"Individual Bin (%):"},{"$f":"IF('Combined Gradation'!$G$21=\"\",\"\",'Combined Gradation'!$G$21)","v":"Bin No.2"}]
[64,{"$f":"IF('Combined Gradation'!$I$32=\"\",\"\",'Combined Gradation'!$I$32)","v":""},{"$f":"IF('Combined Gradation'!$B$5=\"\",\"\",'Combined Gradation'!$B$5)","v":"2014 HMACP MIXTURE DESIGN : COMBINED GRADATION"},{"$f":"IF('Combined Gradation'!$B$32=\"\",\"\",'Combined Gradation'!$B$32)","v":"Individual Bin (%):"},{"$f":"IF('Combined Gradation'!$I$21=\"\",\"\",'Combined Gradation'!$I$21)","v":"Bin No.3"}]
[65,{"$f":"IF('Combined Gradation'!$K$32=\"\",\"\",'Combined Gradation'!$K$32)","v":""},{"$f":"IF('Combined Gradation'!$B$5=\"\",\"\",'Combined Gradation'!$B$5)","v":"2014 HMACP MIXTURE DESIGN : COMBINED GRADATION"},{"$f":"IF('Combined Gradation'!$B$32=\"\",\"\",'Combined Gradation'!$B$32)","v":"Individual Bin (%):"},{"$f":"IF('Combined Gradation'!$K$21=\"\",\"\",'Combined Gradation'!$K$21)","v":"Bin No.4"}]
[66,{"$f":"IF('Combined Gradation'!$M$32=\"\",\"\",'Combined Gradation'!$M$32)","v":""},{"$f":"IF('Combined Gradation'!$B$5=\"\",\"\",'Combined Gradation'!$B$5)","v":"2014 HMACP MIXTURE DESIGN : COMBINED GRADATION"},{"$f":"IF('Combined Gradation'!$B$32=\"\",\"\",'Combined Gradation'!$B$32)","v":"Individual Bin (%):"},{"$f":"IF('Combined Gradation'!$M$21=\"\",\"\",'Combined Gradation'!$M$21)","v":"Bin No.5"}]
[67,{"$f":"IF('Combined Gradation'!$O$32=\"\",\"\",'Combined Gradation'!$O$32)","v":""},{"$f":"IF('Combined Gradation'!$B$5=\"\",\"\",'Combined Gradation'!$B$5)","v":"2014 HMACP MIXTURE DESIGN : COMBINED GRADATION"},{"$f":"IF('Combined Gradation'!$B$32=\"\",\"\",'Combined Gradation'!$B$32)","v":"Individual Bin (%):"},{"$f":"IF('Combined Gradation'!$O$21=\"\",\"\",'Combined Gradation'!$O$21)","v":"Bin No.6 "}]
[68,{"$f":"IF('Combined Gradation'!$Q$32=\"\",\"\",'Combined Gradation'!$Q$32)","v":""},{"$f":"IF('Combined Gradation'!$B$5=\"\",\"\",'Combined Gradation'!$B$5)","v":"2014 HMACP MIXTURE DESIGN : COMBINED GRADATION"},{"$f":"IF('Combined Gradation'!$B$32=\"\",\"\",'Combined Gradation'!$B$32)","v":"Individual Bin (%):"},{"$f":"IF('Combined Gradation'!$Q$21=\"\",\"\",'Combined Gradation'!$Q$21)","v":"Bin No.7 "}]
[69,{"$f":"IF('Combined Gradation'!$I$52=\"\",\"\",'Combined Gradation'!$I$52)","v":""},{"$f":"IF('Combined Gradation'!$B$5=\"\",\"\",'Combined Gradation'!$B$5)","v":"2014 HMACP MIXTURE DESIGN : COMBINED GRADATION"},{"$f":"IF('Combined Gradation'!$B$52=\"\",\"\",'Combined Gradation'!$B$52)","v":"Dry Rodded Unit Weight of Coarse Agg. (pcf)"}]
[70,{"$f":"IF('Combined Gradation'!$E$35=\"\",\"\",'Combined Gradation'!$E$35)","v":""},{"$f":"IF('Combined Gradation'!$B$5=\"\",\"\",'Combined Gradation'!$B$5)","v":"2014 HMACP MIXTURE DESIGN : COMBINED GRADATION"},{"$f":"IF('Combined Gradation'!$E$21=\"\",\"\",'Combined Gradation'!$E$21)","v":"Bin No.1"},{"$f":"IF('Combined Gradation'!$E$34=\"\",\"\",'Combined Gradation'!$E$34)","v":"Cum.% Passing"},{"$f":"IF('Combined Gradation'!$B$34=\"\",\"\",'Combined Gradation'!$B$34)","v":"Sieve Size:"},{"$f":"IF('Combined Gradation'!$B$35=\"\",\"\",'Combined Gradation'!$B$35)","v":"1\""}]
[71,{"$f":"IF('Combined Gradation'!$F$35=\"\",\"\",'Combined Gradation'!$F$35)","v":""},{"$f":"IF('Combined Gradation'!$B$5=\"\",\"\",'Combined Gradation'!$B$5)","v":"2014 HMACP MIXTURE DESIGN : COMBINED GRADATION"},{"$f":"IF('Combined Gradation'!$E$21=\"\",\"\",'Combined Gradation'!$E$21)","v":"Bin No.1"},{"$f":"IF('Combined Gradation'!$F$34=\"\",\"\",'Combined Gradation'!$F$34)","v":"Wtd Cum. %"},{"$f":"IF('Combined Gradation'!$B$34=\"\",\"\",'Combined Gradation'!$B$34)","v":"Sieve Size:"},{"$f":"IF('Combined Gradation'!$B$35=\"\",\"\",'Combined Gradation'!$B$35)","v":"1\""}]
[72,{"$f":"IF('Combined Gradation'!$G$35=\"\",\"\",'Combined Gradation'!$G$35)","v":""},{"$f":"IF('Combined Gradation'!$B$5=\"\",\"\",'Combined Gradation'!$B$5)","v":"2014 HMACP MIXTURE DESIGN : COMBINED GRADATION"},{"$f":"IF('Combined Gradation'!$G$21=\"\",\"\",'Combined Gradation'!$G$21)","v":"Bin No.2"},{"$f":"IF('Combined Gradation'!$G$34=\"\",\"\",'Combined Gradation'!$G$34)","v":"Cum.% Passing"},{"$f":"IF('Combined Gradation'!$B$34=\"\",\"\",'Combined Gradation'!$B$34)","v":"Sieve Size:"},{"$f":"IF('Combined Gradation'!$B$35=\"\",\"\",'Combined Gradation'!$B$35)","v":"1\""}]
[73,{"$f":"IF('Combined Gradation'!$H$35=\"\",\"\",'Combined Gradation'!$H$35)","v":""},{"$f":"IF('Combined Gradation'!$B$5=\"\",\"\",'Combined Gradation'!$B$5)","v":"2014 HMACP MIXTURE DESIGN : COMBINED GRADATION"},{"$f":"IF('Combined Gradation'!$G$21=\"\",\"\",'Combined Gradation'!$G$21)","v":"Bin No.2"},{"$f":"IF('Combined Gradation'!$H$34=\"\",\"\",'Combined Gradation'!$H$34)","v":"Wtd Cum. %"},{"$f":"IF('Combined Gradation'!$B$34=\"\",\"\",'Combined Gradation'!$B$34)","v":"Sieve Size:"},{"$f":"IF('Combined Gradation'!$B$35=\"\",\"\",'Combined Gradation'!$B$35)","v":"1\""}]
[74,{"$f":"IF('Combined Gradation'!$I$35=\"\",\"\",'Combined Gradation'!$I$35)","v":""},{"$f":"IF('Combined Gradation'!$B$5=\"\",\"\",'Combined Gradation'!$B$5)","v":"2014 HMACP MIXTURE DESIGN : COMBINED GRADATION"},{"$f":"IF('Combined Gradation'!$I$21=\"\",\"\",'Combined Gradation'!$I$21)","v":"Bin No.3"},{"$f":"IF('Combined Gradation'!$I$34=\"\",\"\",'Combined Gradation'!$I$34)","v":"Cum.% Passing"},{"$f":"IF('Combined Gradation'!$B$34=\"\",\"\",'Combined Gradation'!$B$34)","v":"Sieve Size:"},{"$f":"IF('Combined Gradation'!$B$35=\"\",\"\",'Combined Gradation'!$B$35)","v":"1\""}]
[75,{"$f":"IF('Combined Gradation'!$J$35=\"\",\"\",'Combined Gradation'!$J$35)","v":""},{"$f":"IF('Combined Gradation'!$B$5=\"\",\"\",'Combined Gradation'!$B$5)","v":"2014 HMACP MIXTURE DESIGN : COMBINED GRADATION"},{"$f":"IF('Combined Gradation'!$I$21=\"\",\"\",'Combined Gradation'!$I$21)","v":"Bin No.3"},{"$f":"IF('Combined Gradation'!$J$34=\"\",\"\",'Combined Gradation'!$J$34)","v":"Wtd Cum. %"},{"$f":"IF('Combined Gradation'!$B$34=\"\",\"\",'Combined Gradation'!$B$34)","v":"Sieve Size:"},{"$f":"IF('Combined Gradation'!$B$35=\"\",\"\",'Combined Gradation'!$B$35)","v":"1\""}]
[76,{"$f":"IF('Combined Gradation'!$K$35=\"\",\"\",'Combined Gradation'!$K$35)","v":""},{"$f":"IF('Combined Gradation'!$B$5=\"\",\"\",'Combined Gradation'!$B$5)","v":"2014 HMACP MIXTURE DESIGN : COMBINED GRADATION"},{"$f":"IF('Combined Gradation'!$K$21=\"\",\"\",'Combined Gradation'!$K$21)","v":"Bin No.4"},{"$f":"IF('Combined Gradation'!$K$34=\"\",\"\",'Combined Gradation'!$K$34)","v":"Cum.% Passing"},{"$f":"IF('Combined Gradation'!$B$34=\"\",\"\",'Combined Gradation'!$B$34)","v":"Sieve Size:"},{"$f":"IF('Combined Gradation'!$B$35=\"\",\"\",'Combined Gradation'!$B$35)","v":"1\""}]
[77,{"$f":"IF('Combined Gradation'!$L$35=\"\",\"\",'Combined Gradation'!$L$35)","v":""},{"$f":"IF('Combined Gradation'!$B$5=\"\",\"\",'Combined Gradation'!$B$5)","v":"2014 HMACP MIXTURE DESIGN : COMBINED GRADATION"},{"$f":"IF('Combined Gradation'!$K$21=\"\",\"\",'Combined Gradation'!$K$21)","v":"Bin No.4"},{"$f":"IF('Combined Gradation'!$L$34=\"\",\"\",'Combined Gradation'!$L$34)","v":"Wtd Cum. %"},{"$f":"IF('Combined Gradation'!$B$34=\"\",\"\",'Combined Gradation'!$B$34)","v":"Sieve Size:"},{"$f":"IF('Combined Gradation'!$B$35=\"\",\"\",'Combined Gradation'!$B$35)","v":"1\""}]
[78,{"$f":"IF('Combined Gradation'!$M$35=\"\",\"\",'Combined Gradation'!$M$35)","v":""},{"$f":"IF('Combined Gradation'!$B$5=\"\",\"\",'Combined Gradation'!$B$5)","v":"2014 HMACP MIXTURE DESIGN : COMBINED GRADATION"},{"$f":"IF('Combined Gradation'!$M$21=\"\",\"\",'Combined Gradation'!$M$21)","v":"Bin No.5"},{"$f":"IF('Combined Gradation'!$M$34=\"\",\"\",'Combined Gradation'!$M$34)","v":"Cum.% Passing"},{"$f":"IF('Combined Gradation'!$B$34=\"\",\"\",'Combined Gradation'!$B$34)","v":"Sieve Size:"},{"$f":"IF('Combined Gradation'!$B$35=\"\",\"\",'Combined Gradation'!$B$35)","v":"1\""}]
[79,{"$f":"IF('Combined Gradation'!$N$35=\"\",\"\",'Combined Gradation'!$N$35)","v":""},{"$f":"IF('Combined Gradation'!$B$5=\"\",\"\",'Combined Gradation'!$B$5)","v":"2014 HMACP MIXTURE DESIGN : COMBINED GRADATION"},{"$f":"IF('Combined Gradation'!$M$21=\"\",\"\",'Combined Gradation'!$M$21)","v":"Bin No.5"},{"$f":"IF('Combined Gradation'!$N$34=\"\",\"\",'Combined Gradation'!$N$34)","v":"Wtd Cum. %"},{"$f":"IF('Combined Gradation'!$B$34=\"\",\"\",'Combined Gradation'!$B$34)","v":"Sieve Size:"},{"$f":"IF('Combined Gradation'!$B$35=\"\",\"\",'Combined Gradation'!$B$35)","v":"1\""}]
[80,{"$f":"IF('Combined Gradation'!$O$35=\"\",\"\",'Combined Gradation'!$O$35)","v":""},{"$f":"IF('Combined Gradation'!$B$5=\"\",\"\",'Combined Gradation'!$B$5)","v":"2014 HMACP MIXTURE DESIGN : COMBINED GRADATION"},{"$f":"IF('Combined Gradation'!$O$21=\"\",\"\",'Combined Gradation'!$O$21)","v":"Bin No.6 "},{"$f":"IF('Combined Gradation'!$O$34=\"\",\"\",'Combined Gradation'!$O$34)","v":"Cum.% Passing"},{"$f":"IF('Combined Gradation'!$B$34=\"\",\"\",'Combined Gradation'!$B$34)","v":"Sieve Size:"},{"$f":"IF('Combined Gradation'!$B$35=\"\",\"\",'Combined Gradation'!$B$35)","v":"1\""}]
[81,{"$f":"IF('Combined Gradation'!$P$35=\"\",\"\",'Combined Gradation'!$P$35)","v":""},{"$f":"IF('Combined Gradation'!$B$5=\"\",\"\",'Combined Gradation'!$B$5)","v":"2014 HMACP MIXTURE DESIGN : COMBINED GRADATION"},{"$f":"IF('Combined Gradation'!$O$21=\"\",\"\",'Combined Gradation'!$O$21)","v":"Bin No.6 "},{"$f":"IF('Combined Gradation'!$P$34=\"\",\"\",'Combined Gradation'!$P$34)","v":"Wtd Cum. %"},{"$f":"IF('Combined Gradation'!$B$34=\"\",\"\",'Combined Gradation'!$B$34)","v":"Sieve Size:"},{"$f":"IF('Combined Gradation'!$B$35=\"\",\"\",'Combined Gradation'!$B$35)","v":"1\""}]
[82,{"$f":"IF('Combined Gradation'!$Q$35=\"\",\"\",'Combined Gradation'!$Q$35)","v":""},{"$f":"IF('Combined Gradation'!$B$5=\"\",\"\",'Combined Gradation'!$B$5)","v":"2014 HMACP MIXTURE DESIGN : COMBINED GRADATION"},{"$f":"IF('Combined Gradation'!$Q$21=\"\",\"\",'Combined Gradation'!$Q$21)","v":"Bin No.7 "},{"$f":"IF('Combined Gradation'!$Q$34=\"\",\"\",'Combined Gradation'!$Q$34)","v":"Cum.% Passing"},{"$f":"IF('Combined Gradation'!$B$34=\"\",\"\",'Combined Gradation'!$B$34)","v":"Sieve Size:"},{"$f":"IF('Combined Gradation'!$B$35=\"\",\"\",'Combined Gradation'!$B$35)","v":"1\""}]
[83,{"$f":"IF('Combined Gradation'!$R$35=\"\",\"\",'Combined Gradation'!$R$35)","v":""},{"$f":"IF('Combined Gradation'!$B$5=\"\",\"\",'Combined Gradation'!$B$5)","v":"2014 HMACP MIXTURE DESIGN : COMBINED GRADATION"},{"$f":"IF('Combined Gradation'!$Q$21=\"\",\"\",'Combined Gradation'!$Q$21)","v":"Bin No.7 "},{"$f":"IF('Combined Gradation'!$R$34=\"\",\"\",'Combined Gradation'!$R$34)","v":"Wtd Cum. %"},{"$f":"IF('Combined Gradation'!$B$34=\"\",\"\",'Combined Gradation'!$B$34)","v":"Sieve Size:"},{"$f":"IF('Combined Gradation'!$B$35=\"\",\"\",'Combined Gradation'!$B$35)","v":"1\""}]
[84,{"$f":"IF('Combined Gradation'!$Y$35=\"\",\"\",'Combined Gradation'!$Y$35)","v":""},{"$f":"IF('Combined Gradation'!$B$5=\"\",\"\",'Combined Gradation'!$B$5)","v":"2014 HMACP MIXTURE DESIGN : COMBINED GRADATION"},"Combined Gradation",{"$f":"IF('Combined Gradation'!$Y$34=\"\",\"\",'Combined Gradation'!$Y$34)","v":"Cum. % Passing"},{"$f":"IF('Combined Gradation'!$B$34=\"\",\"\",'Combined Gradation'!$B$34)","v":"Sieve Size:"},{"$f":"IF('Combined Gradation'!$B$35=\"\",\"\",'Combined Gradation'!$B$35)","v":"1\""}]
[85,{"$f":"IF('Combined Gradation'!$Z$35=\"\",\"\",'Combined Gradation'!$Z$35)","v":100},{"$f":"IF('Combined Gradation'!$B$5=\"\",\"\",'Combined Gradation'!$B$5)","v":"2014 HMACP MIXTURE DESIGN : COMBINED GRADATION"},{"$f":"IF('Combined Gradation'!$Z$31=\"\",\"\",'Combined Gradation'!$Z$31)","v":"Lower & Upper Specification Limits"},{"$f":"IF('Combined Gradation'!$Z$34=\"\",\"\",'Combined Gradation'!$Z$34)","v":"Lower"},{"$f":"IF('Combined Gradation'!$B$34=\"\",\"\",'Combined Gradation'!$B$34)","v":"Sieve Size:"},{"$f":"IF('Combined Gradation'!$B$35=\"\",\"\",'Combined Gradation'!$B$35)","v":"1\""}]
[86,{"$f":"IF('Combined Gradation'!$AA$35=\"\",\"\",'Combined Gradation'!$AA$35)","v":100},{"$f":"IF('Combined Gradation'!$B$5=\"\",\"\",'Combined Gradation'!$B$5)","v":"2014 HMACP MIXTURE DESIGN : COMBINED GRADATION"},{"$f":"IF('Combined Gradation'!$Z$31=\"\",\"\",'Combined Gradation'!$Z$31)","v":"Lower & Upper Specification Limits"},{"$f":"IF('Combined Gradation'!$AA$34=\"\",\"\",'Combined Gradation'!$AA$34)","v":"Upper"},{"$f":"IF('Combined Gradation'!$B$34=\"\",\"\",'Combined Gradation'!$B$34)","v":"Sieve Size:"},{"$f":"IF('Combined Gradation'!$B$35=\"\",\"\",'Combined Gradation'!$B$35)","v":"1\""}]
[87,{"$f":"IF('Combined Gradation'!$AB$35=\"\",\"\",'Combined Gradation'!$AB$35)","v":"No"},{"$f":"IF('Combined Gradation'!$B$5=\"\",\"\",'Combined Gradation'!$B$5)","v":"2014 HMACP MIXTURE DESIGN : COMBINED GRADATION"},{"$f":"IF('Combined Gradation'!$Z$31=\"\",\"\",'Combined Gradation'!$Z$31)","v":"Lower & Upper Specification Limits"},{"$f":"IF('Combined Gradation'!$AB$34=\"\",\"\",'Combined Gradation'!$AB$34)","v":"Within Spec's"},{"$f":"IF('Combined Gradation'!$B$34=\"\",\"\",'Combined Gradation'!$B$34)","v":"Sieve Size:"},{"$f":"IF('Combined Gradation'!$B$35=\"\",\"\",'Combined Gradation'!$B$35)","v":"1\""}]
[88,{"$f":"IF('Combined Gradation'!$AC$35=\"\",\"\",'Combined Gradation'!$AC$35)","v":""},{"$f":"IF('Combined Gradation'!$B$5=\"\",\"\",'Combined Gradation'!$B$5)","v":"2014 HMACP MIXTURE DESIGN : COMBINED GRADATION"},{"$f":"IF('Combined Gradation'!$AC$31=\"\",\"\",'Combined Gradation'!$AC$31)","v":"Restricted Zone"},{"$f":"IF('Combined Gradation'!$AC$34=\"\",\"\",'Combined Gradation'!$AC$34)","v":"Lower"},{"$f":"IF('Combined Gradation'!$B$34=\"\",\"\",'Combined Gradation'!$B$34)","v":"Sieve Size:"},{"$f":"IF('Combined Gradation'!$B$35=\"\",\"\",'Combined Gradation'!$B$35)","v":"1\""}]
[89,{"$f":"IF('Combined Gradation'!$AD$35=\"\",\"\",'Combined Gradation'!$AD$35)","v":0},{"$f":"IF('Combined Gradation'!$B$5=\"\",\"\",'Combined Gradation'!$B$5)","v":"2014 HMACP MIXTURE DESIGN : COMBINED GRADATION"},{"$f":"IF('Combined Gradation'!$AC$31=\"\",\"\",'Combined Gradation'!$AC$31)","v":"Restricted Zone"},{"$f":"IF('Combined Gradation'!$AD$34=\"\",\"\",'Combined Gradation'!$AD$34)","v":"Upper"},{"$f":"IF('Combined Gradation'!$B$34=\"\",\"\",'Combined Gradation'!$B$34)","v":"Sieve Size:"},{"$f":"IF('Combined Gradation'!$B$35=\"\",\"\",'Combined Gradation'!$B$35)","v":"1\""}]
[90,{"$f":"IF('Combined Gradation'!$AE$35=\"\",\"\",'Combined Gradation'!$AE$35)","v":""},{"$f":"IF('Combined Gradation'!$B$5=\"\",\"\",'Combined Gradation'!$B$5)","v":"2014 HMACP MIXTURE DESIGN : COMBINED GRADATION"},{"$f":"IF('Combined Gradation'!$AC$31=\"\",\"\",'Combined Gradation'!$AC$31)","v":"Restricted Zone"},{"$f":"IF('Combined Gradation'!$AE$34=\"\",\"\",'Combined Gradation'!$AE$34)","v":"Within Spec's"},{"$f":"IF('Combined Gradation'!$B$34=\"\",\"\",'Combined Gradation'!$B$34)","v":"Sieve Size:"},{"$f":"IF('Combined Gradation'!$B$35=\"\",\"\",'Combined Gradation'!$B$35)","v":"1\""}]
[91,{"$f":"IF('Combined Gradation'!$AF$35=\"\",\"\",'Combined Gradation'!$AF$35)","v":""},{"$f":"IF('Combined Gradation'!$B$5=\"\",\"\",'Combined Gradation'!$B$5)","v":"2014 HMACP MIXTURE DESIGN : COMBINED GRADATION"},{"$f":"IF('Combined Gradation'!$AF$31=\"\",\"\",'Combined Gradation'!$AF$31)","v":"Individual % Retained"},{"$f":"IF('Combined Gradation'!$B$34=\"\",\"\",'Combined Gradation'!$B$34)","v":"Sieve Size:"},{"$f":"IF('Combined Gradation'!$B$35=\"\",\"\",'Combined Gradation'!$B$35)","v":"1\""}]
[92,{"$f":"IF('Combined Gradation'!$AG$35=\"\",\"\",'Combined Gradation'!$AG$35)","v":""},{"$f":"IF('Combined Gradation'!$B$5=\"\",\"\",'Combined Gradation'!$B$5)","v":"2014 HMACP MIXTURE DESIGN : COMBINED GRADATION"},{"$f":"IF('Combined Gradation'!$AG$31=\"\",\"\",'Combined Gradation'!$AG$31)","v":"Cumulative % Retained"},{"$f":"IF('Combined Gradation'!$B$34=\"\",\"\",'Combined Gradation'!$B$34)","v":"Sieve Size:"},{"$f":"IF('Combined Gradation'!$B$35=\"\",\"\",'Combined Gradation'!$B$35)","v":"1\""}]
[93,{"$f":"IF('Combined Gradation'!$E$36=\"\",\"\",'Combined Gradation'!$E$36)","v":""},{"$f":"IF('Combined Gradation'!$B$5=\"\",\"\",'Combined Gradation'!$B$5)","v":"2014 HMACP MIXTURE DESIGN : COMBINED GRADATION"},{"$f":"IF('Combined Gradation'!$E$21=\"\",\"\",'Combined Gradation'!$E$21)","v":"Bin No.1"},{"$f":"IF('Combined Gradation'!$E$34=\"\",\"\",'Combined Gradation'!$E$34)","v":"Cum.% Passing"},{"$f":"IF('Combined Gradation'!$B$34=\"\",\"\",'Combined Gradation'!$B$34)","v":"Sieve Size:"},{"$f":"IF('Combined Gradation'!$B$36=\"\",\"\",'Combined Gradation'!$B$36)","v":"3/4\""}]
[94,{"$f":"IF('Combined Gradation'!$F$36=\"\",\"\",'Combined Gradation'!$F$36)","v":""},{"$f":"IF('Combined Gradation'!$B$5=\"\",\"\",'Combined Gradation'!$B$5)","v":"2014 HMACP MIXTURE DESIGN : COMBINED GRADATION"},{"$f":"IF('Combined Gradation'!$E$21=\"\",\"\",'Combined Gradation'!$E$21)","v":"Bin No.1"},{"$f":"IF('Combined Gradation'!$F$34=\"\",\"\",'Combined Gradation'!$F$34)","v":"Wtd Cum. %"},{"$f":"IF('Combined Gradation'!$B$34=\"\",\"\",'Combined Gradation'!$B$34)","v":"Sieve Size:"},{"$f":"IF('Combined Gradation'!$B$36=\"\",\"\",'Combined Gradation'!$B$36)","v":"3/4\""}]
[95,{"$f":"IF('Combined Gradation'!$G$36=\"\",\"\",'Combined Gradation'!$G$36)","v":""},{"$f":"IF('Combined Gradation'!$B$5=\"\",\"\",'Combined Gradation'!$B$5)","v":"2014 HMACP MIXTURE DESIGN : COMBINED GRADATION"},{"$f":"IF('Combined Gradation'!$G$21=\"\",\"\",'Combined Gradation'!$G$21)","v":"Bin No.2"},{"$f":"IF('Combined Gradation'!$G$34=\"\",\"\",'Combined Gradation'!$G$34)","v":"Cum.% Passing"},{"$f":"IF('Combined Gradation'!$B$34=\"\",\"\",'Combined Gradation'!$B$34)","v":"Sieve Size:"},{"$f":"IF('Combined Gradation'!$B$36=\"\",\"\",'Combined Gradation'!$B$36)","v":"3/4\""}]
[96,{"$f":"IF('Combined Gradation'!$H$36=\"\",\"\",'Combined Gradation'!$H$36)","v":""},{"$f":"IF('Combined Gradation'!$B$5=\"\",\"\",'Combined Gradation'!$B$5)","v":"2014 HMACP MIXTURE DESIGN : COMBINED GRADATION"},{"$f":"IF('Combined Gradation'!$G$21=\"\",\"\",'Combined Gradation'!$G$21)","v":"Bin No.2"},{"$f":"IF('Combined Gradation'!$H$34=\"\",\"\",'Combined Gradation'!$H$34)","v":"Wtd Cum. %"},{"$f":"IF('Combined Gradation'!$B$34=\"\",\"\",'Combined Gradation'!$B$34)","v":"Sieve Size:"},{"$f":"IF('Combined Gradation'!$B$36=\"\",\"\",'Combined Gradation'!$B$36)","v":"3/4\""}]
[97,{"$f":"IF('Combined Gradation'!$I$36=\"\",\"\",'Combined Gradation'!$I$36)","v":""},{"$f":"IF('Combined Gradation'!$B$5=\"\",\"\",'Combined Gradation'!$B$5)","v":"2014 HMACP MIXTURE DESIGN : COMBINED GRADATION"},{"$f":"IF('Combined Gradation'!$I$21=\"\",\"\",'Combined Gradation'!$I$21)","v":"Bin No.3"},{"$f":"IF('Combined Gradation'!$I$34=\"\",\"\",'Combined Gradation'!$I$34)","v":"Cum.% Passing"},{"$f":"IF('Combined Gradation'!$B$34=\"\",\"\",'Combined Gradation'!$B$34)","v":"Sieve Size:"},{"$f":"IF('Combined Gradation'!$B$36=\"\",\"\",'Combined Gradation'!$B$36)","v":"3/4\""}]
[98,{"$f":"IF('Combined Gradation'!$J$36=\"\",\"\",'Combined Gradation'!$J$36)","v":""},{"$f":"IF('Combined Gradation'!$B$5=\"\",\"\",'Combined Gradation'!$B$5)","v":"2014 HMACP MIXTURE DESIGN : COMBINED GRADATION"},{"$f":"IF('Combined Gradation'!$I$21=\"\",\"\",'Combined Gradation'!$I$21)","v":"Bin No.3"},{"$f":"IF('Combined Gradation'!$J$34=\"\",\"\",'Combined Gradation'!$J$34)","v":"Wtd Cum. %"},{"$f":"IF('Combined Gradation'!$B$34=\"\",\"\",'Combined Gradation'!$B$34)","v":"Sieve Size:"},{"$f":"IF('Combined Gradation'!$B$36=\"\",\"\",'Combined Gradation'!$B$36)","v":"3/4\""}]
[99,{"$f":"IF('Combined Gradation'!$K$36=\"\",\"\",'Combined Gradation'!$K$36)","v":""},{"$f":"IF('Combined Gradation'!$B$5=\"\",\"\",'Combined Gradation'!$B$5)","v":"2014 HMACP MIXTURE DESIGN : COMBINED GRADATION"},{"$f":"IF('Combined Gradation'!$K$21=\"\",\"\",'Combined Gradation'!$K$21)","v":"Bin No.4"},{"$f":"IF('Combined Gradation'!$K$34=\"\",\"\",'Combined Gradation'!$K$34)","v":"Cum.% Passing"},{"$f":"IF('Combined Gradation'!$B$34=\"\",\"\",'Combined Gradation'!$B$34)","v":"Sieve Size:"},{"$f":"IF('Combined Gradation'!$B$36=\"\",\"\",'Combined Gradation'!$B$36)","v":"3/4\""}]
[100,{"$f":"IF('Combined Gradation'!$L$36=\"\",\"\",'Combined Gradation'!$L$36)","v":""},{"$f":"IF('Combined Gradation'!$B$5=\"\",\"\",'Combined Gradation'!$B$5)","v":"2014 HMACP MIXTURE DESIGN : COMBINED GRADATION"},{"$f":"IF('Combined Gradation'!$K$21=\"\",\"\",'Combined Gradation'!$K$21)","v":"Bin No.4"},{"$f":"IF('Combined Gradation'!$L$34=\"\",\"\",'Combined Gradation'!$L$34)","v":"Wtd Cum. %"},{"$f":"IF('Combined Gradation'!$B$34=\"\",\"\",'Combined Gradation'!$B$34)","v":"Sieve Size:"},{"$f":"IF('Combined Gradation'!$B$36=\"\",\"\",'Combined Gradation'!$B$36)","v":"3/4\""}]
[101,{"$f":"IF('Combined Gradation'!$M$36=\"\",\"\",'Combined Gradation'!$M$36)","v":""},{"$f":"IF('Combined Gradation'!$B$5=\"\",\"\",'Combined Gradation'!$B$5)","v":"2014 HMACP MIXTURE DESIGN : COMBINED GRADATION"},{"$f":"IF('Combined Gradation'!$M$21=\"\",\"\",'Combined Gradation'!$M$21)","v":"Bin No.5"},{"$f":"IF('Combined Gradation'!$M$34=\"\",\"\",'Combined Gradation'!$M$34)","v":"Cum.% Passing"},{"$f":"IF('Combined Gradation'!$B$34=\"\",\"\",'Combined Gradation'!$B$34)","v":"Sieve Size:"},{"$f":"IF('Combined Gradation'!$B$36=\"\",\"\",'Combined Gradation'!$B$36)","v":"3/4\""}]
[102,{"$f":"IF('Combined Gradation'!$N$36=\"\",\"\",'Combined Gradation'!$N$36)","v":""},{"$f":"IF('Combined Gradation'!$B$5=\"\",\"\",'Combined Gradation'!$B$5)","v":"2014 HMACP MIXTURE DESIGN : COMBINED GRADATION"},{"$f":"IF('Combined Gradation'!$M$21=\"\",\"\",'Combined Gradation'!$M$21)","v":"Bin No.5"},{"$f":"IF('Combined Gradation'!$N$34=\"\",\"\",'Combined Gradation'!$N$34)","v":"Wtd Cum. %"},{"$f":"IF('Combined Gradation'!$B$34=\"\",\"\",'Combined Gradation'!$B$34)","v":"Sieve Size:"},{"$f":"IF('Combined Gradation'!$B$36=\"\",\"\",'Combined Gradation'!$B$36)","v":"3/4\""}]
[103,{"$f":"IF('Combined Gradation'!$O$36=\"\",\"\",'Combined Gradation'!$O$36)","v":""},{"$f":"IF('Combined Gradation'!$B$5=\"\",\"\",'Combined Gradation'!$B$5)","v":"2014 HMACP MIXTURE DESIGN : COMBINED GRADATION"},{"$f":"IF('Combined Gradation'!$O$21=\"\",\"\",'Combined Gradation'!$O$21)","v":"Bin No.6 "},{"$f":"IF('Combined Gradation'!$O$34=\"\",\"\",'Combined Gradation'!$O$34)","v":"Cum.% Passing"},{"$f":"IF('Combined Gradation'!$B$34=\"\",\"\",'Combined Gradation'!$B$34)","v":"Sieve Size:"},{"$f":"IF('Combined Gradation'!$B$36=\"\",\"\",'Combined Gradation'!$B$36)","v":"3/4\""}]
[104,{"$f":"IF('Combined Gradation'!$P$36=\"\",\"\",'Combined Gradation'!$P$36)","v":""},{"$f":"IF('Combined Gradation'!$B$5=\"\",\"\",'Combined Gradation'!$B$5)","v":"2014 HMACP MIXTURE DESIGN : COMBINED GRADATION"},{"$f":"IF('Combined Gradation'!$O$21=\"\",\"\",'Combined Gradation'!$O$21)","v":"Bin No.6 "},{"$f":"IF('Combined Gradation'!$P$34=\"\",\"\",'Combined Gradation'!$P$34)","v":"Wtd Cum. %"},{"$f":"IF('Combined Gradation'!$B$34=\"\",\"\",'Combined Gradation'!$B$34)","v":"Sieve Size:"},{"$f":"IF('Combined Gradation'!$B$36=\"\",\"\",'Combined Gradation'!$B$36)","v":"3/4\""}]
[105,{"$f":"IF('Combined Gradation'!$Q$36=\"\",\"\",'Combined Gradation'!$Q$36)","v":""},{"$f":"IF('Combined Gradation'!$B$5=\"\",\"\",'Combined Gradation'!$B$5)","v":"2014 HMACP MIXTURE DESIGN : COMBINED GRADATION"},{"$f":"IF('Combined Gradation'!$Q$21=\"\",\"\",'Combined Gradation'!$Q$21)","v":"Bin No.7 "},{"$f":"IF('Combined Gradation'!$Q$34=\"\",\"\",'Combined Gradation'!$Q$34)","v":"Cum.% Passing"},{"$f":"IF('Combined Gradation'!$B$34=\"\",\"\",'Combined Gradation'!$B$34)","v":"Sieve Size:"},{"$f":"IF('Combined Gradation'!$B$36=\"\",\"\",'Combined Gradation'!$B$36)","v":"3/4\""}]
[106,{"$f":"IF('Combined Gradation'!$R$36=\"\",\"\",'Combined Gradation'!$R$36)","v":""},{"$f":"IF('Combined Gradation'!$B$5=\"\",\"\",'Combined Gradation'!$B$5)","v":"2014 HMACP MIXTURE DESIGN : COMBINED GRADATION"},{"$f":"IF('Combined Gradation'!$Q$21=\"\",\"\",'Combined Gradation'!$Q$21)","v":"Bin No.7 "},{"$f":"IF('Combined Gradation'!$R$34=\"\",\"\",'Combined Gradation'!$R$34)","v":"Wtd Cum. %"},{"$f":"IF('Combined Gradation'!$B$34=\"\",\"\",'Combined Gradation'!$B$34)","v":"Sieve Size:"},{"$f":"IF('Combined Gradation'!$B$36=\"\",\"\",'Combined Gradation'!$B$36)","v":"3/4\""}]
[107,{"$f":"IF('Combined Gradation'!$Y$36=\"\",\"\",'Combined Gradation'!$Y$36)","v":""},{"$f":"IF('Combined Gradation'!$B$5=\"\",\"\",'Combined Gradation'!$B$5)","v":"2014 HMACP MIXTURE DESIGN : COMBINED GRADATION"},"Combined Gradation",{"$f":"IF('Combined Gradation'!$Y$34=\"\",\"\",'Combined Gradation'!$Y$34)","v":"Cum. % Passing"},{"$f":"IF('Combined Gradation'!$B$34=\"\",\"\",'Combined Gradation'!$B$34)","v":"Sieve Size:"},{"$f":"IF('Combined Gradation'!$B$36=\"\",\"\",'Combined Gradation'!$B$36)","v":"3/4\""}]
[108,{"$f":"IF('Combined Gradation'!$Z$36=\"\",\"\",'Combined Gradation'!$Z$36)","v":98},{"$f":"IF('Combined Gradation'!$B$5=\"\",\"\",'Combined Gradation'!$B$5)","v":"2014 HMACP MIXTURE DESIGN : COMBINED GRADATION"},{"$f":"IF('Combined Gradation'!$Z$31=\"\",\"\",'Combined Gradation'!$Z$31)","v":"Lower & Upper Specification Limits"},{"$f":"IF('Combined Gradation'!$Z$34=\"\",\"\",'Combined Gradation'!$Z$34)","v":"Lower"},{"$f":"IF('Combined Gradation'!$B$34=\"\",\"\",'Combined Gradation'!$B$34)","v":"Sieve Size:"},{"$f":"IF('Combined Gradation'!$B$36=\"\",\"\",'Combined Gradation'!$B$36)","v":"3/4\""}]
[109,{"$f":"IF('Combined Gradation'!$AA$36=\"\",\"\",'Combined Gradation'!$AA$36)","v":100},{"$f":"IF('Combined Gradation'!$B$5=\"\",\"\",'Combined Gradation'!$B$5)","v":"2014 HMACP MIXTURE DESIGN : COMBINED GRADATION"},{"$f":"IF('Combined Gradation'!$Z$31=\"\",\"\",'Combined Gradation'!$Z$31)","v":"Lower & Upper Specification Limits"},{"$f":"IF('Combined Gradation'!$AA$34=\"\",\"\",'Combined Gradation'!$AA$34)","v":"Upper"},{"$f":"IF('Combined Gradation'!$B$34=\"\",\"\",'Combined Gradation'!$B$34)","v":"Sieve Size:"},{"$f":"IF('Combined Gradation'!$B$36=\"\",\"\",'Combined Gradation'!$B$36)","v":"3/4\""}]
[110,{"$f":"IF('Combined Gradation'!$AB$36=\"\",\"\",'Combined Gradation'!$AB$36)","v":"No"},{"$f":"IF('Combined Gradation'!$B$5=\"\",\"\",'Combined Gradation'!$B$5)","v":"2014 HMACP MIXTURE DESIGN : COMBINED GRADATION"},{"$f":"IF('Combined Gradation'!$Z$31=\"\",\"\",'Combined Gradation'!$Z$31)","v":"Lower & Upper Specification Limits"},{"$f":"IF('Combined Gradation'!$AB$34=\"\",\"\",'Combined Gradation'!$AB$34)","v":"Within Spec's"},{"$f":"IF('Combined Gradation'!$B$34=\"\",\"\",'Combined Gradation'!$B$34)","v":"Sieve Size:"},{"$f":"IF('Combined Gradation'!$B$36=\"\",\"\",'Combined Gradation'!$B$36)","v":"3/4\""}]
[111,{"$f":"IF('Combined Gradation'!$AC$36=\"\",\"\",'Combined Gradation'!$AC$36)","v":""},{"$f":"IF('Combined Gradation'!$B$5=\"\",\"\",'Combined Gradation'!$B$5)","v":"2014 HMACP MIXTURE DESIGN : COMBINED GRADATION"},{"$f":"IF('Combined Gradation'!$AC$31=\"\",\"\",'Combined Gradation'!$AC$31)","v":"Restricted Zone"},{"$f":"IF('Combined Gradation'!$AC$34=\"\",\"\",'Combined Gradation'!$AC$34)","v":"Lower"},{"$f":"IF('Combined Gradation'!$B$34=\"\",\"\",'Combined Gradation'!$B$34)","v":"Sieve Size:"},{"$f":"IF('Combined Gradation'!$B$36=\"\",\"\",'Combined Gradation'!$B$36)","v":"3/4\""}]
[112,{"$f":"IF('Combined Gradation'!$AD$36=\"\",\"\",'Combined Gradation'!$AD$36)","v":0},{"$f":"IF('Combined Gradation'!$B$5=\"\",\"\",'Combined Gradation'!$B$5)","v":"2014 HMACP MIXTURE DESIGN : COMBINED GRADATION"},{"$f":"IF('Combined Gradation'!$AC$31=\"\",\"\",'Combined Gradation'!$AC$31)","v":"Restricted Zone"},{"$f":"IF('Combined Gradation'!$AD$34=\"\",\"\",'Combined Gradation'!$AD$34)","v":"Upper"},{"$f":"IF('Combined Gradation'!$B$34=\"\",\"\",'Combined Gradation'!$B$34)","v":"Sieve Size:"},{"$f":"IF('Combined Gradation'!$B$36=\"\",\"\",'Combined Gradation'!$B$36)","v":"3/4\""}]
[113,{"$f":"IF('Combined Gradation'!$AE$36=\"\",\"\",'Combined Gradation'!$AE$36)","v":""},{"$f":"IF('Combined Gradation'!$B$5=\"\",\"\",'Combined Gradation'!$B$5)","v":"2014 HMACP MIXTURE DESIGN : COMBINED GRADATION"},{"$f":"IF('Combined Gradation'!$AC$31=\"\",\"\",'Combined Gradation'!$AC$31)","v":"Restricted Zone"},{"$f":"IF('Combined Gradation'!$AE$34=\"\",\"\",'Combined Gradation'!$AE$34)","v":"Within Spec's"},{"$f":"IF('Combined Gradation'!$B$34=\"\",\"\",'Combined Gradation'!$B$34)","v":"Sieve Size:"},{"$f":"IF('Combined Gradation'!$B$36=\"\",\"\",'Combined Gradation'!$B$36)","v":"3/4\""}]
[114,{"$f":"IF('Combined Gradation'!$AF$36=\"\",\"\",'Combined Gradation'!$AF$36)","v":""},{"$f":"IF('Combined Gradation'!$B$5=\"\",\"\",'Combined Gradation'!$B$5)","v":"2014 HMACP MIXTURE DESIGN : COMBINED GRADATION"},{"$f":"IF('Combined Gradation'!$AF$31=\"\",\"\",'Combined Gradation'!$AF$31)","v":"Individual % Retained"},{"$f":"IF('Combined Gradation'!$B$34=\"\",\"\",'Combined Gradation'!$B$34)","v":"Sieve Size:"},{"$f":"IF('Combined Gradation'!$B$36=\"\",\"\",'Combined Gradation'!$B$36)","v":"3/4\""}]
[115,{"$f":"IF('Combined Gradation'!$AG$36=\"\",\"\",'Combined Gradation'!$AG$36)","v":""},{"$f":"IF('Combined Gradation'!$B$5=\"\",\"\",'Combined Gradation'!$B$5)","v":"2014 HMACP MIXTURE DESIGN : COMBINED GRADATION"},{"$f":"IF('Combined Gradation'!$AG$31=\"\",\"\",'Combined Gradation'!$AG$31)","v":"Cumulative % Retained"},{"$f":"IF('Combined Gradation'!$B$34=\"\",\"\",'Combined Gradation'!$B$34)","v":"Sieve Size:"},{"$f":"IF('Combined Gradation'!$B$36=\"\",\"\",'Combined Gradation'!$B$36)","v":"3/4\""}]
[116,{"$f":"IF('Combined Gradation'!$E$37=\"\",\"\",'Combined Gradation'!$E$37)","v":""},{"$f":"IF('Combined Gradation'!$B$5=\"\",\"\",'Combined Gradation'!$B$5)","v":"2014 HMACP MIXTURE DESIGN : COMBINED GRADATION"},{"$f":"IF('Combined Gradation'!$E$21=\"\",\"\",'Combined Gradation'!$E$21)","v":"Bin No.1"},{"$f":"IF('Combined Gradation'!$E$34=\"\",\"\",'Combined Gradation'!$E$34)","v":"Cum.% Passing"},{"$f":"IF('Combined Gradation'!$B$34=\"\",\"\",'Combined Gradation'!$B$34)","v":"Sieve Size:"},{"$f":"IF('Combined Gradation'!$B$37=\"\",\"\",'Combined Gradation'!$B$37)","v":"1/2\""}]
[117,{"$f":"IF('Combined Gradation'!$F$37=\"\",\"\",'Combined Gradation'!$F$37)","v":""},{"$f":"IF('Combined Gradation'!$B$5=\"\",\"\",'Combined Gradation'!$B$5)","v":"2014 HMACP MIXTURE DESIGN : COMBINED GRADATION"},{"$f":"IF('Combined Gradation'!$E$21=\"\",\"\",'Combined Gradation'!$E$21)","v":"Bin No.1"},{"$f":"IF('Combined Gradation'!$F$34=\"\",\"\",'Combined Gradation'!$F$34)","v":"Wtd Cum. %"},{"$f":"IF('Combined Gradation'!$B$34=\"\",\"\",'Combined Gradation'!$B$34)","v":"Sieve Size:"},{"$f":"IF('Combined Gradation'!$B$37=\"\",\"\",'Combined Gradation'!$B$37)","v":"1/2\""}]
[118,{"$f":"IF('Combined Gradation'!$G$37=\"\",\"\",'Combined Gradation'!$G$37)","v":""},{"$f":"IF('Combined Gradation'!$B$5=\"\",\"\",'Combined Gradation'!$B$5)","v":"2014 HMACP MIXTURE DESIGN : COMBINED GRADATION"},{"$f":"IF('Combined Gradation'!$G$21=\"\",\"\",'Combined Gradation'!$G$21)","v":"Bin No.2"},{"$f":"IF('Combined Gradation'!$G$34=\"\",\"\",'Combined Gradation'!$G$34)","v":"Cum.% Passing"},{"$f":"IF('Combined Gradation'!$B$34=\"\",\"\",'Combined Gradation'!$B$34)","v":"Sieve Size:"},{"$f":"IF('Combined Gradation'!$B$37=\"\",\"\",'Combined Gradation'!$B$37)","v":"1/2\""}]
[119,{"$f":"IF('Combined Gradation'!$H$37=\"\",\"\",'Combined Gradation'!$H$37)","v":""},{"$f":"IF('Combined Gradation'!$B$5=\"\",\"\",'Combined Gradation'!$B$5)","v":"2014 HMACP MIXTURE DESIGN : COMBINED GRADATION"},{"$f":"IF('Combined Gradation'!$G$21=\"\",\"\",'Combined Gradation'!$G$21)","v":"Bin No.2"},{"$f":"IF('Combined Gradation'!$H$34=\"\",\"\",'Combined Gradation'!$H$34)","v":"Wtd Cum. %"},{"$f":"IF('Combined Gradation'!$B$34=\"\",\"\",'Combined Gradation'!$B$34)","v":"Sieve Size:"},{"$f":"IF('Combined Gradation'!$B$37=\"\",\"\",'Combined Gradation'!$B$37)","v":"1/2\""}]
[120,{"$f":"IF('Combined Gradation'!$I$37=\"\",\"\",'Combined Gradation'!$I$37)","v":""},{"$f":"IF('Combined Gradation'!$B$5=\"\",\"\",'Combined Gradation'!$B$5)","v":"2014 HMACP MIXTURE DESIGN : COMBINED GRADATION"},{"$f":"IF('Combined Gradation'!$I$21=\"\",\"\",'Combined Gradation'!$I$21)","v":"Bin No.3"},{"$f":"IF('Combined Gradation'!$I$34=\"\",\"\",'Combined Gradation'!$I$34)","v":"Cum.% Passing"},{"$f":"IF('Combined Gradation'!$B$34=\"\",\"\",'Combined Gradation'!$B$34)","v":"Sieve Size:"},{"$f":"IF('Combined Gradation'!$B$37=\"\",\"\",'Combined Gradation'!$B$37)","v":"1/2\""}]
[121,{"$f":"IF('Combined Gradation'!$J$37=\"\",\"\",'Combined Gradation'!$J$37)","v":""},{"$f":"IF('Combined Gradation'!$B$5=\"\",\"\",'Combined Gradation'!$B$5)","v":"2014 HMACP MIXTURE DESIGN : COMBINED GRADATION"},{"$f":"IF('Combined Gradation'!$I$21=\"\",\"\",'Combined Gradation'!$I$21)","v":"Bin No.3"},{"$f":"IF('Combined Gradation'!$J$34=\"\",\"\",'Combined Gradation'!$J$34)","v":"Wtd Cum. %"},{"$f":"IF('Combined Gradation'!$B$34=\"\",\"\",'Combined Gradation'!$B$34)","v":"Sieve Size:"},{"$f":"IF('Combined Gradation'!$B$37=\"\",\"\",'Combined Gradation'!$B$37)","v":"1/2\""}]
[122,{"$f":"IF('Combined Gradation'!$K$37=\"\",\"\",'Combined Gradation'!$K$37)","v":""},{"$f":"IF('Combined Gradation'!$B$5=\"\",\"\",'Combined Gradation'!$B$5)","v":"2014 HMACP MIXTURE DESIGN : COMBINED GRADATION"},{"$f":"IF('Combined Gradation'!$K$21=\"\",\"\",'Combined Gradation'!$K$21)","v":"Bin No.4"},{"$f":"IF('Combined Gradation'!$K$34=\"\",\"\",'Combined Gradation'!$K$34)","v":"Cum.% Passing"},{"$f":"IF('Combined Gradation'!$B$34=\"\",\"\",'Combined Gradation'!$B$34)","v":"Sieve Size:"},{"$f":"IF('Combined Gradation'!$B$37=\"\",\"\",'Combined Gradation'!$B$37)","v":"1/2\""}]
[123,{"$f":"IF('Combined Gradation'!$L$37=\"\",\"\",'Combined Gradation'!$L$37)","v":""},{"$f":"IF('Combined Gradation'!$B$5=\"\",\"\",'Combined Gradation'!$B$5)","v":"2014 HMACP MIXTURE DESIGN : COMBINED GRADATION"},{"$f":"IF('Combined Gradation'!$K$21=\"\",\"\",'Combined Gradation'!$K$21)","v":"Bin No.4"},{"$f":"IF('Combined Gradation'!$L$34=\"\",\"\",'Combined Gradation'!$L$34)","v":"Wtd Cum. %"},{"$f":"IF('Combined Gradation'!$B$34=\"\",\"\",'Combined Gradation'!$B$34)","v":"Sieve Size:"},{"$f":"IF('Combined Gradation'!$B$37=\"\",\"\",'Combined Gradation'!$B$37)","v":"1/2\""}]
[124,{"$f":"IF('Combined Gradation'!$M$37=\"\",\"\",'Combined Gradation'!$M$37)","v":""},{"$f":"IF('Combined Gradation'!$B$5=\"\",\"\",'Combined Gradation'!$B$5)","v":"2014 HMACP MIXTURE DESIGN : COMBINED GRADATION"},{"$f":"IF('Combined Gradation'!$M$21=\"\",\"\",'Combined Gradation'!$M$21)","v":"Bin No.5"},{"$f":"IF('Combined Gradation'!$M$34=\"\",\"\",'Combined Gradation'!$M$34)","v":"Cum.% Passing"},{"$f":"IF('Combined Gradation'!$B$34=\"\",\"\",'Combined Gradation'!$B$34)","v":"Sieve Size:"},{"$f":"IF('Combined Gradation'!$B$37=\"\",\"\",'Combined Gradation'!$B$37)","v":"1/2\""}]
[125,{"$f":"IF('Combined Gradation'!$N$37=\"\",\"\",'Combined Gradation'!$N$37)","v":""},{"$f":"IF('Combined Gradation'!$B$5=\"\",\"\",'Combined Gradation'!$B$5)","v":"2014 HMACP MIXTURE DESIGN : COMBINED GRADATION"},{"$f":"IF('Combined Gradation'!$M$21=\"\",\"\",'Combined Gradation'!$M$21)","v":"Bin No.5"},{"$f":"IF('Combined Gradation'!$N$34=\"\",\"\",'Combined Gradation'!$N$34)","v":"Wtd Cum. %"},{"$f":"IF('Combined Gradation'!$B$34=\"\",\"\",'Combined Gradation'!$B$34)","v":"Sieve Size:"},{"$f":"IF('Combined Gradation'!$B$37=\"\",\"\",'Combined Gradation'!$B$37)","v":"1/2\""}]
[126,{"$f":"IF('Combined Gradation'!$O$37=\"\",\"\",'Combined Gradation'!$O$37)","v":""},{"$f":"IF('Combined Gradation'!$B$5=\"\",\"\",'Combined Gradation'!$B$5)","v":"2014 HMACP MIXTURE DESIGN : COMBINED GRADATION"},{"$f":"IF('Combined Gradation'!$O$21=\"\",\"\",'Combined Gradation'!$O$21)","v":"Bin No.6 "},{"$f":"IF('Combined Gradation'!$O$34=\"\",\"\",'Combined Gradation'!$O$34)","v":"Cum.% Passing"},{"$f":"IF('Combined Gradation'!$B$34=\"\",\"\",'Combined Gradation'!$B$34)","v":"Sieve Size:"},{"$f":"IF('Combined Gradation'!$B$37=\"\",\"\",'Combined Gradation'!$B$37)","v":"1/2\""}]
[127,{"$f":"IF('Combined Gradation'!$P$37=\"\",\"\",'Combined Gradation'!$P$37)","v":""},{"$f":"IF('Combined Gradation'!$B$5=\"\",\"\",'Combined Gradation'!$B$5)","v":"2014 HMACP MIXTURE DESIGN : COMBINED GRADATION"},{"$f":"IF('Combined Gradation'!$O$21=\"\",\"\",'Combined Gradation'!$O$21)","v":"Bin No.6 "},{"$f":"IF('Combined Gradation'!$P$34=\"\",\"\",'Combined Gradation'!$P$34)","v":"Wtd Cum. %"},{"$f":"IF('Combined Gradation'!$B$34=\"\",\"\",'Combined Gradation'!$B$34)","v":"Sieve Size:"},{"$f":"IF('Combined Gradation'!$B$37=\"\",\"\",'Combined Gradation'!$B$37)","v":"1/2\""}]
[128,{"$f":"IF('Combined Gradation'!$Q$37=\"\",\"\",'Combined Gradation'!$Q$37)","v":""},{"$f":"IF('Combined Gradation'!$B$5=\"\",\"\",'Combined Gradation'!$B$5)","v":"2014 HMACP MIXTURE DESIGN : COMBINED GRADATION"},{"$f":"IF('Combined Gradation'!$Q$21=\"\",\"\",'Combined Gradation'!$Q$21)","v":"Bin No.7 "},{"$f":"IF('Combined Gradation'!$Q$34=\"\",\"\",'Combined Gradation'!$Q$34)","v":"Cum.% Passing"},{"$f":"IF('Combined Gradation'!$B$34=\"\",\"\",'Combined Gradation'!$B$34)","v":"Sieve Size:"},{"$f":"IF('Combined Gradation'!$B$37=\"\",\"\",'Combined Gradation'!$B$37)","v":"1/2\""}]
[129,{"$f":"IF('Combined Gradation'!$R$37=\"\",\"\",'Combined Gradation'!$R$37)","v":""},{"$f":"IF('Combined Gradation'!$B$5=\"\",\"\",'Combined Gradation'!$B$5)","v":"2014 HMACP MIXTURE DESIGN : COMBINED GRADATION"},{"$f":"IF('Combined Gradation'!$Q$21=\"\",\"\",'Combined Gradation'!$Q$21)","v":"Bin No.7 "},{"$f":"IF('Combined Gradation'!$R$34=\"\",\"\",'Combined Gradation'!$R$34)","v":"Wtd Cum. %"},{"$f":"IF('Combined Gradation'!$B$34=\"\",\"\",'Combined Gradation'!$B$34)","v":"Sieve Size:"},{"$f":"IF('Combined Gradation'!$B$37=\"\",\"\",'Combined Gradation'!$B$37)","v":"1/2\""}]
[130,{"$f":"IF('Combined Gradation'!$Y$37=\"\",\"\",'Combined Gradation'!$Y$37)","v":""},{"$f":"IF('Combined Gradation'!$B$5=\"\",\"\",'Combined Gradation'!$B$5)","v":"2014 HMACP MIXTURE DESIGN : COMBINED GRADATION"},"Combined Gradation",{"$f":"IF('Combined Gradation'!$Y$34=\"\",\"\",'Combined Gradation'!$Y$34)","v":"Cum. % Passing"},{"$f":"IF('Combined Gradation'!$B$34=\"\",\"\",'Combined Gradation'!$B$34)","v":"Sieve Size:"},{"$f":"IF('Combined Gradation'!$B$37=\"\",\"\",'Combined Gradation'!$B$37)","v":"1/2\""}]
[131,{"$f":"IF('Combined Gradation'!$Z$37=\"\",\"\",'Combined Gradation'!$Z$37)","v":90},{"$f":"IF('Combined Gradation'!$B$5=\"\",\"\",'Combined Gradation'!$B$5)","v":"2014 HMACP MIXTURE DESIGN : COMBINED GRADATION"},{"$f":"IF('Combined Gradation'!$Z$31=\"\",\"\",'Combined Gradation'!$Z$31)","v":"Lower & Upper Specification Limits"},{"$f":"IF('Combined Gradation'!$Z$34=\"\",\"\",'Combined Gradation'!$Z$34)","v":"Lower"},{"$f":"IF('Combined Gradation'!$B$34=\"\",\"\",'Combined Gradation'!$B$34)","v":"Sieve Size:"},{"$f":"IF('Combined Gradation'!$B$37=\"\",\"\",'Combined Gradation'!$B$37)","v":"1/2\""}]
[132,{"$f":"IF('Combined Gradation'!$AA$37=\"\",\"\",'Combined Gradation'!$AA$37)","v":100},{"$f":"IF('Combined Gradation'!$B$5=\"\",\"\",'Combined Gradation'!$B$5)","v":"2014 HMACP MIXTURE DESIGN : COMBINED GRADATION"},{"$f":"IF('Combined Gradation'!$Z$31=\"\",\"\",'Combined Gradation'!$Z$31)","v":"Lower & Upper Specification Limits"},{"$f":"IF('Combined Gradation'!$AA$34=\"\",\"\",'Combined Gradation'!$AA$34)","v":"Upper"},{"$f":"IF('Combined Gradation'!$B$34=\"\",\"\",'Combined Gradation'!$B$34)","v":"Sieve Size:"},{"$f":"IF('Combined Gradation'!$B$37=\"\",\"\",'Combined Gradation'!$B$37)","v":"1/2\""}]
[133,{"$f":"IF('Combined Gradation'!$AB$37=\"\",\"\",'Combined Gradation'!$AB$37)","v":"No"},{"$f":"IF('Combined Gradation'!$B$5=\"\",\"\",'Combined Gradation'!$B$5)","v":"2014 HMACP MIXTURE DESIGN : COMBINED GRADATION"},{"$f":"IF('Combined Gradation'!$Z$31=\"\",\"\",'Combined Gradation'!$Z$31)","v":"Lower & Upper Specification Limits"},{"$f":"IF('Combined Gradation'!$AB$34=\"\",\"\",'Combined Gradation'!$AB$34)","v":"Within Spec's"},{"$f":"IF('Combined Gradation'!$B$34=\"\",\"\",'Combined Gradation'!$B$34)","v":"Sieve Size:"},{"$f":"IF('Combined Gradation'!$B$37=\"\",\"\",'Combined Gradation'!$B$37)","v":"1/2\""}]
[134,{"$f":"IF('Combined Gradation'!$AC$37=\"\",\"\",'Combined Gradation'!$AC$37)","v":""},{"$f":"IF('Combined Gradation'!$B$5=\"\",\"\",'Combined Gradation'!$B$5)","v":"2014 HMACP MIXTURE DESIGN : COMBINED GRADATION"},{"$f":"IF('Combined Gradation'!$AC$31=\"\",\"\",'Combined Gradation'!$AC$31)","v":"Restricted Zone"},{"$f":"IF('Combined Gradation'!$AC$34=\"\",\"\",'Combined Gradation'!$AC$34)","v":"Lower"},{"$f":"IF('Combined Gradation'!$B$34=\"\",\"\",'Combined Gradation'!$B$34)","v":"Sieve Size:"},{"$f":"IF('Combined Gradation'!$B$37=\"\",\"\",'Combined Gradation'!$B$37)","v":"1/2\""}]
[135,{"$f":"IF('Combined Gradation'!$AD$37=\"\",\"\",'Combined Gradation'!$AD$37)","v":0},{"$f":"IF('Combined Gradation'!$B$5=\"\",\"\",'Combined Gradation'!$B$5)","v":"2014 HMACP MIXTURE DESIGN : COMBINED GRADATION"},{"$f":"IF('Combined Gradation'!$AC$31=\"\",\"\",'Combined Gradation'!$AC$31)","v":"Restricted Zone"},{"$f":"IF('Combined Gradation'!$AD$34=\"\",\"\",'Combined Gradation'!$AD$34)","v":"Upper"},{"$f":"IF('Combined Gradation'!$B$34=\"\",\"\",'Combined Gradation'!$B$34)","v":"Sieve Size:"},{"$f":"IF('Combined Gradation'!$B$37=\"\",\"\",'Combined Gradation'!$B$37)","v":"1/2\""}]
[136,{"$f":"IF('Combined Gradation'!$AE$37=\"\",\"\",'Combined Gradation'!$AE$37)","v":""},{"$f":"IF('Combined Gradation'!$B$5=\"\",\"\",'Combined Gradation'!$B$5)","v":"2014 HMACP MIXTURE DESIGN : COMBINED GRADATION"},{"$f":"IF('Combined Gradation'!$AC$31=\"\",\"\",'Combined Gradation'!$AC$31)","v":"Restricted Zone"},{"$f":"IF('Combined Gradation'!$AE$34=\"\",\"\",'Combined Gradation'!$AE$34)","v":"Within Spec's"},{"$f":"IF('Combined Gradation'!$B$34=\"\",\"\",'Combined Gradation'!$B$34)","v":"Sieve Size:"},{"$f":"IF('Combined Gradation'!$B$37=\"\",\"\",'Combined Gradation'!$B$37)","v":"1/2\""}]
[137,{"$f":"IF('Combined Gradation'!$AF$37=\"\",\"\",'Combined Gradation'!$AF$37)","v":""},{"$f":"IF('Combined Gradation'!$B$5=\"\",\"\",'Combined Gradation'!$B$5)","v":"2014 HMACP MIXTURE DESIGN : COMBINED GRADATION"},{"$f":"IF('Combined Gradation'!$AF$31=\"\",\"\",'Combined Gradation'!$AF$31)","v":"Individual % Retained"},{"$f":"IF('Combined Gradation'!$B$34=\"\",\"\",'Combined Gradation'!$B$34)","v":"Sieve Size:"},{"$f":"IF('Combined Gradation'!$B$37=\"\",\"\",'Combined Gradation'!$B$37)","v":"1/2\""}]
[138,{"$f":"IF('Combined Gradation'!$AG$37=\"\",\"\",'Combined Gradation'!$AG$37)","v":""},{"$f":"IF('Combined Gradation'!$B$5=\"\",\"\",'Combined Gradation'!$B$5)","v":"2014 HMACP MIXTURE DESIGN : COMBINED GRADATION"},{"$f":"IF('Combined Gradation'!$AG$31=\"\",\"\",'Combined Gradation'!$AG$31)","v":"Cumulative % Retained"},{"$f":"IF('Combined Gradation'!$B$34=\"\",\"\",'Combined Gradation'!$B$34)","v":"Sieve Size:"},{"$f":"IF('Combined Gradation'!$B$37=\"\",\"\",'Combined Gradation'!$B$37)","v":"1/2\""}]
[139,{"$f":"IF('Combined Gradation'!$E$38=\"\",\"\",'Combined Gradation'!$E$38)","v":""},{"$f":"IF('Combined Gradation'!$B$5=\"\",\"\",'Combined Gradation'!$B$5)","v":"2014 HMACP MIXTURE DESIGN : COMBINED GRADATION"},{"$f":"IF('Combined Gradation'!$E$21=\"\",\"\",'Combined Gradation'!$E$21)","v":"Bin No.1"},{"$f":"IF('Combined Gradation'!$E$34=\"\",\"\",'Combined Gradation'!$E$34)","v":"Cum.% Passing"},{"$f":"IF('Combined Gradation'!$B$34=\"\",\"\",'Combined Gradation'!$B$34)","v":"Sieve Size:"},{"$f":"IF('Combined Gradation'!$B$38=\"\",\"\",'Combined Gradation'!$B$38)","v":"3/8\""}]
[140,{"$f":"IF('Combined Gradation'!$F$38=\"\",\"\",'Combined Gradation'!$F$38)","v":""},{"$f":"IF('Combined Gradation'!$B$5=\"\",\"\",'Combined Gradation'!$B$5)","v":"2014 HMACP MIXTURE DESIGN : COMBINED GRADATION"},{"$f":"IF('Combined Gradation'!$E$21=\"\",\"\",'Combined Gradation'!$E$21)","v":"Bin No.1"},{"$f":"IF('Combined Gradation'!$F$34=\"\",\"\",'Combined Gradation'!$F$34)","v":"Wtd Cum. %"},{"$f":"IF('Combined Gradation'!$B$34=\"\",\"\",'Combined Gradation'!$B$34)","v":"Sieve Size:"},{"$f":"IF('Combined Gradation'!$B$38=\"\",\"\",'Combined Gradation'!$B$38)","v":"3/8\""}]
[141,{"$f":"IF('Combined Gradation'!$G$38=\"\",\"\",'Combined Gradation'!$G$38)","v":""},{"$f":"IF('Combined Gradation'!$B$5=\"\",\"\",'Combined Gradation'!$B$5)","v":"2014 HMACP MIXTURE DESIGN : COMBINED GRADATION"},{"$f":"IF('Combined Gradation'!$G$21=\"\",\"\",'Combined Gradation'!$G$21)","v":"Bin No.2"},{"$f":"IF('Combined Gradation'!$G$34=\"\",\"\",'Combined Gradation'!$G$34)","v":"Cum.% Passing"},{"$f":"IF('Combined Gradation'!$B$34=\"\",\"\",'Combined Gradation'!$B$34)","v":"Sieve Size:"},{"$f":"IF('Combined Gradation'!$B$38=\"\",\"\",'Combined Gradation'!$B$38)","v":"3/8\""}]
[142,{"$f":"IF('Combined Gradation'!$H$38=\"\",\"\",'Combined Gradation'!$H$38)","v":""},{"$f":"IF('Combined Gradation'!$B$5=\"\",\"\",'Combined Gradation'!$B$5)","v":"2014 HMACP MIXTURE DESIGN : COMBINED GRADATION"},{"$f":"IF('Combined Gradation'!$G$21=\"\",\"\",'Combined Gradation'!$G$21)","v":"Bin No.2"},{"$f":"IF('Combined Gradation'!$H$34=\"\",\"\",'Combined Gradation'!$H$34)","v":"Wtd Cum. %"},{"$f":"IF('Combined Gradation'!$B$34=\"\",\"\",'Combined Gradation'!$B$34)","v":"Sieve Size:"},{"$f":"IF('Combined Gradation'!$B$38=\"\",\"\",'Combined Gradation'!$B$38)","v":"3/8\""}]
[143,{"$f":"IF('Combined Gradation'!$I$38=\"\",\"\",'Combined Gradation'!$I$38)","v":""},{"$f":"IF('Combined Gradation'!$B$5=\"\",\"\",'Combined Gradation'!$B$5)","v":"2014 HMACP MIXTURE DESIGN : COMBINED GRADATION"},{"$f":"IF('Combined Gradation'!$I$21=\"\",\"\",'Combined Gradation'!$I$21)","v":"Bin No.3"},{"$f":"IF('Combined Gradation'!$I$34=\"\",\"\",'Combined Gradation'!$I$34)","v":"Cum.% Passing"},{"$f":"IF('Combined Gradation'!$B$34=\"\",\"\",'Combined Gradation'!$B$34)","v":"Sieve Size:"},{"$f":"IF('Combined Gradation'!$B$38=\"\",\"\",'Combined Gradation'!$B$38)","v":"3/8\""}]
[144,{"$f":"IF('Combined Gradation'!$J$38=\"\",\"\",'Combined Gradation'!$J$38)","v":""},{"$f":"IF('Combined Gradation'!$B$5=\"\",\"\",'Combined Gradation'!$B$5)","v":"2014 HMACP MIXTURE DESIGN : COMBINED GRADATION"},{"$f":"IF('Combined Gradation'!$I$21=\"\",\"\",'Combined Gradation'!$I$21)","v":"Bin No.3"},{"$f":"IF('Combined Gradation'!$J$34=\"\",\"\",'Combined Gradation'!$J$34)","v":"Wtd Cum. %"},{"$f":"IF('Combined Gradation'!$B$34=\"\",\"\",'Combined Gradation'!$B$34)","v":"Sieve Size:"},{"$f":"IF('Combined Gradation'!$B$38=\"\",\"\",'Combined Gradation'!$B$38)","v":"3/8\""}]
[145,{"$f":"IF('Combined Gradation'!$K$38=\"\",\"\",'Combined Gradation'!$K$38)","v":""},{"$f":"IF('Combined Gradation'!$B$5=\"\",\"\",'Combined Gradation'!$B$5)","v":"2014 HMACP MIXTURE DESIGN : COMBINED GRADATION"},{"$f":"IF('Combined Gradation'!$K$21=\"\",\"\",'Combined Gradation'!$K$21)","v":"Bin No.4"},{"$f":"IF('Combined Gradation'!$K$34=\"\",\"\",'Combined Gradation'!$K$34)","v":"Cum.% Passing"},{"$f":"IF('Combined Gradation'!$B$34=\"\",\"\",'Combined Gradation'!$B$34)","v":"Sieve Size:"},{"$f":"IF('Combined Gradation'!$B$38=\"\",\"\",'Combined Gradation'!$B$38)","v":"3/8\""}]
[146,{"$f":"IF('Combined Gradation'!$L$38=\"\",\"\",'Combined Gradation'!$L$38)","v":""},{"$f":"IF('Combined Gradation'!$B$5=\"\",\"\",'Combined Gradation'!$B$5)","v":"2014 HMACP MIXTURE DESIGN : COMBINED GRADATION"},{"$f":"IF('Combined Gradation'!$K$21=\"\",\"\",'Combined Gradation'!$K$21)","v":"Bin No.4"},{"$f":"IF('Combined Gradation'!$L$34=\"\",\"\",'Combined Gradation'!$L$34)","v":"Wtd Cum. %"},{"$f":"IF('Combined Gradation'!$B$34=\"\",\"\",'Combined Gradation'!$B$34)","v":"Sieve Size:"},{"$f":"IF('Combined Gradation'!$B$38=\"\",\"\",'Combined Gradation'!$B$38)","v":"3/8\""}]
[147,{"$f":"IF('Combined Gradation'!$M$38=\"\",\"\",'Combined Gradation'!$M$38)","v":""},{"$f":"IF('Combined Gradation'!$B$5=\"\",\"\",'Combined Gradation'!$B$5)","v":"2014 HMACP MIXTURE DESIGN : COMBINED GRADATION"},{"$f":"IF('Combined Gradation'!$M$21=\"\",\"\",'Combined Gradation'!$M$21)","v":"Bin No.5"},{"$f":"IF('Combined Gradation'!$M$34=\"\",\"\",'Combined Gradation'!$M$34)","v":"Cum.% Passing"},{"$f":"IF('Combined Gradation'!$B$34=\"\",\"\",'Combined Gradation'!$B$34)","v":"Sieve Size:"},{"$f":"IF('Combined Gradation'!$B$38=\"\",\"\",'Combined Gradation'!$B$38)","v":"3/8\""}]
[148,{"$f":"IF('Combined Gradation'!$N$38=\"\",\"\",'Combined Gradation'!$N$38)","v":""},{"$f":"IF('Combined Gradation'!$B$5=\"\",\"\",'Combined Gradation'!$B$5)","v":"2014 HMACP MIXTURE DESIGN : COMBINED GRADATION"},{"$f":"IF('Combined Gradation'!$M$21=\"\",\"\",'Combined Gradation'!$M$21)","v":"Bin No.5"},{"$f":"IF('Combined Gradation'!$N$34=\"\",\"\",'Combined Gradation'!$N$34)","v":"Wtd Cum. %"},{"$f":"IF('Combined Gradation'!$B$34=\"\",\"\",'Combined Gradation'!$B$34)","v":"Sieve Size:"},{"$f":"IF('Combined Gradation'!$B$38=\"\",\"\",'Combined Gradation'!$B$38)","v":"3/8\""}]
[149,{"$f":"IF('Combined Gradation'!$O$38=\"\",\"\",'Combined Gradation'!$O$38)","v":""},{"$f":"IF('Combined Gradation'!$B$5=\"\",\"\",'Combined Gradation'!$B$5)","v":"2014 HMACP MIXTURE DESIGN : COMBINED GRADATION"},{"$f":"IF('Combined Gradation'!$O$21=\"\",\"\",'Combined Gradation'!$O$21)","v":"Bin No.6 "},{"$f":"IF('Combined Gradation'!$O$34=\"\",\"\",'Combined Gradation'!$O$34)","v":"Cum.% Passing"},{"$f":"IF('Combined Gradation'!$B$34=\"\",\"\",'Combined Gradation'!$B$34)","v":"Sieve Size:"},{"$f":"IF('Combined Gradation'!$B$38=\"\",\"\",'Combined Gradation'!$B$38)","v":"3/8\""}]
[150,{"$f":"IF('Combined Gradation'!$P$38=\"\",\"\",'Combined Gradation'!$P$38)","v":""},{"$f":"IF('Combined Gradation'!$B$5=\"\",\"\",'Combined Gradation'!$B$5)","v":"2014 HMACP MIXTURE DESIGN : COMBINED GRADATION"},{"$f":"IF('Combined Gradation'!$O$21=\"\",\"\",'Combined Gradation'!$O$21)","v":"Bin No.6 "},{"$f":"IF('Combined Gradation'!$P$34=\"\",\"\",'Combined Gradation'!$P$34)","v":"Wtd Cum. %"},{"$f":"IF('Combined Gradation'!$B$34=\"\",\"\",'Combined Gradation'!$B$34)","v":"Sieve Size:"},{"$f":"IF('Combined Gradation'!$B$38=\"\",\"\",'Combined Gradation'!$B$38)","v":"3/8\""}]
[151,{"$f":"IF('Combined Gradation'!$Q$38=\"\",\"\",'Combined Gradation'!$Q$38)","v":""},{"$f":"IF('Combined Gradation'!$B$5=\"\",\"\",'Combined Gradation'!$B$5)","v":"2014 HMACP MIXTURE DESIGN : COMBINED GRADATION"},{"$f":"IF('Combined Gradation'!$Q$21=\"\",\"\",'Combined Gradation'!$Q$21)","v":"Bin No.7 "},{"$f":"IF('Combined Gradation'!$Q$34=\"\",\"\",'Combined Gradation'!$Q$34)","v":"Cum.% Passing"},{"$f":"IF('Combined Gradation'!$B$34=\"\",\"\",'Combined Gradation'!$B$34)","v":"Sieve Size:"},{"$f":"IF('Combined Gradation'!$B$38=\"\",\"\",'Combined Gradation'!$B$38)","v":"3/8\""}]
[152,{"$f":"IF('Combined Gradation'!$R$38=\"\",\"\",'Combined Gradation'!$R$38)","v":""},{"$f":"IF('Combined Gradation'!$B$5=\"\",\"\",'Combined Gradation'!$B$5)","v":"2014 HMACP MIXTURE DESIGN : COMBINED GRADATION"},{"$f":"IF('Combined Gradation'!$Q$21=\"\",\"\",'Combined Gradation'!$Q$21)","v":"Bin No.7 "},{"$f":"IF('Combined Gradation'!$R$34=\"\",\"\",'Combined Gradation'!$R$34)","v":"Wtd Cum. %"},{"$f":"IF('Combined Gradation'!$B$34=\"\",\"\",'Combined Gradation'!$B$34)","v":"Sieve Size:"},{"$f":"IF('Combined Gradation'!$B$38=\"\",\"\",'Combined Gradation'!$B$38)","v":"3/8\""}]
[153,{"$f":"IF('Combined Gradation'!$Y$38=\"\",\"\",'Combined Gradation'!$Y$38)","v":""},{"$f":"IF('Combined Gradation'!$B$5=\"\",\"\",'Combined Gradation'!$B$5)","v":"2014 HMACP MIXTURE DESIGN : COMBINED GRADATION"},"Combined Gradation",{"$f":"IF('Combined Gradation'!$Y$34=\"\",\"\",'Combined Gradation'!$Y$34)","v":"Cum. % Passing"},{"$f":"IF('Combined Gradation'!$B$34=\"\",\"\",'Combined Gradation'!$B$34)","v":"Sieve Size:"},{"$f":"IF('Combined Gradation'!$B$38=\"\",\"\",'Combined Gradation'!$B$38)","v":"3/8\""}]
[154,{"$f":"IF('Combined Gradation'!$Z$38=\"\",\"\",'Combined Gradation'!$Z$38)","v":58},{"$f":"IF('Combined Gradation'!$B$5=\"\",\"\",'Combined Gradation'!$B$5)","v":"2014 HMACP MIXTURE DESIGN : COMBINED GRADATION"},{"$f":"IF('Combined Gradation'!$Z$31=\"\",\"\",'Combined Gradation'!$Z$31)","v":"Lower & Upper Specification Limits"},{"$f":"IF('Combined Gradation'!$Z$34=\"\",\"\",'Combined Gradation'!$Z$34)","v":"Lower"},{"$f":"IF('Combined Gradation'!$B$34=\"\",\"\",'Combined Gradation'!$B$34)","v":"Sieve Size:"},{"$f":"IF('Combined Gradation'!$B$38=\"\",\"\",'Combined Gradation'!$B$38)","v":"3/8\""}]
[155,{"$f":"IF('Combined Gradation'!$AA$38=\"\",\"\",'Combined Gradation'!$AA$38)","v":90},{"$f":"IF('Combined Gradation'!$B$5=\"\",\"\",'Combined Gradation'!$B$5)","v":"2014 HMACP MIXTURE DESIGN : COMBINED GRADATION"},{"$f":"IF('Combined Gradation'!$Z$31=\"\",\"\",'Combined Gradation'!$Z$31)","v":"Lower & Upper Specification Limits"},{"$f":"IF('Combined Gradation'!$AA$34=\"\",\"\",'Combined Gradation'!$AA$34)","v":"Upper"},{"$f":"IF('Combined Gradation'!$B$34=\"\",\"\",'Combined Gradation'!$B$34)","v":"Sieve Size:"},{"$f":"IF('Combined Gradation'!$B$38=\"\",\"\",'Combined Gradation'!$B$38)","v":"3/8\""}]
[156,{"$f":"IF('Combined Gradation'!$AB$38=\"\",\"\",'Combined Gradation'!$AB$38)","v":"No"},{"$f":"IF('Combined Gradation'!$B$5=\"\",\"\",'Combined Gradation'!$B$5)","v":"2014 HMACP MIXTURE DESIGN : COMBINED GRADATION"},{"$f":"IF('Combined Gradation'!$Z$31=\"\",\"\",'Combined Gradation'!$Z$31)","v":"Lower & Upper Specification Limits"},{"$f":"IF('Combined Gradation'!$AB$34=\"\",\"\",'Combined Gradation'!$AB$34)","v":"Within Spec's"},{"$f":"IF('Combined Gradation'!$B$34=\"\",\"\",'Combined Gradation'!$B$34)","v":"Sieve Size:"},{"$f":"IF('Combined Gradation'!$B$38=\"\",\"\",'Combined Gradation'!$B$38)","v":"3/8\""}]
[157,{"$f":"IF('Combined Gradation'!$AC$38=\"\",\"\",'Combined Gradation'!$AC$38)","v":""},{"$f":"IF('Combined Gradation'!$B$5=\"\",\"\",'Combined Gradation'!$B$5)","v":"2014 HMACP MIXTURE DESIGN : COMBINED GRADATION"},{"$f":"IF('Combined Gradation'!$AC$31=\"\",\"\",'Combined Gradation'!$AC$31)","v":"Restricted Zone"},{"$f":"IF('Combined Gradation'!$AC$34=\"\",\"\",'Combined Gradation'!$AC$34)","v":"Lower"},{"$f":"IF('Combined Gradation'!$B$34=\"\",\"\",'Combined Gradation'!$B$34)","v":"Sieve Size:"},{"$f":"IF('Combined Gradation'!$B$38=\"\",\"\",'Combined Gradation'!$B$38)","v":"3/8\""}]
[158,{"$f":"IF('Combined Gradation'!$AD$38=\"\",\"\",'Combined Gradation'!$AD$38)","v":0},{"$f":"IF('Combined Gradation'!$B$5=\"\",\"\",'Combined Gradation'!$B$5)","v":"2014 HMACP MIXTURE DESIGN : COMBINED GRADATION"},{"$f":"IF('Combined Gradation'!$AC$31=\"\",\"\",'Combined Gradation'!$AC$31)","v":"Restricted Zone"},{"$f":"IF('Combined Gradation'!$AD$34=\"\",\"\",'Combined Gradation'!$AD$34)","v":"Upper"},{"$f":"IF('Combined Gradation'!$B$34=\"\",\"\",'Combined Gradation'!$B$34)","v":"Sieve Size:"},{"$f":"IF('Combined Gradation'!$B$38=\"\",\"\",'Combined Gradation'!$B$38)","v":"3/8\""}]
[159,{"$f":"IF('Combined Gradation'!$AE$38=\"\",\"\",'Combined Gradation'!$AE$38)","v":""},{"$f":"IF('Combined Gradation'!$B$5=\"\",\"\",'Combined Gradation'!$B$5)","v":"2014 HMACP MIXTURE DESIGN : COMBINED GRADATION"},{"$f":"IF('Combined Gradation'!$AC$31=\"\",\"\",'Combined Gradation'!$AC$31)","v":"Restricted Zone"},{"$f":"IF('Combined Gradation'!$AE$34=\"\",\"\",'Combined Gradation'!$AE$34)","v":"Within Spec's"},{"$f":"IF('Combined Gradation'!$B$34=\"\",\"\",'Combined Gradation'!$B$34)","v":"Sieve Size:"},{"$f":"IF('Combined Gradation'!$B$38=\"\",\"\",'Combined Gradation'!$B$38)","v":"3/8\""}]
[160,{"$f":"IF('Combined Gradation'!$AF$38=\"\",\"\",'Combined Gradation'!$AF$38)","v":""},{"$f":"IF('Combined Gradation'!$B$5=\"\",\"\",'Combined Gradation'!$B$5)","v":"2014 HMACP MIXTURE DESIGN : COMBINED GRADATION"},{"$f":"IF('Combined Gradation'!$AF$31=\"\",\"\",'Combined Gradation'!$AF$31)","v":"Individual % Retained"},{"$f":"IF('Combined Gradation'!$B$34=\"\",\"\",'Combined Gradation'!$B$34)","v":"Sieve Size:"},{"$f":"IF('Combined Gradation'!$B$38=\"\",\"\",'Combined Gradation'!$B$38)","v":"3/8\""}]
[161,{"$f":"IF('Combined Gradation'!$AG$38=\"\",\"\",'Combined Gradation'!$AG$38)","v":""},{"$f":"IF('Combined Gradation'!$B$5=\"\",\"\",'Combined Gradation'!$B$5)","v":"2014 HMACP MIXTURE DESIGN : COMBINED GRADATION"},{"$f":"IF('Combined Gradation'!$AG$31=\"\",\"\",'Combined Gradation'!$AG$31)","v":"Cumulative % Retained"},{"$f":"IF('Combined Gradation'!$B$34=\"\",\"\",'Combined Gradation'!$B$34)","v":"Sieve Size:"},{"$f":"IF('Combined Gradation'!$B$38=\"\",\"\",'Combined Gradation'!$B$38)","v":"3/8\""}]
[162,{"$f":"IF('Combined Gradation'!$E$39=\"\",\"\",'Combined Gradation'!$E$39)","v":""},{"$f":"IF('Combined Gradation'!$B$5=\"\",\"\",'Combined Gradation'!$B$5)","v":"2014 HMACP MIXTURE DESIGN : COMBINED GRADATION"},{"$f":"IF('Combined Gradation'!$E$21=\"\",\"\",'Combined Gradation'!$E$21)","v":"Bin No.1"},{"$f":"IF('Combined Gradation'!$E$34=\"\",\"\",'Combined Gradation'!$E$34)","v":"Cum.% Passing"},{"$f":"IF('Combined Gradation'!$B$34=\"\",\"\",'Combined Gradation'!$B$34)","v":"Sieve Size:"},{"$f":"IF('Combined Gradation'!$B$39=\"\",\"\",'Combined Gradation'!$B$39)","v":"No. 4"}]
[163,{"$f":"IF('Combined Gradation'!$F$39=\"\",\"\",'Combined Gradation'!$F$39)","v":""},{"$f":"IF('Combined Gradation'!$B$5=\"\",\"\",'Combined Gradation'!$B$5)","v":"2014 HMACP MIXTURE DESIGN : COMBINED GRADATION"},{"$f":"IF('Combined Gradation'!$E$21=\"\",\"\",'Combined Gradation'!$E$21)","v":"Bin No.1"},{"$f":"IF('Combined Gradation'!$F$34=\"\",\"\",'Combined Gradation'!$F$34)","v":"Wtd Cum. %"},{"$f":"IF('Combined Gradation'!$B$34=\"\",\"\",'Combined Gradation'!$B$34)","v":"Sieve Size:"},{"$f":"IF('Combined Gradation'!$B$39=\"\",\"\",'Combined Gradation'!$B$39)","v":"No. 4"}]
[164,{"$f":"IF('Combined Gradation'!$G$39=\"\",\"\",'Combined Gradation'!$G$39)","v":""},{"$f":"IF('Combined Gradation'!$B$5=\"\",\"\",'Combined Gradation'!$B$5)","v":"2014 HMACP MIXTURE DESIGN : COMBINED GRADATION"},{"$f":"IF('Combined Gradation'!$G$21=\"\",\"\",'Combined Gradation'!$G$21)","v":"Bin No.2"},{"$f":"IF('Combined Gradation'!$G$34=\"\",\"\",'Combined Gradation'!$G$34)","v":"Cum.% Passing"},{"$f":"IF('Combined Gradation'!$B$34=\"\",\"\",'Combined Gradation'!$B$34)","v":"Sieve Size:"},{"$f":"IF('Combined Gradation'!$B$39=\"\",\"\",'Combined Gradation'!$B$39)","v":"No. 4"}]
[165,{"$f":"IF('Combined Gradation'!$H$39=\"\",\"\",'Combined Gradation'!$H$39)","v":""},{"$f":"IF('Combined Gradation'!$B$5=\"\",\"\",'Combined Gradation'!$B$5)","v":"2014 HMACP MIXTURE DESIGN : COMBINED GRADATION"},{"$f":"IF('Combined Gradation'!$G$21=\"\",\"\",'Combined Gradation'!$G$21)","v":"Bin No.2"},{"$f":"IF('Combined Gradation'!$H$34=\"\",\"\",'Combined Gradation'!$H$34)","v":"Wtd Cum. %"},{"$f":"IF('Combined Gradation'!$B$34=\"\",\"\",'Combined Gradation'!$B$34)","v":"Sieve Size:"},{"$f":"IF('Combined Gradation'!$B$39=\"\",\"\",'Combined Gradation'!$B$39)","v":"No. 4"}]
[166,{"$f":"IF('Combined Gradation'!$I$39=\"\",\"\",'Combined Gradation'!$I$39)","v":""},{"$f":"IF('Combined Gradation'!$B$5=\"\",\"\",'Combined Gradation'!$B$5)","v":"2014 HMACP MIXTURE DESIGN : COMBINED GRADATION"},{"$f":"IF('Combined Gradation'!$I$21=\"\",\"\",'Combined Gradation'!$I$21)","v":"Bin No.3"},{"$f":"IF('Combined Gradation'!$I$34=\"\",\"\",'Combined Gradation'!$I$34)","v":"Cum.% Passing"},{"$f":"IF('Combined Gradation'!$B$34=\"\",\"\",'Combined Gradation'!$B$34)","v":"Sieve Size:"},{"$f":"IF('Combined Gradation'!$B$39=\"\",\"\",'Combined Gradation'!$B$39)","v":"No. 4"}]
[167,{"$f":"IF('Combined Gradation'!$J$39=\"\",\"\",'Combined Gradation'!$J$39)","v":""},{"$f":"IF('Combined Gradation'!$B$5=\"\",\"\",'Combined Gradation'!$B$5)","v":"2014 HMACP MIXTURE DESIGN : COMBINED GRADATION"},{"$f":"IF('Combined Gradation'!$I$21=\"\",\"\",'Combined Gradation'!$I$21)","v":"Bin No.3"},{"$f":"IF('Combined Gradation'!$J$34=\"\",\"\",'Combined Gradation'!$J$34)","v":"Wtd Cum. %"},{"$f":"IF('Combined Gradation'!$B$34=\"\",\"\",'Combined Gradation'!$B$34)","v":"Sieve Size:"},{"$f":"IF('Combined Gradation'!$B$39=\"\",\"\",'Combined Gradation'!$B$39)","v":"No. 4"}]
[168,{"$f":"IF('Combined Gradation'!$K$39=\"\",\"\",'Combined Gradation'!$K$39)","v":""},{"$f":"IF('Combined Gradation'!$B$5=\"\",\"\",'Combined Gradation'!$B$5)","v":"2014 HMACP MIXTURE DESIGN : COMBINED GRADATION"},{"$f":"IF('Combined Gradation'!$K$21=\"\",\"\",'Combined Gradation'!$K$21)","v":"Bin No.4"},{"$f":"IF('Combined Gradation'!$K$34=\"\",\"\",'Combined Gradation'!$K$34)","v":"Cum.% Passing"},{"$f":"IF('Combined Gradation'!$B$34=\"\",\"\",'Combined Gradation'!$B$34)","v":"Sieve Size:"},{"$f":"IF('Combined Gradation'!$B$39=\"\",\"\",'Combined Gradation'!$B$39)","v":"No. 4"}]
[169,{"$f":"IF('Combined Gradation'!$L$39=\"\",\"\",'Combined Gradation'!$L$39)","v":""},{"$f":"IF('Combined Gradation'!$B$5=\"\",\"\",'Combined Gradation'!$B$5)","v":"2014 HMACP MIXTURE DESIGN : COMBINED GRADATION"},{"$f":"IF('Combined Gradation'!$K$21=\"\",\"\",'Combined Gradation'!$K$21)","v":"Bin No.4"},{"$f":"IF('Combined Gradation'!$L$34=\"\",\"\",'Combined Gradation'!$L$34)","v":"Wtd Cum. %"},{"$f":"IF('Combined Gradation'!$B$34=\"\",\"\",'Combined Gradation'!$B$34)","v":"Sieve Size:"},{"$f":"IF('Combined Gradation'!$B$39=\"\",\"\",'Combined Gradation'!$B$39)","v":"No. 4"}]
[170,{"$f":"IF('Combined Gradation'!$M$39=\"\",\"\",'Combined Gradation'!$M$39)","v":""},{"$f":"IF('Combined Gradation'!$B$5=\"\",\"\",'Combined Gradation'!$B$5)","v":"2014 HMACP MIXTURE DESIGN : COMBINED GRADATION"},{"$f":"IF('Combined Gradation'!$M$21=\"\",\"\",'Combined Gradation'!$M$21)","v":"Bin No.5"},{"$f":"IF('Combined Gradation'!$M$34=\"\",\"\",'Combined Gradation'!$M$34)","v":"Cum.% Passing"},{"$f":"IF('Combined Gradation'!$B$34=\"\",\"\",'Combined Gradation'!$B$34)","v":"Sieve Size:"},{"$f":"IF('Combined Gradation'!$B$39=\"\",\"\",'Combined Gradation'!$B$39)","v":"No. 4"}]
[171,{"$f":"IF('Combined Gradation'!$N$39=\"\",\"\",'Combined Gradation'!$N$39)","v":""},{"$f":"IF('Combined Gradation'!$B$5=\"\",\"\",'Combined Gradation'!$B$5)","v":"2014 HMACP MIXTURE DESIGN : COMBINED GRADATION"},{"$f":"IF('Combined Gradation'!$M$21=\"\",\"\",'Combined Gradation'!$M$21)","v":"Bin No.5"},{"$f":"IF('Combined Gradation'!$N$34=\"\",\"\",'Combined Gradation'!$N$34)","v":"Wtd Cum. %"},{"$f":"IF('Combined Gradation'!$B$34=\"\",\"\",'Combined Gradation'!$B$34)","v":"Sieve Size:"},{"$f":"IF('Combined Gradation'!$B$39=\"\",\"\",'Combined Gradation'!$B$39)","v":"No. 4"}]
[172,{"$f":"IF('Combined Gradation'!$O$39=\"\",\"\",'Combined Gradation'!$O$39)","v":""},{"$f":"IF('Combined Gradation'!$B$5=\"\",\"\",'Combined Gradation'!$B$5)","v":"2014 HMACP MIXTURE DESIGN : COMBINED GRADATION"},{"$f":"IF('Combined Gradation'!$O$21=\"\",\"\",'Combined Gradation'!$O$21)","v":"Bin No.6 "},{"$f":"IF('Combined Gradation'!$O$34=\"\",\"\",'Combined Gradation'!$O$34)","v":"Cum.% Passing"},{"$f":"IF('Combined Gradation'!$B$34=\"\",\"\",'Combined Gradation'!$B$34)","v":"Sieve Size:"},{"$f":"IF('Combined Gradation'!$B$39=\"\",\"\",'Combined Gradation'!$B$39)","v":"No. 4"}]
[173,{"$f":"IF('Combined Gradation'!$P$39=\"\",\"\",'Combined Gradation'!$P$39)","v":""},{"$f":"IF('Combined Gradation'!$B$5=\"\",\"\",'Combined Gradation'!$B$5)","v":"2014 HMACP MIXTURE DESIGN : COMBINED GRADATION"},{"$f":"IF('Combined Gradation'!$O$21=\"\",\"\",'Combined Gradation'!$O$21)","v":"Bin No.6 "},{"$f":"IF('Combined Gradation'!$P$34=\"\",\"\",'Combined Gradation'!$P$34)","v":"Wtd Cum. %"},{"$f":"IF('Combined Gradation'!$B$34=\"\",\"\",'Combined Gradation'!$B$34)","v":"Sieve Size:"},{"$f":"IF('Combined Gradation'!$B$39=\"\",\"\",'Combined Gradation'!$B$39)","v":"No. 4"}]
[174,{"$f":"IF('Combined Gradation'!$Q$39=\"\",\"\",'Combined Gradation'!$Q$39)","v":""},{"$f":"IF('Combined Gradation'!$B$5=\"\",\"\",'Combined Gradation'!$B$5)","v":"2014 HMACP MIXTURE DESIGN : COMBINED GRADATION"},{"$f":"IF('Combined Gradation'!$Q$21=\"\",\"\",'Combined Gradation'!$Q$21)","v":"Bin No.7 "},{"$f":"IF('Combined Gradation'!$Q$34=\"\",\"\",'Combined Gradation'!$Q$34)","v":"Cum.% Passing"},{"$f":"IF('Combined Gradation'!$B$34=\"\",\"\",'Combined Gradation'!$B$34)","v":"Sieve Size:"},{"$f":"IF('Combined Gradation'!$B$39=\"\",\"\",'Combined Gradation'!$B$39)","v":"No. 4"}]
[175,{"$f":"IF('Combined Gradation'!$R$39=\"\",\"\",'Combined Gradation'!$R$39)","v":""},{"$f":"IF('Combined Gradation'!$B$5=\"\",\"\",'Combined Gradation'!$B$5)","v":"2014 HMACP MIXTURE DESIGN : COMBINED GRADATION"},{"$f":"IF('Combined Gradation'!$Q$21=\"\",\"\",'Combined Gradation'!$Q$21)","v":"Bin No.7 "},{"$f":"IF('Combined Gradation'!$R$34=\"\",\"\",'Combined Gradation'!$R$34)","v":"Wtd Cum. %"},{"$f":"IF('Combined Gradation'!$B$34=\"\",\"\",'Combined Gradation'!$B$34)","v":"Sieve Size:"},{"$f":"IF('Combined Gradation'!$B$39=\"\",\"\",'Combined Gradation'!$B$39)","v":"No. 4"}]
[176,{"$f":"IF('Combined Gradation'!$Y$39=\"\",\"\",'Combined Gradation'!$Y$39)","v":""},{"$f":"IF('Combined Gradation'!$B$5=\"\",\"\",'Combined Gradation'!$B$5)","v":"2014 HMACP MIXTURE DESIGN : COMBINED GRADATION"},"Combined Gradation",{"$f":"IF('Combined Gradation'!$Y$34=\"\",\"\",'Combined Gradation'!$Y$34)","v":"Cum. % Passing"},{"$f":"IF('Combined Gradation'!$B$34=\"\",\"\",'Combined Gradation'!$B$34)","v":"Sieve Size:"},{"$f":"IF('Combined Gradation'!$B$39=\"\",\"\",'Combined Gradation'!$B$39)","v":"No. 4"}]
[177,{"$f":"IF('Combined Gradation'!$Z$39=\"\",\"\",'Combined Gradation'!$Z$39)","v":28},{"$f":"IF('Combined Gradation'!$B$5=\"\",\"\",'Combined Gradation'!$B$5)","v":"2014 HMACP MIXTURE DESIGN : COMBINED GRADATION"},{"$f":"IF('Combined Gradation'!$Z$31=\"\",\"\",'Combined Gradation'!$Z$31)","v":"Lower & Upper Specification Limits"},{"$f":"IF('Combined Gradation'!$Z$34=\"\",\"\",'Combined Gradation'!$Z$34)","v":"Lower"},{"$f":"IF('Combined Gradation'!$B$34=\"\",\"\",'Combined Gradation'!$B$34)","v":"Sieve Size:"},{"$f":"IF('Combined Gradation'!$B$39=\"\",\"\",'Combined Gradation'!$B$39)","v":"No. 4"}]
[178,{"$f":"IF('Combined Gradation'!$AA$39=\"\",\"\",'Combined Gradation'!$AA$39)","v":90},{"$f":"IF('Combined Gradation'!$B$5=\"\",\"\",'Combined Gradation'!$B$5)","v":"2014 HMACP MIXTURE DESIGN : COMBINED GRADATION"},{"$f":"IF('Combined Gradation'!$Z$31=\"\",\"\",'Combined Gradation'!$Z$31)","v":"Lower & Upper Specification Limits"},{"$f":"IF('Combined Gradation'!$AA$34=\"\",\"\",'Combined Gradation'!$AA$34)","v":"Upper"},{"$f":"IF('Combined Gradation'!$B$34=\"\",\"\",'Combined Gradation'!$B$34)","v":"Sieve Size:"},{"$f":"IF('Combined Gradation'!$B$39=\"\",\"\",'Combined Gradation'!$B$39)","v":"No. 4"}]
[179,{"$f":"IF('Combined Gradation'!$AB$39=\"\",\"\",'Combined Gradation'!$AB$39)","v":"No"},{"$f":"IF('Combined Gradation'!$B$5=\"\",\"\",'Combined Gradation'!$B$5)","v":"2014 HMACP MIXTURE DESIGN : COMBINED GRADATION"},{"$f":"IF('Combined Gradation'!$Z$31=\"\",\"\",'Combined Gradation'!$Z$31)","v":"Lower & Upper Specification Limits"},{"$f":"IF('Combined Gradation'!$AB$34=\"\",\"\",'Combined Gradation'!$AB$34)","v":"Within Spec's"},{"$f":"IF('Combined Gradation'!$B$34=\"\",\"\",'Combined Gradation'!$B$34)","v":"Sieve Size:"},{"$f":"IF('Combined Gradation'!$B$39=\"\",\"\",'Combined Gradation'!$B$39)","v":"No. 4"}]
[180,{"$f":"IF('Combined Gradation'!$AC$39=\"\",\"\",'Combined Gradation'!$AC$39)","v":""},{"$f":"IF('Combined Gradation'!$B$5=\"\",\"\",'Combined Gradation'!$B$5)","v":"2014 HMACP MIXTURE DESIGN : COMBINED GRADATION"},{"$f":"IF('Combined Gradation'!$AC$31=\"\",\"\",'Combined Gradation'!$AC$31)","v":"Restricted Zone"},{"$f":"IF('Combined Gradation'!$AC$34=\"\",\"\",'Combined Gradation'!$AC$34)","v":"Lower"},{"$f":"IF('Combined Gradation'!$B$34=\"\",\"\",'Combined Gradation'!$B$34)","v":"Sieve Size:"},{"$f":"IF('Combined Gradation'!$B$39=\"\",\"\",'Combined Gradation'!$B$39)","v":"No. 4"}]
[181,{"$f":"IF('Combined Gradation'!$AD$39=\"\",\"\",'Combined Gradation'!$AD$39)","v":0},{"$f":"IF('Combined Gradation'!$B$5=\"\",\"\",'Combined Gradation'!$B$5)","v":"2014 HMACP MIXTURE DESIGN : COMBINED GRADATION"},{"$f":"IF('Combined Gradation'!$AC$31=\"\",\"\",'Combined Gradation'!$AC$31)","v":"Restricted Zone"},{"$f":"IF('Combined Gradation'!$AD$34=\"\",\"\",'Combined Gradation'!$AD$34)","v":"Upper"},{"$f":"IF('Combined Gradation'!$B$34=\"\",\"\",'Combined Gradation'!$B$34)","v":"Sieve Size:"},{"$f":"IF('Combined Gradation'!$B$39=\"\",\"\",'Combined Gradation'!$B$39)","v":"No. 4"}]
[182,{"$f":"IF('Combined Gradation'!$AE$39=\"\",\"\",'Combined Gradation'!$AE$39)","v":""},{"$f":"IF('Combined Gradation'!$B$5=\"\",\"\",'Combined Gradation'!$B$5)","v":"2014 HMACP MIXTURE DESIGN : COMBINED GRADATION"},{"$f":"IF('Combined Gradation'!$AC$31=\"\",\"\",'Combined Gradation'!$AC$31)","v":"Restricted Zone"},{"$f":"IF('Combined Gradation'!$AE$34=\"\",\"\",'Combined Gradation'!$AE$34)","v":"Within Spec's"},{"$f":"IF('Combined Gradation'!$B$34=\"\",\"\",'Combined Gradation'!$B$34)","v":"Sieve Size:"},{"$f":"IF('Combined Gradation'!$B$39=\"\",\"\",'Combined Gradation'!$B$39)","v":"No. 4"}]
[183,{"$f":"IF('Combined Gradation'!$AF$39=\"\",\"\",'Combined Gradation'!$AF$39)","v":""},{"$f":"IF('Combined Gradation'!$B$5=\"\",\"\",'Combined Gradation'!$B$5)","v":"2014 HMACP MIXTURE DESIGN : COMBINED GRADATION"},{"$f":"IF('Combined Gradation'!$AF$31=\"\",\"\",'Combined Gradation'!$AF$31)","v":"Individual % Retained"},{"$f":"IF('Combined Gradation'!$B$34=\"\",\"\",'Combined Gradation'!$B$34)","v":"Sieve Size:"},{"$f":"IF('Combined Gradation'!$B$39=\"\",\"\",'Combined Gradation'!$B$39)","v":"No. 4"}]
[184,{"$f":"IF('Combined Gradation'!$AG$39=\"\",\"\",'Combined Gradation'!$AG$39)","v":""},{"$f":"IF('Combined Gradation'!$B$5=\"\",\"\",'Combined Gradation'!$B$5)","v":"2014 HMACP MIXTURE DESIGN : COMBINED GRADATION"},{"$f":"IF('Combined Gradation'!$AG$31=\"\",\"\",'Combined Gradation'!$AG$31)","v":"Cumulative % Retained"},{"$f":"IF('Combined Gradation'!$B$34=\"\",\"\",'Combined Gradation'!$B$34)","v":"Sieve Size:"},{"$f":"IF('Combined Gradation'!$B$39=\"\",\"\",'Combined Gradation'!$B$39)","v":"No. 4"}]
[185,{"$f":"IF('Combined Gradation'!$E$40=\"\",\"\",'Combined Gradation'!$E$40)","v":""},{"$f":"IF('Combined Gradation'!$B$5=\"\",\"\",'Combined Gradation'!$B$5)","v":"2014 HMACP MIXTURE DESIGN : COMBINED GRADATION"},{"$f":"IF('Combined Gradation'!$E$21=\"\",\"\",'Combined Gradation'!$E$21)","v":"Bin No.1"},{"$f":"IF('Combined Gradation'!$E$34=\"\",\"\",'Combined Gradation'!$E$34)","v":"Cum.% Passing"},{"$f":"IF('Combined Gradation'!$B$34=\"\",\"\",'Combined Gradation'!$B$34)","v":"Sieve Size:"},{"$f":"IF('Combined Gradation'!$B$40=\"\",\"\",'Combined Gradation'!$B$40)","v":"No. 8"}]
[186,{"$f":"IF('Combined Gradation'!$F$40=\"\",\"\",'Combined Gradation'!$F$40)","v":""},{"$f":"IF('Combined Gradation'!$B$5=\"\",\"\",'Combined Gradation'!$B$5)","v":"2014 HMACP MIXTURE DESIGN : COMBINED GRADATION"},{"$f":"IF('Combined Gradation'!$E$21=\"\",\"\",'Combined Gradation'!$E$21)","v":"Bin No.1"},{"$f":"IF('Combined Gradation'!$F$34=\"\",\"\",'Combined Gradation'!$F$34)","v":"Wtd Cum. %"},{"$f":"IF('Combined Gradation'!$B$34=\"\",\"\",'Combined Gradation'!$B$34)","v":"Sieve Size:"},{"$f":"IF('Combined Gradation'!$B$40=\"\",\"\",'Combined Gradation'!$B$40)","v":"No. 8"}]
[187,{"$f":"IF('Combined Gradation'!$G$40=\"\",\"\",'Combined Gradation'!$G$40)","v":""},{"$f":"IF('Combined Gradation'!$B$5=\"\",\"\",'Combined Gradation'!$B$5)","v":"2014 HMACP MIXTURE DESIGN : COMBINED GRADATION"},{"$f":"IF('Combined Gradation'!$G$21=\"\",\"\",'Combined Gradation'!$G$21)","v":"Bin No.2"},{"$f":"IF('Combined Gradation'!$G$34=\"\",\"\",'Combined Gradation'!$G$34)","v":"Cum.% Passing"},{"$f":"IF('Combined Gradation'!$B$34=\"\",\"\",'Combined Gradation'!$B$34)","v":"Sieve Size:"},{"$f":"IF('Combined Gradation'!$B$40=\"\",\"\",'Combined Gradation'!$B$40)","v":"No. 8"}]
[188,{"$f":"IF('Combined Gradation'!$H$40=\"\",\"\",'Combined Gradation'!$H$40)","v":""},{"$f":"IF('Combined Gradation'!$B$5=\"\",\"\",'Combined Gradation'!$B$5)","v":"2014 HMACP MIXTURE DESIGN : COMBINED GRADATION"},{"$f":"IF('Combined Gradation'!$G$21=\"\",\"\",'Combined Gradation'!$G$21)","v":"Bin No.2"},{"$f":"IF('Combined Gradation'!$H$34=\"\",\"\",'Combined Gradation'!$H$34)","v":"Wtd Cum. %"},{"$f":"IF('Combined Gradation'!$B$34=\"\",\"\",'Combined Gradation'!$B$34)","v":"Sieve Size:"},{"$f":"IF('Combined Gradation'!$B$40=\"\",\"\",'Combined Gradation'!$B$40)","v":"No. 8"}]
[189,{"$f":"IF('Combined Gradation'!$I$40=\"\",\"\",'Combined Gradation'!$I$40)","v":""},{"$f":"IF('Combined Gradation'!$B$5=\"\",\"\",'Combined Gradation'!$B$5)","v":"2014 HMACP MIXTURE DESIGN : COMBINED GRADATION"},{"$f":"IF('Combined Gradation'!$I$21=\"\",\"\",'Combined Gradation'!$I$21)","v":"Bin No.3"},{"$f":"IF('Combined Gradation'!$I$34=\"\",\"\",'Combined Gradation'!$I$34)","v":"Cum.% Passing"},{"$f":"IF('Combined Gradation'!$B$34=\"\",\"\",'Combined Gradation'!$B$34)","v":"Sieve Size:"},{"$f":"IF('Combined Gradation'!$B$40=\"\",\"\",'Combined Gradation'!$B$40)","v":"No. 8"}]
[190,{"$f":"IF('Combined Gradation'!$J$40=\"\",\"\",'Combined Gradation'!$J$40)","v":""},{"$f":"IF('Combined Gradation'!$B$5=\"\",\"\",'Combined Gradation'!$B$5)","v":"2014 HMACP MIXTURE DESIGN : COMBINED GRADATION"},{"$f":"IF('Combined Gradation'!$I$21=\"\",\"\",'Combined Gradation'!$I$21)","v":"Bin No.3"},{"$f":"IF('Combined Gradation'!$J$34=\"\",\"\",'Combined Gradation'!$J$34)","v":"Wtd Cum. %"},{"$f":"IF('Combined Gradation'!$B$34=\"\",\"\",'Combined Gradation'!$B$34)","v":"Sieve Size:"},{"$f":"IF('Combined Gradation'!$B$40=\"\",\"\",'Combined Gradation'!$B$40)","v":"No. 8"}]
[191,{"$f":"IF('Combined Gradation'!$K$40=\"\",\"\",'Combined Gradation'!$K$40)","v":""},{"$f":"IF('Combined Gradation'!$B$5=\"\",\"\",'Combined Gradation'!$B$5)","v":"2014 HMACP MIXTURE DESIGN : COMBINED GRADATION"},{"$f":"IF('Combined Gradation'!$K$21=\"\",\"\",'Combined Gradation'!$K$21)","v":"Bin No.4"},{"$f":"IF('Combined Gradation'!$K$34=\"\",\"\",'Combined Gradation'!$K$34)","v":"Cum.% Passing"},{"$f":"IF('Combined Gradation'!$B$34=\"\",\"\",'Combined Gradation'!$B$34)","v":"Sieve Size:"},{"$f":"IF('Combined Gradation'!$B$40=\"\",\"\",'Combined Gradation'!$B$40)","v":"No. 8"}]
[192,{"$f":"IF('Combined Gradation'!$L$40=\"\",\"\",'Combined Gradation'!$L$40)","v":""},{"$f":"IF('Combined Gradation'!$B$5=\"\",\"\",'Combined Gradation'!$B$5)","v":"2014 HMACP MIXTURE DESIGN : COMBINED GRADATION"},{"$f":"IF('Combined Gradation'!$K$21=\"\",\"\",'Combined Gradation'!$K$21)","v":"Bin No.4"},{"$f":"IF('Combined Gradation'!$L$34=\"\",\"\",'Combined Gradation'!$L$34)","v":"Wtd Cum. %"},{"$f":"IF('Combined Gradation'!$B$34=\"\",\"\",'Combined Gradation'!$B$34)","v":"Sieve Size:"},{"$f":"IF('Combined Gradation'!$B$40=\"\",\"\",'Combined Gradation'!$B$40)","v":"No. 8"}]
[193,{"$f":"IF('Combined Gradation'!$M$40=\"\",\"\",'Combined Gradation'!$M$40)","v":""},{"$f":"IF('Combined Gradation'!$B$5=\"\",\"\",'Combined Gradation'!$B$5)","v":"2014 HMACP MIXTURE DESIGN : COMBINED GRADATION"},{"$f":"IF('Combined Gradation'!$M$21=\"\",\"\",'Combined Gradation'!$M$21)","v":"Bin No.5"},{"$f":"IF('Combined Gradation'!$M$34=\"\",\"\",'Combined Gradation'!$M$34)","v":"Cum.% Passing"},{"$f":"IF('Combined Gradation'!$B$34=\"\",\"\",'Combined Gradation'!$B$34)","v":"Sieve Size:"},{"$f":"IF('Combined Gradation'!$B$40=\"\",\"\",'Combined Gradation'!$B$40)","v":"No. 8"}]
[194,{"$f":"IF('Combined Gradation'!$N$40=\"\",\"\",'Combined Gradation'!$N$40)","v":""},{"$f":"IF('Combined Gradation'!$B$5=\"\",\"\",'Combined Gradation'!$B$5)","v":"2014 HMACP MIXTURE DESIGN : COMBINED GRADATION"},{"$f":"IF('Combined Gradation'!$M$21=\"\",\"\",'Combined Gradation'!$M$21)","v":"Bin No.5"},{"$f":"IF('Combined Gradation'!$N$34=\"\",\"\",'Combined Gradation'!$N$34)","v":"Wtd Cum. %"},{"$f":"IF('Combined Gradation'!$B$34=\"\",\"\",'Combined Gradation'!$B$34)","v":"Sieve Size:"},{"$f":"IF('Combined Gradation'!$B$40=\"\",\"\",'Combined Gradation'!$B$40)","v":"No. 8"}]
[195,{"$f":"IF('Combined Gradation'!$O$40=\"\",\"\",'Combined Gradation'!$O$40)","v":""},{"$f":"IF('Combined Gradation'!$B$5=\"\",\"\",'Combined Gradation'!$B$5)","v":"2014 HMACP MIXTURE DESIGN : COMBINED GRADATION"},{"$f":"IF('Combined Gradation'!$O$21=\"\",\"\",'Combined Gradation'!$O$21)","v":"Bin No.6 "},{"$f":"IF('Combined Gradation'!$O$34=\"\",\"\",'Combined Gradation'!$O$34)","v":"Cum.% Passing"},{"$f":"IF('Combined Gradation'!$B$34=\"\",\"\",'Combined Gradation'!$B$34)","v":"Sieve Size:"},{"$f":"IF('Combined Gradation'!$B$40=\"\",\"\",'Combined Gradation'!$B$40)","v":"No. 8"}]
[196,{"$f":"IF('Combined Gradation'!$P$40=\"\",\"\",'Combined Gradation'!$P$40)","v":""},{"$f":"IF('Combined Gradation'!$B$5=\"\",\"\",'Combined Gradation'!$B$5)","v":"2014 HMACP MIXTURE DESIGN : COMBINED GRADATION"},{"$f":"IF('Combined Gradation'!$O$21=\"\",\"\",'Combined Gradation'!$O$21)","v":"Bin No.6 "},{"$f":"IF('Combined Gradation'!$P$34=\"\",\"\",'Combined Gradation'!$P$34)","v":"Wtd Cum. %"},{"$f":"IF('Combined Gradation'!$B$34=\"\",\"\",'Combined Gradation'!$B$34)","v":"Sieve Size:"},{"$f":"IF('Combined Gradation'!$B$40=\"\",\"\",'Combined Gradation'!$B$40)","v":"No. 8"}]
[197,{"$f":"IF('Combined Gradation'!$Q$40=\"\",\"\",'Combined Gradation'!$Q$40)","v":""},{"$f":"IF('Combined Gradation'!$B$5=\"\",\"\",'Combined Gradation'!$B$5)","v":"2014 HMACP MIXTURE DESIGN : COMBINED GRADATION"},{"$f":"IF('Combined Gradation'!$Q$21=\"\",\"\",'Combined Gradation'!$Q$21)","v":"Bin No.7 "},{"$f":"IF('Combined Gradation'!$Q$34=\"\",\"\",'Combined Gradation'!$Q$34)","v":"Cum.% Passing"},{"$f":"IF('Combined Gradation'!$B$34=\"\",\"\",'Combined Gradation'!$B$34)","v":"Sieve Size:"},{"$f":"IF('Combined Gradation'!$B$40=\"\",\"\",'Combined Gradation'!$B$40)","v":"No. 8"}]
[198,{"$f":"IF('Combined Gradation'!$R$40=\"\",\"\",'Combined Gradation'!$R$40)","v":""},{"$f":"IF('Combined Gradation'!$B$5=\"\",\"\",'Combined Gradation'!$B$5)","v":"2014 HMACP MIXTURE DESIGN : COMBINED GRADATION"},{"$f":"IF('Combined Gradation'!$Q$21=\"\",\"\",'Combined Gradation'!$Q$21)","v":"Bin No.7 "},{"$f":"IF('Combined Gradation'!$R$34=\"\",\"\",'Combined Gradation'!$R$34)","v":"Wtd Cum. %"},{"$f":"IF('Combined Gradation'!$B$34=\"\",\"\",'Combined Gradation'!$B$34)","v":"Sieve Size:"},{"$f":"IF('Combined Gradation'!$B$40=\"\",\"\",'Combined Gradation'!$B$40)","v":"No. 8"}]
[199,{"$f":"IF('Combined Gradation'!$Y$40=\"\",\"\",'Combined Gradation'!$Y$40)","v":""},{"$f":"IF('Combined Gradation'!$B$5=\"\",\"\",'Combined Gradation'!$B$5)","v":"2014 HMACP MIXTURE DESIGN : COMBINED GRADATION"},"Combined Gradation",{"$f":"IF('Combined Gradation'!$Y$34=\"\",\"\",'Combined Gradation'!$Y$34)","v":"Cum. % Passing"},{"$f":"IF('Combined Gradation'!$B$34=\"\",\"\",'Combined Gradation'!$B$34)","v":"Sieve Size:"},{"$f":"IF('Combined Gradation'!$B$40=\"\",\"\",'Combined Gradation'!$B$40)","v":"No. 8"}]
[200,{"$f":"IF('Combined Gradation'!$Z$40=\"\",\"\",'Combined Gradation'!$Z$40)","v":28},{"$f":"IF('Combined Gradation'!$B$5=\"\",\"\",'Combined Gradation'!$B$5)","v":"2014 HMACP MIXTURE DESIGN : COMBINED GRADATION"},{"$f":"IF('Combined Gradation'!$Z$31=\"\",\"\",'Combined Gradation'!$Z$31)","v":"Lower & Upper Specification Limits"},{"$f":"IF('Combined Gradation'!$Z$34=\"\",\"\",'Combined Gradation'!$Z$34)","v":"Lower"},{"$f":"IF('Combined Gradation'!$B$34=\"\",\"\",'Combined Gradation'!$B$34)","v":"Sieve Size:"},{"$f":"IF('Combined Gradation'!$B$40=\"\",\"\",'Combined Gradation'!$B$40)","v":"No. 8"}]
[201,{"$f":"IF('Combined Gradation'!$AA$40=\"\",\"\",'Combined Gradation'!$AA$40)","v":58},{"$f":"IF('Combined Gradation'!$B$5=\"\",\"\",'Combined Gradation'!$B$5)","v":"2014 HMACP MIXTURE DESIGN : COMBINED GRADATION"},{"$f":"IF('Combined Gradation'!$Z$31=\"\",\"\",'Combined Gradation'!$Z$31)","v":"Lower & Upper Specification Limits"},{"$f":"IF('Combined Gradation'!$AA$34=\"\",\"\",'Combined Gradation'!$AA$34)","v":"Upper"},{"$f":"IF('Combined Gradation'!$B$34=\"\",\"\",'Combined Gradation'!$B$34)","v":"Sieve Size:"},{"$f":"IF('Combined Gradation'!$B$40=\"\",\"\",'Combined Gradation'!$B$40)","v":"No. 8"}]
[202,{"$f":"IF('Combined Gradation'!$AB$40=\"\",\"\",'Combined Gradation'!$AB$40)","v":"No"},{"$f":"IF('Combined Gradation'!$B$5=\"\",\"\",'Combined Gradation'!$B$5)","v":"2014 HMACP MIXTURE DESIGN : COMBINED GRADATION"},{"$f":"IF('Combined Gradation'!$Z$31=\"\",\"\",'Combined Gradation'!$Z$31)","v":"Lower & Upper Specification Limits"},{"$f":"IF('Combined Gradation'!$AB$34=\"\",\"\",'Combined Gradation'!$AB$34)","v":"Within Spec's"},{"$f":"IF('Combined Gradation'!$B$34=\"\",\"\",'Combined Gradation'!$B$34)","v":"Sieve Size:"},{"$f":"IF('Combined Gradation'!$B$40=\"\",\"\",'Combined Gradation'!$B$40)","v":"No. 8"}]
[203,{"$f":"IF('Combined Gradation'!$AC$40=\"\",\"\",'Combined Gradation'!$AC$40)","v":39.1},{"$f":"IF('Combined Gradation'!$B$5=\"\",\"\",'Combined Gradation'!$B$5)","v":"2014 HMACP MIXTURE DESIGN : COMBINED GRADATION"},{"$f":"IF('Combined Gradation'!$AC$31=\"\",\"\",'Combined Gradation'!$AC$31)","v":"Restricted Zone"},{"$f":"IF('Combined Gradation'!$AC$34=\"\",\"\",'Combined Gradation'!$AC$34)","v":"Lower"},{"$f":"IF('Combined Gradation'!$B$34=\"\",\"\",'Combined Gradation'!$B$34)","v":"Sieve Size:"},{"$f":"IF('Combined Gradation'!$B$40=\"\",\"\",'Combined Gradation'!$B$40)","v":"No. 8"}]
[204,{"$f":"IF('Combined Gradation'!$AD$40=\"\",\"\",'Combined Gradation'!$AD$40)","v":39.1},{"$f":"IF('Combined Gradation'!$B$5=\"\",\"\",'Combined Gradation'!$B$5)","v":"2014 HMACP MIXTURE DESIGN : COMBINED GRADATION"},{"$f":"IF('Combined Gradation'!$AC$31=\"\",\"\",'Combined Gradation'!$AC$31)","v":"Restricted Zone"},{"$f":"IF('Combined Gradation'!$AD$34=\"\",\"\",'Combined Gradation'!$AD$34)","v":"Upper"},{"$f":"IF('Combined Gradation'!$B$34=\"\",\"\",'Combined Gradation'!$B$34)","v":"Sieve Size:"},{"$f":"IF('Combined Gradation'!$B$40=\"\",\"\",'Combined Gradation'!$B$40)","v":"No. 8"}]
[205,{"$f":"IF('Combined Gradation'!$AE$40=\"\",\"\",'Combined Gradation'!$AE$40)","v":"Yes"},{"$f":"IF('Combined Gradation'!$B$5=\"\",\"\",'Combined Gradation'!$B$5)","v":"2014 HMACP MIXTURE DESIGN : COMBINED GRADATION"},{"$f":"IF('Combined Gradation'!$AC$31=\"\",\"\",'Combined Gradation'!$AC$31)","v":"Restricted Zone"},{"$f":"IF('Combined Gradation'!$AE$34=\"\",\"\",'Combined Gradation'!$AE$34)","v":"Within Spec's"},{"$f":"IF('Combined Gradation'!$B$34=\"\",\"\",'Combined Gradation'!$B$34)","v":"Sieve Size:"},{"$f":"IF('Combined Gradation'!$B$40=\"\",\"\",'Combined Gradation'!$B$40)","v":"No. 8"}]
[206,{"$f":"IF('Combined Gradation'!$AF$40=\"\",\"\",'Combined Gradation'!$AF$40)","v":""},{"$f":"IF('Combined Gradation'!$B$5=\"\",\"\",'Combined Gradation'!$B$5)","v":"2014 HMACP MIXTURE DESIGN : COMBINED GRADATION"},{"$f":"IF('Combined Gradation'!$AF$31=\"\",\"\",'Combined Gradation'!$AF$31)","v":"Individual % Retained"},{"$f":"IF('Combined Gradation'!$B$34=\"\",\"\",'Combined Gradation'!$B$34)","v":"Sieve Size:"},{"$f":"IF('Combined Gradation'!$B$40=\"\",\"\",'Combined Gradation'!$B$40)","v":"No. 8"}]
[207,{"$f":"IF('Combined Gradation'!$AG$40=\"\",\"\",'Combined Gradation'!$AG$40)","v":""},{"$f":"IF('Combined Gradation'!$B$5=\"\",\"\",'Combined Gradation'!$B$5)","v":"2014 HMACP MIXTURE DESIGN : COMBINED GRADATION"},{"$f":"IF('Combined Gradation'!$AG$31=\"\",\"\",'Combined Gradation'!$AG$31)","v":"Cumulative % Retained"},{"$f":"IF('Combined Gradation'!$B$34=\"\",\"\",'Combined Gradation'!$B$34)","v":"Sieve Size:"},{"$f":"IF('Combined Gradation'!$B$40=\"\",\"\",'Combined Gradation'!$B$40)","v":"No. 8"}]
[208,{"$f":"IF('Combined Gradation'!$E$41=\"\",\"\",'Combined Gradation'!$E$41)","v":""},{"$f":"IF('Combined Gradation'!$B$5=\"\",\"\",'Combined Gradation'!$B$5)","v":"2014 HMACP MIXTURE DESIGN : COMBINED GRADATION"},{"$f":"IF('Combined Gradation'!$E$21=\"\",\"\",'Combined Gradation'!$E$21)","v":"Bin No.1"},{"$f":"IF('Combined Gradation'!$E$34=\"\",\"\",'Combined Gradation'!$E$34)","v":"Cum.% Passing"},{"$f":"IF('Combined Gradation'!$B$34=\"\",\"\",'Combined Gradation'!$B$34)","v":"Sieve Size:"},{"$f":"IF('Combined Gradation'!$B$41=\"\",\"\",'Combined Gradation'!$B$41)","v":"No. 16"}]
[209,{"$f":"IF('Combined Gradation'!$F$41=\"\",\"\",'Combined Gradation'!$F$41)","v":""},{"$f":"IF('Combined Gradation'!$B$5=\"\",\"\",'Combined Gradation'!$B$5)","v":"2014 HMACP MIXTURE DESIGN : COMBINED GRADATION"},{"$f":"IF('Combined Gradation'!$E$21=\"\",\"\",'Combined Gradation'!$E$21)","v":"Bin No.1"},{"$f":"IF('Combined Gradation'!$F$34=\"\",\"\",'Combined Gradation'!$F$34)","v":"Wtd Cum. %"},{"$f":"IF('Combined Gradation'!$B$34=\"\",\"\",'Combined Gradation'!$B$34)","v":"Sieve Size:"},{"$f":"IF('Combined Gradation'!$B$41=\"\",\"\",'Combined Gradation'!$B$41)","v":"No. 16"}]
[210,{"$f":"IF('Combined Gradation'!$G$41=\"\",\"\",'Combined Gradation'!$G$41)","v":""},{"$f":"IF('Combined Gradation'!$B$5=\"\",\"\",'Combined Gradation'!$B$5)","v":"2014 HMACP MIXTURE DESIGN : COMBINED GRADATION"},{"$f":"IF('Combined Gradation'!$G$21=\"\",\"\",'Combined Gradation'!$G$21)","v":"Bin No.2"},{"$f":"IF('Combined Gradation'!$G$34=\"\",\"\",'Combined Gradation'!$G$34)","v":"Cum.% Passing"},{"$f":"IF('Combined Gradation'!$B$34=\"\",\"\",'Combined Gradation'!$B$34)","v":"Sieve Size:"},{"$f":"IF('Combined Gradation'!$B$41=\"\",\"\",'Combined Gradation'!$B$41)","v":"No. 16"}]
[211,{"$f":"IF('Combined Gradation'!$H$41=\"\",\"\",'Combined Gradation'!$H$41)","v":""},{"$f":"IF('Combined Gradation'!$B$5=\"\",\"\",'Combined Gradation'!$B$5)","v":"2014 HMACP MIXTURE DESIGN : COMBINED GRADATION"},{"$f":"IF('Combined Gradation'!$G$21=\"\",\"\",'Combined Gradation'!$G$21)","v":"Bin No.2"},{"$f":"IF('Combined Gradation'!$H$34=\"\",\"\",'Combined Gradation'!$H$34)","v":"Wtd Cum. %"},{"$f":"IF('Combined Gradation'!$B$34=\"\",\"\",'Combined Gradation'!$B$34)","v":"Sieve Size:"},{"$f":"IF('Combined Gradation'!$B$41=\"\",\"\",'Combined Gradation'!$B$41)","v":"No. 16"}]
[212,{"$f":"IF('Combined Gradation'!$I$41=\"\",\"\",'Combined Gradation'!$I$41)","v":""},{"$f":"IF('Combined Gradation'!$B$5=\"\",\"\",'Combined Gradation'!$B$5)","v":"2014 HMACP MIXTURE DESIGN : COMBINED GRADATION"},{"$f":"IF('Combined Gradation'!$I$21=\"\",\"\",'Combined Gradation'!$I$21)","v":"Bin No.3"},{"$f":"IF('Combined Gradation'!$I$34=\"\",\"\",'Combined Gradation'!$I$34)","v":"Cum.% Passing"},{"$f":"IF('Combined Gradation'!$B$34=\"\",\"\",'Combined Gradation'!$B$34)","v":"Sieve Size:"},{"$f":"IF('Combined Gradation'!$B$41=\"\",\"\",'Combined Gradation'!$B$41)","v":"No. 16"}]
[213,{"$f":"IF('Combined Gradation'!$J$41=\"\",\"\",'Combined Gradation'!$J$41)","v":""},{"$f":"IF('Combined Gradation'!$B$5=\"\",\"\",'Combined Gradation'!$B$5)","v":"2014 HMACP MIXTURE DESIGN : COMBINED GRADATION"},{"$f":"IF('Combined Gradation'!$I$21=\"\",\"\",'Combined Gradation'!$I$21)","v":"Bin No.3"},{"$f":"IF('Combined Gradation'!$J$34=\"\",\"\",'Combined Gradation'!$J$34)","v":"Wtd Cum. %"},{"$f":"IF('Combined Gradation'!$B$34=\"\",\"\",'Combined Gradation'!$B$34)","v":"Sieve Size:"},{"$f":"IF('Combined Gradation'!$B$41=\"\",\"\",'Combined Gradation'!$B$41)","v":"No. 16"}]
[214,{"$f":"IF('Combined Gradation'!$K$41=\"\",\"\",'Combined Gradation'!$K$41)","v":""},{"$f":"IF('Combined Gradation'!$B$5=\"\",\"\",'Combined Gradation'!$B$5)","v":"2014 HMACP MIXTURE DESIGN : COMBINED GRADATION"},{"$f":"IF('Combined Gradation'!$K$21=\"\",\"\",'Combined Gradation'!$K$21)","v":"Bin No.4"},{"$f":"IF('Combined Gradation'!$K$34=\"\",\"\",'Combined Gradation'!$K$34)","v":"Cum.% Passing"},{"$f":"IF('Combined Gradation'!$B$34=\"\",\"\",'Combined Gradation'!$B$34)","v":"Sieve Size:"},{"$f":"IF('Combined Gradation'!$B$41=\"\",\"\",'Combined Gradation'!$B$41)","v":"No. 16"}]
[215,{"$f":"IF('Combined Gradation'!$L$41=\"\",\"\",'Combined Gradation'!$L$41)","v":""},{"$f":"IF('Combined Gradation'!$B$5=\"\",\"\",'Combined Gradation'!$B$5)","v":"2014 HMACP MIXTURE DESIGN : COMBINED GRADATION"},{"$f":"IF('Combined Gradation'!$K$21=\"\",\"\",'Combined Gradation'!$K$21)","v":"Bin No.4"},{"$f":"IF('Combined Gradation'!$L$34=\"\",\"\",'Combined Gradation'!$L$34)","v":"Wtd Cum. %"},{"$f":"IF('Combined Gradation'!$B$34=\"\",\"\",'Combined Gradation'!$B$34)","v":"Sieve Size:"},{"$f":"IF('Combined Gradation'!$B$41=\"\",\"\",'Combined Gradation'!$B$41)","v":"No. 16"}]
[216,{"$f":"IF('Combined Gradation'!$M$41=\"\",\"\",'Combined Gradation'!$M$41)","v":""},{"$f":"IF('Combined Gradation'!$B$5=\"\",\"\",'Combined Gradation'!$B$5)","v":"2014 HMACP MIXTURE DESIGN : COMBINED GRADATION"},{"$f":"IF('Combined Gradation'!$M$21=\"\",\"\",'Combined Gradation'!$M$21)","v":"Bin No.5"},{"$f":"IF('Combined Gradation'!$M$34=\"\",\"\",'Combined Gradation'!$M$34)","v":"Cum.% Passing"},{"$f":"IF('Combined Gradation'!$B$34=\"\",\"\",'Combined Gradation'!$B$34)","v":"Sieve Size:"},{"$f":"IF('Combined Gradation'!$B$41=\"\",\"\",'Combined Gradation'!$B$41)","v":"No. 16"}]
[217,{"$f":"IF('Combined Gradation'!$N$41=\"\",\"\",'Combined Gradation'!$N$41)","v":""},{"$f":"IF('Combined Gradation'!$B$5=\"\",\"\",'Combined Gradation'!$B$5)","v":"2014 HMACP MIXTURE DESIGN : COMBINED GRADATION"},{"$f":"IF('Combined Gradation'!$M$21=\"\",\"\",'Combined Gradation'!$M$21)","v":"Bin No.5"},{"$f":"IF('Combined Gradation'!$N$34=\"\",\"\",'Combined Gradation'!$N$34)","v":"Wtd Cum. %"},{"$f":"IF('Combined Gradation'!$B$34=\"\",\"\",'Combined Gradation'!$B$34)","v":"Sieve Size:"},{"$f":"IF('Combined Gradation'!$B$41=\"\",\"\",'Combined Gradation'!$B$41)","v":"No. 16"}]
[218,{"$f":"IF('Combined Gradation'!$O$41=\"\",\"\",'Combined Gradation'!$O$41)","v":""},{"$f":"IF('Combined Gradation'!$B$5=\"\",\"\",'Combined Gradation'!$B$5)","v":"2014 HMACP MIXTURE DESIGN : COMBINED GRADATION"},{"$f":"IF('Combined Gradation'!$O$21=\"\",\"\",'Combined Gradation'!$O$21)","v":"Bin No.6 "},{"$f":"IF('Combined Gradation'!$O$34=\"\",\"\",'Combined Gradation'!$O$34)","v":"Cum.% Passing"},{"$f":"IF('Combined Gradation'!$B$34=\"\",\"\",'Combined Gradation'!$B$34)","v":"Sieve Size:"},{"$f":"IF('Combined Gradation'!$B$41=\"\",\"\",'Combined Gradation'!$B$41)","v":"No. 16"}]
[219,{"$f":"IF('Combined Gradation'!$P$41=\"\",\"\",'Combined Gradation'!$P$41)","v":""},{"$f":"IF('Combined Gradation'!$B$5=\"\",\"\",'Combined Gradation'!$B$5)","v":"2014 HMACP MIXTURE DESIGN : COMBINED GRADATION"},{"$f":"IF('Combined Gradation'!$O$21=\"\",\"\",'Combined Gradation'!$O$21)","v":"Bin No.6 "},{"$f":"IF('Combined Gradation'!$P$34=\"\",\"\",'Combined Gradation'!$P$34)","v":"Wtd Cum. %"},{"$f":"IF('Combined Gradation'!$B$34=\"\",\"\",'Combined Gradation'!$B$34)","v":"Sieve Size:"},{"$f":"IF('Combined Gradation'!$B$41=\"\",\"\",'Combined Gradation'!$B$41)","v":"No. 16"}]
[220,{"$f":"IF('Combined Gradation'!$Q$41=\"\",\"\",'Combined Gradation'!$Q$41)","v":""},{"$f":"IF('Combined Gradation'!$B$5=\"\",\"\",'Combined Gradation'!$B$5)","v":"2014 HMACP MIXTURE DESIGN : COMBINED GRADATION"},{"$f":"IF('Combined Gradation'!$Q$21=\"\",\"\",'Combined Gradation'!$Q$21)","v":"Bin No.7 "},{"$f":"IF('Combined Gradation'!$Q$34=\"\",\"\",'Combined Gradation'!$Q$34)","v":"Cum.% Passing"},{"$f":"IF('Combined Gradation'!$B$34=\"\",\"\",'Combined Gradation'!$B$34)","v":"Sieve Size:"},{"$f":"IF('Combined Gradation'!$B$41=\"\",\"\",'Combined Gradation'!$B$41)","v":"No. 16"}]
[221,{"$f":"IF('Combined Gradation'!$R$41=\"\",\"\",'Combined Gradation'!$R$41)","v":""},{"$f":"IF('Combined Gradation'!$B$5=\"\",\"\",'Combined Gradation'!$B$5)","v":"2014 HMACP MIXTURE DESIGN : COMBINED GRADATION"},{"$f":"IF('Combined Gradation'!$Q$21=\"\",\"\",'Combined Gradation'!$Q$21)","v":"Bin No.7 "},{"$f":"IF('Combined Gradation'!$R$34=\"\",\"\",'Combined Gradation'!$R$34)","v":"Wtd Cum. %"},{"$f":"IF('Combined Gradation'!$B$34=\"\",\"\",'Combined Gradation'!$B$34)","v":"Sieve Size:"},{"$f":"IF('Combined Gradation'!$B$41=\"\",\"\",'Combined Gradation'!$B$41)","v":"No. 16"}]
[222,{"$f":"IF('Combined Gradation'!$Y$41=\"\",\"\",'Combined Gradation'!$Y$41)","v":""},{"$f":"IF('Combined Gradation'!$B$5=\"\",\"\",'Combined Gradation'!$B$5)","v":"2014 HMACP MIXTURE DESIGN : COMBINED GRADATION"},"Combined Gradation",{"$f":"IF('Combined Gradation'!$Y$34=\"\",\"\",'Combined Gradation'!$Y$34)","v":"Cum. % Passing"},{"$f":"IF('Combined Gradation'!$B$34=\"\",\"\",'Combined Gradation'!$B$34)","v":"Sieve Size:"},{"$f":"IF('Combined Gradation'!$B$41=\"\",\"\",'Combined Gradation'!$B$41)","v":"No. 16"}]
[223,{"$f":"IF('Combined Gradation'!$Z$41=\"\",\"\",'Combined Gradation'!$Z$41)","v":2},{"$f":"IF('Combined Gradation'!$B$5=\"\",\"\",'Combined Gradation'!$B$5)","v":"2014 HMACP MIXTURE DESIGN : COMBINED GRADATION"},{"$f":"IF('Combined Gradation'!$Z$31=\"\",\"\",'Combined Gradation'!$Z$31)","v":"Lower & Upper Specification Limits"},{"$f":"IF('Combined Gradation'!$Z$34=\"\",\"\",'Combined Gradation'!$Z$34)","v":"Lower"},{"$f":"IF('Combined Gradation'!$B$34=\"\",\"\",'Combined Gradation'!$B$34)","v":"Sieve Size:"},{"$f":"IF('Combined Gradation'!$B$41=\"\",\"\",'Combined Gradation'!$B$41)","v":"No. 16"}]
[224,{"$f":"IF('Combined Gradation'!$AA$41=\"\",\"\",'Combined Gradation'!$AA$41)","v":58},{"$f":"IF('Combined Gradation'!$B$5=\"\",\"\",'Combined Gradation'!$B$5)","v":"2014 HMACP MIXTURE DESIGN : COMBINED GRADATION"},{"$f":"IF('Combined Gradation'!$Z$31=\"\",\"\",'Combined Gradation'!$Z$31)","v":"Lower & Upper Specification Limits"},{"$f":"IF('Combined Gradation'!$AA$34=\"\",\"\",'Combined Gradation'!$AA$34)","v":"Upper"},{"$f":"IF('Combined Gradation'!$B$34=\"\",\"\",'Combined Gradation'!$B$34)","v":"Sieve Size:"},{"$f":"IF('Combined Gradation'!$B$41=\"\",\"\",'Combined Gradation'!$B$41)","v":"No. 16"}]
[225,{"$f":"IF('Combined Gradation'!$AB$41=\"\",\"\",'Combined Gradation'!$AB$41)","v":"No"},{"$f":"IF('Combined Gradation'!$B$5=\"\",\"\",'Combined Gradation'!$B$5)","v":"2014 HMACP MIXTURE DESIGN : COMBINED GRADATION"},{"$f":"IF('Combined Gradation'!$Z$31=\"\",\"\",'Combined Gradation'!$Z$31)","v":"Lower & Upper Specification Limits"},{"$f":"IF('Combined Gradation'!$AB$34=\"\",\"\",'Combined Gradation'!$AB$34)","v":"Within Spec's"},{"$f":"IF('Combined Gradation'!$B$34=\"\",\"\",'Combined Gradation'!$B$34)","v":"Sieve Size:"},{"$f":"IF('Combined Gradation'!$B$41=\"\",\"\",'Combined Gradation'!$B$41)","v":"No. 16"}]
[226,{"$f":"IF('Combined Gradation'!$AC$41=\"\",\"\",'Combined Gradation'!$AC$41)","v":25.6},{"$f":"IF('Combined Gradation'!$B$5=\"\",\"\",'Combined Gradation'!$B$5)","v":"2014 HMACP MIXTURE DESIGN : COMBINED GRADATION"},{"$f":"IF('Combined Gradation'!$AC$31=\"\",\"\",'Combined Gradation'!$AC$31)","v":"Restricted Zone"},{"$f":"IF('Combined Gradation'!$AC$34=\"\",\"\",'Combined Gradation'!$AC$34)","v":"Lower"},{"$f":"IF('Combined Gradation'!$B$34=\"\",\"\",'Combined Gradation'!$B$34)","v":"Sieve Size:"},{"$f":"IF('Combined Gradation'!$B$41=\"\",\"\",'Combined Gradation'!$B$41)","v":"No. 16"}]
[227,{"$f":"IF('Combined Gradation'!$AD$41=\"\",\"\",'Combined Gradation'!$AD$41)","v":31.6},{"$f":"IF('Combined Gradation'!$B$5=\"\",\"\",'Combined Gradation'!$B$5)","v":"2014 HMACP MIXTURE DESIGN : COMBINED GRADATION"},{"$f":"IF('Combined Gradation'!$AC$31=\"\",\"\",'Combined Gradation'!$AC$31)","v":"Restricted Zone"},{"$f":"IF('Combined Gradation'!$AD$34=\"\",\"\",'Combined Gradation'!$AD$34)","v":"Upper"},{"$f":"IF('Combined Gradation'!$B$34=\"\",\"\",'Combined Gradation'!$B$34)","v":"Sieve Size:"},{"$f":"IF('Combined Gradation'!$B$41=\"\",\"\",'Combined Gradation'!$B$41)","v":"No. 16"}]
[228,{"$f":"IF('Combined Gradation'!$AE$41=\"\",\"\",'Combined Gradation'!$AE$41)","v":"Yes"},{"$f":"IF('Combined Gradation'!$B$5=\"\",\"\",'Combined Gradation'!$B$5)","v":"2014 HMACP MIXTURE DESIGN : COMBINED GRADATION"},{"$f":"IF('Combined Gradation'!$AC$31=\"\",\"\",'Combined Gradation'!$AC$31)","v":"Restricted Zone"},{"$f":"IF('Combined Gradation'!$AE$34=\"\",\"\",'Combined Gradation'!$AE$34)","v":"Within Spec's"},{"$f":"IF('Combined Gradation'!$B$34=\"\",\"\",'Combined Gradation'!$B$34)","v":"Sieve Size:"},{"$f":"IF('Combined Gradation'!$B$41=\"\",\"\",'Combined Gradation'!$B$41)","v":"No. 16"}]
[229,{"$f":"IF('Combined Gradation'!$AF$41=\"\",\"\",'Combined Gradation'!$AF$41)","v":""},{"$f":"IF('Combined Gradation'!$B$5=\"\",\"\",'Combined Gradation'!$B$5)","v":"2014 HMACP MIXTURE DESIGN : COMBINED GRADATION"},{"$f":"IF('Combined Gradation'!$AF$31=\"\",\"\",'Combined Gradation'!$AF$31)","v":"Individual % Retained"},{"$f":"IF('Combined Gradation'!$B$34=\"\",\"\",'Combined Gradation'!$B$34)","v":"Sieve Size:"},{"$f":"IF('Combined Gradation'!$B$41=\"\",\"\",'Combined Gradation'!$B$41)","v":"No. 16"}]
[230,{"$f":"IF('Combined Gradation'!$AG$41=\"\",\"\",'Combined Gradation'!$AG$41)","v":""},{"$f":"IF('Combined Gradation'!$B$5=\"\",\"\",'Combined Gradation'!$B$5)","v":"2014 HMACP MIXTURE DESIGN : COMBINED GRADATION"},{"$f":"IF('Combined Gradation'!$AG$31=\"\",\"\",'Combined Gradation'!$AG$31)","v":"Cumulative % Retained"},{"$f":"IF('Combined Gradation'!$B$34=\"\",\"\",'Combined Gradation'!$B$34)","v":"Sieve Size:"},{"$f":"IF('Combined Gradation'!$B$41=\"\",\"\",'Combined Gradation'!$B$41)","v":"No. 16"}]
[231,{"$f":"IF('Combined Gradation'!$E$42=\"\",\"\",'Combined Gradation'!$E$42)","v":""},{"$f":"IF('Combined Gradation'!$B$5=\"\",\"\",'Combined Gradation'!$B$5)","v":"2014 HMACP MIXTURE DESIGN : COMBINED GRADATION"},{"$f":"IF('Combined Gradation'!$E$21=\"\",\"\",'Combined Gradation'!$E$21)","v":"Bin No.1"},{"$f":"IF('Combined Gradation'!$E$34=\"\",\"\",'Combined Gradation'!$E$34)","v":"Cum.% Passing"},{"$f":"IF('Combined Gradation'!$B$34=\"\",\"\",'Combined Gradation'!$B$34)","v":"Sieve Size:"},{"$f":"IF('Combined Gradation'!$B$42=\"\",\"\",'Combined Gradation'!$B$42)","v":"No. 30"}]
[232,{"$f":"IF('Combined Gradation'!$F$42=\"\",\"\",'Combined Gradation'!$F$42)","v":""},{"$f":"IF('Combined Gradation'!$B$5=\"\",\"\",'Combined Gradation'!$B$5)","v":"2014 HMACP MIXTURE DESIGN : COMBINED GRADATION"},{"$f":"IF('Combined Gradation'!$E$21=\"\",\"\",'Combined Gradation'!$E$21)","v":"Bin No.1"},{"$f":"IF('Combined Gradation'!$F$34=\"\",\"\",'Combined Gradation'!$F$34)","v":"Wtd Cum. %"},{"$f":"IF('Combined Gradation'!$B$34=\"\",\"\",'Combined Gradation'!$B$34)","v":"Sieve Size:"},{"$f":"IF('Combined Gradation'!$B$42=\"\",\"\",'Combined Gradation'!$B$42)","v":"No. 30"}]
[233,{"$f":"IF('Combined Gradation'!$G$42=\"\",\"\",'Combined Gradation'!$G$42)","v":""},{"$f":"IF('Combined Gradation'!$B$5=\"\",\"\",'Combined Gradation'!$B$5)","v":"2014 HMACP MIXTURE DESIGN : COMBINED GRADATION"},{"$f":"IF('Combined Gradation'!$G$21=\"\",\"\",'Combined Gradation'!$G$21)","v":"Bin No.2"},{"$f":"IF('Combined Gradation'!$G$34=\"\",\"\",'Combined Gradation'!$G$34)","v":"Cum.% Passing"},{"$f":"IF('Combined Gradation'!$B$34=\"\",\"\",'Combined Gradation'!$B$34)","v":"Sieve Size:"},{"$f":"IF('Combined Gradation'!$B$42=\"\",\"\",'Combined Gradation'!$B$42)","v":"No. 30"}]
[234,{"$f":"IF('Combined Gradation'!$H$42=\"\",\"\",'Combined Gradation'!$H$42)","v":""},{"$f":"IF('Combined Gradation'!$B$5=\"\",\"\",'Combined Gradation'!$B$5)","v":"2014 HMACP MIXTURE DESIGN : COMBINED GRADATION"},{"$f":"IF('Combined Gradation'!$G$21=\"\",\"\",'Combined Gradation'!$G$21)","v":"Bin No.2"},{"$f":"IF('Combined Gradation'!$H$34=\"\",\"\",'Combined Gradation'!$H$34)","v":"Wtd Cum. %"},{"$f":"IF('Combined Gradation'!$B$34=\"\",\"\",'Combined Gradation'!$B$34)","v":"Sieve Size:"},{"$f":"IF('Combined Gradation'!$B$42=\"\",\"\",'Combined Gradation'!$B$42)","v":"No. 30"}]
[235,{"$f":"IF('Combined Gradation'!$I$42=\"\",\"\",'Combined Gradation'!$I$42)","v":""},{"$f":"IF('Combined Gradation'!$B$5=\"\",\"\",'Combined Gradation'!$B$5)","v":"2014 HMACP MIXTURE DESIGN : COMBINED GRADATION"},{"$f":"IF('Combined Gradation'!$I$21=\"\",\"\",'Combined Gradation'!$I$21)","v":"Bin No.3"},{"$f":"IF('Combined Gradation'!$I$34=\"\",\"\",'Combined Gradation'!$I$34)","v":"Cum.% Passing"},{"$f":"IF('Combined Gradation'!$B$34=\"\",\"\",'Combined Gradation'!$B$34)","v":"Sieve Size:"},{"$f":"IF('Combined Gradation'!$B$42=\"\",\"\",'Combined Gradation'!$B$42)","v":"No. 30"}]
[236,{"$f":"IF('Combined Gradation'!$J$42=\"\",\"\",'Combined Gradation'!$J$42)","v":""},{"$f":"IF('Combined Gradation'!$B$5=\"\",\"\",'Combined Gradation'!$B$5)","v":"2014 HMACP MIXTURE DESIGN : COMBINED GRADATION"},{"$f":"IF('Combined Gradation'!$I$21=\"\",\"\",'Combined Gradation'!$I$21)","v":"Bin No.3"},{"$f":"IF('Combined Gradation'!$J$34=\"\",\"\",'Combined Gradation'!$J$34)","v":"Wtd Cum. %"},{"$f":"IF('Combined Gradation'!$B$34=\"\",\"\",'Combined Gradation'!$B$34)","v":"Sieve Size:"},{"$f":"IF('Combined Gradation'!$B$42=\"\",\"\",'Combined Gradation'!$B$42)","v":"No. 30"}]
[237,{"$f":"IF('Combined Gradation'!$K$42=\"\",\"\",'Combined Gradation'!$K$42)","v":""},{"$f":"IF('Combined Gradation'!$B$5=\"\",\"\",'Combined Gradation'!$B$5)","v":"2014 HMACP MIXTURE DESIGN : COMBINED GRADATION"},{"$f":"IF('Combined Gradation'!$K$21=\"\",\"\",'Combined Gradation'!$K$21)","v":"Bin No.4"},{"$f":"IF('Combined Gradation'!$K$34=\"\",\"\",'Combined Gradation'!$K$34)","v":"Cum.% Passing"},{"$f":"IF('Combined Gradation'!$B$34=\"\",\"\",'Combined Gradation'!$B$34)","v":"Sieve Size:"},{"$f":"IF('Combined Gradation'!$B$42=\"\",\"\",'Combined Gradation'!$B$42)","v":"No. 30"}]
[238,{"$f":"IF('Combined Gradation'!$L$42=\"\",\"\",'Combined Gradation'!$L$42)","v":""},{"$f":"IF('Combined Gradation'!$B$5=\"\",\"\",'Combined Gradation'!$B$5)","v":"2014 HMACP MIXTURE DESIGN : COMBINED GRADATION"},{"$f":"IF('Combined Gradation'!$K$21=\"\",\"\",'Combined Gradation'!$K$21)","v":"Bin No.4"},{"$f":"IF('Combined Gradation'!$L$34=\"\",\"\",'Combined Gradation'!$L$34)","v":"Wtd Cum. %"},{"$f":"IF('Combined Gradation'!$B$34=\"\",\"\",'Combined Gradation'!$B$34)","v":"Sieve Size:"},{"$f":"IF('Combined Gradation'!$B$42=\"\",\"\",'Combined Gradation'!$B$42)","v":"No. 30"}]
[239,{"$f":"IF('Combined Gradation'!$M$42=\"\",\"\",'Combined Gradation'!$M$42)","v":""},{"$f":"IF('Combined Gradation'!$B$5=\"\",\"\",'Combined Gradation'!$B$5)","v":"2014 HMACP MIXTURE DESIGN : COMBINED GRADATION"},{"$f":"IF('Combined Gradation'!$M$21=\"\",\"\",'Combined Gradation'!$M$21)","v":"Bin No.5"},{"$f":"IF('Combined Gradation'!$M$34=\"\",\"\",'Combined Gradation'!$M$34)","v":"Cum.% Passing"},{"$f":"IF('Combined Gradation'!$B$34=\"\",\"\",'Combined Gradation'!$B$34)","v":"Sieve Size:"},{"$f":"IF('Combined Gradation'!$B$42=\"\",\"\",'Combined Gradation'!$B$42)","v":"No. 30"}]
[240,{"$f":"IF('Combined Gradation'!$N$42=\"\",\"\",'Combined Gradation'!$N$42)","v":""},{"$f":"IF('Combined Gradation'!$B$5=\"\",\"\",'Combined Gradation'!$B$5)","v":"2014 HMACP MIXTURE DESIGN : COMBINED GRADATION"},{"$f":"IF('Combined Gradation'!$M$21=\"\",\"\",'Combined Gradation'!$M$21)","v":"Bin No.5"},{"$f":"IF('Combined Gradation'!$N$34=\"\",\"\",'Combined Gradation'!$N$34)","v":"Wtd Cum. %"},{"$f":"IF('Combined Gradation'!$B$34=\"\",\"\",'Combined Gradation'!$B$34)","v":"Sieve Size:"},{"$f":"IF('Combined Gradation'!$B$42=\"\",\"\",'Combined Gradation'!$B$42)","v":"No. 30"}]
[241,{"$f":"IF('Combined Gradation'!$O$42=\"\",\"\",'Combined Gradation'!$O$42)","v":""},{"$f":"IF('Combined Gradation'!$B$5=\"\",\"\",'Combined Gradation'!$B$5)","v":"2014 HMACP MIXTURE DESIGN : COMBINED GRADATION"},{"$f":"IF('Combined Gradation'!$O$21=\"\",\"\",'Combined Gradation'!$O$21)","v":"Bin No.6 "},{"$f":"IF('Combined Gradation'!$O$34=\"\",\"\",'Combined Gradation'!$O$34)","v":"Cum.% Passing"},{"$f":"IF('Combined Gradation'!$B$34=\"\",\"\",'Combined Gradation'!$B$34)","v":"Sieve Size:"},{"$f":"IF('Combined Gradation'!$B$42=\"\",\"\",'Combined Gradation'!$B$42)","v":"No. 30"}]
[242,{"$f":"IF('Combined Gradation'!$P$42=\"\",\"\",'Combined Gradation'!$P$42)","v":""},{"$f":"IF('Combined Gradation'!$B$5=\"\",\"\",'Combined Gradation'!$B$5)","v":"2014 HMACP MIXTURE DESIGN : COMBINED GRADATION"},{"$f":"IF('Combined Gradation'!$O$21=\"\",\"\",'Combined Gradation'!$O$21)","v":"Bin No.6 "},{"$f":"IF('Combined Gradation'!$P$34=\"\",\"\",'Combined Gradation'!$P$34)","v":"Wtd Cum. %"},{"$f":"IF('Combined Gradation'!$B$34=\"\",\"\",'Combined Gradation'!$B$34)","v":"Sieve Size:"},{"$f":"IF('Combined Gradation'!$B$42=\"\",\"\",'Combined Gradation'!$B$42)","v":"No. 30"}]
[243,{"$f":"IF('Combined Gradation'!$Q$42=\"\",\"\",'Combined Gradation'!$Q$42)","v":""},{"$f":"IF('Combined Gradation'!$B$5=\"\",\"\",'Combined Gradation'!$B$5)","v":"2014 HMACP MIXTURE DESIGN : COMBINED GRADATION"},{"$f":"IF('Combined Gradation'!$Q$21=\"\",\"\",'Combined Gradation'!$Q$21)","v":"Bin No.7 "},{"$f":"IF('Combined Gradation'!$Q$34=\"\",\"\",'Combined Gradation'!$Q$34)","v":"Cum.% Passing"},{"$f":"IF('Combined Gradation'!$B$34=\"\",\"\",'Combined Gradation'!$B$34)","v":"Sieve Size:"},{"$f":"IF('Combined Gradation'!$B$42=\"\",\"\",'Combined Gradation'!$B$42)","v":"No. 30"}]
[244,{"$f":"IF('Combined Gradation'!$R$42=\"\",\"\",'Combined Gradation'!$R$42)","v":""},{"$f":"IF('Combined Gradation'!$B$5=\"\",\"\",'Combined Gradation'!$B$5)","v":"2014 HMACP MIXTURE DESIGN : COMBINED GRADATION"},{"$f":"IF('Combined Gradation'!$Q$21=\"\",\"\",'Combined Gradation'!$Q$21)","v":"Bin No.7 "},{"$f":"IF('Combined Gradation'!$R$34=\"\",\"\",'Combined Gradation'!$R$34)","v":"Wtd Cum. %"},{"$f":"IF('Combined Gradation'!$B$34=\"\",\"\",'Combined Gradation'!$B$34)","v":"Sieve Size:"},{"$f":"IF('Combined Gradation'!$B$42=\"\",\"\",'Combined Gradation'!$B$42)","v":"No. 30"}]
[245,{"$f":"IF('Combined Gradation'!$Y$42=\"\",\"\",'Combined Gradation'!$Y$42)","v":""},{"$f":"IF('Combined Gradation'!$B$5=\"\",\"\",'Combined Gradation'!$B$5)","v":"2014 HMACP MIXTURE DESIGN : COMBINED GRADATION"},"Combined Gradation",{"$f":"IF('Combined Gradation'!$Y$34=\"\",\"\",'Combined Gradation'!$Y$34)","v":"Cum. % Passing"},{"$f":"IF('Combined Gradation'!$B$34=\"\",\"\",'Combined Gradation'!$B$34)","v":"Sieve Size:"},{"$f":"IF('Combined Gradation'!$B$42=\"\",\"\",'Combined Gradation'!$B$42)","v":"No. 30"}]
[246,{"$f":"IF('Combined Gradation'!$Z$42=\"\",\"\",'Combined Gradation'!$Z$42)","v":2},{"$f":"IF('Combined Gradation'!$B$5=\"\",\"\",'Combined Gradation'!$B$5)","v":"2014 HMACP MIXTURE DESIGN : COMBINED GRADATION"},{"$f":"IF('Combined Gradation'!$Z$31=\"\",\"\",'Combined Gradation'!$Z$31)","v":"Lower & Upper Specification Limits"},{"$f":"IF('Combined Gradation'!$Z$34=\"\",\"\",'Combined Gradation'!$Z$34)","v":"Lower"},{"$f":"IF('Combined Gradation'!$B$34=\"\",\"\",'Combined Gradation'!$B$34)","v":"Sieve Size:"},{"$f":"IF('Combined Gradation'!$B$42=\"\",\"\",'Combined Gradation'!$B$42)","v":"No. 30"}]
[247,{"$f":"IF('Combined Gradation'!$AA$42=\"\",\"\",'Combined Gradation'!$AA$42)","v":58},{"$f":"IF('Combined Gradation'!$B$5=\"\",\"\",'Combined Gradation'!$B$5)","v":"2014 HMACP MIXTURE DESIGN : COMBINED GRADATION"},{"$f":"IF('Combined Gradation'!$Z$31=\"\",\"\",'Combined Gradation'!$Z$31)","v":"Lower & Upper Specification Limits"},{"$f":"IF('Combined Gradation'!$AA$34=\"\",\"\",'Combined Gradation'!$AA$34)","v":"Upper"},{"$f":"IF('Combined Gradation'!$B$34=\"\",\"\",'Combined Gradation'!$B$34)","v":"Sieve Size:"},{"$f":"IF('Combined Gradation'!$B$42=\"\",\"\",'Combined Gradation'!$B$42)","v":"No. 30"}]
[248,{"$f":"IF('Combined Gradation'!$AB$42=\"\",\"\",'Combined Gradation'!$AB$42)","v":"No"},{"$f":"IF('Combined Gradation'!$B$5=\"\",\"\",'Combined Gradation'!$B$5)","v":"2014 HMACP MIXTURE DESIGN : COMBINED GRADATION"},{"$f":"IF('Combined Gradation'!$Z$31=\"\",\"\",'Combined Gradation'!$Z$31)","v":"Lower & Upper Specification Limits"},{"$f":"IF('Combined Gradation'!$AB$34=\"\",\"\",'Combined Gradation'!$AB$34)","v":"Within Spec's"},{"$f":"IF('Combined Gradation'!$B$34=\"\",\"\",'Combined Gradation'!$B$34)","v":"Sieve Size:"},{"$f":"IF('Combined Gradation'!$B$42=\"\",\"\",'Combined Gradation'!$B$42)","v":"No. 30"}]
[249,{"$f":"IF('Combined Gradation'!$AC$42=\"\",\"\",'Combined Gradation'!$AC$42)","v":19.100000000000001},{"$f":"IF('Combined Gradation'!$B$5=\"\",\"\",'Combined Gradation'!$B$5)","v":"2014 HMACP MIXTURE DESIGN : COMBINED GRADATION"},{"$f":"IF('Combined Gradation'!$AC$31=\"\",\"\",'Combined Gradation'!$AC$31)","v":"Restricted Zone"},{"$f":"IF('Combined Gradation'!$AC$34=\"\",\"\",'Combined Gradation'!$AC$34)","v":"Lower"},{"$f":"IF('Combined Gradation'!$B$34=\"\",\"\",'Combined Gradation'!$B$34)","v":"Sieve Size:"},{"$f":"IF('Combined Gradation'!$B$42=\"\",\"\",'Combined Gradation'!$B$42)","v":"No. 30"}]
[250,{"$f":"IF('Combined Gradation'!$AD$42=\"\",\"\",'Combined Gradation'!$AD$42)","v":23.1},{"$f":"IF('Combined Gradation'!$B$5=\"\",\"\",'Combined Gradation'!$B$5)","v":"2014 HMACP MIXTURE DESIGN : COMBINED GRADATION"},{"$f":"IF('Combined Gradation'!$AC$31=\"\",\"\",'Combined Gradation'!$AC$31)","v":"Restricted Zone"},{"$f":"IF('Combined Gradation'!$AD$34=\"\",\"\",'Combined Gradation'!$AD$34)","v":"Upper"},{"$f":"IF('Combined Gradation'!$B$34=\"\",\"\",'Combined Gradation'!$B$34)","v":"Sieve Size:"},{"$f":"IF('Combined Gradation'!$B$42=\"\",\"\",'Combined Gradation'!$B$42)","v":"No. 30"}]
[251,{"$f":"IF('Combined Gradation'!$AE$42=\"\",\"\",'Combined Gradation'!$AE$42)","v":"Yes"},{"$f":"IF('Combined Gradation'!$B$5=\"\",\"\",'Combined Gradation'!$B$5)","v":"2014 HMACP MIXTURE DESIGN : COMBINED GRADATION"},{"$f":"IF('Combined Gradation'!$AC$31=\"\",\"\",'Combined Gradation'!$AC$31)","v":"Restricted Zone"},{"$f":"IF('Combined Gradation'!$AE$34=\"\",\"\",'Combined Gradation'!$AE$34)","v":"Within Spec's"},{"$f":"IF('Combined Gradation'!$B$34=\"\",\"\",'Combined Gradation'!$B$34)","v":"Sieve Size:"},{"$f":"IF('Combined Gradation'!$B$42=\"\",\"\",'Combined Gradation'!$B$42)","v":"No. 30"}]
[252,{"$f":"IF('Combined Gradation'!$AF$42=\"\",\"\",'Combined Gradation'!$AF$42)","v":""},{"$f":"IF('Combined Gradation'!$B$5=\"\",\"\",'Combined Gradation'!$B$5)","v":"2014 HMACP MIXTURE DESIGN : COMBINED GRADATION"},{"$f":"IF('Combined Gradation'!$AF$31=\"\",\"\",'Combined Gradation'!$AF$31)","v":"Individual % Retained"},{"$f":"IF('Combined Gradation'!$B$34=\"\",\"\",'Combined Gradation'!$B$34)","v":"Sieve Size:"},{"$f":"IF('Combined Gradation'!$B$42=\"\",\"\",'Combined Gradation'!$B$42)","v":"No. 30"}]
[253,{"$f":"IF('Combined Gradation'!$AG$42=\"\",\"\",'Combined Gradation'!$AG$42)","v":""},{"$f":"IF('Combined Gradation'!$B$5=\"\",\"\",'Combined Gradation'!$B$5)","v":"2014 HMACP MIXTURE DESIGN : COMBINED GRADATION"},{"$f":"IF('Combined Gradation'!$AG$31=\"\",\"\",'Combined Gradation'!$AG$31)","v":"Cumulative % Retained"},{"$f":"IF('Combined Gradation'!$B$34=\"\",\"\",'Combined Gradation'!$B$34)","v":"Sieve Size:"},{"$f":"IF('Combined Gradation'!$B$42=\"\",\"\",'Combined Gradation'!$B$42)","v":"No. 30"}]
[254,{"$f":"IF('Combined Gradation'!$E$43=\"\",\"\",'Combined Gradation'!$E$43)","v":""},{"$f":"IF('Combined Gradation'!$B$5=\"\",\"\",'Combined Gradation'!$B$5)","v":"2014 HMACP MIXTURE DESIGN : COMBINED GRADATION"},{"$f":"IF('Combined Gradation'!$E$21=\"\",\"\",'Combined Gradation'!$E$21)","v":"Bin No.1"},{"$f":"IF('Combined Gradation'!$E$34=\"\",\"\",'Combined Gradation'!$E$34)","v":"Cum.% Passing"},{"$f":"IF('Combined Gradation'!$B$34=\"\",\"\",'Combined Gradation'!$B$34)","v":"Sieve Size:"},{"$f":"IF('Combined Gradation'!$B$43=\"\",\"\",'Combined Gradation'!$B$43)","v":"No. 50"}]
[255,{"$f":"IF('Combined Gradation'!$F$43=\"\",\"\",'Combined Gradation'!$F$43)","v":""},{"$f":"IF('Combined Gradation'!$B$5=\"\",\"\",'Combined Gradation'!$B$5)","v":"2014 HMACP MIXTURE DESIGN : COMBINED GRADATION"},{"$f":"IF('Combined Gradation'!$E$21=\"\",\"\",'Combined Gradation'!$E$21)","v":"Bin No.1"},{"$f":"IF('Combined Gradation'!$F$34=\"\",\"\",'Combined Gradation'!$F$34)","v":"Wtd Cum. %"},{"$f":"IF('Combined Gradation'!$B$34=\"\",\"\",'Combined Gradation'!$B$34)","v":"Sieve Size:"},{"$f":"IF('Combined Gradation'!$B$43=\"\",\"\",'Combined Gradation'!$B$43)","v":"No. 50"}]
[256,{"$f":"IF('Combined Gradation'!$G$43=\"\",\"\",'Combined Gradation'!$G$43)","v":""},{"$f":"IF('Combined Gradation'!$B$5=\"\",\"\",'Combined Gradation'!$B$5)","v":"2014 HMACP MIXTURE DESIGN : COMBINED GRADATION"},{"$f":"IF('Combined Gradation'!$G$21=\"\",\"\",'Combined Gradation'!$G$21)","v":"Bin No.2"},{"$f":"IF('Combined Gradation'!$G$34=\"\",\"\",'Combined Gradation'!$G$34)","v":"Cum.% Passing"},{"$f":"IF('Combined Gradation'!$B$34=\"\",\"\",'Combined Gradation'!$B$34)","v":"Sieve Size:"},{"$f":"IF('Combined Gradation'!$B$43=\"\",\"\",'Combined Gradation'!$B$43)","v":"No. 50"}]
[257,{"$f":"IF('Combined Gradation'!$H$43=\"\",\"\",'Combined Gradation'!$H$43)","v":""},{"$f":"IF('Combined Gradation'!$B$5=\"\",\"\",'Combined Gradation'!$B$5)","v":"2014 HMACP MIXTURE DESIGN : COMBINED GRADATION"},{"$f":"IF('Combined Gradation'!$G$21=\"\",\"\",'Combined Gradation'!$G$21)","v":"Bin No.2"},{"$f":"IF('Combined Gradation'!$H$34=\"\",\"\",'Combined Gradation'!$H$34)","v":"Wtd Cum. %"},{"$f":"IF('Combined Gradation'!$B$34=\"\",\"\",'Combined Gradation'!$B$34)","v":"Sieve Size:"},{"$f":"IF('Combined Gradation'!$B$43=\"\",\"\",'Combined Gradation'!$B$43)","v":"No. 50"}]
[258,{"$f":"IF('Combined Gradation'!$I$43=\"\",\"\",'Combined Gradation'!$I$43)","v":""},{"$f":"IF('Combined Gradation'!$B$5=\"\",\"\",'Combined Gradation'!$B$5)","v":"2014 HMACP MIXTURE DESIGN : COMBINED GRADATION"},{"$f":"IF('Combined Gradation'!$I$21=\"\",\"\",'Combined Gradation'!$I$21)","v":"Bin No.3"},{"$f":"IF('Combined Gradation'!$I$34=\"\",\"\",'Combined Gradation'!$I$34)","v":"Cum.% Passing"},{"$f":"IF('Combined Gradation'!$B$34=\"\",\"\",'Combined Gradation'!$B$34)","v":"Sieve Size:"},{"$f":"IF('Combined Gradation'!$B$43=\"\",\"\",'Combined Gradation'!$B$43)","v":"No. 50"}]
[259,{"$f":"IF('Combined Gradation'!$J$43=\"\",\"\",'Combined Gradation'!$J$43)","v":""},{"$f":"IF('Combined Gradation'!$B$5=\"\",\"\",'Combined Gradation'!$B$5)","v":"2014 HMACP MIXTURE DESIGN : COMBINED GRADATION"},{"$f":"IF('Combined Gradation'!$I$21=\"\",\"\",'Combined Gradation'!$I$21)","v":"Bin No.3"},{"$f":"IF('Combined Gradation'!$J$34=\"\",\"\",'Combined Gradation'!$J$34)","v":"Wtd Cum. %"},{"$f":"IF('Combined Gradation'!$B$34=\"\",\"\",'Combined Gradation'!$B$34)","v":"Sieve Size:"},{"$f":"IF('Combined Gradation'!$B$43=\"\",\"\",'Combined Gradation'!$B$43)","v":"No. 50"}]
[260,{"$f":"IF('Combined Gradation'!$K$43=\"\",\"\",'Combined Gradation'!$K$43)","v":""},{"$f":"IF('Combined Gradation'!$B$5=\"\",\"\",'Combined Gradation'!$B$5)","v":"2014 HMACP MIXTURE DESIGN : COMBINED GRADATION"},{"$f":"IF('Combined Gradation'!$K$21=\"\",\"\",'Combined Gradation'!$K$21)","v":"Bin No.4"},{"$f":"IF('Combined Gradation'!$K$34=\"\",\"\",'Combined Gradation'!$K$34)","v":"Cum.% Passing"},{"$f":"IF('Combined Gradation'!$B$34=\"\",\"\",'Combined Gradation'!$B$34)","v":"Sieve Size:"},{"$f":"IF('Combined Gradation'!$B$43=\"\",\"\",'Combined Gradation'!$B$43)","v":"No. 50"}]
[261,{"$f":"IF('Combined Gradation'!$L$43=\"\",\"\",'Combined Gradation'!$L$43)","v":""},{"$f":"IF('Combined Gradation'!$B$5=\"\",\"\",'Combined Gradation'!$B$5)","v":"2014 HMACP MIXTURE DESIGN : COMBINED GRADATION"},{"$f":"IF('Combined Gradation'!$K$21=\"\",\"\",'Combined Gradation'!$K$21)","v":"Bin No.4"},{"$f":"IF('Combined Gradation'!$L$34=\"\",\"\",'Combined Gradation'!$L$34)","v":"Wtd Cum. %"},{"$f":"IF('Combined Gradation'!$B$34=\"\",\"\",'Combined Gradation'!$B$34)","v":"Sieve Size:"},{"$f":"IF('Combined Gradation'!$B$43=\"\",\"\",'Combined Gradation'!$B$43)","v":"No. 50"}]
[262,{"$f":"IF('Combined Gradation'!$M$43=\"\",\"\",'Combined Gradation'!$M$43)","v":""},{"$f":"IF('Combined Gradation'!$B$5=\"\",\"\",'Combined Gradation'!$B$5)","v":"2014 HMACP MIXTURE DESIGN : COMBINED GRADATION"},{"$f":"IF('Combined Gradation'!$M$21=\"\",\"\",'Combined Gradation'!$M$21)","v":"Bin No.5"},{"$f":"IF('Combined Gradation'!$M$34=\"\",\"\",'Combined Gradation'!$M$34)","v":"Cum.% Passing"},{"$f":"IF('Combined Gradation'!$B$34=\"\",\"\",'Combined Gradation'!$B$34)","v":"Sieve Size:"},{"$f":"IF('Combined Gradation'!$B$43=\"\",\"\",'Combined Gradation'!$B$43)","v":"No. 50"}]
[263,{"$f":"IF('Combined Gradation'!$N$43=\"\",\"\",'Combined Gradation'!$N$43)","v":""},{"$f":"IF('Combined Gradation'!$B$5=\"\",\"\",'Combined Gradation'!$B$5)","v":"2014 HMACP MIXTURE DESIGN : COMBINED GRADATION"},{"$f":"IF('Combined Gradation'!$M$21=\"\",\"\",'Combined Gradation'!$M$21)","v":"Bin No.5"},{"$f":"IF('Combined Gradation'!$N$34=\"\",\"\",'Combined Gradation'!$N$34)","v":"Wtd Cum. %"},{"$f":"IF('Combined Gradation'!$B$34=\"\",\"\",'Combined Gradation'!$B$34)","v":"Sieve Size:"},{"$f":"IF('Combined Gradation'!$B$43=\"\",\"\",'Combined Gradation'!$B$43)","v":"No. 50"}]
[264,{"$f":"IF('Combined Gradation'!$O$43=\"\",\"\",'Combined Gradation'!$O$43)","v":""},{"$f":"IF('Combined Gradation'!$B$5=\"\",\"\",'Combined Gradation'!$B$5)","v":"2014 HMACP MIXTURE DESIGN : COMBINED GRADATION"},{"$f":"IF('Combined Gradation'!$O$21=\"\",\"\",'Combined Gradation'!$O$21)","v":"Bin No.6 "},{"$f":"IF('Combined Gradation'!$O$34=\"\",\"\",'Combined Gradation'!$O$34)","v":"Cum.% Passing"},{"$f":"IF('Combined Gradation'!$B$34=\"\",\"\",'Combined Gradation'!$B$34)","v":"Sieve Size:"},{"$f":"IF('Combined Gradation'!$B$43=\"\",\"\",'Combined Gradation'!$B$43)","v":"No. 50"}]
[265,{"$f":"IF('Combined Gradation'!$P$43=\"\",\"\",'Combined Gradation'!$P$43)","v":""},{"$f":"IF('Combined Gradation'!$B$5=\"\",\"\",'Combined Gradation'!$B$5)","v":"2014 HMACP MIXTURE DESIGN : COMBINED GRADATION"},{"$f":"IF('Combined Gradation'!$O$21=\"\",\"\",'Combined Gradation'!$O$21)","v":"Bin No.6 "},{"$f":"IF('Combined Gradation'!$P$34=\"\",\"\",'Combined Gradation'!$P$34)","v":"Wtd Cum. %"},{"$f":"IF('Combined Gradation'!$B$34=\"\",\"\",'Combined Gradation'!$B$34)","v":"Sieve Size:"},{"$f":"IF('Combined Gradation'!$B$43=\"\",\"\",'Combined Gradation'!$B$43)","v":"No. 50"}]
[266,{"$f":"IF('Combined Gradation'!$Q$43=\"\",\"\",'Combined Gradation'!$Q$43)","v":""},{"$f":"IF('Combined Gradation'!$B$5=\"\",\"\",'Combined Gradation'!$B$5)","v":"2014 HMACP MIXTURE DESIGN : COMBINED GRADATION"},{"$f":"IF('Combined Gradation'!$Q$21=\"\",\"\",'Combined Gradation'!$Q$21)","v":"Bin No.7 "},{"$f":"IF('Combined Gradation'!$Q$34=\"\",\"\",'Combined Gradation'!$Q$34)","v":"Cum.% Passing"},{"$f":"IF('Combined Gradation'!$B$34=\"\",\"\",'Combined Gradation'!$B$34)","v":"Sieve Size:"},{"$f":"IF('Combined Gradation'!$B$43=\"\",\"\",'Combined Gradation'!$B$43)","v":"No. 50"}]
[267,{"$f":"IF('Combined Gradation'!$R$43=\"\",\"\",'Combined Gradation'!$R$43)","v":""},{"$f":"IF('Combined Gradation'!$B$5=\"\",\"\",'Combined Gradation'!$B$5)","v":"2014 HMACP MIXTURE DESIGN : COMBINED GRADATION"},{"$f":"IF('Combined Gradation'!$Q$21=\"\",\"\",'Combined Gradation'!$Q$21)","v":"Bin No.7 "},{"$f":"IF('Combined Gradation'!$R$34=\"\",\"\",'Combined Gradation'!$R$34)","v":"Wtd Cum. %"},{"$f":"IF('Combined Gradation'!$B$34=\"\",\"\",'Combined Gradation'!$B$34)","v":"Sieve Size:"},{"$f":"IF('Combined Gradation'!$B$43=\"\",\"\",'Combined Gradation'!$B$43)","v":"No. 50"}]
[268,{"$f":"IF('Combined Gradation'!$Y$43=\"\",\"\",'Combined Gradation'!$Y$43)","v":""},{"$f":"IF('Combined Gradation'!$B$5=\"\",\"\",'Combined Gradation'!$B$5)","v":"2014 HMACP MIXTURE DESIGN : COMBINED GRADATION"},"Combined Gradation",{"$f":"IF('Combined Gradation'!$Y$34=\"\",\"\",'Combined Gradation'!$Y$34)","v":"Cum. % Passing"},{"$f":"IF('Combined Gradation'!$B$34=\"\",\"\",'Combined Gradation'!$B$34)","v":"Sieve Size:"},{"$f":"IF('Combined Gradation'!$B$43=\"\",\"\",'Combined Gradation'!$B$43)","v":"No. 50"}]
[269,{"$f":"IF('Combined Gradation'!$Z$43=\"\",\"\",'Combined Gradation'!$Z$43)","v":2},{"$f":"IF('Combined Gradation'!$B$5=\"\",\"\",'Combined Gradation'!$B$5)","v":"2014 HMACP MIXTURE DESIGN : COMBINED GRADATION"},{"$f":"IF('Combined Gradation'!$Z$31=\"\",\"\",'Combined Gradation'!$Z$31)","v":"Lower & Upper Specification Limits"},{"$f":"IF('Combined Gradation'!$Z$34=\"\",\"\",'Combined Gradation'!$Z$34)","v":"Lower"},{"$f":"IF('Combined Gradation'!$B$34=\"\",\"\",'Combined Gradation'!$B$34)","v":"Sieve Size:"},{"$f":"IF('Combined Gradation'!$B$43=\"\",\"\",'Combined Gradation'!$B$43)","v":"No. 50"}]
[270,{"$f":"IF('Combined Gradation'!$AA$43=\"\",\"\",'Combined Gradation'!$AA$43)","v":58},{"$f":"IF('Combined Gradation'!$B$5=\"\",\"\",'Combined Gradation'!$B$5)","v":"2014 HMACP MIXTURE DESIGN : COMBINED GRADATION"},{"$f":"IF('Combined Gradation'!$Z$31=\"\",\"\",'Combined Gradation'!$Z$31)","v":"Lower & Upper Specification Limits"},{"$f":"IF('Combined Gradation'!$AA$34=\"\",\"\",'Combined Gradation'!$AA$34)","v":"Upper"},{"$f":"IF('Combined Gradation'!$B$34=\"\",\"\",'Combined Gradation'!$B$34)","v":"Sieve Size:"},{"$f":"IF('Combined Gradation'!$B$43=\"\",\"\",'Combined Gradation'!$B$43)","v":"No. 50"}]
[271,{"$f":"IF('Combined Gradation'!$AB$43=\"\",\"\",'Combined Gradation'!$AB$43)","v":"No"},{"$f":"IF('Combined Gradation'!$B$5=\"\",\"\",'Combined Gradation'!$B$5)","v":"2014 HMACP MIXTURE DESIGN : COMBINED GRADATION"},{"$f":"IF('Combined Gradation'!$Z$31=\"\",\"\",'Combined Gradation'!$Z$31)","v":"Lower & Upper Specification Limits"},{"$f":"IF('Combined Gradation'!$AB$34=\"\",\"\",'Combined Gradation'!$AB$34)","v":"Within Spec's"},{"$f":"IF('Combined Gradation'!$B$34=\"\",\"\",'Combined Gradation'!$B$34)","v":"Sieve Size:"},{"$f":"IF('Combined Gradation'!$B$43=\"\",\"\",'Combined Gradation'!$B$43)","v":"No. 50"}]
[272,{"$f":"IF('Combined Gradation'!$AC$43=\"\",\"\",'Combined Gradation'!$AC$43)","v":15.5},{"$f":"IF('Combined Gradation'!$B$5=\"\",\"\",'Combined Gradation'!$B$5)","v":"2014 HMACP MIXTURE DESIGN : COMBINED GRADATION"},{"$f":"IF('Combined Gradation'!$AC$31=\"\",\"\",'Combined Gradation'!$AC$31)","v":"Restricted Zone"},{"$f":"IF('Combined Gradation'!$AC$34=\"\",\"\",'Combined Gradation'!$AC$34)","v":"Lower"},{"$f":"IF('Combined Gradation'!$B$34=\"\",\"\",'Combined Gradation'!$B$34)","v":"Sieve Size:"},{"$f":"IF('Combined Gradation'!$B$43=\"\",\"\",'Combined Gradation'!$B$43)","v":"No. 50"}]
[273,{"$f":"IF('Combined Gradation'!$AD$43=\"\",\"\",'Combined Gradation'!$AD$43)","v":15.5},{"$f":"IF('Combined Gradation'!$B$5=\"\",\"\",'Combined Gradation'!$B$5)","v":"2014 HMACP MIXTURE DESIGN : COMBINED GRADATION"},{"$f":"IF('Combined Gradation'!$AC$31=\"\",\"\",'Combined Gradation'!$AC$31)","v":"Restricted Zone"},{"$f":"IF('Combined Gradation'!$AD$34=\"\",\"\",'Combined Gradation'!$AD$34)","v":"Upper"},{"$f":"IF('Combined Gradation'!$B$34=\"\",\"\",'Combined Gradation'!$B$34)","v":"Sieve Size:"},{"$f":"IF('Combined Gradation'!$B$43=\"\",\"\",'Combined Gradation'!$B$43)","v":"No. 50"}]
[274,{"$f":"IF('Combined Gradation'!$AE$43=\"\",\"\",'Combined Gradation'!$AE$43)","v":"Yes"},{"$f":"IF('Combined Gradation'!$B$5=\"\",\"\",'Combined Gradation'!$B$5)","v":"2014 HMACP MIXTURE DESIGN : COMBINED GRADATION"},{"$f":"IF('Combined Gradation'!$AC$31=\"\",\"\",'Combined Gradation'!$AC$31)","v":"Restricted Zone"},{"$f":"IF('Combined Gradation'!$AE$34=\"\",\"\",'Combined Gradation'!$AE$34)","v":"Within Spec's"},{"$f":"IF('Combined Gradation'!$B$34=\"\",\"\",'Combined Gradation'!$B$34)","v":"Sieve Size:"},{"$f":"IF('Combined Gradation'!$B$43=\"\",\"\",'Combined Gradation'!$B$43)","v":"No. 50"}]
[275,{"$f":"IF('Combined Gradation'!$AF$43=\"\",\"\",'Combined Gradation'!$AF$43)","v":""},{"$f":"IF('Combined Gradation'!$B$5=\"\",\"\",'Combined Gradation'!$B$5)","v":"2014 HMACP MIXTURE DESIGN : COMBINED GRADATION"},{"$f":"IF('Combined Gradation'!$AF$31=\"\",\"\",'Combined Gradation'!$AF$31)","v":"Individual % Retained"},{"$f":"IF('Combined Gradation'!$B$34=\"\",\"\",'Combined Gradation'!$B$34)","v":"Sieve Size:"},{"$f":"IF('Combined Gradation'!$B$43=\"\",\"\",'Combined Gradation'!$B$43)","v":"No. 50"}]
[276,{"$f":"IF('Combined Gradation'!$AG$43=\"\",\"\",'Combined Gradation'!$AG$43)","v":""},{"$f":"IF('Combined Gradation'!$B$5=\"\",\"\",'Combined Gradation'!$B$5)","v":"2014 HMACP MIXTURE DESIGN : COMBINED GRADATION"},{"$f":"IF('Combined Gradation'!$AG$31=\"\",\"\",'Combined Gradation'!$AG$31)","v":"Cumulative % Retained"},{"$f":"IF('Combined Gradation'!$B$34=\"\",\"\",'Combined Gradation'!$B$34)","v":"Sieve Size:"},{"$f":"IF('Combined Gradation'!$B$43=\"\",\"\",'Combined Gradation'!$B$43)","v":"No. 50"}]
[277,{"$f":"IF('Combined Gradation'!$E$44=\"\",\"\",'Combined Gradation'!$E$44)","v":""},{"$f":"IF('Combined Gradation'!$B$5=\"\",\"\",'Combined Gradation'!$B$5)","v":"2014 HMACP MIXTURE DESIGN : COMBINED GRADATION"},{"$f":"IF('Combined Gradation'!$E$21=\"\",\"\",'Combined Gradation'!$E$21)","v":"Bin No.1"},{"$f":"IF('Combined Gradation'!$E$34=\"\",\"\",'Combined Gradation'!$E$34)","v":"Cum.% Passing"},{"$f":"IF('Combined Gradation'!$B$34=\"\",\"\",'Combined Gradation'!$B$34)","v":"Sieve Size:"},{"$f":"IF('Combined Gradation'!$B$44=\"\",\"\",'Combined Gradation'!$B$44)","v":"No. 200"}]
[278,{"$f":"IF('Combined Gradation'!$F$44=\"\",\"\",'Combined Gradation'!$F$44)","v":""},{"$f":"IF('Combined Gradation'!$B$5=\"\",\"\",'Combined Gradation'!$B$5)","v":"2014 HMACP MIXTURE DESIGN : COMBINED GRADATION"},{"$f":"IF('Combined Gradation'!$E$21=\"\",\"\",'Combined Gradation'!$E$21)","v":"Bin No.1"},{"$f":"IF('Combined Gradation'!$F$34=\"\",\"\",'Combined Gradation'!$F$34)","v":"Wtd Cum. %"},{"$f":"IF('Combined Gradation'!$B$34=\"\",\"\",'Combined Gradation'!$B$34)","v":"Sieve Size:"},{"$f":"IF('Combined Gradation'!$B$44=\"\",\"\",'Combined Gradation'!$B$44)","v":"No. 200"}]
[279,{"$f":"IF('Combined Gradation'!$G$44=\"\",\"\",'Combined Gradation'!$G$44)","v":""},{"$f":"IF('Combined Gradation'!$B$5=\"\",\"\",'Combined Gradation'!$B$5)","v":"2014 HMACP MIXTURE DESIGN : COMBINED GRADATION"},{"$f":"IF('Combined Gradation'!$G$21=\"\",\"\",'Combined Gradation'!$G$21)","v":"Bin No.2"},{"$f":"IF('Combined Gradation'!$G$34=\"\",\"\",'Combined Gradation'!$G$34)","v":"Cum.% Passing"},{"$f":"IF('Combined Gradation'!$B$34=\"\",\"\",'Combined Gradation'!$B$34)","v":"Sieve Size:"},{"$f":"IF('Combined Gradation'!$B$44=\"\",\"\",'Combined Gradation'!$B$44)","v":"No. 200"}]
[280,{"$f":"IF('Combined Gradation'!$H$44=\"\",\"\",'Combined Gradation'!$H$44)","v":""},{"$f":"IF('Combined Gradation'!$B$5=\"\",\"\",'Combined Gradation'!$B$5)","v":"2014 HMACP MIXTURE DESIGN : COMBINED GRADATION"},{"$f":"IF('Combined Gradation'!$G$21=\"\",\"\",'Combined Gradation'!$G$21)","v":"Bin No.2"},{"$f":"IF('Combined Gradation'!$H$34=\"\",\"\",'Combined Gradation'!$H$34)","v":"Wtd Cum. %"},{"$f":"IF('Combined Gradation'!$B$34=\"\",\"\",'Combined Gradation'!$B$34)","v":"Sieve Size:"},{"$f":"IF('Combined Gradation'!$B$44=\"\",\"\",'Combined Gradation'!$B$44)","v":"No. 200"}]
[281,{"$f":"IF('Combined Gradation'!$I$44=\"\",\"\",'Combined Gradation'!$I$44)","v":""},{"$f":"IF('Combined Gradation'!$B$5=\"\",\"\",'Combined Gradation'!$B$5)","v":"2014 HMACP MIXTURE DESIGN : COMBINED GRADATION"},{"$f":"IF('Combined Gradation'!$I$21=\"\",\"\",'Combined Gradation'!$I$21)","v":"Bin No.3"},{"$f":"IF('Combined Gradation'!$I$34=\"\",\"\",'Combined Gradation'!$I$34)","v":"Cum.% Passing"},{"$f":"IF('Combined Gradation'!$B$34=\"\",\"\",'Combined Gradation'!$B$34)","v":"Sieve Size:"},{"$f":"IF('Combined Gradation'!$B$44=\"\",\"\",'Combined Gradation'!$B$44)","v":"No. 200"}]
[282,{"$f":"IF('Combined Gradation'!$J$44=\"\",\"\",'Combined Gradation'!$J$44)","v":""},{"$f":"IF('Combined Gradation'!$B$5=\"\",\"\",'Combined Gradation'!$B$5)","v":"2014 HMACP MIXTURE DESIGN : COMBINED GRADATION"},{"$f":"IF('Combined Gradation'!$I$21=\"\",\"\",'Combined Gradation'!$I$21)","v":"Bin No.3"},{"$f":"IF('Combined Gradation'!$J$34=\"\",\"\",'Combined Gradation'!$J$34)","v":"Wtd Cum. %"},{"$f":"IF('Combined Gradation'!$B$34=\"\",\"\",'Combined Gradation'!$B$34)","v":"Sieve Size:"},{"$f":"IF('Combined Gradation'!$B$44=\"\",\"\",'Combined Gradation'!$B$44)","v":"No. 200"}]
[283,{"$f":"IF('Combined Gradation'!$K$44=\"\",\"\",'Combined Gradation'!$K$44)","v":""},{"$f":"IF('Combined Gradation'!$B$5=\"\",\"\",'Combined Gradation'!$B$5)","v":"2014 HMACP MIXTURE DESIGN : COMBINED GRADATION"},{"$f":"IF('Combined Gradation'!$K$21=\"\",\"\",'Combined Gradation'!$K$21)","v":"Bin No.4"},{"$f":"IF('Combined Gradation'!$K$34=\"\",\"\",'Combined Gradation'!$K$34)","v":"Cum.% Passing"},{"$f":"IF('Combined Gradation'!$B$34=\"\",\"\",'Combined Gradation'!$B$34)","v":"Sieve Size:"},{"$f":"IF('Combined Gradation'!$B$44=\"\",\"\",'Combined Gradation'!$B$44)","v":"No. 200"}]
[284,{"$f":"IF('Combined Gradation'!$L$44=\"\",\"\",'Combined Gradation'!$L$44)","v":""},{"$f":"IF('Combined Gradation'!$B$5=\"\",\"\",'Combined Gradation'!$B$5)","v":"2014 HMACP MIXTURE DESIGN : COMBINED GRADATION"},{"$f":"IF('Combined Gradation'!$K$21=\"\",\"\",'Combined Gradation'!$K$21)","v":"Bin No.4"},{"$f":"IF('Combined Gradation'!$L$34=\"\",\"\",'Combined Gradation'!$L$34)","v":"Wtd Cum. %"},{"$f":"IF('Combined Gradation'!$B$34=\"\",\"\",'Combined Gradation'!$B$34)","v":"Sieve Size:"},{"$f":"IF('Combined Gradation'!$B$44=\"\",\"\",'Combined Gradation'!$B$44)","v":"No. 200"}]
[285,{"$f":"IF('Combined Gradation'!$M$44=\"\",\"\",'Combined Gradation'!$M$44)","v":""},{"$f":"IF('Combined Gradation'!$B$5=\"\",\"\",'Combined Gradation'!$B$5)","v":"2014 HMACP MIXTURE DESIGN : COMBINED GRADATION"},{"$f":"IF('Combined Gradation'!$M$21=\"\",\"\",'Combined Gradation'!$M$21)","v":"Bin No.5"},{"$f":"IF('Combined Gradation'!$M$34=\"\",\"\",'Combined Gradation'!$M$34)","v":"Cum.% Passing"},{"$f":"IF('Combined Gradation'!$B$34=\"\",\"\",'Combined Gradation'!$B$34)","v":"Sieve Size:"},{"$f":"IF('Combined Gradation'!$B$44=\"\",\"\",'Combined Gradation'!$B$44)","v":"No. 200"}]
[286,{"$f":"IF('Combined Gradation'!$N$44=\"\",\"\",'Combined Gradation'!$N$44)","v":""},{"$f":"IF('Combined Gradation'!$B$5=\"\",\"\",'Combined Gradation'!$B$5)","v":"2014 HMACP MIXTURE DESIGN : COMBINED GRADATION"},{"$f":"IF('Combined Gradation'!$M$21=\"\",\"\",'Combined Gradation'!$M$21)","v":"Bin No.5"},{"$f":"IF('Combined Gradation'!$N$34=\"\",\"\",'Combined Gradation'!$N$34)","v":"Wtd Cum. %"},{"$f":"IF('Combined Gradation'!$B$34=\"\",\"\",'Combined Gradation'!$B$34)","v":"Sieve Size:"},{"$f":"IF('Combined Gradation'!$B$44=\"\",\"\",'Combined Gradation'!$B$44)","v":"No. 200"}]
[287,{"$f":"IF('Combined Gradation'!$O$44=\"\",\"\",'Combined Gradation'!$O$44)","v":""},{"$f":"IF('Combined Gradation'!$B$5=\"\",\"\",'Combined Gradation'!$B$5)","v":"2014 HMACP MIXTURE DESIGN : COMBINED GRADATION"},{"$f":"IF('Combined Gradation'!$O$21=\"\",\"\",'Combined Gradation'!$O$21)","v":"Bin No.6 "},{"$f":"IF('Combined Gradation'!$O$34=\"\",\"\",'Combined Gradation'!$O$34)","v":"Cum.% Passing"},{"$f":"IF('Combined Gradation'!$B$34=\"\",\"\",'Combined Gradation'!$B$34)","v":"Sieve Size:"},{"$f":"IF('Combined Gradation'!$B$44=\"\",\"\",'Combined Gradation'!$B$44)","v":"No. 200"}]
[288,{"$f":"IF('Combined Gradation'!$P$44=\"\",\"\",'Combined Gradation'!$P$44)","v":""},{"$f":"IF('Combined Gradation'!$B$5=\"\",\"\",'Combined Gradation'!$B$5)","v":"2014 HMACP MIXTURE DESIGN : COMBINED GRADATION"},{"$f":"IF('Combined Gradation'!$O$21=\"\",\"\",'Combined Gradation'!$O$21)","v":"Bin No.6 "},{"$f":"IF('Combined Gradation'!$P$34=\"\",\"\",'Combined Gradation'!$P$34)","v":"Wtd Cum. %"},{"$f":"IF('Combined Gradation'!$B$34=\"\",\"\",'Combined Gradation'!$B$34)","v":"Sieve Size:"},{"$f":"IF('Combined Gradation'!$B$44=\"\",\"\",'Combined Gradation'!$B$44)","v":"No. 200"}]
[289,{"$f":"IF('Combined Gradation'!$Q$44=\"\",\"\",'Combined Gradation'!$Q$44)","v":""},{"$f":"IF('Combined Gradation'!$B$5=\"\",\"\",'Combined Gradation'!$B$5)","v":"2014 HMACP MIXTURE DESIGN : COMBINED GRADATION"},{"$f":"IF('Combined Gradation'!$Q$21=\"\",\"\",'Combined Gradation'!$Q$21)","v":"Bin No.7 "},{"$f":"IF('Combined Gradation'!$Q$34=\"\",\"\",'Combined Gradation'!$Q$34)","v":"Cum.% Passing"},{"$f":"IF('Combined Gradation'!$B$34=\"\",\"\",'Combined Gradation'!$B$34)","v":"Sieve Size:"},{"$f":"IF('Combined Gradation'!$B$44=\"\",\"\",'Combined Gradation'!$B$44)","v":"No. 200"}]
[290,{"$f":"IF('Combined Gradation'!$R$44=\"\",\"\",'Combined Gradation'!$R$44)","v":""},{"$f":"IF('Combined Gradation'!$B$5=\"\",\"\",'Combined Gradation'!$B$5)","v":"2014 HMACP MIXTURE DESIGN : COMBINED GRADATION"},{"$f":"IF('Combined Gradation'!$Q$21=\"\",\"\",'Combined Gradation'!$Q$21)","v":"Bin No.7 "},{"$f":"IF('Combined Gradation'!$R$34=\"\",\"\",'Combined Gradation'!$R$34)","v":"Wtd Cum. %"},{"$f":"IF('Combined Gradation'!$B$34=\"\",\"\",'Combined Gradation'!$B$34)","v":"Sieve Size:"},{"$f":"IF('Combined Gradation'!$B$44=\"\",\"\",'Combined Gradation'!$B$44)","v":"No. 200"}]
[291,{"$f":"IF('Combined Gradation'!$Y$44=\"\",\"\",'Combined Gradation'!$Y$44)","v":""},{"$f":"IF('Combined Gradation'!$B$5=\"\",\"\",'Combined Gradation'!$B$5)","v":"2014 HMACP MIXTURE DESIGN : COMBINED GRADATION"},"Combined Gradation",{"$f":"IF('Combined Gradation'!$Y$34=\"\",\"\",'Combined Gradation'!$Y$34)","v":"Cum. % Passing"},{"$f":"IF('Combined Gradation'!$B$34=\"\",\"\",'Combined Gradation'!$B$34)","v":"Sieve Size:"},{"$f":"IF('Combined Gradation'!$B$44=\"\",\"\",'Combined Gradation'!$B$44)","v":"No. 200"}]
[292,{"$f":"IF('Combined Gradation'!$Z$44=\"\",\"\",'Combined Gradation'!$Z$44)","v":2},{"$f":"IF('Combined Gradation'!$B$5=\"\",\"\",'Combined Gradation'!$B$5)","v":"2014 HMACP MIXTURE DESIGN : COMBINED GRADATION"},{"$f":"IF('Combined Gradation'!$Z$31=\"\",\"\",'Combined Gradation'!$Z$31)","v":"Lower & Upper Specification Limits"},{"$f":"IF('Combined Gradation'!$Z$34=\"\",\"\",'Combined Gradation'!$Z$34)","v":"Lower"},{"$f":"IF('Combined Gradation'!$B$34=\"\",\"\",'Combined Gradation'!$B$34)","v":"Sieve Size:"},{"$f":"IF('Combined Gradation'!$B$44=\"\",\"\",'Combined Gradation'!$B$44)","v":"No. 200"}]
[293,{"$f":"IF('Combined Gradation'!$AA$44=\"\",\"\",'Combined Gradation'!$AA$44)","v":10},{"$f":"IF('Combined Gradation'!$B$5=\"\",\"\",'Combined Gradation'!$B$5)","v":"2014 HMACP MIXTURE DESIGN : COMBINED GRADATION"},{"$f":"IF('Combined Gradation'!$Z$31=\"\",\"\",'Combined Gradation'!$Z$31)","v":"Lower & Upper Specification Limits"},{"$f":"IF('Combined Gradation'!$AA$34=\"\",\"\",'Combined Gradation'!$AA$34)","v":"Upper"},{"$f":"IF('Combined Gradation'!$B$34=\"\",\"\",'Combined Gradation'!$B$34)","v":"Sieve Size:"},{"$f":"IF('Combined Gradation'!$B$44=\"\",\"\",'Combined Gradation'!$B$44)","v":"No. 200"}]
[294,{"$f":"IF('Combined Gradation'!$AB$44=\"\",\"\",'Combined Gradation'!$AB$44)","v":"No"},{"$f":"IF('Combined Gradation'!$B$5=\"\",\"\",'Combined Gradation'!$B$5)","v":"2014 HMACP MIXTURE DESIGN : COMBINED GRADATION"},{"$f":"IF('Combined Gradation'!$Z$31=\"\",\"\",'Combined Gradation'!$Z$31)","v":"Lower & Upper Specification Limits"},{"$f":"IF('Combined Gradation'!$AB$34=\"\",\"\",'Combined Gradation'!$AB$34)","v":"Within Spec's"},{"$f":"IF('Combined Gradation'!$B$34=\"\",\"\",'Combined Gradation'!$B$34)","v":"Sieve Size:"},{"$f":"IF('Combined Gradation'!$B$44=\"\",\"\",'Combined Gradation'!$B$44)","v":"No. 200"}]
[295,{"$f":"IF('Combined Gradation'!$AC$44=\"\",\"\",'Combined Gradation'!$AC$44)","v":""},{"$f":"IF('Combined Gradation'!$B$5=\"\",\"\",'Combined Gradation'!$B$5)","v":"2014 HMACP MIXTURE DESIGN : COMBINED GRADATION"},{"$f":"IF('Combined Gradation'!$AC$31=\"\",\"\",'Combined Gradation'!$AC$31)","v":"Restricted Zone"},{"$f":"IF('Combined Gradation'!$AC$34=\"\",\"\",'Combined Gradation'!$AC$34)","v":"Lower"},{"$f":"IF('Combined Gradation'!$B$34=\"\",\"\",'Combined Gradation'!$B$34)","v":"Sieve Size:"},{"$f":"IF('Combined Gradation'!$B$44=\"\",\"\",'Combined Gradation'!$B$44)","v":"No. 200"}]
[296,{"$f":"IF('Combined Gradation'!$AD$44=\"\",\"\",'Combined Gradation'!$AD$44)","v":0},{"$f":"IF('Combined Gradation'!$B$5=\"\",\"\",'Combined Gradation'!$B$5)","v":"2014 HMACP MIXTURE DESIGN : COMBINED GRADATION"},{"$f":"IF('Combined Gradation'!$AC$31=\"\",\"\",'Combined Gradation'!$AC$31)","v":"Restricted Zone"},{"$f":"IF('Combined Gradation'!$AD$34=\"\",\"\",'Combined Gradation'!$AD$34)","v":"Upper"},{"$f":"IF('Combined Gradation'!$B$34=\"\",\"\",'Combined Gradation'!$B$34)","v":"Sieve Size:"},{"$f":"IF('Combined Gradation'!$B$44=\"\",\"\",'Combined Gradation'!$B$44)","v":"No. 200"}]
[297,{"$f":"IF('Combined Gradation'!$AE$44=\"\",\"\",'Combined Gradation'!$AE$44)","v":""},{"$f":"IF('Combined Gradation'!$B$5=\"\",\"\",'Combined Gradation'!$B$5)","v":"2014 HMACP MIXTURE DESIGN : COMBINED GRADATION"},{"$f":"IF('Combined Gradation'!$AC$31=\"\",\"\",'Combined Gradation'!$AC$31)","v":"Restricted Zone"},{"$f":"IF('Combined Gradation'!$AE$34=\"\",\"\",'Combined Gradation'!$AE$34)","v":"Within Spec's"},{"$f":"IF('Combined Gradation'!$B$34=\"\",\"\",'Combined Gradation'!$B$34)","v":"Sieve Size:"},{"$f":"IF('Combined Gradation'!$B$44=\"\",\"\",'Combined Gradation'!$B$44)","v":"No. 200"}]
[298,{"$f":"IF('Combined Gradation'!$AF$44=\"\",\"\",'Combined Gradation'!$AF$44)","v":""},{"$f":"IF('Combined Gradation'!$B$5=\"\",\"\",'Combined Gradation'!$B$5)","v":"2014 HMACP MIXTURE DESIGN : COMBINED GRADATION"},{"$f":"IF('Combined Gradation'!$AF$31=\"\",\"\",'Combined Gradation'!$AF$31)","v":"Individual % Retained"},{"$f":"IF('Combined Gradation'!$B$34=\"\",\"\",'Combined Gradation'!$B$34)","v":"Sieve Size:"},{"$f":"IF('Combined Gradation'!$B$44=\"\",\"\",'Combined Gradation'!$B$44)","v":"No. 200"}]
[299,{"$f":"IF('Combined Gradation'!$AG$44=\"\",\"\",'Combined Gradation'!$AG$44)","v":""},{"$f":"IF('Combined Gradation'!$B$5=\"\",\"\",'Combined Gradation'!$B$5)","v":"2014 HMACP MIXTURE DESIGN : COMBINED GRADATION"},{"$f":"IF('Combined Gradation'!$AG$31=\"\",\"\",'Combined Gradation'!$AG$31)","v":"Cumulative % Retained"},{"$f":"IF('Combined Gradation'!$B$34=\"\",\"\",'Combined Gradation'!$B$34)","v":"Sieve Size:"},{"$f":"IF('Combined Gradation'!$B$44=\"\",\"\",'Combined Gradation'!$B$44)","v":"No. 200"}]
[300,{"$f":"IF('Combined Gradation'!$F$48=\"\",\"\",'Combined Gradation'!$F$48)","v":"Ergon Austin"},{"$f":"IF('Combined Gradation'!$B$5=\"\",\"\",'Combined Gradation'!$B$5)","v":"2014 HMACP MIXTURE DESIGN : COMBINED GRADATION"},{"$f":"IF('Combined Gradation'!$B$48=\"\",\"\",'Combined Gradation'!$B$48)","v":"Asphalt Source:"}]
[301,{"$f":"IF('Combined Gradation'!$O$48=\"\",\"\",'Combined Gradation'!$O$48)","v":5.3},{"$f":"IF('Combined Gradation'!$B$5=\"\",\"\",'Combined Gradation'!$B$5)","v":"2014 HMACP MIXTURE DESIGN : COMBINED GRADATION"},{"$f":"IF('Combined Gradation'!$L$48=\"\",\"\",'Combined Gradation'!$L$48)","v":"Binder Percent, (%):"}]
[302,{"$f":"IF('Combined Gradation'!$S$48=\"\",\"\",'Combined Gradation'!$S$48)","v":""},{"$f":"IF('Combined Gradation'!$B$5=\"\",\"\",'Combined Gradation'!$B$5)","v":"2014 HMACP MIXTURE DESIGN : COMBINED GRADATION"},{"$f":"IF('Combined Gradation'!$P$48=\"\",\"\",'Combined Gradation'!$P$48)","v":"Asphalt Spec. Grav.:"}]
[303,{"$f":"IF('Combined Gradation'!$AA$48=\"\",\"\",'Combined Gradation'!$AA$48)","v":""},{"$f":"IF('Combined Gradation'!$B$5=\"\",\"\",'Combined Gradation'!$B$5)","v":"2014 HMACP MIXTURE DESIGN : COMBINED GRADATION"},{"$f":"IF('Combined Gradation'!$T$48=\"\",\"\",'Combined Gradation'!$T$48)","v":"Membrane Target Application Rate, gal/yd2"}]
[304,{"$f":"IF('Combined Gradation'!$F$50=\"\",\"\",'Combined Gradation'!$F$50)","v":""},{"$f":"IF('Combined Gradation'!$B$5=\"\",\"\",'Combined Gradation'!$B$5)","v":"2014 HMACP MIXTURE DESIGN : COMBINED GRADATION"},{"$f":"IF('Combined Gradation'!$B$50=\"\",\"\",'Combined Gradation'!$B$50)","v":"Antistripping Agent:"}]
[305,{"$f":"IF('Combined Gradation'!$O$50=\"\",\"\",'Combined Gradation'!$O$50)","v":""},{"$f":"IF('Combined Gradation'!$B$5=\"\",\"\",'Combined Gradation'!$B$5)","v":"2014 HMACP MIXTURE DESIGN : COMBINED GRADATION"},{"$f":"IF('Combined Gradation'!$L$50=\"\",\"\",'Combined Gradation'!$L$50)","v":"Percent, (%):"}]
[306,{"$f":"IF('Combined Gradation'!$S$50=\"\",\"\",'Combined Gradation'!$S$50)","v":""},{"$f":"IF('Combined Gradation'!$B$5=\"\",\"\",'Combined Gradation'!$B$5)","v":"2014 HMACP MIXTURE DESIGN : COMBINED GRADATION"},{"$f":"IF('Combined Gradation'!$P$50=\"\",\"\",'Combined Gradation'!$P$50)","v":""}]
[307,{"$f":"IF('Combined Gradation'!$W$50=\"\",\"\",'Combined Gradation'!$W$50)","v":""},{"$f":"IF('Combined Gradation'!$B$5=\"\",\"\",'Combined Gradation'!$B$5)","v":"2014 HMACP MIXTURE DESIGN : COMBINED GRADATION"},{"$f":"IF('Combined Gradation'!$T$50=\"\",\"\",'Combined Gradation'!$T$50)","v":""}]
[308,{"$f":"IF('Matl Properties'!$AE$27=\"\",\"\",'Matl Properties'!$AE$27)","v":1.5},{"$f":"IF('Matl Properties'!$B$4=\"\",\"\",'Matl Properties'!$B$4)","v":"HMACP MIXTURE DESIGN : MATERIAL PROPERTIES"},{"$f":"IF('Matl Properties'!$B$26=\"\",\"\",'Matl Properties'!$B$26)","v":"Stockpile"},{"$f":"IF('Matl Properties'!$E$27=\"\",\"\",'Matl Properties'!$E$27)","v":"Tex-217-F"},{"$f":"IF('Matl Properties'!$F$27=\"\",\"\",'Matl Properties'!$F$27)","v":"Max."},{"$f":"IF('Matl Properties'!$G$25=\"\",\"\",'Matl Properties'!$G$25)","v":"Spec. Limit"}]
[309,{"$f":"IF('Matl Properties'!$AE$28=\"\",\"\",'Matl Properties'!$AE$28)","v":1},{"$f":"IF('Matl Properties'!$B$4=\"\",\"\",'Matl Properties'!$B$4)","v":"HMACP MIXTURE DESIGN : MATERIAL PROPERTIES"},{"$f":"IF('Matl Properties'!$B$26=\"\",\"\",'Matl Properties'!$B$26)","v":"Stockpile"},{"$f":"IF('Matl Properties'!$E$28=\"\",\"\",'Matl Properties'!$E$28)","v":"Tex-217-F"},{"$f":"IF('Matl Properties'!$F$28=\"\",\"\",'Matl Properties'!$F$28)","v":"Max."},{"$f":"IF('Matl Properties'!$G$25=\"\",\"\",'Matl Properties'!$G$25)","v":"Spec. Limit"}]
[310,{"$f":"IF('Matl Properties'!$H$29=\"\",\"\",'Matl Properties'!$H$29)","v":""},{"$f":"IF('Matl Properties'!$B$4=\"\",\"\",'Matl Properties'!$B$4)","v":"HMACP MIXTURE DESIGN : MATERIAL PROPERTIES"},{"$f":"IF('Matl Properties'!$B$26=\"\",\"\",'Matl Properties'!$B$26)","v":"Stockpile"},{"$f":"IF('Matl Properties'!$E$29=\"\",\"\",'Matl Properties'!$E$29)","v":"Tex-438-A, Tex-612-J"},{"$f":"IF('Matl Properties'!$F$29=\"\",\"\",'Matl Properties'!$F$29)","v":"Min."},{"$f":"IF('Matl Properties'!$G$25=\"\",\"\",'Matl Properties'!$G$25)","v":"Spec. Limit"}]
[311,{"$f":"IF('Matl Properties'!$AE$30=\"\",\"\",'Matl Properties'!$AE$30)","v":25},{"$f":"IF('Matl Properties'!$B$4=\"\",\"\",'Matl Properties'!$B$4)","v":"HMACP MIXTURE DESIGN : MATERIAL PROPERTIES"},{"$f":"IF('Matl Properties'!$B$26=\"\",\"\",'Matl Properties'!$B$26)","v":"Stockpile"},{"$f":"IF('Matl Properties'!$E$30=\"\",\"\",'Matl Properties'!$E$30)","v":"Tex-411-A"},{"$f":"IF('Matl Properties'!$F$30=\"\",\"\",'Matl Properties'!$F$30)","v":"Max."},{"$f":"IF('Matl Properties'!$G$25=\"\",\"\",'Matl Properties'!$G$25)","v":"Spec. Limit"}]
[312,{"$f":"IF('Matl Properties'!$AE$31=\"\",\"\",'Matl Properties'!$AE$31)","v":35},{"$f":"IF('Matl Properties'!$B$4=\"\",\"\",'Matl Properties'!$B$4)","v":"HMACP MIXTURE DESIGN : MATERIAL PROPERTIES"},{"$f":"IF('Matl Properties'!$B$26=\"\",\"\",'Matl Properties'!$B$26)","v":"Stockpile"},{"$f":"IF('Matl Properties'!$E$31=\"\",\"\",'Matl Properties'!$E$31)","v":"Tex-410-A"},{"$f":"IF('Matl Properties'!$F$31=\"\",\"\",'Matl Properties'!$F$31)","v":"Max."},{"$f":"IF('Matl Properties'!$G$25=\"\",\"\",'Matl Properties'!$G$25)","v":"Spec. Limit"}]
[313,{"$f":"IF('Matl Properties'!$AE$32=\"\",\"\",'Matl Properties'!$AE$32)","v":85},{"$f":"IF('Matl Properties'!$B$4=\"\",\"\",'Matl Properties'!$B$4)","v":"HMACP MIXTURE DESIGN : MATERIAL PROPERTIES"},{"$f":"IF('Matl Properties'!$B$26=\"\",\"\",'Matl Properties'!$B$26)","v":"Stockpile"},{"$f":"IF('Matl Properties'!$E$32=\"\",\"\",'Matl Properties'!$E$32)","v":"Tex-460-A"},{"$f":"IF('Matl Properties'!$F$32=\"\",\"\",'Matl Properties'!$F$32)","v":"Min."},{"$f":"IF('Matl Properties'!$G$25=\"\",\"\",'Matl Properties'!$G$25)","v":"Spec. Limit"}]
[314,{"$f":"IF('Matl Properties'!$AE$33=\"\",\"\",'Matl Properties'!$AE$33)","v":10},{"$f":"IF('Matl Properties'!$B$4=\"\",\"\",'Matl Properties'!$B$4)","v":"HMACP MIXTURE DESIGN : MATERIAL PROPERTIES"},{"$f":"IF('Matl Properties'!$B$26=\"\",\"\",'Matl Properties'!$B$26)","v":"Stockpile"},{"$f":"IF('Matl Properties'!$E$33=\"\",\"\",'Matl Properties'!$E$33)","v":"Tex-280-F"},{"$f":"IF('Matl Properties'!$F$33=\"\",\"\",'Matl Properties'!$F$33)","v":"Max."},{"$f":"IF('Matl Properties'!$G$25=\"\",\"\",'Matl Properties'!$G$25)","v":"Spec. Limit"}]
[315,{"$f":"IF('Matl Properties'!$AE$36=\"\",\"\",'Matl Properties'!$AE$36)","v":3},{"$f":"IF('Matl Properties'!$B$4=\"\",\"\",'Matl Properties'!$B$4)","v":"HMACP MIXTURE DESIGN : MATERIAL PROPERTIES"},{"$f":"IF('Matl Properties'!$B$35=\"\",\"\",'Matl Properties'!$B$35)","v":"Fine Aggregate"},{"$f":"IF('Matl Properties'!$E$36=\"\",\"\",'Matl Properties'!$E$36)","v":"Tex-107-E"},{"$f":"IF('Matl Properties'!$F$36=\"\",\"\",'Matl Properties'!$F$36)","v":"Max."},{"$f":"IF('Matl Properties'!$G$25=\"\",\"\",'Matl Properties'!$G$25)","v":"Spec. Limit"}]
[316,{"$f":"IF('Matl Properties'!$AE$39=\"\",\"\",'Matl Properties'!$AE$39)","v":45},{"$f":"IF('Matl Properties'!$B$4=\"\",\"\",'Matl Properties'!$B$4)","v":"HMACP MIXTURE DESIGN : MATERIAL PROPERTIES"},{"$f":"IF('Matl Properties'!$B$38=\"\",\"\",'Matl Properties'!$B$38)","v":"Combined Aggregate"},{"$f":"IF('Matl Properties'!$E$39=\"\",\"\",'Matl Properties'!$E$39)","v":"Tex-203-F"},{"$f":"IF('Matl Properties'!$F$39=\"\",\"\",'Matl Properties'!$F$39)","v":"Min."},{"$f":"IF('Matl Properties'!$G$25=\"\",\"\",'Matl Properties'!$G$25)","v":"Spec. Limit"}]
[317,{"$f":"IF('Matl Properties'!$I$27=\"\",\"\",'Matl Properties'!$I$27)","v":""},{"$f":"IF('Matl Properties'!$B$4=\"\",\"\",'Matl Properties'!$B$4)","v":"HMACP MIXTURE DESIGN : MATERIAL PROPERTIES"},{"$f":"IF('Matl Properties'!$B$26=\"\",\"\",'Matl Properties'!$B$26)","v":"Stockpile"},{"$f":"IF('Matl Properties'!$E$27=\"\",\"\",'Matl Properties'!$E$27)","v":"Tex-217-F"},{"$f":"IF('Matl Properties'!$I$19=\"\",\"\",'Matl Properties'!$I$19)","v":"Bin No.1"},{"$f":"IF('Matl Properties'!$I$25=\"\",\"\",'Matl Properties'!$I$25)","v":"Result"}]
[318,{"$f":"IF('Matl Properties'!$J$27=\"\",\"\",'Matl Properties'!$J$27)","v":""},{"$f":"IF('Matl Properties'!$B$4=\"\",\"\",'Matl Properties'!$B$4)","v":"HMACP MIXTURE DESIGN : MATERIAL PROPERTIES"},{"$f":"IF('Matl Properties'!$B$26=\"\",\"\",'Matl Properties'!$B$26)","v":"Stockpile"},{"$f":"IF('Matl Properties'!$E$27=\"\",\"\",'Matl Properties'!$E$27)","v":"Tex-217-F"},{"$f":"IF('Matl Properties'!$I$19=\"\",\"\",'Matl Properties'!$I$19)","v":"Bin No.1"},{"$f":"IF('Matl Properties'!$J$25=\"\",\"\",'Matl Properties'!$J$25)","v":"Sample ID"}]
[319,{"$f":"IF('Matl Properties'!$L$27=\"\",\"\",'Matl Properties'!$L$27)","v":""},{"$f":"IF('Matl Properties'!$B$4=\"\",\"\",'Matl Properties'!$B$4)","v":"HMACP MIXTURE DESIGN : MATERIAL PROPERTIES"},{"$f":"IF('Matl Properties'!$B$26=\"\",\"\",'Matl Properties'!$B$26)","v":"Stockpile"},{"$f":"IF('Matl Properties'!$E$27=\"\",\"\",'Matl Properties'!$E$27)","v":"Tex-217-F"},{"$f":"IF('Matl Properties'!$L$19=\"\",\"\",'Matl Properties'!$L$19)","v":"Bin No.2"},{"$f":"IF('Matl Properties'!$L$25=\"\",\"\",'Matl Properties'!$L$25)","v":"Result"}]
[320,{"$f":"IF('Matl Properties'!$M$27=\"\",\"\",'Matl Properties'!$M$27)","v":""},{"$f":"IF('Matl Properties'!$B$4=\"\",\"\",'Matl Properties'!$B$4)","v":"HMACP MIXTURE DESIGN : MATERIAL PROPERTIES"},{"$f":"IF('Matl Properties'!$B$26=\"\",\"\",'Matl Properties'!$B$26)","v":"Stockpile"},{"$f":"IF('Matl Properties'!$E$27=\"\",\"\",'Matl Properties'!$E$27)","v":"Tex-217-F"},{"$f":"IF('Matl Properties'!$L$19=\"\",\"\",'Matl Properties'!$L$19)","v":"Bin No.2"},{"$f":"IF('Matl Properties'!$M$25=\"\",\"\",'Matl Properties'!$M$25)","v":"Sample ID"}]
[321,{"$f":"IF('Matl Properties'!$O$27=\"\",\"\",'Matl Properties'!$O$27)","v":""},{"$f":"IF('Matl Properties'!$B$4=\"\",\"\",'Matl Properties'!$B$4)","v":"HMACP MIXTURE DESIGN : MATERIAL PROPERTIES"},{"$f":"IF('Matl Properties'!$B$26=\"\",\"\",'Matl Properties'!$B$26)","v":"Stockpile"},{"$f":"IF('Matl Properties'!$E$27=\"\",\"\",'Matl Properties'!$E$27)","v":"Tex-217-F"},{"$f":"IF('Matl Properties'!$O$19=\"\",\"\",'Matl Properties'!$O$19)","v":"Bin No.3"},{"$f":"IF('Matl Properties'!$O$25=\"\",\"\",'Matl Properties'!$O$25)","v":"Result"}]
[322,{"$f":"IF('Matl Properties'!$P$27=\"\",\"\",'Matl Properties'!$P$27)","v":""},{"$f":"IF('Matl Properties'!$B$4=\"\",\"\",'Matl Properties'!$B$4)","v":"HMACP MIXTURE DESIGN : MATERIAL PROPERTIES"},{"$f":"IF('Matl Properties'!$B$26=\"\",\"\",'Matl Properties'!$B$26)","v":"Stockpile"},{"$f":"IF('Matl Properties'!$E$27=\"\",\"\",'Matl Properties'!$E$27)","v":"Tex-217-F"},{"$f":"IF('Matl Properties'!$O$19=\"\",\"\",'Matl Properties'!$O$19)","v":"Bin No.3"},{"$f":"IF('Matl Properties'!$P$25=\"\",\"\",'Matl Properties'!$P$25)","v":"Sample ID"}]
[323,{"$f":"IF('Matl Properties'!$R$27=\"\",\"\",'Matl Properties'!$R$27)","v":""},{"$f":"IF('Matl Properties'!$B$4=\"\",\"\",'Matl Properties'!$B$4)","v":"HMACP MIXTURE DESIGN : MATERIAL PROPERTIES"},{"$f":"IF('Matl Properties'!$B$26=\"\",\"\",'Matl Properties'!$B$26)","v":"Stockpile"},{"$f":"IF('Matl Properties'!$E$27=\"\",\"\",'Matl Properties'!$E$27)","v":"Tex-217-F"},{"$f":"IF('Matl Properties'!$R$19=\"\",\"\",'Matl Properties'!$R$19)","v":"Bin No.4"},{"$f":"IF('Matl Properties'!$R$25=\"\",\"\",'Matl Properties'!$R$25)","v":"Result"}]
[324,{"$f":"IF('Matl Properties'!$S$27=\"\",\"\",'Matl Properties'!$S$27)","v":""},{"$f":"IF('Matl Properties'!$B$4=\"\",\"\",'Matl Properties'!$B$4)","v":"HMACP MIXTURE DESIGN : MATERIAL PROPERTIES"},{"$f":"IF('Matl Properties'!$B$26=\"\",\"\",'Matl Properties'!$B$26)","v":"Stockpile"},{"$f":"IF('Matl Properties'!$E$27=\"\",\"\",'Matl Properties'!$E$27)","v":"Tex-217-F"},{"$f":"IF('Matl Properties'!$R$19=\"\",\"\",'Matl Properties'!$R$19)","v":"Bin No.4"},{"$f":"IF('Matl Properties'!$S$25=\"\",\"\",'Matl Properties'!$S$25)","v":"Sample ID"}]
[325,{"$f":"IF('Matl Properties'!$U$27=\"\",\"\",'Matl Properties'!$U$27)","v":""},{"$f":"IF('Matl Properties'!$B$4=\"\",\"\",'Matl Properties'!$B$4)","v":"HMACP MIXTURE DESIGN : MATERIAL PROPERTIES"},{"$f":"IF('Matl Properties'!$B$26=\"\",\"\",'Matl Properties'!$B$26)","v":"Stockpile"},{"$f":"IF('Matl Properties'!$E$27=\"\",\"\",'Matl Properties'!$E$27)","v":"Tex-217-F"},{"$f":"IF('Matl Properties'!$U$19=\"\",\"\",'Matl Properties'!$U$19)","v":"Bin No.5"},{"$f":"IF('Matl Properties'!$U$25=\"\",\"\",'Matl Properties'!$U$25)","v":"Result"}]
[326,{"$f":"IF('Matl Properties'!$V$27=\"\",\"\",'Matl Properties'!$V$27)","v":""},{"$f":"IF('Matl Properties'!$B$4=\"\",\"\",'Matl Properties'!$B$4)","v":"HMACP MIXTURE DESIGN : MATERIAL PROPERTIES"},{"$f":"IF('Matl Properties'!$B$26=\"\",\"\",'Matl Properties'!$B$26)","v":"Stockpile"},{"$f":"IF('Matl Properties'!$E$27=\"\",\"\",'Matl Properties'!$E$27)","v":"Tex-217-F"},{"$f":"IF('Matl Properties'!$U$19=\"\",\"\",'Matl Properties'!$U$19)","v":"Bin No.5"},{"$f":"IF('Matl Properties'!$V$25=\"\",\"\",'Matl Properties'!$V$25)","v":"Sample ID"}]
[327,{"$f":"IF('Matl Properties'!$X$27=\"\",\"\",'Matl Properties'!$X$27)","v":""},{"$f":"IF('Matl Properties'!$B$4=\"\",\"\",'Matl Properties'!$B$4)","v":"HMACP MIXTURE DESIGN : MATERIAL PROPERTIES"},{"$f":"IF('Matl Properties'!$B$26=\"\",\"\",'Matl Properties'!$B$26)","v":"Stockpile"},{"$f":"IF('Matl Properties'!$E$27=\"\",\"\",'Matl Properties'!$E$27)","v":"Tex-217-F"},{"$f":"IF('Matl Properties'!$X$19=\"\",\"\",'Matl Properties'!$X$19)","v":"Bin No.6 "},{"$f":"IF('Matl Properties'!$X$25=\"\",\"\",'Matl Properties'!$X$25)","v":"Result"}]
[328,{"$f":"IF('Matl Properties'!$Y$27=\"\",\"\",'Matl Properties'!$Y$27)","v":""},{"$f":"IF('Matl Properties'!$B$4=\"\",\"\",'Matl Properties'!$B$4)","v":"HMACP MIXTURE DESIGN : MATERIAL PROPERTIES"},{"$f":"IF('Matl Properties'!$B$26=\"\",\"\",'Matl Properties'!$B$26)","v":"Stockpile"},{"$f":"IF('Matl Properties'!$E$27=\"\",\"\",'Matl Properties'!$E$27)","v":"Tex-217-F"},{"$f":"IF('Matl Properties'!$X$19=\"\",\"\",'Matl Properties'!$X$19)","v":"Bin No.6 "},{"$f":"IF('Matl Properties'!$Y$25=\"\",\"\",'Matl Properties'!$Y$25)","v":"Sample ID"}]
[329,{"$f":"IF('Matl Properties'!$AA$27=\"\",\"\",'Matl Properties'!$AA$27)","v":""},{"$f":"IF('Matl Properties'!$B$4=\"\",\"\",'Matl Properties'!$B$4)","v":"HMACP MIXTURE DESIGN : MATERIAL PROPERTIES"},{"$f":"IF('Matl Properties'!$B$26=\"\",\"\",'Matl Properties'!$B$26)","v":"Stockpile"},{"$f":"IF('Matl Properties'!$E$27=\"\",\"\",'Matl Properties'!$E$27)","v":"Tex-217-F"},{"$f":"IF('Matl Properties'!$AA$19=\"\",\"\",'Matl Properties'!$AA$19)","v":"Bin No.7 "},{"$f":"IF('Matl Properties'!$AA$25=\"\",\"\",'Matl Properties'!$AA$25)","v":"Result"}]
[330,{"$f":"IF('Matl Properties'!$AB$27=\"\",\"\",'Matl Properties'!$AB$27)","v":""},{"$f":"IF('Matl Properties'!$B$4=\"\",\"\",'Matl Properties'!$B$4)","v":"HMACP MIXTURE DESIGN : MATERIAL PROPERTIES"},{"$f":"IF('Matl Properties'!$B$26=\"\",\"\",'Matl Properties'!$B$26)","v":"Stockpile"},{"$f":"IF('Matl Properties'!$E$27=\"\",\"\",'Matl Properties'!$E$27)","v":"Tex-217-F"},{"$f":"IF('Matl Properties'!$AA$19=\"\",\"\",'Matl Properties'!$AA$19)","v":"Bin No.7 "},{"$f":"IF('Matl Properties'!$AB$25=\"\",\"\",'Matl Properties'!$AB$25)","v":"Sample ID"}]
[331,{"$f":"IF('Matl Properties'!$I$28=\"\",\"\",'Matl Properties'!$I$28)","v":""},{"$f":"IF('Matl Properties'!$B$4=\"\",\"\",'Matl Properties'!$B$4)","v":"HMACP MIXTURE DESIGN : MATERIAL PROPERTIES"},{"$f":"IF('Matl Properties'!$B$26=\"\",\"\",'Matl Properties'!$B$26)","v":"Stockpile"},{"$f":"IF('Matl Properties'!$E$28=\"\",\"\",'Matl Properties'!$E$28)","v":"Tex-217-F"},{"$f":"IF('Matl Properties'!$I$19=\"\",\"\",'Matl Properties'!$I$19)","v":"Bin No.1"},{"$f":"IF('Matl Properties'!$I$25=\"\",\"\",'Matl Properties'!$I$25)","v":"Result"}]
[332,{"$f":"IF('Matl Properties'!$J$28=\"\",\"\",'Matl Properties'!$J$28)","v":""},{"$f":"IF('Matl Properties'!$B$4=\"\",\"\",'Matl Properties'!$B$4)","v":"HMACP MIXTURE DESIGN : MATERIAL PROPERTIES"},{"$f":"IF('Matl Properties'!$B$26=\"\",\"\",'Matl Properties'!$B$26)","v":"Stockpile"},{"$f":"IF('Matl Properties'!$E$28=\"\",\"\",'Matl Properties'!$E$28)","v":"Tex-217-F"},{"$f":"IF('Matl Properties'!$I$19=\"\",\"\",'Matl Properties'!$I$19)","v":"Bin No.1"},{"$f":"IF('Matl Properties'!$J$25=\"\",\"\",'Matl Properties'!$J$25)","v":"Sample ID"}]
[333,{"$f":"IF('Matl Properties'!$L$28=\"\",\"\",'Matl Properties'!$L$28)","v":""},{"$f":"IF('Matl Properties'!$B$4=\"\",\"\",'Matl Properties'!$B$4)","v":"HMACP MIXTURE DESIGN : MATERIAL PROPERTIES"},{"$f":"IF('Matl Properties'!$B$26=\"\",\"\",'Matl Properties'!$B$26)","v":"Stockpile"},{"$f":"IF('Matl Properties'!$E$28=\"\",\"\",'Matl Properties'!$E$28)","v":"Tex-217-F"},{"$f":"IF('Matl Properties'!$L$19=\"\",\"\",'Matl Properties'!$L$19)","v":"Bin No.2"},{"$f":"IF('Matl Properties'!$L$25=\"\",\"\",'Matl Properties'!$L$25)","v":"Result"}]
[334,{"$f":"IF('Matl Properties'!$M$28=\"\",\"\",'Matl Properties'!$M$28)","v":""},{"$f":"IF('Matl Properties'!$B$4=\"\",\"\",'Matl Properties'!$B$4)","v":"HMACP MIXTURE DESIGN : MATERIAL PROPERTIES"},{"$f":"IF('Matl Properties'!$B$26=\"\",\"\",'Matl Properties'!$B$26)","v":"Stockpile"},{"$f":"IF('Matl Properties'!$E$28=\"\",\"\",'Matl Properties'!$E$28)","v":"Tex-217-F"},{"$f":"IF('Matl Properties'!$L$19=\"\",\"\",'Matl Properties'!$L$19)","v":"Bin No.2"},{"$f":"IF('Matl Properties'!$M$25=\"\",\"\",'Matl Properties'!$M$25)","v":"Sample ID"}]
[335,{"$f":"IF('Matl Properties'!$O$28=\"\",\"\",'Matl Properties'!$O$28)","v":""},{"$f":"IF('Matl Properties'!$B$4=\"\",\"\",'Matl Properties'!$B$4)","v":"HMACP MIXTURE DESIGN : MATERIAL PROPERTIES"},{"$f":"IF('Matl Properties'!$B$26=\"\",\"\",'Matl Properties'!$B$26)","v":"Stockpile"},{"$f":"IF('Matl Properties'!$E$28=\"\",\"\",'Matl Properties'!$E$28)","v":"Tex-217-F"},{"$f":"IF('Matl Properties'!$O$19=\"\",\"\",'Matl Properties'!$O$19)","v":"Bin No.3"},{"$f":"IF('Matl Properties'!$O$25=\"\",\"\",'Matl Properties'!$O$25)","v":"Result"}]
[336,{"$f":"IF('Matl Properties'!$P$28=\"\",\"\",'Matl Properties'!$P$28)","v":""},{"$f":"IF('Matl Properties'!$B$4=\"\",\"\",'Matl Properties'!$B$4)","v":"HMACP MIXTURE DESIGN : MATERIAL PROPERTIES"},{"$f":"IF('Matl Properties'!$B$26=\"\",\"\",'Matl Properties'!$B$26)","v":"Stockpile"},{"$f":"IF('Matl Properties'!$E$28=\"\",\"\",'Matl Properties'!$E$28)","v":"Tex-217-F"},{"$f":"IF('Matl Properties'!$O$19=\"\",\"\",'Matl Properties'!$O$19)","v":"Bin No.3"},{"$f":"IF('Matl Properties'!$P$25=\"\",\"\",'Matl Properties'!$P$25)","v":"Sample ID"}]
[337,{"$f":"IF('Matl Properties'!$R$28=\"\",\"\",'Matl Properties'!$R$28)","v":""},{"$f":"IF('Matl Properties'!$B$4=\"\",\"\",'Matl Properties'!$B$4)","v":"HMACP MIXTURE DESIGN : MATERIAL PROPERTIES"},{"$f":"IF('Matl Properties'!$B$26=\"\",\"\",'Matl Properties'!$B$26)","v":"Stockpile"},{"$f":"IF('Matl Properties'!$E$28=\"\",\"\",'Matl Properties'!$E$28)","v":"Tex-217-F"},{"$f":"IF('Matl Properties'!$R$19=\"\",\"\",'Matl Properties'!$R$19)","v":"Bin No.4"},{"$f":"IF('Matl Properties'!$R$25=\"\",\"\",'Matl Properties'!$R$25)","v":"Result"}]
[338,{"$f":"IF('Matl Properties'!$S$28=\"\",\"\",'Matl Properties'!$S$28)","v":""},{"$f":"IF('Matl Properties'!$B$4=\"\",\"\",'Matl Properties'!$B$4)","v":"HMACP MIXTURE DESIGN : MATERIAL PROPERTIES"},{"$f":"IF('Matl Properties'!$B$26=\"\",\"\",'Matl Properties'!$B$26)","v":"Stockpile"},{"$f":"IF('Matl Properties'!$E$28=\"\",\"\",'Matl Properties'!$E$28)","v":"Tex-217-F"},{"$f":"IF('Matl Properties'!$R$19=\"\",\"\",'Matl Properties'!$R$19)","v":"Bin No.4"},{"$f":"IF('Matl Properties'!$S$25=\"\",\"\",'Matl Properties'!$S$25)","v":"Sample ID"}]
[339,{"$f":"IF('Matl Properties'!$U$28=\"\",\"\",'Matl Properties'!$U$28)","v":""},{"$f":"IF('Matl Properties'!$B$4=\"\",\"\",'Matl Properties'!$B$4)","v":"HMACP MIXTURE DESIGN : MATERIAL PROPERTIES"},{"$f":"IF('Matl Properties'!$B$26=\"\",\"\",'Matl Properties'!$B$26)","v":"Stockpile"},{"$f":"IF('Matl Properties'!$E$28=\"\",\"\",'Matl Properties'!$E$28)","v":"Tex-217-F"},{"$f":"IF('Matl Properties'!$U$19=\"\",\"\",'Matl Properties'!$U$19)","v":"Bin No.5"},{"$f":"IF('Matl Properties'!$U$25=\"\",\"\",'Matl Properties'!$U$25)","v":"Result"}]
[340,{"$f":"IF('Matl Properties'!$V$28=\"\",\"\",'Matl Properties'!$V$28)","v":""},{"$f":"IF('Matl Properties'!$B$4=\"\",\"\",'Matl Properties'!$B$4)","v":"HMACP MIXTURE DESIGN : MATERIAL PROPERTIES"},{"$f":"IF('Matl Properties'!$B$26=\"\",\"\",'Matl Properties'!$B$26)","v":"Stockpile"},{"$f":"IF('Matl Properties'!$E$28=\"\",\"\",'Matl Properties'!$E$28)","v":"Tex-217-F"},{"$f":"IF('Matl Properties'!$U$19=\"\",\"\",'Matl Properties'!$U$19)","v":"Bin No.5"},{"$f":"IF('Matl Properties'!$V$25=\"\",\"\",'Matl Properties'!$V$25)","v":"Sample ID"}]
[341,{"$f":"IF('Matl Properties'!$X$28=\"\",\"\",'Matl Properties'!$X$28)","v":""},{"$f":"IF('Matl Properties'!$B$4=\"\",\"\",'Matl Properties'!$B$4)","v":"HMACP MIXTURE DESIGN : MATERIAL PROPERTIES"},{"$f":"IF('Matl Properties'!$B$26=\"\",\"\",'Matl Properties'!$B$26)","v":"Stockpile"},{"$f":"IF('Matl Properties'!$E$28=\"\",\"\",'Matl Properties'!$E$28)","v":"Tex-217-F"},{"$f":"IF('Matl Properties'!$X$19=\"\",\"\",'Matl Properties'!$X$19)","v":"Bin No.6 "},{"$f":"IF('Matl Properties'!$X$25=\"\",\"\",'Matl Properties'!$X$25)","v":"Result"}]
[342,{"$f":"IF('Matl Properties'!$Y$28=\"\",\"\",'Matl Properties'!$Y$28)","v":""},{"$f":"IF('Matl Properties'!$B$4=\"\",\"\",'Matl Properties'!$B$4)","v":"HMACP MIXTURE DESIGN : MATERIAL PROPERTIES"},{"$f":"IF('Matl Properties'!$B$26=\"\",\"\",'Matl Properties'!$B$26)","v":"Stockpile"},{"$f":"IF('Matl Properties'!$E$28=\"\",\"\",'Matl Properties'!$E$28)","v":"Tex-217-F"},{"$f":"IF('Matl Properties'!$X$19=\"\",\"\",'Matl Properties'!$X$19)","v":"Bin No.6 "},{"$f":"IF('Matl Properties'!$Y$25=\"\",\"\",'Matl Properties'!$Y$25)","v":"Sample ID"}]
[343,{"$f":"IF('Matl Properties'!$AA$28=\"\",\"\",'Matl Properties'!$AA$28)","v":""},{"$f":"IF('Matl Properties'!$B$4=\"\",\"\",'Matl Properties'!$B$4)","v":"HMACP MIXTURE DESIGN : MATERIAL PROPERTIES"},{"$f":"IF('Matl Properties'!$B$26=\"\",\"\",'Matl Properties'!$B$26)","v":"Stockpile"},{"$f":"IF('Matl Properties'!$E$28=\"\",\"\",'Matl Properties'!$E$28)","v":"Tex-217-F"},{"$f":"IF('Matl Properties'!$AA$19=\"\",\"\",'Matl Properties'!$AA$19)","v":"Bin No.7 "},{"$f":"IF('Matl Properties'!$AA$25=\"\",\"\",'Matl Properties'!$AA$25)","v":"Result"}]
[344,{"$f":"IF('Matl Properties'!$AB$28=\"\",\"\",'Matl Properties'!$AB$28)","v":""},{"$f":"IF('Matl Properties'!$B$4=\"\",\"\",'Matl Properties'!$B$4)","v":"HMACP MIXTURE DESIGN : MATERIAL PROPERTIES"},{"$f":"IF('Matl Properties'!$B$26=\"\",\"\",'Matl Properties'!$B$26)","v":"Stockpile"},{"$f":"IF('Matl Properties'!$E$28=\"\",\"\",'Matl Properties'!$E$28)","v":"Tex-217-F"},{"$f":"IF('Matl Properties'!$AA$19=\"\",\"\",'Matl Properties'!$AA$19)","v":"Bin No.7 "},{"$f":"IF('Matl Properties'!$AB$25=\"\",\"\",'Matl Properties'!$AB$25)","v":"Sample ID"}]
[345,{"$f":"IF('Matl Properties'!$I$29=\"\",\"\",'Matl Properties'!$I$29)","v":""},{"$f":"IF('Matl Properties'!$B$4=\"\",\"\",'Matl Properties'!$B$4)","v":"HMACP MIXTURE DESIGN : MATERIAL PROPERTIES"},{"$f":"IF('Matl Properties'!$B$26=\"\",\"\",'Matl Properties'!$B$26)","v":"Stockpile"},{"$f":"IF('Matl Properties'!$E$29=\"\",\"\",'Matl Properties'!$E$29)","v":"Tex-438-A, Tex-612-J"},{"$f":"IF('Matl Properties'!$I$19=\"\",\"\",'Matl Properties'!$I$19)","v":"Bin No.1"},{"$f":"IF('Matl Properties'!$I$25=\"\",\"\",'Matl Properties'!$I$25)","v":"Result"}]
[346,{"$f":"IF('Matl Properties'!$J$29=\"\",\"\",'Matl Properties'!$J$29)","v":""},{"$f":"IF('Matl Properties'!$B$4=\"\",\"\",'Matl Properties'!$B$4)","v":"HMACP MIXTURE DESIGN : MATERIAL PROPERTIES"},{"$f":"IF('Matl Properties'!$B$26=\"\",\"\",'Matl Properties'!$B$26)","v":"Stockpile"},{"$f":"IF('Matl Properties'!$E$29=\"\",\"\",'Matl Properties'!$E$29)","v":"Tex-438-A, Tex-612-J"},{"$f":"IF('Matl Properties'!$I$19=\"\",\"\",'Matl Properties'!$I$19)","v":"Bin No.1"},{"$f":"IF('Matl Properties'!$J$25=\"\",\"\",'Matl Properties'!$J$25)","v":"Sample ID"}]
[347,{"$f":"IF('Matl Properties'!$L$29=\"\",\"\",'Matl Properties'!$L$29)","v":""},{"$f":"IF('Matl Properties'!$B$4=\"\",\"\",'Matl Properties'!$B$4)","v":"HMACP MIXTURE DESIGN : MATERIAL PROPERTIES"},{"$f":"IF('Matl Properties'!$B$26=\"\",\"\",'Matl Properties'!$B$26)","v":"Stockpile"},{"$f":"IF('Matl Properties'!$E$29=\"\",\"\",'Matl Properties'!$E$29)","v":"Tex-438-A, Tex-612-J"},{"$f":"IF('Matl Properties'!$L$19=\"\",\"\",'Matl Properties'!$L$19)","v":"Bin No.2"},{"$f":"IF('Matl Properties'!$L$25=\"\",\"\",'Matl Properties'!$L$25)","v":"Result"}]
[348,{"$f":"IF('Matl Properties'!$M$29=\"\",\"\",'Matl Properties'!$M$29)","v":""},{"$f":"IF('Matl Properties'!$B$4=\"\",\"\",'Matl Properties'!$B$4)","v":"HMACP MIXTURE DESIGN : MATERIAL PROPERTIES"},{"$f":"IF('Matl Properties'!$B$26=\"\",\"\",'Matl Properties'!$B$26)","v":"Stockpile"},{"$f":"IF('Matl Properties'!$E$29=\"\",\"\",'Matl Properties'!$E$29)","v":"Tex-438-A, Tex-612-J"},{"$f":"IF('Matl Properties'!$L$19=\"\",\"\",'Matl Properties'!$L$19)","v":"Bin No.2"},{"$f":"IF('Matl Properties'!$M$25=\"\",\"\",'Matl Properties'!$M$25)","v":"Sample ID"}]
[349,{"$f":"IF('Matl Properties'!$O$29=\"\",\"\",'Matl Properties'!$O$29)","v":""},{"$f":"IF('Matl Properties'!$B$4=\"\",\"\",'Matl Properties'!$B$4)","v":"HMACP MIXTURE DESIGN : MATERIAL PROPERTIES"},{"$f":"IF('Matl Properties'!$B$26=\"\",\"\",'Matl Properties'!$B$26)","v":"Stockpile"},{"$f":"IF('Matl Properties'!$E$29=\"\",\"\",'Matl Properties'!$E$29)","v":"Tex-438-A, Tex-612-J"},{"$f":"IF('Matl Properties'!$O$19=\"\",\"\",'Matl Properties'!$O$19)","v":"Bin No.3"},{"$f":"IF('Matl Properties'!$O$25=\"\",\"\",'Matl Properties'!$O$25)","v":"Result"}]
[350,{"$f":"IF('Matl Properties'!$P$29=\"\",\"\",'Matl Properties'!$P$29)","v":""},{"$f":"IF('Matl Properties'!$B$4=\"\",\"\",'Matl Properties'!$B$4)","v":"HMACP MIXTURE DESIGN : MATERIAL PROPERTIES"},{"$f":"IF('Matl Properties'!$B$26=\"\",\"\",'Matl Properties'!$B$26)","v":"Stockpile"},{"$f":"IF('Matl Properties'!$E$29=\"\",\"\",'Matl Properties'!$E$29)","v":"Tex-438-A, Tex-612-J"},{"$f":"IF('Matl Properties'!$O$19=\"\",\"\",'Matl Properties'!$O$19)","v":"Bin No.3"},{"$f":"IF('Matl Properties'!$P$25=\"\",\"\",'Matl Properties'!$P$25)","v":"Sample ID"}]
[351,{"$f":"IF('Matl Properties'!$R$29=\"\",\"\",'Matl Properties'!$R$29)","v":""},{"$f":"IF('Matl Properties'!$B$4=\"\",\"\",'Matl Properties'!$B$4)","v":"HMACP MIXTURE DESIGN : MATERIAL PROPERTIES"},{"$f":"IF('Matl Properties'!$B$26=\"\",\"\",'Matl Properties'!$B$26)","v":"Stockpile"},{"$f":"IF('Matl Properties'!$E$29=\"\",\"\",'Matl Properties'!$E$29)","v":"Tex-438-A, Tex-612-J"},{"$f":"IF('Matl Properties'!$R$19=\"\",\"\",'Matl Properties'!$R$19)","v":"Bin No.4"},{"$f":"IF('Matl Properties'!$R$25=\"\",\"\",'Matl Properties'!$R$25)","v":"Result"}]
[352,{"$f":"IF('Matl Properties'!$S$29=\"\",\"\",'Matl Properties'!$S$29)","v":""},{"$f":"IF('Matl Properties'!$B$4=\"\",\"\",'Matl Properties'!$B$4)","v":"HMACP MIXTURE DESIGN : MATERIAL PROPERTIES"},{"$f":"IF('Matl Properties'!$B$26=\"\",\"\",'Matl Properties'!$B$26)","v":"Stockpile"},{"$f":"IF('Matl Properties'!$E$29=\"\",\"\",'Matl Properties'!$E$29)","v":"Tex-438-A, Tex-612-J"},{"$f":"IF('Matl Properties'!$R$19=\"\",\"\",'Matl Properties'!$R$19)","v":"Bin No.4"},{"$f":"IF('Matl Properties'!$S$25=\"\",\"\",'Matl Properties'!$S$25)","v":"Sample ID"}]
[353,{"$f":"IF('Matl Properties'!$U$29=\"\",\"\",'Matl Properties'!$U$29)","v":""},{"$f":"IF('Matl Properties'!$B$4=\"\",\"\",'Matl Properties'!$B$4)","v":"HMACP MIXTURE DESIGN : MATERIAL PROPERTIES"},{"$f":"IF('Matl Properties'!$B$26=\"\",\"\",'Matl Properties'!$B$26)","v":"Stockpile"},{"$f":"IF('Matl Properties'!$E$29=\"\",\"\",'Matl Properties'!$E$29)","v":"Tex-438-A, Tex-612-J"},{"$f":"IF('Matl Properties'!$U$19=\"\",\"\",'Matl Properties'!$U$19)","v":"Bin No.5"},{"$f":"IF('Matl Properties'!$U$25=\"\",\"\",'Matl Properties'!$U$25)","v":"Result"}]
[354,{"$f":"IF('Matl Properties'!$V$29=\"\",\"\",'Matl Properties'!$V$29)","v":""},{"$f":"IF('Matl Properties'!$B$4=\"\",\"\",'Matl Properties'!$B$4)","v":"HMACP MIXTURE DESIGN : MATERIAL PROPERTIES"},{"$f":"IF('Matl Properties'!$B$26=\"\",\"\",'Matl Properties'!$B$26)","v":"Stockpile"},{"$f":"IF('Matl Properties'!$E$29=\"\",\"\",'Matl Properties'!$E$29)","v":"Tex-438-A, Tex-612-J"},{"$f":"IF('Matl Properties'!$U$19=\"\",\"\",'Matl Properties'!$U$19)","v":"Bin No.5"},{"$f":"IF('Matl Properties'!$V$25=\"\",\"\",'Matl Properties'!$V$25)","v":"Sample ID"}]
[355,{"$f":"IF('Matl Properties'!$X$29=\"\",\"\",'Matl Properties'!$X$29)","v":""},{"$f":"IF('Matl Properties'!$B$4=\"\",\"\",'Matl Properties'!$B$4)","v":"HMACP MIXTURE DESIGN : MATERIAL PROPERTIES"},{"$f":"IF('Matl Properties'!$B$26=\"\",\"\",'Matl Properties'!$B$26)","v":"Stockpile"},{"$f":"IF('Matl Properties'!$E$29=\"\",\"\",'Matl Properties'!$E$29)","v":"Tex-438-A, Tex-612-J"},{"$f":"IF('Matl Properties'!$X$19=\"\",\"\",'Matl Properties'!$X$19)","v":"Bin No.6 "},{"$f":"IF('Matl Properties'!$X$25=\"\",\"\",'Matl Properties'!$X$25)","v":"Result"}]
[356,{"$f":"IF('Matl Properties'!$Y$29=\"\",\"\",'Matl Properties'!$Y$29)","v":""},{"$f":"IF('Matl Properties'!$B$4=\"\",\"\",'Matl Properties'!$B$4)","v":"HMACP MIXTURE DESIGN : MATERIAL PROPERTIES"},{"$f":"IF('Matl Properties'!$B$26=\"\",\"\",'Matl Properties'!$B$26)","v":"Stockpile"},{"$f":"IF('Matl Properties'!$E$29=\"\",\"\",'Matl Properties'!$E$29)","v":"Tex-438-A, Tex-612-J"},{"$f":"IF('Matl Properties'!$X$19=\"\",\"\",'Matl Properties'!$X$19)","v":"Bin No.6 "},{"$f":"IF('Matl Properties'!$Y$25=\"\",\"\",'Matl Properties'!$Y$25)","v":"Sample ID"}]
[357,{"$f":"IF('Matl Properties'!$AA$29=\"\",\"\",'Matl Properties'!$AA$29)","v":""},{"$f":"IF('Matl Properties'!$B$4=\"\",\"\",'Matl Properties'!$B$4)","v":"HMACP MIXTURE DESIGN : MATERIAL PROPERTIES"},{"$f":"IF('Matl Properties'!$B$26=\"\",\"\",'Matl Properties'!$B$26)","v":"Stockpile"},{"$f":"IF('Matl Properties'!$E$29=\"\",\"\",'Matl Properties'!$E$29)","v":"Tex-438-A, Tex-612-J"},{"$f":"IF('Matl Properties'!$AA$19=\"\",\"\",'Matl Properties'!$AA$19)","v":"Bin No.7 "},{"$f":"IF('Matl Properties'!$AA$25=\"\",\"\",'Matl Properties'!$AA$25)","v":"Result"}]
[358,{"$f":"IF('Matl Properties'!$AB$29=\"\",\"\",'Matl Properties'!$AB$29)","v":""},{"$f":"IF('Matl Properties'!$B$4=\"\",\"\",'Matl Properties'!$B$4)","v":"HMACP MIXTURE DESIGN : MATERIAL PROPERTIES"},{"$f":"IF('Matl Properties'!$B$26=\"\",\"\",'Matl Properties'!$B$26)","v":"Stockpile"},{"$f":"IF('Matl Properties'!$E$29=\"\",\"\",'Matl Properties'!$E$29)","v":"Tex-438-A, Tex-612-J"},{"$f":"IF('Matl Properties'!$AA$19=\"\",\"\",'Matl Properties'!$AA$19)","v":"Bin No.7 "},{"$f":"IF('Matl Properties'!$AB$25=\"\",\"\",'Matl Properties'!$AB$25)","v":"Sample ID"}]
[359,{"$f":"IF('Matl Properties'!$I$30=\"\",\"\",'Matl Properties'!$I$30)","v":""},{"$f":"IF('Matl Properties'!$B$4=\"\",\"\",'Matl Properties'!$B$4)","v":"HMACP MIXTURE DESIGN : MATERIAL PROPERTIES"},{"$f":"IF('Matl Properties'!$B$26=\"\",\"\",'Matl Properties'!$B$26)","v":"Stockpile"},{"$f":"IF('Matl Properties'!$E$30=\"\",\"\",'Matl Properties'!$E$30)","v":"Tex-411-A"},{"$f":"IF('Matl Properties'!$I$19=\"\",\"\",'Matl Properties'!$I$19)","v":"Bin No.1"},{"$f":"IF('Matl Properties'!$I$25=\"\",\"\",'Matl Properties'!$I$25)","v":"Result"}]
[360,{"$f":"IF('Matl Properties'!$J$30=\"\",\"\",'Matl Properties'!$J$30)","v":""},{"$f":"IF('Matl Properties'!$B$4=\"\",\"\",'Matl Properties'!$B$4)","v":"HMACP MIXTURE DESIGN : MATERIAL PROPERTIES"},{"$f":"IF('Matl Properties'!$B$26=\"\",\"\",'Matl Properties'!$B$26)","v":"Stockpile"},{"$f":"IF('Matl Properties'!$E$30=\"\",\"\",'Matl Properties'!$E$30)","v":"Tex-411-A"},{"$f":"IF('Matl Properties'!$I$19=\"\",\"\",'Matl Properties'!$I$19)","v":"Bin No.1"},{"$f":"IF('Matl Properties'!$J$25=\"\",\"\",'Matl Properties'!$J$25)","v":"Sample ID"}]
[361,{"$f":"IF('Matl Properties'!$L$30=\"\",\"\",'Matl Properties'!$L$30)","v":""},{"$f":"IF('Matl Properties'!$B$4=\"\",\"\",'Matl Properties'!$B$4)","v":"HMACP MIXTURE DESIGN : MATERIAL PROPERTIES"},{"$f":"IF('Matl Properties'!$B$26=\"\",\"\",'Matl Properties'!$B$26)","v":"Stockpile"},{"$f":"IF('Matl Properties'!$E$30=\"\",\"\",'Matl Properties'!$E$30)","v":"Tex-411-A"},{"$f":"IF('Matl Properties'!$L$19=\"\",\"\",'Matl Properties'!$L$19)","v":"Bin No.2"},{"$f":"IF('Matl Properties'!$L$25=\"\",\"\",'Matl Properties'!$L$25)","v":"Result"}]
[362,{"$f":"IF('Matl Properties'!$M$30=\"\",\"\",'Matl Properties'!$M$30)","v":""},{"$f":"IF('Matl Properties'!$B$4=\"\",\"\",'Matl Properties'!$B$4)","v":"HMACP MIXTURE DESIGN : MATERIAL PROPERTIES"},{"$f":"IF('Matl Properties'!$B$26=\"\",\"\",'Matl Properties'!$B$26)","v":"Stockpile"},{"$f":"IF('Matl Properties'!$E$30=\"\",\"\",'Matl Properties'!$E$30)","v":"Tex-411-A"},{"$f":"IF('Matl Properties'!$L$19=\"\",\"\",'Matl Properties'!$L$19)","v":"Bin No.2"},{"$f":"IF('Matl Properties'!$M$25=\"\",\"\",'Matl Properties'!$M$25)","v":"Sample ID"}]
[363,{"$f":"IF('Matl Properties'!$O$30=\"\",\"\",'Matl Properties'!$O$30)","v":""},{"$f":"IF('Matl Properties'!$B$4=\"\",\"\",'Matl Properties'!$B$4)","v":"HMACP MIXTURE DESIGN : MATERIAL PROPERTIES"},{"$f":"IF('Matl Properties'!$B$26=\"\",\"\",'Matl Properties'!$B$26)","v":"Stockpile"},{"$f":"IF('Matl Properties'!$E$30=\"\",\"\",'Matl Properties'!$E$30)","v":"Tex-411-A"},{"$f":"IF('Matl Properties'!$O$19=\"\",\"\",'Matl Properties'!$O$19)","v":"Bin No.3"},{"$f":"IF('Matl Properties'!$O$25=\"\",\"\",'Matl Properties'!$O$25)","v":"Result"}]
[364,{"$f":"IF('Matl Properties'!$P$30=\"\",\"\",'Matl Properties'!$P$30)","v":""},{"$f":"IF('Matl Properties'!$B$4=\"\",\"\",'Matl Properties'!$B$4)","v":"HMACP MIXTURE DESIGN : MATERIAL PROPERTIES"},{"$f":"IF('Matl Properties'!$B$26=\"\",\"\",'Matl Properties'!$B$26)","v":"Stockpile"},{"$f":"IF('Matl Properties'!$E$30=\"\",\"\",'Matl Properties'!$E$30)","v":"Tex-411-A"},{"$f":"IF('Matl Properties'!$O$19=\"\",\"\",'Matl Properties'!$O$19)","v":"Bin No.3"},{"$f":"IF('Matl Properties'!$P$25=\"\",\"\",'Matl Properties'!$P$25)","v":"Sample ID"}]
[365,{"$f":"IF('Matl Properties'!$R$30=\"\",\"\",'Matl Properties'!$R$30)","v":""},{"$f":"IF('Matl Properties'!$B$4=\"\",\"\",'Matl Properties'!$B$4)","v":"HMACP MIXTURE DESIGN : MATERIAL PROPERTIES"},{"$f":"IF('Matl Properties'!$B$26=\"\",\"\",'Matl Properties'!$B$26)","v":"Stockpile"},{"$f":"IF('Matl Properties'!$E$30=\"\",\"\",'Matl Properties'!$E$30)","v":"Tex-411-A"},{"$f":"IF('Matl Properties'!$R$19=\"\",\"\",'Matl Properties'!$R$19)","v":"Bin No.4"},{"$f":"IF('Matl Properties'!$R$25=\"\",\"\",'Matl Properties'!$R$25)","v":"Result"}]
[366,{"$f":"IF('Matl Properties'!$S$30=\"\",\"\",'Matl Properties'!$S$30)","v":""},{"$f":"IF('Matl Properties'!$B$4=\"\",\"\",'Matl Properties'!$B$4)","v":"HMACP MIXTURE DESIGN : MATERIAL PROPERTIES"},{"$f":"IF('Matl Properties'!$B$26=\"\",\"\",'Matl Properties'!$B$26)","v":"Stockpile"},{"$f":"IF('Matl Properties'!$E$30=\"\",\"\",'Matl Properties'!$E$30)","v":"Tex-411-A"},{"$f":"IF('Matl Properties'!$R$19=\"\",\"\",'Matl Properties'!$R$19)","v":"Bin No.4"},{"$f":"IF('Matl Properties'!$S$25=\"\",\"\",'Matl Properties'!$S$25)","v":"Sample ID"}]
[367,{"$f":"IF('Matl Properties'!$U$30=\"\",\"\",'Matl Properties'!$U$30)","v":""},{"$f":"IF('Matl Properties'!$B$4=\"\",\"\",'Matl Properties'!$B$4)","v":"HMACP MIXTURE DESIGN : MATERIAL PROPERTIES"},{"$f":"IF('Matl Properties'!$B$26=\"\",\"\",'Matl Properties'!$B$26)","v":"Stockpile"},{"$f":"IF('Matl Properties'!$E$30=\"\",\"\",'Matl Properties'!$E$30)","v":"Tex-411-A"},{"$f":"IF('Matl Properties'!$U$19=\"\",\"\",'Matl Properties'!$U$19)","v":"Bin No.5"},{"$f":"IF('Matl Properties'!$U$25=\"\",\"\",'Matl Properties'!$U$25)","v":"Result"}]
[368,{"$f":"IF('Matl Properties'!$V$30=\"\",\"\",'Matl Properties'!$V$30)","v":""},{"$f":"IF('Matl Properties'!$B$4=\"\",\"\",'Matl Properties'!$B$4)","v":"HMACP MIXTURE DESIGN : MATERIAL PROPERTIES"},{"$f":"IF('Matl Properties'!$B$26=\"\",\"\",'Matl Properties'!$B$26)","v":"Stockpile"},{"$f":"IF('Matl Properties'!$E$30=\"\",\"\",'Matl Properties'!$E$30)","v":"Tex-411-A"},{"$f":"IF('Matl Properties'!$U$19=\"\",\"\",'Matl Properties'!$U$19)","v":"Bin No.5"},{"$f":"IF('Matl Properties'!$V$25=\"\",\"\",'Matl Properties'!$V$25)","v":"Sample ID"}]
[369,{"$f":"IF('Matl Properties'!$X$30=\"\",\"\",'Matl Properties'!$X$30)","v":""},{"$f":"IF('Matl Properties'!$B$4=\"\",\"\",'Matl Properties'!$B$4)","v":"HMACP MIXTURE DESIGN : MATERIAL PROPERTIES"},{"$f":"IF('Matl Properties'!$B$26=\"\",\"\",'Matl Properties'!$B$26)","v":"Stockpile"},{"$f":"IF('Matl Properties'!$E$30=\"\",\"\",'Matl Properties'!$E$30)","v":"Tex-411-A"},{"$f":"IF('Matl Properties'!$X$19=\"\",\"\",'Matl Properties'!$X$19)","v":"Bin No.6 "},{"$f":"IF('Matl Properties'!$X$25=\"\",\"\",'Matl Properties'!$X$25)","v":"Result"}]
[370,{"$f":"IF('Matl Properties'!$Y$30=\"\",\"\",'Matl Properties'!$Y$30)","v":""},{"$f":"IF('Matl Properties'!$B$4=\"\",\"\",'Matl Properties'!$B$4)","v":"HMACP MIXTURE DESIGN : MATERIAL PROPERTIES"},{"$f":"IF('Matl Properties'!$B$26=\"\",\"\",'Matl Properties'!$B$26)","v":"Stockpile"},{"$f":"IF('Matl Properties'!$E$30=\"\",\"\",'Matl Properties'!$E$30)","v":"Tex-411-A"},{"$f":"IF('Matl Properties'!$X$19=\"\",\"\",'Matl Properties'!$X$19)","v":"Bin No.6 "},{"$f":"IF('Matl Properties'!$Y$25=\"\",\"\",'Matl Properties'!$Y$25)","v":"Sample ID"}]
[371,{"$f":"IF('Matl Properties'!$AA$30=\"\",\"\",'Matl Properties'!$AA$30)","v":""},{"$f":"IF('Matl Properties'!$B$4=\"\",\"\",'Matl Properties'!$B$4)","v":"HMACP MIXTURE DESIGN : MATERIAL PROPERTIES"},{"$f":"IF('Matl Properties'!$B$26=\"\",\"\",'Matl Properties'!$B$26)","v":"Stockpile"},{"$f":"IF('Matl Properties'!$E$30=\"\",\"\",'Matl Properties'!$E$30)","v":"Tex-411-A"},{"$f":"IF('Matl Properties'!$AA$19=\"\",\"\",'Matl Properties'!$AA$19)","v":"Bin No.7 "},{"$f":"IF('Matl Properties'!$AA$25=\"\",\"\",'Matl Properties'!$AA$25)","v":"Result"}]
[372,{"$f":"IF('Matl Properties'!$AB$30=\"\",\"\",'Matl Properties'!$AB$30)","v":""},{"$f":"IF('Matl Properties'!$B$4=\"\",\"\",'Matl Properties'!$B$4)","v":"HMACP MIXTURE DESIGN : MATERIAL PROPERTIES"},{"$f":"IF('Matl Properties'!$B$26=\"\",\"\",'Matl Properties'!$B$26)","v":"Stockpile"},{"$f":"IF('Matl Properties'!$E$30=\"\",\"\",'Matl Properties'!$E$30)","v":"Tex-411-A"},{"$f":"IF('Matl Properties'!$AA$19=\"\",\"\",'Matl Properties'!$AA$19)","v":"Bin No.7 "},{"$f":"IF('Matl Properties'!$AB$25=\"\",\"\",'Matl Properties'!$AB$25)","v":"Sample ID"}]
[373,{"$f":"IF('Matl Properties'!$I$31=\"\",\"\",'Matl Properties'!$I$31)","v":""},{"$f":"IF('Matl Properties'!$B$4=\"\",\"\",'Matl Properties'!$B$4)","v":"HMACP MIXTURE DESIGN : MATERIAL PROPERTIES"},{"$f":"IF('Matl Properties'!$B$26=\"\",\"\",'Matl Properties'!$B$26)","v":"Stockpile"},{"$f":"IF('Matl Properties'!$E$31=\"\",\"\",'Matl Properties'!$E$31)","v":"Tex-410-A"},{"$f":"IF('Matl Properties'!$I$19=\"\",\"\",'Matl Properties'!$I$19)","v":"Bin No.1"},{"$f":"IF('Matl Properties'!$I$25=\"\",\"\",'Matl Properties'!$I$25)","v":"Result"}]
[374,{"$f":"IF('Matl Properties'!$J$31=\"\",\"\",'Matl Properties'!$J$31)","v":""},{"$f":"IF('Matl Properties'!$B$4=\"\",\"\",'Matl Properties'!$B$4)","v":"HMACP MIXTURE DESIGN : MATERIAL PROPERTIES"},{"$f":"IF('Matl Properties'!$B$26=\"\",\"\",'Matl Properties'!$B$26)","v":"Stockpile"},{"$f":"IF('Matl Properties'!$E$31=\"\",\"\",'Matl Properties'!$E$31)","v":"Tex-410-A"},{"$f":"IF('Matl Properties'!$I$19=\"\",\"\",'Matl Properties'!$I$19)","v":"Bin No.1"},{"$f":"IF('Matl Properties'!$J$25=\"\",\"\",'Matl Properties'!$J$25)","v":"Sample ID"}]
[375,{"$f":"IF('Matl Properties'!$L$31=\"\",\"\",'Matl Properties'!$L$31)","v":""},{"$f":"IF('Matl Properties'!$B$4=\"\",\"\",'Matl Properties'!$B$4)","v":"HMACP MIXTURE DESIGN : MATERIAL PROPERTIES"},{"$f":"IF('Matl Properties'!$B$26=\"\",\"\",'Matl Properties'!$B$26)","v":"Stockpile"},{"$f":"IF('Matl Properties'!$E$31=\"\",\"\",'Matl Properties'!$E$31)","v":"Tex-410-A"},{"$f":"IF('Matl Properties'!$L$19=\"\",\"\",'Matl Properties'!$L$19)","v":"Bin No.2"},{"$f":"IF('Matl Properties'!$L$25=\"\",\"\",'Matl Properties'!$L$25)","v":"Result"}]
[376,{"$f":"IF('Matl Properties'!$M$31=\"\",\"\",'Matl Properties'!$M$31)","v":""},{"$f":"IF('Matl Properties'!$B$4=\"\",\"\",'Matl Properties'!$B$4)","v":"HMACP MIXTURE DESIGN : MATERIAL PROPERTIES"},{"$f":"IF('Matl Properties'!$B$26=\"\",\"\",'Matl Properties'!$B$26)","v":"Stockpile"},{"$f":"IF('Matl Properties'!$E$31=\"\",\"\",'Matl Properties'!$E$31)","v":"Tex-410-A"},{"$f":"IF('Matl Properties'!$L$19=\"\",\"\",'Matl Properties'!$L$19)","v":"Bin No.2"},{"$f":"IF('Matl Properties'!$M$25=\"\",\"\",'Matl Properties'!$M$25)","v":"Sample ID"}]
[377,{"$f":"IF('Matl Properties'!$O$31=\"\",\"\",'Matl Properties'!$O$31)","v":""},{"$f":"IF('Matl Properties'!$B$4=\"\",\"\",'Matl Properties'!$B$4)","v":"HMACP MIXTURE DESIGN : MATERIAL PROPERTIES"},{"$f":"IF('Matl Properties'!$B$26=\"\",\"\",'Matl Properties'!$B$26)","v":"Stockpile"},{"$f":"IF('Matl Properties'!$E$31=\"\",\"\",'Matl Properties'!$E$31)","v":"Tex-410-A"},{"$f":"IF('Matl Properties'!$O$19=\"\",\"\",'Matl Properties'!$O$19)","v":"Bin No.3"},{"$f":"IF('Matl Properties'!$O$25=\"\",\"\",'Matl Properties'!$O$25)","v":"Result"}]
[378,{"$f":"IF('Matl Properties'!$P$31=\"\",\"\",'Matl Properties'!$P$31)","v":""},{"$f":"IF('Matl Properties'!$B$4=\"\",\"\",'Matl Properties'!$B$4)","v":"HMACP MIXTURE DESIGN : MATERIAL PROPERTIES"},{"$f":"IF('Matl Properties'!$B$26=\"\",\"\",'Matl Properties'!$B$26)","v":"Stockpile"},{"$f":"IF('Matl Properties'!$E$31=\"\",\"\",'Matl Properties'!$E$31)","v":"Tex-410-A"},{"$f":"IF('Matl Properties'!$O$19=\"\",\"\",'Matl Properties'!$O$19)","v":"Bin No.3"},{"$f":"IF('Matl Properties'!$P$25=\"\",\"\",'Matl Properties'!$P$25)","v":"Sample ID"}]
[379,{"$f":"IF('Matl Properties'!$R$31=\"\",\"\",'Matl Properties'!$R$31)","v":""},{"$f":"IF('Matl Properties'!$B$4=\"\",\"\",'Matl Properties'!$B$4)","v":"HMACP MIXTURE DESIGN : MATERIAL PROPERTIES"},{"$f":"IF('Matl Properties'!$B$26=\"\",\"\",'Matl Properties'!$B$26)","v":"Stockpile"},{"$f":"IF('Matl Properties'!$E$31=\"\",\"\",'Matl Properties'!$E$31)","v":"Tex-410-A"},{"$f":"IF('Matl Properties'!$R$19=\"\",\"\",'Matl Properties'!$R$19)","v":"Bin No.4"},{"$f":"IF('Matl Properties'!$R$25=\"\",\"\",'Matl Properties'!$R$25)","v":"Result"}]
[380,{"$f":"IF('Matl Properties'!$S$31=\"\",\"\",'Matl Properties'!$S$31)","v":""},{"$f":"IF('Matl Properties'!$B$4=\"\",\"\",'Matl Properties'!$B$4)","v":"HMACP MIXTURE DESIGN : MATERIAL PROPERTIES"},{"$f":"IF('Matl Properties'!$B$26=\"\",\"\",'Matl Properties'!$B$26)","v":"Stockpile"},{"$f":"IF('Matl Properties'!$E$31=\"\",\"\",'Matl Properties'!$E$31)","v":"Tex-410-A"},{"$f":"IF('Matl Properties'!$R$19=\"\",\"\",'Matl Properties'!$R$19)","v":"Bin No.4"},{"$f":"IF('Matl Properties'!$S$25=\"\",\"\",'Matl Properties'!$S$25)","v":"Sample ID"}]
[381,{"$f":"IF('Matl Properties'!$U$31=\"\",\"\",'Matl Properties'!$U$31)","v":""},{"$f":"IF('Matl Properties'!$B$4=\"\",\"\",'Matl Properties'!$B$4)","v":"HMACP MIXTURE DESIGN : MATERIAL PROPERTIES"},{"$f":"IF('Matl Properties'!$B$26=\"\",\"\",'Matl Properties'!$B$26)","v":"Stockpile"},{"$f":"IF('Matl Properties'!$E$31=\"\",\"\",'Matl Properties'!$E$31)","v":"Tex-410-A"},{"$f":"IF('Matl Properties'!$U$19=\"\",\"\",'Matl Properties'!$U$19)","v":"Bin No.5"},{"$f":"IF('Matl Properties'!$U$25=\"\",\"\",'Matl Properties'!$U$25)","v":"Result"}]
[382,{"$f":"IF('Matl Properties'!$V$31=\"\",\"\",'Matl Properties'!$V$31)","v":""},{"$f":"IF('Matl Properties'!$B$4=\"\",\"\",'Matl Properties'!$B$4)","v":"HMACP MIXTURE DESIGN : MATERIAL PROPERTIES"},{"$f":"IF('Matl Properties'!$B$26=\"\",\"\",'Matl Properties'!$B$26)","v":"Stockpile"},{"$f":"IF('Matl Properties'!$E$31=\"\",\"\",'Matl Properties'!$E$31)","v":"Tex-410-A"},{"$f":"IF('Matl Properties'!$U$19=\"\",\"\",'Matl Properties'!$U$19)","v":"Bin No.5"},{"$f":"IF('Matl Properties'!$V$25=\"\",\"\",'Matl Properties'!$V$25)","v":"Sample ID"}]
[383,{"$f":"IF('Matl Properties'!$X$31=\"\",\"\",'Matl Properties'!$X$31)","v":""},{"$f":"IF('Matl Properties'!$B$4=\"\",\"\",'Matl Properties'!$B$4)","v":"HMACP MIXTURE DESIGN : MATERIAL PROPERTIES"},{"$f":"IF('Matl Properties'!$B$26=\"\",\"\",'Matl Properties'!$B$26)","v":"Stockpile"},{"$f":"IF('Matl Properties'!$E$31=\"\",\"\",'Matl Properties'!$E$31)","v":"Tex-410-A"},{"$f":"IF('Matl Properties'!$X$19=\"\",\"\",'Matl Properties'!$X$19)","v":"Bin No.6 "},{"$f":"IF('Matl Properties'!$X$25=\"\",\"\",'Matl Properties'!$X$25)","v":"Result"}]
[384,{"$f":"IF('Matl Properties'!$Y$31=\"\",\"\",'Matl Properties'!$Y$31)","v":""},{"$f":"IF('Matl Properties'!$B$4=\"\",\"\",'Matl Properties'!$B$4)","v":"HMACP MIXTURE DESIGN : MATERIAL PROPERTIES"},{"$f":"IF('Matl Properties'!$B$26=\"\",\"\",'Matl Properties'!$B$26)","v":"Stockpile"},{"$f":"IF('Matl Properties'!$E$31=\"\",\"\",'Matl Properties'!$E$31)","v":"Tex-410-A"},{"$f":"IF('Matl Properties'!$X$19=\"\",\"\",'Matl Properties'!$X$19)","v":"Bin No.6 "},{"$f":"IF('Matl Properties'!$Y$25=\"\",\"\",'Matl Properties'!$Y$25)","v":"Sample ID"}]
[385,{"$f":"IF('Matl Properties'!$AA$31=\"\",\"\",'Matl Properties'!$AA$31)","v":""},{"$f":"IF('Matl Properties'!$B$4=\"\",\"\",'Matl Properties'!$B$4)","v":"HMACP MIXTURE DESIGN : MATERIAL PROPERTIES"},{"$f":"IF('Matl Properties'!$B$26=\"\",\"\",'Matl Properties'!$B$26)","v":"Stockpile"},{"$f":"IF('Matl Properties'!$E$31=\"\",\"\",'Matl Properties'!$E$31)","v":"Tex-410-A"},{"$f":"IF('Matl Properties'!$AA$19=\"\",\"\",'Matl Properties'!$AA$19)","v":"Bin No.7 "},{"$f":"IF('Matl Properties'!$AA$25=\"\",\"\",'Matl Properties'!$AA$25)","v":"Result"}]
[386,{"$f":"IF('Matl Properties'!$AB$31=\"\",\"\",'Matl Properties'!$AB$31)","v":""},{"$f":"IF('Matl Properties'!$B$4=\"\",\"\",'Matl Properties'!$B$4)","v":"HMACP MIXTURE DESIGN : MATERIAL PROPERTIES"},{"$f":"IF('Matl Properties'!$B$26=\"\",\"\",'Matl Properties'!$B$26)","v":"Stockpile"},{"$f":"IF('Matl Properties'!$E$31=\"\",\"\",'Matl Properties'!$E$31)","v":"Tex-410-A"},{"$f":"IF('Matl Properties'!$AA$19=\"\",\"\",'Matl Properties'!$AA$19)","v":"Bin No.7 "},{"$f":"IF('Matl Properties'!$AB$25=\"\",\"\",'Matl Properties'!$AB$25)","v":"Sample ID"}]
[387,{"$f":"IF('Matl Properties'!$I$32=\"\",\"\",'Matl Properties'!$I$32)","v":""},{"$f":"IF('Matl Properties'!$B$4=\"\",\"\",'Matl Properties'!$B$4)","v":"HMACP MIXTURE DESIGN : MATERIAL PROPERTIES"},{"$f":"IF('Matl Properties'!$B$26=\"\",\"\",'Matl Properties'!$B$26)","v":"Stockpile"},{"$f":"IF('Matl Properties'!$E$32=\"\",\"\",'Matl Properties'!$E$32)","v":"Tex-460-A"},{"$f":"IF('Matl Properties'!$I$19=\"\",\"\",'Matl Properties'!$I$19)","v":"Bin No.1"},{"$f":"IF('Matl Properties'!$I$25=\"\",\"\",'Matl Properties'!$I$25)","v":"Result"}]
[388,{"$f":"IF('Matl Properties'!$J$32=\"\",\"\",'Matl Properties'!$J$32)","v":""},{"$f":"IF('Matl Properties'!$B$4=\"\",\"\",'Matl Properties'!$B$4)","v":"HMACP MIXTURE DESIGN : MATERIAL PROPERTIES"},{"$f":"IF('Matl Properties'!$B$26=\"\",\"\",'Matl Properties'!$B$26)","v":"Stockpile"},{"$f":"IF('Matl Properties'!$E$32=\"\",\"\",'Matl Properties'!$E$32)","v":"Tex-460-A"},{"$f":"IF('Matl Properties'!$I$19=\"\",\"\",'Matl Properties'!$I$19)","v":"Bin No.1"},{"$f":"IF('Matl Properties'!$J$25=\"\",\"\",'Matl Properties'!$J$25)","v":"Sample ID"}]
[389,{"$f":"IF('Matl Properties'!$L$32=\"\",\"\",'Matl Properties'!$L$32)","v":""},{"$f":"IF('Matl Properties'!$B$4=\"\",\"\",'Matl Properties'!$B$4)","v":"HMACP MIXTURE DESIGN : MATERIAL PROPERTIES"},{"$f":"IF('Matl Properties'!$B$26=\"\",\"\",'Matl Properties'!$B$26)","v":"Stockpile"},{"$f":"IF('Matl Properties'!$E$32=\"\",\"\",'Matl Properties'!$E$32)","v":"Tex-460-A"},{"$f":"IF('Matl Properties'!$L$19=\"\",\"\",'Matl Properties'!$L$19)","v":"Bin No.2"},{"$f":"IF('Matl Properties'!$L$25=\"\",\"\",'Matl Properties'!$L$25)","v":"Result"}]
[390,{"$f":"IF('Matl Properties'!$M$32=\"\",\"\",'Matl Properties'!$M$32)","v":""},{"$f":"IF('Matl Properties'!$B$4=\"\",\"\",'Matl Properties'!$B$4)","v":"HMACP MIXTURE DESIGN : MATERIAL PROPERTIES"},{"$f":"IF('Matl Properties'!$B$26=\"\",\"\",'Matl Properties'!$B$26)","v":"Stockpile"},{"$f":"IF('Matl Properties'!$E$32=\"\",\"\",'Matl Properties'!$E$32)","v":"Tex-460-A"},{"$f":"IF('Matl Properties'!$L$19=\"\",\"\",'Matl Properties'!$L$19)","v":"Bin No.2"},{"$f":"IF('Matl Properties'!$M$25=\"\",\"\",'Matl Properties'!$M$25)","v":"Sample ID"}]
[391,{"$f":"IF('Matl Properties'!$O$32=\"\",\"\",'Matl Properties'!$O$32)","v":""},{"$f":"IF('Matl Properties'!$B$4=\"\",\"\",'Matl Properties'!$B$4)","v":"HMACP MIXTURE DESIGN : MATERIAL PROPERTIES"},{"$f":"IF('Matl Properties'!$B$26=\"\",\"\",'Matl Properties'!$B$26)","v":"Stockpile"},{"$f":"IF('Matl Properties'!$E$32=\"\",\"\",'Matl Properties'!$E$32)","v":"Tex-460-A"},{"$f":"IF('Matl Properties'!$O$19=\"\",\"\",'Matl Properties'!$O$19)","v":"Bin No.3"},{"$f":"IF('Matl Properties'!$O$25=\"\",\"\",'Matl Properties'!$O$25)","v":"Result"}]
[392,{"$f":"IF('Matl Properties'!$P$32=\"\",\"\",'Matl Properties'!$P$32)","v":""},{"$f":"IF('Matl Properties'!$B$4=\"\",\"\",'Matl Properties'!$B$4)","v":"HMACP MIXTURE DESIGN : MATERIAL PROPERTIES"},{"$f":"IF('Matl Properties'!$B$26=\"\",\"\",'Matl Properties'!$B$26)","v":"Stockpile"},{"$f":"IF('Matl Properties'!$E$32=\"\",\"\",'Matl Properties'!$E$32)","v":"Tex-460-A"},{"$f":"IF('Matl Properties'!$O$19=\"\",\"\",'Matl Properties'!$O$19)","v":"Bin No.3"},{"$f":"IF('Matl Properties'!$P$25=\"\",\"\",'Matl Properties'!$P$25)","v":"Sample ID"}]
[393,{"$f":"IF('Matl Properties'!$R$32=\"\",\"\",'Matl Properties'!$R$32)","v":""},{"$f":"IF('Matl Properties'!$B$4=\"\",\"\",'Matl Properties'!$B$4)","v":"HMACP MIXTURE DESIGN : MATERIAL PROPERTIES"},{"$f":"IF('Matl Properties'!$B$26=\"\",\"\",'Matl Properties'!$B$26)","v":"Stockpile"},{"$f":"IF('Matl Properties'!$E$32=\"\",\"\",'Matl Properties'!$E$32)","v":"Tex-460-A"},{"$f":"IF('Matl Properties'!$R$19=\"\",\"\",'Matl Properties'!$R$19)","v":"Bin No.4"},{"$f":"IF('Matl Properties'!$R$25=\"\",\"\",'Matl Properties'!$R$25)","v":"Result"}]
[394,{"$f":"IF('Matl Properties'!$S$32=\"\",\"\",'Matl Properties'!$S$32)","v":""},{"$f":"IF('Matl Properties'!$B$4=\"\",\"\",'Matl Properties'!$B$4)","v":"HMACP MIXTURE DESIGN : MATERIAL PROPERTIES"},{"$f":"IF('Matl Properties'!$B$26=\"\",\"\",'Matl Properties'!$B$26)","v":"Stockpile"},{"$f":"IF('Matl Properties'!$E$32=\"\",\"\",'Matl Properties'!$E$32)","v":"Tex-460-A"},{"$f":"IF('Matl Properties'!$R$19=\"\",\"\",'Matl Properties'!$R$19)","v":"Bin No.4"},{"$f":"IF('Matl Properties'!$S$25=\"\",\"\",'Matl Properties'!$S$25)","v":"Sample ID"}]
[395,{"$f":"IF('Matl Properties'!$U$32=\"\",\"\",'Matl Properties'!$U$32)","v":""},{"$f":"IF('Matl Properties'!$B$4=\"\",\"\",'Matl Properties'!$B$4)","v":"HMACP MIXTURE DESIGN : MATERIAL PROPERTIES"},{"$f":"IF('Matl Properties'!$B$26=\"\",\"\",'Matl Properties'!$B$26)","v":"Stockpile"},{"$f":"IF('Matl Properties'!$E$32=\"\",\"\",'Matl Properties'!$E$32)","v":"Tex-460-A"},{"$f":"IF('Matl Properties'!$U$19=\"\",\"\",'Matl Properties'!$U$19)","v":"Bin No.5"},{"$f":"IF('Matl Properties'!$U$25=\"\",\"\",'Matl Properties'!$U$25)","v":"Result"}]
[396,{"$f":"IF('Matl Properties'!$V$32=\"\",\"\",'Matl Properties'!$V$32)","v":""},{"$f":"IF('Matl Properties'!$B$4=\"\",\"\",'Matl Properties'!$B$4)","v":"HMACP MIXTURE DESIGN : MATERIAL PROPERTIES"},{"$f":"IF('Matl Properties'!$B$26=\"\",\"\",'Matl Properties'!$B$26)","v":"Stockpile"},{"$f":"IF('Matl Properties'!$E$32=\"\",\"\",'Matl Properties'!$E$32)","v":"Tex-460-A"},{"$f":"IF('Matl Properties'!$U$19=\"\",\"\",'Matl Properties'!$U$19)","v":"Bin No.5"},{"$f":"IF('Matl Properties'!$V$25=\"\",\"\",'Matl Properties'!$V$25)","v":"Sample ID"}]
[397,{"$f":"IF('Matl Properties'!$X$32=\"\",\"\",'Matl Properties'!$X$32)","v":""},{"$f":"IF('Matl Properties'!$B$4=\"\",\"\",'Matl Properties'!$B$4)","v":"HMACP MIXTURE DESIGN : MATERIAL PROPERTIES"},{"$f":"IF('Matl Properties'!$B$26=\"\",\"\",'Matl Properties'!$B$26)","v":"Stockpile"},{"$f":"IF('Matl Properties'!$E$32=\"\",\"\",'Matl Properties'!$E$32)","v":"Tex-460-A"},{"$f":"IF('Matl Properties'!$X$19=\"\",\"\",'Matl Properties'!$X$19)","v":"Bin No.6 "},{"$f":"IF('Matl Properties'!$X$25=\"\",\"\",'Matl Properties'!$X$25)","v":"Result"}]
[398,{"$f":"IF('Matl Properties'!$Y$32=\"\",\"\",'Matl Properties'!$Y$32)","v":""},{"$f":"IF('Matl Properties'!$B$4=\"\",\"\",'Matl Properties'!$B$4)","v":"HMACP MIXTURE DESIGN : MATERIAL PROPERTIES"},{"$f":"IF('Matl Properties'!$B$26=\"\",\"\",'Matl Properties'!$B$26)","v":"Stockpile"},{"$f":"IF('Matl Properties'!$E$32=\"\",\"\",'Matl Properties'!$E$32)","v":"Tex-460-A"},{"$f":"IF('Matl Properties'!$X$19=\"\",\"\",'Matl Properties'!$X$19)","v":"Bin No.6 "},{"$f":"IF('Matl Properties'!$Y$25=\"\",\"\",'Matl Properties'!$Y$25)","v":"Sample ID"}]
[399,{"$f":"IF('Matl Properties'!$AA$32=\"\",\"\",'Matl Properties'!$AA$32)","v":""},{"$f":"IF('Matl Properties'!$B$4=\"\",\"\",'Matl Properties'!$B$4)","v":"HMACP MIXTURE DESIGN : MATERIAL PROPERTIES"},{"$f":"IF('Matl Properties'!$B$26=\"\",\"\",'Matl Properties'!$B$26)","v":"Stockpile"},{"$f":"IF('Matl Properties'!$E$32=\"\",\"\",'Matl Properties'!$E$32)","v":"Tex-460-A"},{"$f":"IF('Matl Properties'!$AA$19=\"\",\"\",'Matl Properties'!$AA$19)","v":"Bin No.7 "},{"$f":"IF('Matl Properties'!$AA$25=\"\",\"\",'Matl Properties'!$AA$25)","v":"Result"}]
[400,{"$f":"IF('Matl Properties'!$AB$32=\"\",\"\",'Matl Properties'!$AB$32)","v":""},{"$f":"IF('Matl Properties'!$B$4=\"\",\"\",'Matl Properties'!$B$4)","v":"HMACP MIXTURE DESIGN : MATERIAL PROPERTIES"},{"$f":"IF('Matl Properties'!$B$26=\"\",\"\",'Matl Properties'!$B$26)","v":"Stockpile"},{"$f":"IF('Matl Properties'!$E$32=\"\",\"\",'Matl Properties'!$E$32)","v":"Tex-460-A"},{"$f":"IF('Matl Properties'!$AA$19=\"\",\"\",'Matl Properties'!$AA$19)","v":"Bin No.7 "},{"$f":"IF('Matl Properties'!$AB$25=\"\",\"\",'Matl Properties'!$AB$25)","v":"Sample ID"}]
[401,{"$f":"IF('Matl Properties'!$I$33=\"\",\"\",'Matl Properties'!$I$33)","v":""},{"$f":"IF('Matl Properties'!$B$4=\"\",\"\",'Matl Properties'!$B$4)","v":"HMACP MIXTURE DESIGN : MATERIAL PROPERTIES"},{"$f":"IF('Matl Properties'!$B$26=\"\",\"\",'Matl Properties'!$B$26)","v":"Stockpile"},{"$f":"IF('Matl Properties'!$E$33=\"\",\"\",'Matl Properties'!$E$33)","v":"Tex-280-F"},{"$f":"IF('Matl Properties'!$I$19=\"\",\"\",'Matl Properties'!$I$19)","v":"Bin No.1"},{"$f":"IF('Matl Properties'!$I$25=\"\",\"\",'Matl Properties'!$I$25)","v":"Result"}]
[402,{"$f":"IF('Matl Properties'!$J$33=\"\",\"\",'Matl Properties'!$J$33)","v":""},{"$f":"IF('Matl Properties'!$B$4=\"\",\"\",'Matl Properties'!$B$4)","v":"HMACP MIXTURE DESIGN : MATERIAL PROPERTIES"},{"$f":"IF('Matl Properties'!$B$26=\"\",\"\",'Matl Properties'!$B$26)","v":"Stockpile"},{"$f":"IF('Matl Properties'!$E$33=\"\",\"\",'Matl Properties'!$E$33)","v":"Tex-280-F"},{"$f":"IF('Matl Properties'!$I$19=\"\",\"\",'Matl Properties'!$I$19)","v":"Bin No.1"},{"$f":"IF('Matl Properties'!$J$25=\"\",\"\",'Matl Properties'!$J$25)","v":"Sample ID"}]
[403,{"$f":"IF('Matl Properties'!$L$33=\"\",\"\",'Matl Properties'!$L$33)","v":""},{"$f":"IF('Matl Properties'!$B$4=\"\",\"\",'Matl Properties'!$B$4)","v":"HMACP MIXTURE DESIGN : MATERIAL PROPERTIES"},{"$f":"IF('Matl Properties'!$B$26=\"\",\"\",'Matl Properties'!$B$26)","v":"Stockpile"},{"$f":"IF('Matl Properties'!$E$33=\"\",\"\",'Matl Properties'!$E$33)","v":"Tex-280-F"},{"$f":"IF('Matl Properties'!$L$19=\"\",\"\",'Matl Properties'!$L$19)","v":"Bin No.2"},{"$f":"IF('Matl Properties'!$L$25=\"\",\"\",'Matl Properties'!$L$25)","v":"Result"}]
[404,{"$f":"IF('Matl Properties'!$M$33=\"\",\"\",'Matl Properties'!$M$33)","v":""},{"$f":"IF('Matl Properties'!$B$4=\"\",\"\",'Matl Properties'!$B$4)","v":"HMACP MIXTURE DESIGN : MATERIAL PROPERTIES"},{"$f":"IF('Matl Properties'!$B$26=\"\",\"\",'Matl Properties'!$B$26)","v":"Stockpile"},{"$f":"IF('Matl Properties'!$E$33=\"\",\"\",'Matl Properties'!$E$33)","v":"Tex-280-F"},{"$f":"IF('Matl Properties'!$L$19=\"\",\"\",'Matl Properties'!$L$19)","v":"Bin No.2"},{"$f":"IF('Matl Properties'!$M$25=\"\",\"\",'Matl Properties'!$M$25)","v":"Sample ID"}]
[405,{"$f":"IF('Matl Properties'!$O$33=\"\",\"\",'Matl Properties'!$O$33)","v":""},{"$f":"IF('Matl Properties'!$B$4=\"\",\"\",'Matl Properties'!$B$4)","v":"HMACP MIXTURE DESIGN : MATERIAL PROPERTIES"},{"$f":"IF('Matl Properties'!$B$26=\"\",\"\",'Matl Properties'!$B$26)","v":"Stockpile"},{"$f":"IF('Matl Properties'!$E$33=\"\",\"\",'Matl Properties'!$E$33)","v":"Tex-280-F"},{"$f":"IF('Matl Properties'!$O$19=\"\",\"\",'Matl Properties'!$O$19)","v":"Bin No.3"},{"$f":"IF('Matl Properties'!$O$25=\"\",\"\",'Matl Properties'!$O$25)","v":"Result"}]
[406,{"$f":"IF('Matl Properties'!$P$33=\"\",\"\",'Matl Properties'!$P$33)","v":""},{"$f":"IF('Matl Properties'!$B$4=\"\",\"\",'Matl Properties'!$B$4)","v":"HMACP MIXTURE DESIGN : MATERIAL PROPERTIES"},{"$f":"IF('Matl Properties'!$B$26=\"\",\"\",'Matl Properties'!$B$26)","v":"Stockpile"},{"$f":"IF('Matl Properties'!$E$33=\"\",\"\",'Matl Properties'!$E$33)","v":"Tex-280-F"},{"$f":"IF('Matl Properties'!$O$19=\"\",\"\",'Matl Properties'!$O$19)","v":"Bin No.3"},{"$f":"IF('Matl Properties'!$P$25=\"\",\"\",'Matl Properties'!$P$25)","v":"Sample ID"}]
[407,{"$f":"IF('Matl Properties'!$R$33=\"\",\"\",'Matl Properties'!$R$33)","v":""},{"$f":"IF('Matl Properties'!$B$4=\"\",\"\",'Matl Properties'!$B$4)","v":"HMACP MIXTURE DESIGN : MATERIAL PROPERTIES"},{"$f":"IF('Matl Properties'!$B$26=\"\",\"\",'Matl Properties'!$B$26)","v":"Stockpile"},{"$f":"IF('Matl Properties'!$E$33=\"\",\"\",'Matl Properties'!$E$33)","v":"Tex-280-F"},{"$f":"IF('Matl Properties'!$R$19=\"\",\"\",'Matl Properties'!$R$19)","v":"Bin No.4"},{"$f":"IF('Matl Properties'!$R$25=\"\",\"\",'Matl Properties'!$R$25)","v":"Result"}]
[408,{"$f":"IF('Matl Properties'!$S$33=\"\",\"\",'Matl Properties'!$S$33)","v":""},{"$f":"IF('Matl Properties'!$B$4=\"\",\"\",'Matl Properties'!$B$4)","v":"HMACP MIXTURE DESIGN : MATERIAL PROPERTIES"},{"$f":"IF('Matl Properties'!$B$26=\"\",\"\",'Matl Properties'!$B$26)","v":"Stockpile"},{"$f":"IF('Matl Properties'!$E$33=\"\",\"\",'Matl Properties'!$E$33)","v":"Tex-280-F"},{"$f":"IF('Matl Properties'!$R$19=\"\",\"\",'Matl Properties'!$R$19)","v":"Bin No.4"},{"$f":"IF('Matl Properties'!$S$25=\"\",\"\",'Matl Properties'!$S$25)","v":"Sample ID"}]
[409,{"$f":"IF('Matl Properties'!$U$33=\"\",\"\",'Matl Properties'!$U$33)","v":""},{"$f":"IF('Matl Properties'!$B$4=\"\",\"\",'Matl Properties'!$B$4)","v":"HMACP MIXTURE DESIGN : MATERIAL PROPERTIES"},{"$f":"IF('Matl Properties'!$B$26=\"\",\"\",'Matl Properties'!$B$26)","v":"Stockpile"},{"$f":"IF('Matl Properties'!$E$33=\"\",\"\",'Matl Properties'!$E$33)","v":"Tex-280-F"},{"$f":"IF('Matl Properties'!$U$19=\"\",\"\",'Matl Properties'!$U$19)","v":"Bin No.5"},{"$f":"IF('Matl Properties'!$U$25=\"\",\"\",'Matl Properties'!$U$25)","v":"Result"}]
[410,{"$f":"IF('Matl Properties'!$V$33=\"\",\"\",'Matl Properties'!$V$33)","v":""},{"$f":"IF('Matl Properties'!$B$4=\"\",\"\",'Matl Properties'!$B$4)","v":"HMACP MIXTURE DESIGN : MATERIAL PROPERTIES"},{"$f":"IF('Matl Properties'!$B$26=\"\",\"\",'Matl Properties'!$B$26)","v":"Stockpile"},{"$f":"IF('Matl Properties'!$E$33=\"\",\"\",'Matl Properties'!$E$33)","v":"Tex-280-F"},{"$f":"IF('Matl Properties'!$U$19=\"\",\"\",'Matl Properties'!$U$19)","v":"Bin No.5"},{"$f":"IF('Matl Properties'!$V$25=\"\",\"\",'Matl Properties'!$V$25)","v":"Sample ID"}]
[411,{"$f":"IF('Matl Properties'!$X$33=\"\",\"\",'Matl Properties'!$X$33)","v":""},{"$f":"IF('Matl Properties'!$B$4=\"\",\"\",'Matl Properties'!$B$4)","v":"HMACP MIXTURE DESIGN : MATERIAL PROPERTIES"},{"$f":"IF('Matl Properties'!$B$26=\"\",\"\",'Matl Properties'!$B$26)","v":"Stockpile"},{"$f":"IF('Matl Properties'!$E$33=\"\",\"\",'Matl Properties'!$E$33)","v":"Tex-280-F"},{"$f":"IF('Matl Properties'!$X$19=\"\",\"\",'Matl Properties'!$X$19)","v":"Bin No.6 "},{"$f":"IF('Matl Properties'!$X$25=\"\",\"\",'Matl Properties'!$X$25)","v":"Result"}]
[412,{"$f":"IF('Matl Properties'!$Y$33=\"\",\"\",'Matl Properties'!$Y$33)","v":""},{"$f":"IF('Matl Properties'!$B$4=\"\",\"\",'Matl Properties'!$B$4)","v":"HMACP MIXTURE DESIGN : MATERIAL PROPERTIES"},{"$f":"IF('Matl Properties'!$B$26=\"\",\"\",'Matl Properties'!$B$26)","v":"Stockpile"},{"$f":"IF('Matl Properties'!$E$33=\"\",\"\",'Matl Properties'!$E$33)","v":"Tex-280-F"},{"$f":"IF('Matl Properties'!$X$19=\"\",\"\",'Matl Properties'!$X$19)","v":"Bin No.6 "},{"$f":"IF('Matl Properties'!$Y$25=\"\",\"\",'Matl Properties'!$Y$25)","v":"Sample ID"}]
[413,{"$f":"IF('Matl Properties'!$AA$33=\"\",\"\",'Matl Properties'!$AA$33)","v":""},{"$f":"IF('Matl Properties'!$B$4=\"\",\"\",'Matl Properties'!$B$4)","v":"HMACP MIXTURE DESIGN : MATERIAL PROPERTIES"},{"$f":"IF('Matl Properties'!$B$26=\"\",\"\",'Matl Properties'!$B$26)","v":"Stockpile"},{"$f":"IF('Matl Properties'!$E$33=\"\",\"\",'Matl Properties'!$E$33)","v":"Tex-280-F"},{"$f":"IF('Matl Properties'!$AA$19=\"\",\"\",'Matl Properties'!$AA$19)","v":"Bin No.7 "},{"$f":"IF('Matl Properties'!$AA$25=\"\",\"\",'Matl Properties'!$AA$25)","v":"Result"}]
[414,{"$f":"IF('Matl Properties'!$AB$33=\"\",\"\",'Matl Properties'!$AB$33)","v":""},{"$f":"IF('Matl Properties'!$B$4=\"\",\"\",'Matl Properties'!$B$4)","v":"HMACP MIXTURE DESIGN : MATERIAL PROPERTIES"},{"$f":"IF('Matl Properties'!$B$26=\"\",\"\",'Matl Properties'!$B$26)","v":"Stockpile"},{"$f":"IF('Matl Properties'!$E$33=\"\",\"\",'Matl Properties'!$E$33)","v":"Tex-280-F"},{"$f":"IF('Matl Properties'!$AA$19=\"\",\"\",'Matl Properties'!$AA$19)","v":"Bin No.7 "},{"$f":"IF('Matl Properties'!$AB$25=\"\",\"\",'Matl Properties'!$AB$25)","v":"Sample ID"}]
[415,{"$f":"IF('Matl Properties'!$I$36=\"\",\"\",'Matl Properties'!$I$36)","v":""},{"$f":"IF('Matl Properties'!$B$4=\"\",\"\",'Matl Properties'!$B$4)","v":"HMACP MIXTURE DESIGN : MATERIAL PROPERTIES"},{"$f":"IF('Matl Properties'!$B$35=\"\",\"\",'Matl Properties'!$B$35)","v":"Fine Aggregate"},{"$f":"IF('Matl Properties'!$E$36=\"\",\"\",'Matl Properties'!$E$36)","v":"Tex-107-E"},{"$f":"IF('Matl Properties'!$I$19=\"\",\"\",'Matl Properties'!$I$19)","v":"Bin No.1"},{"$f":"IF('Matl Properties'!$I$25=\"\",\"\",'Matl Properties'!$I$25)","v":"Result"}]
[416,{"$f":"IF('Matl Properties'!$J$36=\"\",\"\",'Matl Properties'!$J$36)","v":""},{"$f":"IF('Matl Properties'!$B$4=\"\",\"\",'Matl Properties'!$B$4)","v":"HMACP MIXTURE DESIGN : MATERIAL PROPERTIES"},{"$f":"IF('Matl Properties'!$B$35=\"\",\"\",'Matl Properties'!$B$35)","v":"Fine Aggregate"},{"$f":"IF('Matl Properties'!$E$36=\"\",\"\",'Matl Properties'!$E$36)","v":"Tex-107-E"},{"$f":"IF('Matl Properties'!$I$19=\"\",\"\",'Matl Properties'!$I$19)","v":"Bin No.1"},{"$f":"IF('Matl Properties'!$J$25=\"\",\"\",'Matl Properties'!$J$25)","v":"Sample ID"}]
[417,{"$f":"IF('Matl Properties'!$L$36=\"\",\"\",'Matl Properties'!$L$36)","v":""},{"$f":"IF('Matl Properties'!$B$4=\"\",\"\",'Matl Properties'!$B$4)","v":"HMACP MIXTURE DESIGN : MATERIAL PROPERTIES"},{"$f":"IF('Matl Properties'!$B$35=\"\",\"\",'Matl Properties'!$B$35)","v":"Fine Aggregate"},{"$f":"IF('Matl Properties'!$E$36=\"\",\"\",'Matl Properties'!$E$36)","v":"Tex-107-E"},{"$f":"IF('Matl Properties'!$L$19=\"\",\"\",'Matl Properties'!$L$19)","v":"Bin No.2"},{"$f":"IF('Matl Properties'!$L$25=\"\",\"\",'Matl Properties'!$L$25)","v":"Result"}]
[418,{"$f":"IF('Matl Properties'!$M$36=\"\",\"\",'Matl Properties'!$M$36)","v":""},{"$f":"IF('Matl Properties'!$B$4=\"\",\"\",'Matl Properties'!$B$4)","v":"HMACP MIXTURE DESIGN : MATERIAL PROPERTIES"},{"$f":"IF('Matl Properties'!$B$35=\"\",\"\",'Matl Properties'!$B$35)","v":"Fine Aggregate"},{"$f":"IF('Matl Properties'!$E$36=\"\",\"\",'Matl Properties'!$E$36)","v":"Tex-107-E"},{"$f":"IF('Matl Properties'!$L$19=\"\",\"\",'Matl Properties'!$L$19)","v":"Bin No.2"},{"$f":"IF('Matl Properties'!$M$25=\"\",\"\",'Matl Properties'!$M$25)","v":"Sample ID"}]
[419,{"$f":"IF('Matl Properties'!$O$36=\"\",\"\",'Matl Properties'!$O$36)","v":""},{"$f":"IF('Matl Properties'!$B$4=\"\",\"\",'Matl Properties'!$B$4)","v":"HMACP MIXTURE DESIGN : MATERIAL PROPERTIES"},{"$f":"IF('Matl Properties'!$B$35=\"\",\"\",'Matl Properties'!$B$35)","v":"Fine Aggregate"},{"$f":"IF('Matl Properties'!$E$36=\"\",\"\",'Matl Properties'!$E$36)","v":"Tex-107-E"},{"$f":"IF('Matl Properties'!$O$19=\"\",\"\",'Matl Properties'!$O$19)","v":"Bin No.3"},{"$f":"IF('Matl Properties'!$O$25=\"\",\"\",'Matl Properties'!$O$25)","v":"Result"}]
[420,{"$f":"IF('Matl Properties'!$P$36=\"\",\"\",'Matl Properties'!$P$36)","v":""},{"$f":"IF('Matl Properties'!$B$4=\"\",\"\",'Matl Properties'!$B$4)","v":"HMACP MIXTURE DESIGN : MATERIAL PROPERTIES"},{"$f":"IF('Matl Properties'!$B$35=\"\",\"\",'Matl Properties'!$B$35)","v":"Fine Aggregate"},{"$f":"IF('Matl Properties'!$E$36=\"\",\"\",'Matl Properties'!$E$36)","v":"Tex-107-E"},{"$f":"IF('Matl Properties'!$O$19=\"\",\"\",'Matl Properties'!$O$19)","v":"Bin No.3"},{"$f":"IF('Matl Properties'!$P$25=\"\",\"\",'Matl Properties'!$P$25)","v":"Sample ID"}]
[421,{"$f":"IF('Matl Properties'!$R$36=\"\",\"\",'Matl Properties'!$R$36)","v":""},{"$f":"IF('Matl Properties'!$B$4=\"\",\"\",'Matl Properties'!$B$4)","v":"HMACP MIXTURE DESIGN : MATERIAL PROPERTIES"},{"$f":"IF('Matl Properties'!$B$35=\"\",\"\",'Matl Properties'!$B$35)","v":"Fine Aggregate"},{"$f":"IF('Matl Properties'!$E$36=\"\",\"\",'Matl Properties'!$E$36)","v":"Tex-107-E"},{"$f":"IF('Matl Properties'!$R$19=\"\",\"\",'Matl Properties'!$R$19)","v":"Bin No.4"},{"$f":"IF('Matl Properties'!$R$25=\"\",\"\",'Matl Properties'!$R$25)","v":"Result"}]
[422,{"$f":"IF('Matl Properties'!$S$36=\"\",\"\",'Matl Properties'!$S$36)","v":""},{"$f":"IF('Matl Properties'!$B$4=\"\",\"\",'Matl Properties'!$B$4)","v":"HMACP MIXTURE DESIGN : MATERIAL PROPERTIES"},{"$f":"IF('Matl Properties'!$B$35=\"\",\"\",'Matl Properties'!$B$35)","v":"Fine Aggregate"},{"$f":"IF('Matl Properties'!$E$36=\"\",\"\",'Matl Properties'!$E$36)","v":"Tex-107-E"},{"$f":"IF('Matl Properties'!$R$19=\"\",\"\",'Matl Properties'!$R$19)","v":"Bin No.4"},{"$f":"IF('Matl Properties'!$S$25=\"\",\"\",'Matl Properties'!$S$25)","v":"Sample ID"}]
[423,{"$f":"IF('Matl Properties'!$U$36=\"\",\"\",'Matl Properties'!$U$36)","v":""},{"$f":"IF('Matl Properties'!$B$4=\"\",\"\",'Matl Properties'!$B$4)","v":"HMACP MIXTURE DESIGN : MATERIAL PROPERTIES"},{"$f":"IF('Matl Properties'!$B$35=\"\",\"\",'Matl Properties'!$B$35)","v":"Fine Aggregate"},{"$f":"IF('Matl Properties'!$E$36=\"\",\"\",'Matl Properties'!$E$36)","v":"Tex-107-E"},{"$f":"IF('Matl Properties'!$U$19=\"\",\"\",'Matl Properties'!$U$19)","v":"Bin No.5"},{"$f":"IF('Matl Properties'!$U$25=\"\",\"\",'Matl Properties'!$U$25)","v":"Result"}]
[424,{"$f":"IF('Matl Properties'!$V$36=\"\",\"\",'Matl Properties'!$V$36)","v":""},{"$f":"IF('Matl Properties'!$B$4=\"\",\"\",'Matl Properties'!$B$4)","v":"HMACP MIXTURE DESIGN : MATERIAL PROPERTIES"},{"$f":"IF('Matl Properties'!$B$35=\"\",\"\",'Matl Properties'!$B$35)","v":"Fine Aggregate"},{"$f":"IF('Matl Properties'!$E$36=\"\",\"\",'Matl Properties'!$E$36)","v":"Tex-107-E"},{"$f":"IF('Matl Properties'!$U$19=\"\",\"\",'Matl Properties'!$U$19)","v":"Bin No.5"},{"$f":"IF('Matl Properties'!$V$25=\"\",\"\",'Matl Properties'!$V$25)","v":"Sample ID"}]
[425,{"$f":"IF('Matl Properties'!$X$36=\"\",\"\",'Matl Properties'!$X$36)","v":""},{"$f":"IF('Matl Properties'!$B$4=\"\",\"\",'Matl Properties'!$B$4)","v":"HMACP MIXTURE DESIGN : MATERIAL PROPERTIES"},{"$f":"IF('Matl Properties'!$B$35=\"\",\"\",'Matl Properties'!$B$35)","v":"Fine Aggregate"},{"$f":"IF('Matl Properties'!$E$36=\"\",\"\",'Matl Properties'!$E$36)","v":"Tex-107-E"},{"$f":"IF('Matl Properties'!$X$19=\"\",\"\",'Matl Properties'!$X$19)","v":"Bin No.6 "},{"$f":"IF('Matl Properties'!$X$25=\"\",\"\",'Matl Properties'!$X$25)","v":"Result"}]
[426,{"$f":"IF('Matl Properties'!$Y$36=\"\",\"\",'Matl Properties'!$Y$36)","v":""},{"$f":"IF('Matl Properties'!$B$4=\"\",\"\",'Matl Properties'!$B$4)","v":"HMACP MIXTURE DESIGN : MATERIAL PROPERTIES"},{"$f":"IF('Matl Properties'!$B$35=\"\",\"\",'Matl Properties'!$B$35)","v":"Fine Aggregate"},{"$f":"IF('Matl Properties'!$E$36=\"\",\"\",'Matl Properties'!$E$36)","v":"Tex-107-E"},{"$f":"IF('Matl Properties'!$X$19=\"\",\"\",'Matl Properties'!$X$19)","v":"Bin No.6 "},{"$f":"IF('Matl Properties'!$Y$25=\"\",\"\",'Matl Properties'!$Y$25)","v":"Sample ID"}]
[427,{"$f":"IF('Matl Properties'!$AA$36=\"\",\"\",'Matl Properties'!$AA$36)","v":""},{"$f":"IF('Matl Properties'!$B$4=\"\",\"\",'Matl Properties'!$B$4)","v":"HMACP MIXTURE DESIGN : MATERIAL PROPERTIES"},{"$f":"IF('Matl Properties'!$B$35=\"\",\"\",'Matl Properties'!$B$35)","v":"Fine Aggregate"},{"$f":"IF('Matl Properties'!$E$36=\"\",\"\",'Matl Properties'!$E$36)","v":"Tex-107-E"},{"$f":"IF('Matl Properties'!$AA$19=\"\",\"\",'Matl Properties'!$AA$19)","v":"Bin No.7 "},{"$f":"IF('Matl Properties'!$AA$25=\"\",\"\",'Matl Properties'!$AA$25)","v":"Result"}]
[428,{"$f":"IF('Matl Properties'!$AB$36=\"\",\"\",'Matl Properties'!$AB$36)","v":""},{"$f":"IF('Matl Properties'!$B$4=\"\",\"\",'Matl Properties'!$B$4)","v":"HMACP MIXTURE DESIGN : MATERIAL PROPERTIES"},{"$f":"IF('Matl Properties'!$B$35=\"\",\"\",'Matl Properties'!$B$35)","v":"Fine Aggregate"},{"$f":"IF('Matl Properties'!$E$36=\"\",\"\",'Matl Properties'!$E$36)","v":"Tex-107-E"},{"$f":"IF('Matl Properties'!$AA$19=\"\",\"\",'Matl Properties'!$AA$19)","v":"Bin No.7 "},{"$f":"IF('Matl Properties'!$AB$25=\"\",\"\",'Matl Properties'!$AB$25)","v":"Sample ID"}]
[429,{"$f":"IF('Matl Properties'!$I$39=\"\",\"\",'Matl Properties'!$I$39)","v":""},{"$f":"IF('Matl Properties'!$B$4=\"\",\"\",'Matl Properties'!$B$4)","v":"HMACP MIXTURE DESIGN : MATERIAL PROPERTIES"},{"$f":"IF('Matl Properties'!$B$38=\"\",\"\",'Matl Properties'!$B$38)","v":"Combined Aggregate"},{"$f":"IF('Matl Properties'!$E$39=\"\",\"\",'Matl Properties'!$E$39)","v":"Tex-203-F"},{"$f":"IF('Matl Properties'!$I$19=\"\",\"\",'Matl Properties'!$I$19)","v":"Bin No.1"},{"$f":"IF('Matl Properties'!$I$25=\"\",\"\",'Matl Properties'!$I$25)","v":"Result"}]
[430,{"$f":"IF('Matl Properties'!$J$39=\"\",\"\",'Matl Properties'!$J$39)","v":""},{"$f":"IF('Matl Properties'!$B$4=\"\",\"\",'Matl Properties'!$B$4)","v":"HMACP MIXTURE DESIGN : MATERIAL PROPERTIES"},{"$f":"IF('Matl Properties'!$B$38=\"\",\"\",'Matl Properties'!$B$38)","v":"Combined Aggregate"},{"$f":"IF('Matl Properties'!$E$39=\"\",\"\",'Matl Properties'!$E$39)","v":"Tex-203-F"},{"$f":"IF('Matl Properties'!$I$19=\"\",\"\",'Matl Properties'!$I$19)","v":"Bin No.1"},{"$f":"IF('Matl Properties'!$J$25=\"\",\"\",'Matl Properties'!$J$25)","v":"Sample ID"}]
[431,{"$f":"IF('Matl Properties'!$L$39=\"\",\"\",'Matl Properties'!$L$39)","v":""},{"$f":"IF('Matl Properties'!$B$4=\"\",\"\",'Matl Properties'!$B$4)","v":"HMACP MIXTURE DESIGN : MATERIAL PROPERTIES"},{"$f":"IF('Matl Properties'!$B$38=\"\",\"\",'Matl Properties'!$B$38)","v":"Combined Aggregate"},{"$f":"IF('Matl Properties'!$E$39=\"\",\"\",'Matl Properties'!$E$39)","v":"Tex-203-F"},{"$f":"IF('Matl Properties'!$L$19=\"\",\"\",'Matl Properties'!$L$19)","v":"Bin No.2"},{"$f":"IF('Matl Properties'!$L$25=\"\",\"\",'Matl Properties'!$L$25)","v":"Result"}]
[432,{"$f":"IF('Matl Properties'!$M$39=\"\",\"\",'Matl Properties'!$M$39)","v":""},{"$f":"IF('Matl Properties'!$B$4=\"\",\"\",'Matl Properties'!$B$4)","v":"HMACP MIXTURE DESIGN : MATERIAL PROPERTIES"},{"$f":"IF('Matl Properties'!$B$38=\"\",\"\",'Matl Properties'!$B$38)","v":"Combined Aggregate"},{"$f":"IF('Matl Properties'!$E$39=\"\",\"\",'Matl Properties'!$E$39)","v":"Tex-203-F"},{"$f":"IF('Matl Properties'!$L$19=\"\",\"\",'Matl Properties'!$L$19)","v":"Bin No.2"},{"$f":"IF('Matl Properties'!$M$25=\"\",\"\",'Matl Properties'!$M$25)","v":"Sample ID"}]
[433,{"$f":"IF('Matl Properties'!$O$39=\"\",\"\",'Matl Properties'!$O$39)","v":""},{"$f":"IF('Matl Properties'!$B$4=\"\",\"\",'Matl Properties'!$B$4)","v":"HMACP MIXTURE DESIGN : MATERIAL PROPERTIES"},{"$f":"IF('Matl Properties'!$B$38=\"\",\"\",'Matl Properties'!$B$38)","v":"Combined Aggregate"},{"$f":"IF('Matl Properties'!$E$39=\"\",\"\",'Matl Properties'!$E$39)","v":"Tex-203-F"},{"$f":"IF('Matl Properties'!$O$19=\"\",\"\",'Matl Properties'!$O$19)","v":"Bin No.3"},{"$f":"IF('Matl Properties'!$O$25=\"\",\"\",'Matl Properties'!$O$25)","v":"Result"}]
[434,{"$f":"IF('Matl Properties'!$P$39=\"\",\"\",'Matl Properties'!$P$39)","v":""},{"$f":"IF('Matl Properties'!$B$4=\"\",\"\",'Matl Properties'!$B$4)","v":"HMACP MIXTURE DESIGN : MATERIAL PROPERTIES"},{"$f":"IF('Matl Properties'!$B$38=\"\",\"\",'Matl Properties'!$B$38)","v":"Combined Aggregate"},{"$f":"IF('Matl Properties'!$E$39=\"\",\"\",'Matl Properties'!$E$39)","v":"Tex-203-F"},{"$f":"IF('Matl Properties'!$O$19=\"\",\"\",'Matl Properties'!$O$19)","v":"Bin No.3"},{"$f":"IF('Matl Properties'!$P$25=\"\",\"\",'Matl Properties'!$P$25)","v":"Sample ID"}]
[435,{"$f":"IF('Matl Properties'!$R$39=\"\",\"\",'Matl Properties'!$R$39)","v":""},{"$f":"IF('Matl Properties'!$B$4=\"\",\"\",'Matl Properties'!$B$4)","v":"HMACP MIXTURE DESIGN : MATERIAL PROPERTIES"},{"$f":"IF('Matl Properties'!$B$38=\"\",\"\",'Matl Properties'!$B$38)","v":"Combined Aggregate"},{"$f":"IF('Matl Properties'!$E$39=\"\",\"\",'Matl Properties'!$E$39)","v":"Tex-203-F"},{"$f":"IF('Matl Properties'!$R$19=\"\",\"\",'Matl Properties'!$R$19)","v":"Bin No.4"},{"$f":"IF('Matl Properties'!$R$25=\"\",\"\",'Matl Properties'!$R$25)","v":"Result"}]
[436,{"$f":"IF('Matl Properties'!$S$39=\"\",\"\",'Matl Properties'!$S$39)","v":""},{"$f":"IF('Matl Properties'!$B$4=\"\",\"\",'Matl Properties'!$B$4)","v":"HMACP MIXTURE DESIGN : MATERIAL PROPERTIES"},{"$f":"IF('Matl Properties'!$B$38=\"\",\"\",'Matl Properties'!$B$38)","v":"Combined Aggregate"},{"$f":"IF('Matl Properties'!$E$39=\"\",\"\",'Matl Properties'!$E$39)","v":"Tex-203-F"},{"$f":"IF('Matl Properties'!$R$19=\"\",\"\",'Matl Properties'!$R$19)","v":"Bin No.4"},{"$f":"IF('Matl Properties'!$S$25=\"\",\"\",'Matl Properties'!$S$25)","v":"Sample ID"}]
[437,{"$f":"IF('Matl Properties'!$U$39=\"\",\"\",'Matl Properties'!$U$39)","v":""},{"$f":"IF('Matl Properties'!$B$4=\"\",\"\",'Matl Properties'!$B$4)","v":"HMACP MIXTURE DESIGN : MATERIAL PROPERTIES"},{"$f":"IF('Matl Properties'!$B$38=\"\",\"\",'Matl Properties'!$B$38)","v":"Combined Aggregate"},{"$f":"IF('Matl Properties'!$E$39=\"\",\"\",'Matl Properties'!$E$39)","v":"Tex-203-F"},{"$f":"IF('Matl Properties'!$U$19=\"\",\"\",'Matl Properties'!$U$19)","v":"Bin No.5"},{"$f":"IF('Matl Properties'!$U$25=\"\",\"\",'Matl Properties'!$U$25)","v":"Result"}]
[438,{"$f":"IF('Matl Properties'!$V$39=\"\",\"\",'Matl Properties'!$V$39)","v":""},{"$f":"IF('Matl Properties'!$B$4=\"\",\"\",'Matl Properties'!$B$4)","v":"HMACP MIXTURE DESIGN : MATERIAL PROPERTIES"},{"$f":"IF('Matl Properties'!$B$38=\"\",\"\",'Matl Properties'!$B$38)","v":"Combined Aggregate"},{"$f":"IF('Matl Properties'!$E$39=\"\",\"\",'Matl Properties'!$E$39)","v":"Tex-203-F"},{"$f":"IF('Matl Properties'!$U$19=\"\",\"\",'Matl Properties'!$U$19)","v":"Bin No.5"},{"$f":"IF('Matl Properties'!$V$25=\"\",\"\",'Matl Properties'!$V$25)","v":"Sample ID"}]
[439,{"$f":"IF('Matl Properties'!$X$39=\"\",\"\",'Matl Properties'!$X$39)","v":""},{"$f":"IF('Matl Properties'!$B$4=\"\",\"\",'Matl Properties'!$B$4)","v":"HMACP MIXTURE DESIGN : MATERIAL PROPERTIES"},{"$f":"IF('Matl Properties'!$B$38=\"\",\"\",'Matl Properties'!$B$38)","v":"Combined Aggregate"},{"$f":"IF('Matl Properties'!$E$39=\"\",\"\",'Matl Properties'!$E$39)","v":"Tex-203-F"},{"$f":"IF('Matl Properties'!$X$19=\"\",\"\",'Matl Properties'!$X$19)","v":"Bin No.6 "},{"$f":"IF('Matl Properties'!$X$25=\"\",\"\",'Matl Properties'!$X$25)","v":"Result"}]
[440,{"$f":"IF('Matl Properties'!$Y$39=\"\",\"\",'Matl Properties'!$Y$39)","v":""},{"$f":"IF('Matl Properties'!$B$4=\"\",\"\",'Matl Properties'!$B$4)","v":"HMACP MIXTURE DESIGN : MATERIAL PROPERTIES"},{"$f":"IF('Matl Properties'!$B$38=\"\",\"\",'Matl Properties'!$B$38)","v":"Combined Aggregate"},{"$f":"IF('Matl Properties'!$E$39=\"\",\"\",'Matl Properties'!$E$39)","v":"Tex-203-F"},{"$f":"IF('Matl Properties'!$X$19=\"\",\"\",'Matl Properties'!$X$19)","v":"Bin No.6 "},{"$f":"IF('Matl Properties'!$Y$25=\"\",\"\",'Matl Properties'!$Y$25)","v":"Sample ID"}]
[441,{"$f":"IF('Matl Properties'!$AA$39=\"\",\"\",'Matl Properties'!$AA$39)","v":""},{"$f":"IF('Matl Properties'!$B$4=\"\",\"\",'Matl Properties'!$B$4)","v":"HMACP MIXTURE DESIGN : MATERIAL PROPERTIES"},{"$f":"IF('Matl Properties'!$B$38=\"\",\"\",'Matl Properties'!$B$38)","v":"Combined Aggregate"},{"$f":"IF('Matl Properties'!$E$39=\"\",\"\",'Matl Properties'!$E$39)","v":"Tex-203-F"},{"$f":"IF('Matl Properties'!$AA$19=\"\",\"\",'Matl Properties'!$AA$19)","v":"Bin No.7 "},{"$f":"IF('Matl Properties'!$AA$25=\"\",\"\",'Matl Properties'!$AA$25)","v":"Result"}]
[442,{"$f":"IF('Matl Properties'!$AB$39=\"\",\"\",'Matl Properties'!$AB$39)","v":""},{"$f":"IF('Matl Properties'!$B$4=\"\",\"\",'Matl Properties'!$B$4)","v":"HMACP MIXTURE DESIGN : MATERIAL PROPERTIES"},{"$f":"IF('Matl Properties'!$B$38=\"\",\"\",'Matl Properties'!$B$38)","v":"Combined Aggregate"},{"$f":"IF('Matl Properties'!$E$39=\"\",\"\",'Matl Properties'!$E$39)","v":"Tex-203-F"},{"$f":"IF('Matl Properties'!$AA$19=\"\",\"\",'Matl Properties'!$AA$19)","v":"Bin No.7 "},{"$f":"IF('Matl Properties'!$AB$25=\"\",\"\",'Matl Properties'!$AB$25)","v":"Sample ID"}]
[443,{"$f":"IF('Matl Properties'!$E$41=\"\",\"\",'Matl Properties'!$E$41)","v":""},{"$f":"IF('Matl Properties'!$B$4=\"\",\"\",'Matl Properties'!$B$4)","v":"HMACP MIXTURE DESIGN : MATERIAL PROPERTIES"},{"$f":"IF('Matl Properties'!$B$40=\"\",\"\",'Matl Properties'!$B$40)","v":"User Defined Testing"},{"$f":"IF('Matl Properties'!$C$41=\"\",\"\",'Matl Properties'!$C$41)","v":1},{"$f":"IF('Matl Properties'!$E$25=\"\",\"\",'Matl Properties'!$E$25)","v":"Test Method"}]
[444,{"$f":"IF('Matl Properties'!$F$41=\"\",\"\",'Matl Properties'!$F$41)","v":""},{"$f":"IF('Matl Properties'!$B$4=\"\",\"\",'Matl Properties'!$B$4)","v":"HMACP MIXTURE DESIGN : MATERIAL PROPERTIES"},{"$f":"IF('Matl Properties'!$B$40=\"\",\"\",'Matl Properties'!$B$40)","v":"User Defined Testing"},{"$f":"IF('Matl Properties'!$C$41=\"\",\"\",'Matl Properties'!$C$41)","v":1},{"$f":"IF('Matl Properties'!$F$25=\"\",\"\",'Matl Properties'!$F$25)","v":"Spec. Min or Max"}]
[445,{"$f":"IF('Matl Properties'!$H$41=\"\",\"\",'Matl Properties'!$H$41)","v":""},{"$f":"IF('Matl Properties'!$B$4=\"\",\"\",'Matl Properties'!$B$4)","v":"HMACP MIXTURE DESIGN : MATERIAL PROPERTIES"},{"$f":"IF('Matl Properties'!$B$40=\"\",\"\",'Matl Properties'!$B$40)","v":"User Defined Testing"},{"$f":"IF('Matl Properties'!$C$41=\"\",\"\",'Matl Properties'!$C$41)","v":1},{"$f":"IF('Matl Properties'!$G$25=\"\",\"\",'Matl Properties'!$G$25)","v":"Spec. Limit"}]
[446,{"$f":"IF('Matl Properties'!$I$41=\"\",\"\",'Matl Properties'!$I$41)","v":""},{"$f":"IF('Matl Properties'!$B$4=\"\",\"\",'Matl Properties'!$B$4)","v":"HMACP MIXTURE DESIGN : MATERIAL PROPERTIES"},{"$f":"IF('Matl Properties'!$B$40=\"\",\"\",'Matl Properties'!$B$40)","v":"User Defined Testing"},{"$f":"IF('Matl Properties'!$C$41=\"\",\"\",'Matl Properties'!$C$41)","v":1},{"$f":"IF('Matl Properties'!$I$19=\"\",\"\",'Matl Properties'!$I$19)","v":"Bin No.1"},{"$f":"IF('Matl Properties'!$I$25=\"\",\"\",'Matl Properties'!$I$25)","v":"Result"}]
[447,{"$f":"IF('Matl Properties'!$J$41=\"\",\"\",'Matl Properties'!$J$41)","v":""},{"$f":"IF('Matl Properties'!$B$4=\"\",\"\",'Matl Properties'!$B$4)","v":"HMACP MIXTURE DESIGN : MATERIAL PROPERTIES"},{"$f":"IF('Matl Properties'!$B$40=\"\",\"\",'Matl Properties'!$B$40)","v":"User Defined Testing"},{"$f":"IF('Matl Properties'!$C$41=\"\",\"\",'Matl Properties'!$C$41)","v":1},{"$f":"IF('Matl Properties'!$I$19=\"\",\"\",'Matl Properties'!$I$19)","v":"Bin No.1"},{"$f":"IF('Matl Properties'!$J$25=\"\",\"\",'Matl Properties'!$J$25)","v":"Sample ID"}]
[448,{"$f":"IF('Matl Properties'!$L$41=\"\",\"\",'Matl Properties'!$L$41)","v":""},{"$f":"IF('Matl Properties'!$B$4=\"\",\"\",'Matl Properties'!$B$4)","v":"HMACP MIXTURE DESIGN : MATERIAL PROPERTIES"},{"$f":"IF('Matl Properties'!$B$40=\"\",\"\",'Matl Properties'!$B$40)","v":"User Defined Testing"},{"$f":"IF('Matl Properties'!$C$41=\"\",\"\",'Matl Properties'!$C$41)","v":1},{"$f":"IF('Matl Properties'!$L$19=\"\",\"\",'Matl Properties'!$L$19)","v":"Bin No.2"},{"$f":"IF('Matl Properties'!$L$25=\"\",\"\",'Matl Properties'!$L$25)","v":"Result"}]
[449,{"$f":"IF('Matl Properties'!$M$41=\"\",\"\",'Matl Properties'!$M$41)","v":""},{"$f":"IF('Matl Properties'!$B$4=\"\",\"\",'Matl Properties'!$B$4)","v":"HMACP MIXTURE DESIGN : MATERIAL PROPERTIES"},{"$f":"IF('Matl Properties'!$B$40=\"\",\"\",'Matl Properties'!$B$40)","v":"User Defined Testing"},{"$f":"IF('Matl Properties'!$C$41=\"\",\"\",'Matl Properties'!$C$41)","v":1},{"$f":"IF('Matl Properties'!$L$19=\"\",\"\",'Matl Properties'!$L$19)","v":"Bin No.2"},{"$f":"IF('Matl Properties'!$M$25=\"\",\"\",'Matl Properties'!$M$25)","v":"Sample ID"}]
[450,{"$f":"IF('Matl Properties'!$O$41=\"\",\"\",'Matl Properties'!$O$41)","v":""},{"$f":"IF('Matl Properties'!$B$4=\"\",\"\",'Matl Properties'!$B$4)","v":"HMACP MIXTURE DESIGN : MATERIAL PROPERTIES"},{"$f":"IF('Matl Properties'!$B$40=\"\",\"\",'Matl Properties'!$B$40)","v":"User Defined Testing"},{"$f":"IF('Matl Properties'!$C$41=\"\",\"\",'Matl Properties'!$C$41)","v":1},{"$f":"IF('Matl Properties'!$O$19=\"\",\"\",'Matl Properties'!$O$19)","v":"Bin No.3"},{"$f":"IF('Matl Properties'!$O$25=\"\",\"\",'Matl Properties'!$O$25)","v":"Result"}]
[451,{"$f":"IF('Matl Properties'!$P$41=\"\",\"\",'Matl Properties'!$P$41)","v":""},{"$f":"IF('Matl Properties'!$B$4=\"\",\"\",'Matl Properties'!$B$4)","v":"HMACP MIXTURE DESIGN : MATERIAL PROPERTIES"},{"$f":"IF('Matl Properties'!$B$40=\"\",\"\",'Matl Properties'!$B$40)","v":"User Defined Testing"},{"$f":"IF('Matl Properties'!$C$41=\"\",\"\",'Matl Properties'!$C$41)","v":1},{"$f":"IF('Matl Properties'!$O$19=\"\",\"\",'Matl Properties'!$O$19)","v":"Bin No.3"},{"$f":"IF('Matl Properties'!$P$25=\"\",\"\",'Matl Properties'!$P$25)","v":"Sample ID"}]
[452,{"$f":"IF('Matl Properties'!$R$41=\"\",\"\",'Matl Properties'!$R$41)","v":""},{"$f":"IF('Matl Properties'!$B$4=\"\",\"\",'Matl Properties'!$B$4)","v":"HMACP MIXTURE DESIGN : MATERIAL PROPERTIES"},{"$f":"IF('Matl Properties'!$B$40=\"\",\"\",'Matl Properties'!$B$40)","v":"User Defined Testing"},{"$f":"IF('Matl Properties'!$C$41=\"\",\"\",'Matl Properties'!$C$41)","v":1},{"$f":"IF('Matl Properties'!$R$19=\"\",\"\",'Matl Properties'!$R$19)","v":"Bin No.4"},{"$f":"IF('Matl Properties'!$R$25=\"\",\"\",'Matl Properties'!$R$25)","v":"Result"}]
[453,{"$f":"IF('Matl Properties'!$S$41=\"\",\"\",'Matl Properties'!$S$41)","v":""},{"$f":"IF('Matl Properties'!$B$4=\"\",\"\",'Matl Properties'!$B$4)","v":"HMACP MIXTURE DESIGN : MATERIAL PROPERTIES"},{"$f":"IF('Matl Properties'!$B$40=\"\",\"\",'Matl Properties'!$B$40)","v":"User Defined Testing"},{"$f":"IF('Matl Properties'!$C$41=\"\",\"\",'Matl Properties'!$C$41)","v":1},{"$f":"IF('Matl Properties'!$R$19=\"\",\"\",'Matl Properties'!$R$19)","v":"Bin No.4"},{"$f":"IF('Matl Properties'!$S$25=\"\",\"\",'Matl Properties'!$S$25)","v":"Sample ID"}]
[454,{"$f":"IF('Matl Properties'!$U$41=\"\",\"\",'Matl Properties'!$U$41)","v":""},{"$f":"IF('Matl Properties'!$B$4=\"\",\"\",'Matl Properties'!$B$4)","v":"HMACP MIXTURE DESIGN : MATERIAL PROPERTIES"},{"$f":"IF('Matl Properties'!$B$40=\"\",\"\",'Matl Properties'!$B$40)","v":"User Defined Testing"},{"$f":"IF('Matl Properties'!$C$41=\"\",\"\",'Matl Properties'!$C$41)","v":1},{"$f":"IF('Matl Properties'!$U$19=\"\",\"\",'Matl Properties'!$U$19)","v":"Bin No.5"},{"$f":"IF('Matl Properties'!$U$25=\"\",\"\",'Matl Properties'!$U$25)","v":"Result"}]
[455,{"$f":"IF('Matl Properties'!$V$41=\"\",\"\",'Matl Properties'!$V$41)","v":""},{"$f":"IF('Matl Properties'!$B$4=\"\",\"\",'Matl Properties'!$B$4)","v":"HMACP MIXTURE DESIGN : MATERIAL PROPERTIES"},{"$f":"IF('Matl Properties'!$B$40=\"\",\"\",'Matl Properties'!$B$40)","v":"User Defined Testing"},{"$f":"IF('Matl Properties'!$C$41=\"\",\"\",'Matl Properties'!$C$41)","v":1},{"$f":"IF('Matl Properties'!$U$19=\"\",\"\",'Matl Properties'!$U$19)","v":"Bin No.5"},{"$f":"IF('Matl Properties'!$V$25=\"\",\"\",'Matl Properties'!$V$25)","v":"Sample ID"}]
[456,{"$f":"IF('Matl Properties'!$X$41=\"\",\"\",'Matl Properties'!$X$41)","v":""},{"$f":"IF('Matl Properties'!$B$4=\"\",\"\",'Matl Properties'!$B$4)","v":"HMACP MIXTURE DESIGN : MATERIAL PROPERTIES"},{"$f":"IF('Matl Properties'!$B$40=\"\",\"\",'Matl Properties'!$B$40)","v":"User Defined Testing"},{"$f":"IF('Matl Properties'!$C$41=\"\",\"\",'Matl Properties'!$C$41)","v":1},{"$f":"IF('Matl Properties'!$X$19=\"\",\"\",'Matl Properties'!$X$19)","v":"Bin No.6 "},{"$f":"IF('Matl Properties'!$X$25=\"\",\"\",'Matl Properties'!$X$25)","v":"Result"}]
[457,{"$f":"IF('Matl Properties'!$Y$41=\"\",\"\",'Matl Properties'!$Y$41)","v":""},{"$f":"IF('Matl Properties'!$B$4=\"\",\"\",'Matl Properties'!$B$4)","v":"HMACP MIXTURE DESIGN : MATERIAL PROPERTIES"},{"$f":"IF('Matl Properties'!$B$40=\"\",\"\",'Matl Properties'!$B$40)","v":"User Defined Testing"},{"$f":"IF('Matl Properties'!$C$41=\"\",\"\",'Matl Properties'!$C$41)","v":1},{"$f":"IF('Matl Properties'!$X$19=\"\",\"\",'Matl Properties'!$X$19)","v":"Bin No.6 "},{"$f":"IF('Matl Properties'!$Y$25=\"\",\"\",'Matl Properties'!$Y$25)","v":"Sample ID"}]
[458,{"$f":"IF('Matl Properties'!$AA$41=\"\",\"\",'Matl Properties'!$AA$41)","v":""},{"$f":"IF('Matl Properties'!$B$4=\"\",\"\",'Matl Properties'!$B$4)","v":"HMACP MIXTURE DESIGN : MATERIAL PROPERTIES"},{"$f":"IF('Matl Properties'!$B$40=\"\",\"\",'Matl Properties'!$B$40)","v":"User Defined Testing"},{"$f":"IF('Matl Properties'!$C$41=\"\",\"\",'Matl Properties'!$C$41)","v":1},{"$f":"IF('Matl Properties'!$AA$19=\"\",\"\",'Matl Properties'!$AA$19)","v":"Bin No.7 "},{"$f":"IF('Matl Properties'!$AA$25=\"\",\"\",'Matl Properties'!$AA$25)","v":"Result"}]
[459,{"$f":"IF('Matl Properties'!$AB$41=\"\",\"\",'Matl Properties'!$AB$41)","v":""},{"$f":"IF('Matl Properties'!$B$4=\"\",\"\",'Matl Properties'!$B$4)","v":"HMACP MIXTURE DESIGN : MATERIAL PROPERTIES"},{"$f":"IF('Matl Properties'!$B$40=\"\",\"\",'Matl Properties'!$B$40)","v":"User Defined Testing"},{"$f":"IF('Matl Properties'!$C$41=\"\",\"\",'Matl Properties'!$C$41)","v":1},{"$f":"IF('Matl Properties'!$AA$19=\"\",\"\",'Matl Properties'!$AA$19)","v":"Bin No.7 "},{"$f":"IF('Matl Properties'!$AB$25=\"\",\"\",'Matl Properties'!$AB$25)","v":"Sample ID"}]
[460,{"$f":"IF('Matl Properties'!$E$42=\"\",\"\",'Matl Properties'!$E$42)","v":""},{"$f":"IF('Matl Properties'!$B$4=\"\",\"\",'Matl Properties'!$B$4)","v":"HMACP MIXTURE DESIGN : MATERIAL PROPERTIES"},{"$f":"IF('Matl Properties'!$B$40=\"\",\"\",'Matl Properties'!$B$40)","v":"User Defined Testing"},{"$f":"IF('Matl Properties'!$C$42=\"\",\"\",'Matl Properties'!$C$42)","v":2},{"$f":"IF('Matl Properties'!$E$25=\"\",\"\",'Matl Properties'!$E$25)","v":"Test Method"}]
[461,{"$f":"IF('Matl Properties'!$F$42=\"\",\"\",'Matl Properties'!$F$42)","v":""},{"$f":"IF('Matl Properties'!$B$4=\"\",\"\",'Matl Properties'!$B$4)","v":"HMACP MIXTURE DESIGN : MATERIAL PROPERTIES"},{"$f":"IF('Matl Properties'!$B$40=\"\",\"\",'Matl Properties'!$B$40)","v":"User Defined Testing"},{"$f":"IF('Matl Properties'!$C$42=\"\",\"\",'Matl Properties'!$C$42)","v":2},{"$f":"IF('Matl Properties'!$F$25=\"\",\"\",'Matl Properties'!$F$25)","v":"Spec. Min or Max"}]
[462,{"$f":"IF('Matl Properties'!$H$42=\"\",\"\",'Matl Properties'!$H$42)","v":""},{"$f":"IF('Matl Properties'!$B$4=\"\",\"\",'Matl Properties'!$B$4)","v":"HMACP MIXTURE DESIGN : MATERIAL PROPERTIES"},{"$f":"IF('Matl Properties'!$B$40=\"\",\"\",'Matl Properties'!$B$40)","v":"User Defined Testing"},{"$f":"IF('Matl Properties'!$C$42=\"\",\"\",'Matl Properties'!$C$42)","v":2},{"$f":"IF('Matl Properties'!$G$25=\"\",\"\",'Matl Properties'!$G$25)","v":"Spec. Limit"}]
[463,{"$f":"IF('Matl Properties'!$I$42=\"\",\"\",'Matl Properties'!$I$42)","v":""},{"$f":"IF('Matl Properties'!$B$4=\"\",\"\",'Matl Properties'!$B$4)","v":"HMACP MIXTURE DESIGN : MATERIAL PROPERTIES"},{"$f":"IF('Matl Properties'!$B$40=\"\",\"\",'Matl Properties'!$B$40)","v":"User Defined Testing"},{"$f":"IF('Matl Properties'!$C$42=\"\",\"\",'Matl Properties'!$C$42)","v":2},{"$f":"IF('Matl Properties'!$I$19=\"\",\"\",'Matl Properties'!$I$19)","v":"Bin No.1"},{"$f":"IF('Matl Properties'!$I$25=\"\",\"\",'Matl Properties'!$I$25)","v":"Result"}]
[464,{"$f":"IF('Matl Properties'!$J$42=\"\",\"\",'Matl Properties'!$J$42)","v":""},{"$f":"IF('Matl Properties'!$B$4=\"\",\"\",'Matl Properties'!$B$4)","v":"HMACP MIXTURE DESIGN : MATERIAL PROPERTIES"},{"$f":"IF('Matl Properties'!$B$40=\"\",\"\",'Matl Properties'!$B$40)","v":"User Defined Testing"},{"$f":"IF('Matl Properties'!$C$42=\"\",\"\",'Matl Properties'!$C$42)","v":2},{"$f":"IF('Matl Properties'!$I$19=\"\",\"\",'Matl Properties'!$I$19)","v":"Bin No.1"},{"$f":"IF('Matl Properties'!$J$25=\"\",\"\",'Matl Properties'!$J$25)","v":"Sample ID"}]
[465,{"$f":"IF('Matl Properties'!$L$42=\"\",\"\",'Matl Properties'!$L$42)","v":""},{"$f":"IF('Matl Properties'!$B$4=\"\",\"\",'Matl Properties'!$B$4)","v":"HMACP MIXTURE DESIGN : MATERIAL PROPERTIES"},{"$f":"IF('Matl Properties'!$B$40=\"\",\"\",'Matl Properties'!$B$40)","v":"User Defined Testing"},{"$f":"IF('Matl Properties'!$C$42=\"\",\"\",'Matl Properties'!$C$42)","v":2},{"$f":"IF('Matl Properties'!$L$19=\"\",\"\",'Matl Properties'!$L$19)","v":"Bin No.2"},{"$f":"IF('Matl Properties'!$L$25=\"\",\"\",'Matl Properties'!$L$25)","v":"Result"}]
[466,{"$f":"IF('Matl Properties'!$M$42=\"\",\"\",'Matl Properties'!$M$42)","v":""},{"$f":"IF('Matl Properties'!$B$4=\"\",\"\",'Matl Properties'!$B$4)","v":"HMACP MIXTURE DESIGN : MATERIAL PROPERTIES"},{"$f":"IF('Matl Properties'!$B$40=\"\",\"\",'Matl Properties'!$B$40)","v":"User Defined Testing"},{"$f":"IF('Matl Properties'!$C$42=\"\",\"\",'Matl Properties'!$C$42)","v":2},{"$f":"IF('Matl Properties'!$L$19=\"\",\"\",'Matl Properties'!$L$19)","v":"Bin No.2"},{"$f":"IF('Matl Properties'!$M$25=\"\",\"\",'Matl Properties'!$M$25)","v":"Sample ID"}]
[467,{"$f":"IF('Matl Properties'!$O$42=\"\",\"\",'Matl Properties'!$O$42)","v":""},{"$f":"IF('Matl Properties'!$B$4=\"\",\"\",'Matl Properties'!$B$4)","v":"HMACP MIXTURE DESIGN : MATERIAL PROPERTIES"},{"$f":"IF('Matl Properties'!$B$40=\"\",\"\",'Matl Properties'!$B$40)","v":"User Defined Testing"},{"$f":"IF('Matl Properties'!$C$42=\"\",\"\",'Matl Properties'!$C$42)","v":2},{"$f":"IF('Matl Properties'!$O$19=\"\",\"\",'Matl Properties'!$O$19)","v":"Bin No.3"},{"$f":"IF('Matl Properties'!$O$25=\"\",\"\",'Matl Properties'!$O$25)","v":"Result"}]
[468,{"$f":"IF('Matl Properties'!$P$42=\"\",\"\",'Matl Properties'!$P$42)","v":""},{"$f":"IF('Matl Properties'!$B$4=\"\",\"\",'Matl Properties'!$B$4)","v":"HMACP MIXTURE DESIGN : MATERIAL PROPERTIES"},{"$f":"IF('Matl Properties'!$B$40=\"\",\"\",'Matl Properties'!$B$40)","v":"User Defined Testing"},{"$f":"IF('Matl Properties'!$C$42=\"\",\"\",'Matl Properties'!$C$42)","v":2},{"$f":"IF('Matl Properties'!$O$19=\"\",\"\",'Matl Properties'!$O$19)","v":"Bin No.3"},{"$f":"IF('Matl Properties'!$P$25=\"\",\"\",'Matl Properties'!$P$25)","v":"Sample ID"}]
[469,{"$f":"IF('Matl Properties'!$R$42=\"\",\"\",'Matl Properties'!$R$42)","v":""},{"$f":"IF('Matl Properties'!$B$4=\"\",\"\",'Matl Properties'!$B$4)","v":"HMACP MIXTURE DESIGN : MATERIAL PROPERTIES"},{"$f":"IF('Matl Properties'!$B$40=\"\",\"\",'Matl Properties'!$B$40)","v":"User Defined Testing"},{"$f":"IF('Matl Properties'!$C$42=\"\",\"\",'Matl Properties'!$C$42)","v":2},{"$f":"IF('Matl Properties'!$R$19=\"\",\"\",'Matl Properties'!$R$19)","v":"Bin No.4"},{"$f":"IF('Matl Properties'!$R$25=\"\",\"\",'Matl Properties'!$R$25)","v":"Result"}]
[470,{"$f":"IF('Matl Properties'!$S$42=\"\",\"\",'Matl Properties'!$S$42)","v":""},{"$f":"IF('Matl Properties'!$B$4=\"\",\"\",'Matl Properties'!$B$4)","v":"HMACP MIXTURE DESIGN : MATERIAL PROPERTIES"},{"$f":"IF('Matl Properties'!$B$40=\"\",\"\",'Matl Properties'!$B$40)","v":"User Defined Testing"},{"$f":"IF('Matl Properties'!$C$42=\"\",\"\",'Matl Properties'!$C$42)","v":2},{"$f":"IF('Matl Properties'!$R$19=\"\",\"\",'Matl Properties'!$R$19)","v":"Bin No.4"},{"$f":"IF('Matl Properties'!$S$25=\"\",\"\",'Matl Properties'!$S$25)","v":"Sample ID"}]
[471,{"$f":"IF('Matl Properties'!$U$42=\"\",\"\",'Matl Properties'!$U$42)","v":""},{"$f":"IF('Matl Properties'!$B$4=\"\",\"\",'Matl Properties'!$B$4)","v":"HMACP MIXTURE DESIGN : MATERIAL PROPERTIES"},{"$f":"IF('Matl Properties'!$B$40=\"\",\"\",'Matl Properties'!$B$40)","v":"User Defined Testing"},{"$f":"IF('Matl Properties'!$C$42=\"\",\"\",'Matl Properties'!$C$42)","v":2},{"$f":"IF('Matl Properties'!$U$19=\"\",\"\",'Matl Properties'!$U$19)","v":"Bin No.5"},{"$f":"IF('Matl Properties'!$U$25=\"\",\"\",'Matl Properties'!$U$25)","v":"Result"}]
[472,{"$f":"IF('Matl Properties'!$V$42=\"\",\"\",'Matl Properties'!$V$42)","v":""},{"$f":"IF('Matl Properties'!$B$4=\"\",\"\",'Matl Properties'!$B$4)","v":"HMACP MIXTURE DESIGN : MATERIAL PROPERTIES"},{"$f":"IF('Matl Properties'!$B$40=\"\",\"\",'Matl Properties'!$B$40)","v":"User Defined Testing"},{"$f":"IF('Matl Properties'!$C$42=\"\",\"\",'Matl Properties'!$C$42)","v":2},{"$f":"IF('Matl Properties'!$U$19=\"\",\"\",'Matl Properties'!$U$19)","v":"Bin No.5"},{"$f":"IF('Matl Properties'!$V$25=\"\",\"\",'Matl Properties'!$V$25)","v":"Sample ID"}]
[473,{"$f":"IF('Matl Properties'!$X$42=\"\",\"\",'Matl Properties'!$X$42)","v":""},{"$f":"IF('Matl Properties'!$B$4=\"\",\"\",'Matl Properties'!$B$4)","v":"HMACP MIXTURE DESIGN : MATERIAL PROPERTIES"},{"$f":"IF('Matl Properties'!$B$40=\"\",\"\",'Matl Properties'!$B$40)","v":"User Defined Testing"},{"$f":"IF('Matl Properties'!$C$42=\"\",\"\",'Matl Properties'!$C$42)","v":2},{"$f":"IF('Matl Properties'!$X$19=\"\",\"\",'Matl Properties'!$X$19)","v":"Bin No.6 "},{"$f":"IF('Matl Properties'!$X$25=\"\",\"\",'Matl Properties'!$X$25)","v":"Result"}]
[474,{"$f":"IF('Matl Properties'!$Y$42=\"\",\"\",'Matl Properties'!$Y$42)","v":""},{"$f":"IF('Matl Properties'!$B$4=\"\",\"\",'Matl Properties'!$B$4)","v":"HMACP MIXTURE DESIGN : MATERIAL PROPERTIES"},{"$f":"IF('Matl Properties'!$B$40=\"\",\"\",'Matl Properties'!$B$40)","v":"User Defined Testing"},{"$f":"IF('Matl Properties'!$C$42=\"\",\"\",'Matl Properties'!$C$42)","v":2},{"$f":"IF('Matl Properties'!$X$19=\"\",\"\",'Matl Properties'!$X$19)","v":"Bin No.6 "},{"$f":"IF('Matl Properties'!$Y$25=\"\",\"\",'Matl Properties'!$Y$25)","v":"Sample ID"}]
[475,{"$f":"IF('Matl Properties'!$AA$42=\"\",\"\",'Matl Properties'!$AA$42)","v":""},{"$f":"IF('Matl Properties'!$B$4=\"\",\"\",'Matl Properties'!$B$4)","v":"HMACP MIXTURE DESIGN : MATERIAL PROPERTIES"},{"$f":"IF('Matl Properties'!$B$40=\"\",\"\",'Matl Properties'!$B$40)","v":"User Defined Testing"},{"$f":"IF('Matl Properties'!$C$42=\"\",\"\",'Matl Properties'!$C$42)","v":2},{"$f":"IF('Matl Properties'!$AA$19=\"\",\"\",'Matl Properties'!$AA$19)","v":"Bin No.7 "},{"$f":"IF('Matl Properties'!$AA$25=\"\",\"\",'Matl Properties'!$AA$25)","v":"Result"}]
[476,{"$f":"IF('Matl Properties'!$AB$42=\"\",\"\",'Matl Properties'!$AB$42)","v":""},{"$f":"IF('Matl Properties'!$B$4=\"\",\"\",'Matl Properties'!$B$4)","v":"HMACP MIXTURE DESIGN : MATERIAL PROPERTIES"},{"$f":"IF('Matl Properties'!$B$40=\"\",\"\",'Matl Properties'!$B$40)","v":"User Defined Testing"},{"$f":"IF('Matl Properties'!$C$42=\"\",\"\",'Matl Properties'!$C$42)","v":2},{"$f":"IF('Matl Properties'!$AA$19=\"\",\"\",'Matl Properties'!$AA$19)","v":"Bin No.7 "},{"$f":"IF('Matl Properties'!$AB$25=\"\",\"\",'Matl Properties'!$AB$25)","v":"Sample ID"}]
[477,{"$f":"IF('Matl Properties'!$E$43=\"\",\"\",'Matl Properties'!$E$43)","v":""},{"$f":"IF('Matl Properties'!$B$4=\"\",\"\",'Matl Properties'!$B$4)","v":"HMACP MIXTURE DESIGN : MATERIAL PROPERTIES"},{"$f":"IF('Matl Properties'!$B$40=\"\",\"\",'Matl Properties'!$B$40)","v":"User Defined Testing"},{"$f":"IF('Matl Properties'!$C$43=\"\",\"\",'Matl Properties'!$C$43)","v":3},{"$f":"IF('Matl Properties'!$E$25=\"\",\"\",'Matl Properties'!$E$25)","v":"Test Method"}]
[478,{"$f":"IF('Matl Properties'!$F$43=\"\",\"\",'Matl Properties'!$F$43)","v":""},{"$f":"IF('Matl Properties'!$B$4=\"\",\"\",'Matl Properties'!$B$4)","v":"HMACP MIXTURE DESIGN : MATERIAL PROPERTIES"},{"$f":"IF('Matl Properties'!$B$40=\"\",\"\",'Matl Properties'!$B$40)","v":"User Defined Testing"},{"$f":"IF('Matl Properties'!$C$43=\"\",\"\",'Matl Properties'!$C$43)","v":3},{"$f":"IF('Matl Properties'!$F$25=\"\",\"\",'Matl Properties'!$F$25)","v":"Spec. Min or Max"}]
[479,{"$f":"IF('Matl Properties'!$H$43=\"\",\"\",'Matl Properties'!$H$43)","v":""},{"$f":"IF('Matl Properties'!$B$4=\"\",\"\",'Matl Properties'!$B$4)","v":"HMACP MIXTURE DESIGN : MATERIAL PROPERTIES"},{"$f":"IF('Matl Properties'!$B$40=\"\",\"\",'Matl Properties'!$B$40)","v":"User Defined Testing"},{"$f":"IF('Matl Properties'!$C$43=\"\",\"\",'Matl Properties'!$C$43)","v":3},{"$f":"IF('Matl Properties'!$G$25=\"\",\"\",'Matl Properties'!$G$25)","v":"Spec. Limit"}]
[480,{"$f":"IF('Matl Properties'!$I$43=\"\",\"\",'Matl Properties'!$I$43)","v":""},{"$f":"IF('Matl Properties'!$B$4=\"\",\"\",'Matl Properties'!$B$4)","v":"HMACP MIXTURE DESIGN : MATERIAL PROPERTIES"},{"$f":"IF('Matl Properties'!$B$40=\"\",\"\",'Matl Properties'!$B$40)","v":"User Defined Testing"},{"$f":"IF('Matl Properties'!$C$43=\"\",\"\",'Matl Properties'!$C$43)","v":3},{"$f":"IF('Matl Properties'!$I$19=\"\",\"\",'Matl Properties'!$I$19)","v":"Bin No.1"},{"$f":"IF('Matl Properties'!$I$25=\"\",\"\",'Matl Properties'!$I$25)","v":"Result"}]
[481,{"$f":"IF('Matl Properties'!$J$43=\"\",\"\",'Matl Properties'!$J$43)","v":""},{"$f":"IF('Matl Properties'!$B$4=\"\",\"\",'Matl Properties'!$B$4)","v":"HMACP MIXTURE DESIGN : MATERIAL PROPERTIES"},{"$f":"IF('Matl Properties'!$B$40=\"\",\"\",'Matl Properties'!$B$40)","v":"User Defined Testing"},{"$f":"IF('Matl Properties'!$C$43=\"\",\"\",'Matl Properties'!$C$43)","v":3},{"$f":"IF('Matl Properties'!$I$19=\"\",\"\",'Matl Properties'!$I$19)","v":"Bin No.1"},{"$f":"IF('Matl Properties'!$J$25=\"\",\"\",'Matl Properties'!$J$25)","v":"Sample ID"}]
[482,{"$f":"IF('Matl Properties'!$L$43=\"\",\"\",'Matl Properties'!$L$43)","v":""},{"$f":"IF('Matl Properties'!$B$4=\"\",\"\",'Matl Properties'!$B$4)","v":"HMACP MIXTURE DESIGN : MATERIAL PROPERTIES"},{"$f":"IF('Matl Properties'!$B$40=\"\",\"\",'Matl Properties'!$B$40)","v":"User Defined Testing"},{"$f":"IF('Matl Properties'!$C$43=\"\",\"\",'Matl Properties'!$C$43)","v":3},{"$f":"IF('Matl Properties'!$L$19=\"\",\"\",'Matl Properties'!$L$19)","v":"Bin No.2"},{"$f":"IF('Matl Properties'!$L$25=\"\",\"\",'Matl Properties'!$L$25)","v":"Result"}]
[483,{"$f":"IF('Matl Properties'!$M$43=\"\",\"\",'Matl Properties'!$M$43)","v":""},{"$f":"IF('Matl Properties'!$B$4=\"\",\"\",'Matl Properties'!$B$4)","v":"HMACP MIXTURE DESIGN : MATERIAL PROPERTIES"},{"$f":"IF('Matl Properties'!$B$40=\"\",\"\",'Matl Properties'!$B$40)","v":"User Defined Testing"},{"$f":"IF('Matl Properties'!$C$43=\"\",\"\",'Matl Properties'!$C$43)","v":3},{"$f":"IF('Matl Properties'!$L$19=\"\",\"\",'Matl Properties'!$L$19)","v":"Bin No.2"},{"$f":"IF('Matl Properties'!$M$25=\"\",\"\",'Matl Properties'!$M$25)","v":"Sample ID"}]
[484,{"$f":"IF('Matl Properties'!$O$43=\"\",\"\",'Matl Properties'!$O$43)","v":""},{"$f":"IF('Matl Properties'!$B$4=\"\",\"\",'Matl Properties'!$B$4)","v":"HMACP MIXTURE DESIGN : MATERIAL PROPERTIES"},{"$f":"IF('Matl Properties'!$B$40=\"\",\"\",'Matl Properties'!$B$40)","v":"User Defined Testing"},{"$f":"IF('Matl Properties'!$C$43=\"\",\"\",'Matl Properties'!$C$43)","v":3},{"$f":"IF('Matl Properties'!$O$19=\"\",\"\",'Matl Properties'!$O$19)","v":"Bin No.3"},{"$f":"IF('Matl Properties'!$O$25=\"\",\"\",'Matl Properties'!$O$25)","v":"Result"}]
[485,{"$f":"IF('Matl Properties'!$P$43=\"\",\"\",'Matl Properties'!$P$43)","v":""},{"$f":"IF('Matl Properties'!$B$4=\"\",\"\",'Matl Properties'!$B$4)","v":"HMACP MIXTURE DESIGN : MATERIAL PROPERTIES"},{"$f":"IF('Matl Properties'!$B$40=\"\",\"\",'Matl Properties'!$B$40)","v":"User Defined Testing"},{"$f":"IF('Matl Properties'!$C$43=\"\",\"\",'Matl Properties'!$C$43)","v":3},{"$f":"IF('Matl Properties'!$O$19=\"\",\"\",'Matl Properties'!$O$19)","v":"Bin No.3"},{"$f":"IF('Matl Properties'!$P$25=\"\",\"\",'Matl Properties'!$P$25)","v":"Sample ID"}]
[486,{"$f":"IF('Matl Properties'!$R$43=\"\",\"\",'Matl Properties'!$R$43)","v":""},{"$f":"IF('Matl Properties'!$B$4=\"\",\"\",'Matl Properties'!$B$4)","v":"HMACP MIXTURE DESIGN : MATERIAL PROPERTIES"},{"$f":"IF('Matl Properties'!$B$40=\"\",\"\",'Matl Properties'!$B$40)","v":"User Defined Testing"},{"$f":"IF('Matl Properties'!$C$43=\"\",\"\",'Matl Properties'!$C$43)","v":3},{"$f":"IF('Matl Properties'!$R$19=\"\",\"\",'Matl Properties'!$R$19)","v":"Bin No.4"},{"$f":"IF('Matl Properties'!$R$25=\"\",\"\",'Matl Properties'!$R$25)","v":"Result"}]
[487,{"$f":"IF('Matl Properties'!$S$43=\"\",\"\",'Matl Properties'!$S$43)","v":""},{"$f":"IF('Matl Properties'!$B$4=\"\",\"\",'Matl Properties'!$B$4)","v":"HMACP MIXTURE DESIGN : MATERIAL PROPERTIES"},{"$f":"IF('Matl Properties'!$B$40=\"\",\"\",'Matl Properties'!$B$40)","v":"User Defined Testing"},{"$f":"IF('Matl Properties'!$C$43=\"\",\"\",'Matl Properties'!$C$43)","v":3},{"$f":"IF('Matl Properties'!$R$19=\"\",\"\",'Matl Properties'!$R$19)","v":"Bin No.4"},{"$f":"IF('Matl Properties'!$S$25=\"\",\"\",'Matl Properties'!$S$25)","v":"Sample ID"}]
[488,{"$f":"IF('Matl Properties'!$U$43=\"\",\"\",'Matl Properties'!$U$43)","v":""},{"$f":"IF('Matl Properties'!$B$4=\"\",\"\",'Matl Properties'!$B$4)","v":"HMACP MIXTURE DESIGN : MATERIAL PROPERTIES"},{"$f":"IF('Matl Properties'!$B$40=\"\",\"\",'Matl Properties'!$B$40)","v":"User Defined Testing"},{"$f":"IF('Matl Properties'!$C$43=\"\",\"\",'Matl Properties'!$C$43)","v":3},{"$f":"IF('Matl Properties'!$U$19=\"\",\"\",'Matl Properties'!$U$19)","v":"Bin No.5"},{"$f":"IF('Matl Properties'!$U$25=\"\",\"\",'Matl Properties'!$U$25)","v":"Result"}]
[489,{"$f":"IF('Matl Properties'!$V$43=\"\",\"\",'Matl Properties'!$V$43)","v":""},{"$f":"IF('Matl Properties'!$B$4=\"\",\"\",'Matl Properties'!$B$4)","v":"HMACP MIXTURE DESIGN : MATERIAL PROPERTIES"},{"$f":"IF('Matl Properties'!$B$40=\"\",\"\",'Matl Properties'!$B$40)","v":"User Defined Testing"},{"$f":"IF('Matl Properties'!$C$43=\"\",\"\",'Matl Properties'!$C$43)","v":3},{"$f":"IF('Matl Properties'!$U$19=\"\",\"\",'Matl Properties'!$U$19)","v":"Bin No.5"},{"$f":"IF('Matl Properties'!$V$25=\"\",\"\",'Matl Properties'!$V$25)","v":"Sample ID"}]
[490,{"$f":"IF('Matl Properties'!$X$43=\"\",\"\",'Matl Properties'!$X$43)","v":""},{"$f":"IF('Matl Properties'!$B$4=\"\",\"\",'Matl Properties'!$B$4)","v":"HMACP MIXTURE DESIGN : MATERIAL PROPERTIES"},{"$f":"IF('Matl Properties'!$B$40=\"\",\"\",'Matl Properties'!$B$40)","v":"User Defined Testing"},{"$f":"IF('Matl Properties'!$C$43=\"\",\"\",'Matl Properties'!$C$43)","v":3},{"$f":"IF('Matl Properties'!$X$19=\"\",\"\",'Matl Properties'!$X$19)","v":"Bin No.6 "},{"$f":"IF('Matl Properties'!$X$25=\"\",\"\",'Matl Properties'!$X$25)","v":"Result"}]
[491,{"$f":"IF('Matl Properties'!$Y$43=\"\",\"\",'Matl Properties'!$Y$43)","v":""},{"$f":"IF('Matl Properties'!$B$4=\"\",\"\",'Matl Properties'!$B$4)","v":"HMACP MIXTURE DESIGN : MATERIAL PROPERTIES"},{"$f":"IF('Matl Properties'!$B$40=\"\",\"\",'Matl Properties'!$B$40)","v":"User Defined Testing"},{"$f":"IF('Matl Properties'!$C$43=\"\",\"\",'Matl Properties'!$C$43)","v":3},{"$f":"IF('Matl Properties'!$X$19=\"\",\"\",'Matl Properties'!$X$19)","v":"Bin No.6 "},{"$f":"IF('Matl Properties'!$Y$25=\"\",\"\",'Matl Properties'!$Y$25)","v":"Sample ID"}]
[492,{"$f":"IF('Matl Properties'!$AA$43=\"\",\"\",'Matl Properties'!$AA$43)","v":""},{"$f":"IF('Matl Properties'!$B$4=\"\",\"\",'Matl Properties'!$B$4)","v":"HMACP MIXTURE DESIGN : MATERIAL PROPERTIES"},{"$f":"IF('Matl Properties'!$B$40=\"\",\"\",'Matl Properties'!$B$40)","v":"User Defined Testing"},{"$f":"IF('Matl Properties'!$C$43=\"\",\"\",'Matl Properties'!$C$43)","v":3},{"$f":"IF('Matl Properties'!$AA$19=\"\",\"\",'Matl Properties'!$AA$19)","v":"Bin No.7 "},{"$f":"IF('Matl Properties'!$AA$25=\"\",\"\",'Matl Properties'!$AA$25)","v":"Result"}]
[493,{"$f":"IF('Matl Properties'!$AB$43=\"\",\"\",'Matl Properties'!$AB$43)","v":""},{"$f":"IF('Matl Properties'!$B$4=\"\",\"\",'Matl Properties'!$B$4)","v":"HMACP MIXTURE DESIGN : MATERIAL PROPERTIES"},{"$f":"IF('Matl Properties'!$B$40=\"\",\"\",'Matl Properties'!$B$40)","v":"User Defined Testing"},{"$f":"IF('Matl Properties'!$C$43=\"\",\"\",'Matl Properties'!$C$43)","v":3},{"$f":"IF('Matl Properties'!$AA$19=\"\",\"\",'Matl Properties'!$AA$19)","v":"Bin No.7 "},{"$f":"IF('Matl Properties'!$AB$25=\"\",\"\",'Matl Properties'!$AB$25)","v":"Sample ID"}]
[494,{"$f":"IF('Matl Properties'!$E$44=\"\",\"\",'Matl Properties'!$E$44)","v":""},{"$f":"IF('Matl Properties'!$B$4=\"\",\"\",'Matl Properties'!$B$4)","v":"HMACP MIXTURE DESIGN : MATERIAL PROPERTIES"},{"$f":"IF('Matl Properties'!$B$40=\"\",\"\",'Matl Properties'!$B$40)","v":"User Defined Testing"},{"$f":"IF('Matl Properties'!$C$44=\"\",\"\",'Matl Properties'!$C$44)","v":4},{"$f":"IF('Matl Properties'!$E$25=\"\",\"\",'Matl Properties'!$E$25)","v":"Test Method"}]
[495,{"$f":"IF('Matl Properties'!$F$44=\"\",\"\",'Matl Properties'!$F$44)","v":""},{"$f":"IF('Matl Properties'!$B$4=\"\",\"\",'Matl Properties'!$B$4)","v":"HMACP MIXTURE DESIGN : MATERIAL PROPERTIES"},{"$f":"IF('Matl Properties'!$B$40=\"\",\"\",'Matl Properties'!$B$40)","v":"User Defined Testing"},{"$f":"IF('Matl Properties'!$C$44=\"\",\"\",'Matl Properties'!$C$44)","v":4},{"$f":"IF('Matl Properties'!$F$25=\"\",\"\",'Matl Properties'!$F$25)","v":"Spec. Min or Max"}]
[496,{"$f":"IF('Matl Properties'!$H$44=\"\",\"\",'Matl Properties'!$H$44)","v":""},{"$f":"IF('Matl Properties'!$B$4=\"\",\"\",'Matl Properties'!$B$4)","v":"HMACP MIXTURE DESIGN : MATERIAL PROPERTIES"},{"$f":"IF('Matl Properties'!$B$40=\"\",\"\",'Matl Properties'!$B$40)","v":"User Defined Testing"},{"$f":"IF('Matl Properties'!$C$44=\"\",\"\",'Matl Properties'!$C$44)","v":4},{"$f":"IF('Matl Properties'!$G$25=\"\",\"\",'Matl Properties'!$G$25)","v":"Spec. Limit"}]
[497,{"$f":"IF('Matl Properties'!$I$44=\"\",\"\",'Matl Properties'!$I$44)","v":""},{"$f":"IF('Matl Properties'!$B$4=\"\",\"\",'Matl Properties'!$B$4)","v":"HMACP MIXTURE DESIGN : MATERIAL PROPERTIES"},{"$f":"IF('Matl Properties'!$B$40=\"\",\"\",'Matl Properties'!$B$40)","v":"User Defined Testing"},{"$f":"IF('Matl Properties'!$C$44=\"\",\"\",'Matl Properties'!$C$44)","v":4},{"$f":"IF('Matl Properties'!$I$19=\"\",\"\",'Matl Properties'!$I$19)","v":"Bin No.1"},{"$f":"IF('Matl Properties'!$I$25=\"\",\"\",'Matl Properties'!$I$25)","v":"Result"}]
[498,{"$f":"IF('Matl Properties'!$J$44=\"\",\"\",'Matl Properties'!$J$44)","v":""},{"$f":"IF('Matl Properties'!$B$4=\"\",\"\",'Matl Properties'!$B$4)","v":"HMACP MIXTURE DESIGN : MATERIAL PROPERTIES"},{"$f":"IF('Matl Properties'!$B$40=\"\",\"\",'Matl Properties'!$B$40)","v":"User Defined Testing"},{"$f":"IF('Matl Properties'!$C$44=\"\",\"\",'Matl Properties'!$C$44)","v":4},{"$f":"IF('Matl Properties'!$I$19=\"\",\"\",'Matl Properties'!$I$19)","v":"Bin No.1"},{"$f":"IF('Matl Properties'!$J$25=\"\",\"\",'Matl Properties'!$J$25)","v":"Sample ID"}]
[499,{"$f":"IF('Matl Properties'!$L$44=\"\",\"\",'Matl Properties'!$L$44)","v":""},{"$f":"IF('Matl Properties'!$B$4=\"\",\"\",'Matl Properties'!$B$4)","v":"HMACP MIXTURE DESIGN : MATERIAL PROPERTIES"},{"$f":"IF('Matl Properties'!$B$40=\"\",\"\",'Matl Properties'!$B$40)","v":"User Defined Testing"},{"$f":"IF('Matl Properties'!$C$44=\"\",\"\",'Matl Properties'!$C$44)","v":4},{"$f":"IF('Matl Properties'!$L$19=\"\",\"\",'Matl Properties'!$L$19)","v":"Bin No.2"},{"$f":"IF('Matl Properties'!$L$25=\"\",\"\",'Matl Properties'!$L$25)","v":"Result"}]
[500,{"$f":"IF('Matl Properties'!$M$44=\"\",\"\",'Matl Properties'!$M$44)","v":""},{"$f":"IF('Matl Properties'!$B$4=\"\",\"\",'Matl Properties'!$B$4)","v":"HMACP MIXTURE DESIGN : MATERIAL PROPERTIES"},{"$f":"IF('Matl Properties'!$B$40=\"\",\"\",'Matl Properties'!$B$40)","v":"User Defined Testing"},{"$f":"IF('Matl Properties'!$C$44=\"\",\"\",'Matl Properties'!$C$44)","v":4},{"$f":"IF('Matl Properties'!$L$19=\"\",\"\",'Matl Properties'!$L$19)","v":"Bin No.2"},{"$f":"IF('Matl Properties'!$M$25=\"\",\"\",'Matl Properties'!$M$25)","v":"Sample ID"}]
[501,{"$f":"IF('Matl Properties'!$O$44=\"\",\"\",'Matl Properties'!$O$44)","v":""},{"$f":"IF('Matl Properties'!$B$4=\"\",\"\",'Matl Properties'!$B$4)","v":"HMACP MIXTURE DESIGN : MATERIAL PROPERTIES"},{"$f":"IF('Matl Properties'!$B$40=\"\",\"\",'Matl Properties'!$B$40)","v":"User Defined Testing"},{"$f":"IF('Matl Properties'!$C$44=\"\",\"\",'Matl Properties'!$C$44)","v":4},{"$f":"IF('Matl Properties'!$O$19=\"\",\"\",'Matl Properties'!$O$19)","v":"Bin No.3"},{"$f":"IF('Matl Properties'!$O$25=\"\",\"\",'Matl Properties'!$O$25)","v":"Result"}]
[502,{"$f":"IF('Matl Properties'!$P$44=\"\",\"\",'Matl Properties'!$P$44)","v":""},{"$f":"IF('Matl Properties'!$B$4=\"\",\"\",'Matl Properties'!$B$4)","v":"HMACP MIXTURE DESIGN : MATERIAL PROPERTIES"},{"$f":"IF('Matl Properties'!$B$40=\"\",\"\",'Matl Properties'!$B$40)","v":"User Defined Testing"},{"$f":"IF('Matl Properties'!$C$44=\"\",\"\",'Matl Properties'!$C$44)","v":4},{"$f":"IF('Matl Properties'!$O$19=\"\",\"\",'Matl Properties'!$O$19)","v":"Bin No.3"},{"$f":"IF('Matl Properties'!$P$25=\"\",\"\",'Matl Properties'!$P$25)","v":"Sample ID"}]
[503,{"$f":"IF('Matl Properties'!$R$44=\"\",\"\",'Matl Properties'!$R$44)","v":""},{"$f":"IF('Matl Properties'!$B$4=\"\",\"\",'Matl Properties'!$B$4)","v":"HMACP MIXTURE DESIGN : MATERIAL PROPERTIES"},{"$f":"IF('Matl Properties'!$B$40=\"\",\"\",'Matl Properties'!$B$40)","v":"User Defined Testing"},{"$f":"IF('Matl Properties'!$C$44=\"\",\"\",'Matl Properties'!$C$44)","v":4},{"$f":"IF('Matl Properties'!$R$19=\"\",\"\",'Matl Properties'!$R$19)","v":"Bin No.4"},{"$f":"IF('Matl Properties'!$R$25=\"\",\"\",'Matl Properties'!$R$25)","v":"Result"}]
[504,{"$f":"IF('Matl Properties'!$S$44=\"\",\"\",'Matl Properties'!$S$44)","v":""},{"$f":"IF('Matl Properties'!$B$4=\"\",\"\",'Matl Properties'!$B$4)","v":"HMACP MIXTURE DESIGN : MATERIAL PROPERTIES"},{"$f":"IF('Matl Properties'!$B$40=\"\",\"\",'Matl Properties'!$B$40)","v":"User Defined Testing"},{"$f":"IF('Matl Properties'!$C$44=\"\",\"\",'Matl Properties'!$C$44)","v":4},{"$f":"IF('Matl Properties'!$R$19=\"\",\"\",'Matl Properties'!$R$19)","v":"Bin No.4"},{"$f":"IF('Matl Properties'!$S$25=\"\",\"\",'Matl Properties'!$S$25)","v":"Sample ID"}]
[505,{"$f":"IF('Matl Properties'!$U$44=\"\",\"\",'Matl Properties'!$U$44)","v":""},{"$f":"IF('Matl Properties'!$B$4=\"\",\"\",'Matl Properties'!$B$4)","v":"HMACP MIXTURE DESIGN : MATERIAL PROPERTIES"},{"$f":"IF('Matl Properties'!$B$40=\"\",\"\",'Matl Properties'!$B$40)","v":"User Defined Testing"},{"$f":"IF('Matl Properties'!$C$44=\"\",\"\",'Matl Properties'!$C$44)","v":4},{"$f":"IF('Matl Properties'!$U$19=\"\",\"\",'Matl Properties'!$U$19)","v":"Bin No.5"},{"$f":"IF('Matl Properties'!$U$25=\"\",\"\",'Matl Properties'!$U$25)","v":"Result"}]
[506,{"$f":"IF('Matl Properties'!$V$44=\"\",\"\",'Matl Properties'!$V$44)","v":""},{"$f":"IF('Matl Properties'!$B$4=\"\",\"\",'Matl Properties'!$B$4)","v":"HMACP MIXTURE DESIGN : MATERIAL PROPERTIES"},{"$f":"IF('Matl Properties'!$B$40=\"\",\"\",'Matl Properties'!$B$40)","v":"User Defined Testing"},{"$f":"IF('Matl Properties'!$C$44=\"\",\"\",'Matl Properties'!$C$44)","v":4},{"$f":"IF('Matl Properties'!$U$19=\"\",\"\",'Matl Properties'!$U$19)","v":"Bin No.5"},{"$f":"IF('Matl Properties'!$V$25=\"\",\"\",'Matl Properties'!$V$25)","v":"Sample ID"}]
[507,{"$f":"IF('Matl Properties'!$X$44=\"\",\"\",'Matl Properties'!$X$44)","v":""},{"$f":"IF('Matl Properties'!$B$4=\"\",\"\",'Matl Properties'!$B$4)","v":"HMACP MIXTURE DESIGN : MATERIAL PROPERTIES"},{"$f":"IF('Matl Properties'!$B$40=\"\",\"\",'Matl Properties'!$B$40)","v":"User Defined Testing"},{"$f":"IF('Matl Properties'!$C$44=\"\",\"\",'Matl Properties'!$C$44)","v":4},{"$f":"IF('Matl Properties'!$X$19=\"\",\"\",'Matl Properties'!$X$19)","v":"Bin No.6 "},{"$f":"IF('Matl Properties'!$X$25=\"\",\"\",'Matl Properties'!$X$25)","v":"Result"}]
[508,{"$f":"IF('Matl Properties'!$Y$44=\"\",\"\",'Matl Properties'!$Y$44)","v":""},{"$f":"IF('Matl Properties'!$B$4=\"\",\"\",'Matl Properties'!$B$4)","v":"HMACP MIXTURE DESIGN : MATERIAL PROPERTIES"},{"$f":"IF('Matl Properties'!$B$40=\"\",\"\",'Matl Properties'!$B$40)","v":"User Defined Testing"},{"$f":"IF('Matl Properties'!$C$44=\"\",\"\",'Matl Properties'!$C$44)","v":4},{"$f":"IF('Matl Properties'!$X$19=\"\",\"\",'Matl Properties'!$X$19)","v":"Bin No.6 "},{"$f":"IF('Matl Properties'!$Y$25=\"\",\"\",'Matl Properties'!$Y$25)","v":"Sample ID"}]
[509,{"$f":"IF('Matl Properties'!$AA$44=\"\",\"\",'Matl Properties'!$AA$44)","v":""},{"$f":"IF('Matl Properties'!$B$4=\"\",\"\",'Matl Properties'!$B$4)","v":"HMACP MIXTURE DESIGN : MATERIAL PROPERTIES"},{"$f":"IF('Matl Properties'!$B$40=\"\",\"\",'Matl Properties'!$B$40)","v":"User Defined Testing"},{"$f":"IF('Matl Properties'!$C$44=\"\",\"\",'Matl Properties'!$C$44)","v":4},{"$f":"IF('Matl Properties'!$AA$19=\"\",\"\",'Matl Properties'!$AA$19)","v":"Bin No.7 "},{"$f":"IF('Matl Properties'!$AA$25=\"\",\"\",'Matl Properties'!$AA$25)","v":"Result"}]
[510,{"$f":"IF('Matl Properties'!$AB$44=\"\",\"\",'Matl Properties'!$AB$44)","v":""},{"$f":"IF('Matl Properties'!$B$4=\"\",\"\",'Matl Properties'!$B$4)","v":"HMACP MIXTURE DESIGN : MATERIAL PROPERTIES"},{"$f":"IF('Matl Properties'!$B$40=\"\",\"\",'Matl Properties'!$B$40)","v":"User Defined Testing"},{"$f":"IF('Matl Properties'!$C$44=\"\",\"\",'Matl Properties'!$C$44)","v":4},{"$f":"IF('Matl Properties'!$AA$19=\"\",\"\",'Matl Properties'!$AA$19)","v":"Bin No.7 "},{"$f":"IF('Matl Properties'!$AB$25=\"\",\"\",'Matl Properties'!$AB$25)","v":"Sample ID"}]
[511,{"$f":"IF('Matl Properties'!$E$45=\"\",\"\",'Matl Properties'!$E$45)","v":""},{"$f":"IF('Matl Properties'!$B$4=\"\",\"\",'Matl Properties'!$B$4)","v":"HMACP MIXTURE DESIGN : MATERIAL PROPERTIES"},{"$f":"IF('Matl Properties'!$B$40=\"\",\"\",'Matl Properties'!$B$40)","v":"User Defined Testing"},{"$f":"IF('Matl Properties'!$C$45=\"\",\"\",'Matl Properties'!$C$45)","v":5},{"$f":"IF('Matl Properties'!$E$25=\"\",\"\",'Matl Properties'!$E$25)","v":"Test Method"}]
[512,{"$f":"IF('Matl Properties'!$F$45=\"\",\"\",'Matl Properties'!$F$45)","v":""},{"$f":"IF('Matl Properties'!$B$4=\"\",\"\",'Matl Properties'!$B$4)","v":"HMACP MIXTURE DESIGN : MATERIAL PROPERTIES"},{"$f":"IF('Matl Properties'!$B$40=\"\",\"\",'Matl Properties'!$B$40)","v":"User Defined Testing"},{"$f":"IF('Matl Properties'!$C$45=\"\",\"\",'Matl Properties'!$C$45)","v":5},{"$f":"IF('Matl Properties'!$F$25=\"\",\"\",'Matl Properties'!$F$25)","v":"Spec. Min or Max"}]
[513,{"$f":"IF('Matl Properties'!$H$45=\"\",\"\",'Matl Properties'!$H$45)","v":""},{"$f":"IF('Matl Properties'!$B$4=\"\",\"\",'Matl Properties'!$B$4)","v":"HMACP MIXTURE DESIGN : MATERIAL PROPERTIES"},{"$f":"IF('Matl Properties'!$B$40=\"\",\"\",'Matl Properties'!$B$40)","v":"User Defined Testing"},{"$f":"IF('Matl Properties'!$C$45=\"\",\"\",'Matl Properties'!$C$45)","v":5},{"$f":"IF('Matl Properties'!$G$25=\"\",\"\",'Matl Properties'!$G$25)","v":"Spec. Limit"}]
[514,{"$f":"IF('Matl Properties'!$I$45=\"\",\"\",'Matl Properties'!$I$45)","v":""},{"$f":"IF('Matl Properties'!$B$4=\"\",\"\",'Matl Properties'!$B$4)","v":"HMACP MIXTURE DESIGN : MATERIAL PROPERTIES"},{"$f":"IF('Matl Properties'!$B$40=\"\",\"\",'Matl Properties'!$B$40)","v":"User Defined Testing"},{"$f":"IF('Matl Properties'!$C$45=\"\",\"\",'Matl Properties'!$C$45)","v":5},{"$f":"IF('Matl Properties'!$I$19=\"\",\"\",'Matl Properties'!$I$19)","v":"Bin No.1"},{"$f":"IF('Matl Properties'!$I$25=\"\",\"\",'Matl Properties'!$I$25)","v":"Result"}]
[515,{"$f":"IF('Matl Properties'!$J$45=\"\",\"\",'Matl Properties'!$J$45)","v":""},{"$f":"IF('Matl Properties'!$B$4=\"\",\"\",'Matl Properties'!$B$4)","v":"HMACP MIXTURE DESIGN : MATERIAL PROPERTIES"},{"$f":"IF('Matl Properties'!$B$40=\"\",\"\",'Matl Properties'!$B$40)","v":"User Defined Testing"},{"$f":"IF('Matl Properties'!$C$45=\"\",\"\",'Matl Properties'!$C$45)","v":5},{"$f":"IF('Matl Properties'!$I$19=\"\",\"\",'Matl Properties'!$I$19)","v":"Bin No.1"},{"$f":"IF('Matl Properties'!$J$25=\"\",\"\",'Matl Properties'!$J$25)","v":"Sample ID"}]
[516,{"$f":"IF('Matl Properties'!$L$45=\"\",\"\",'Matl Properties'!$L$45)","v":""},{"$f":"IF('Matl Properties'!$B$4=\"\",\"\",'Matl Properties'!$B$4)","v":"HMACP MIXTURE DESIGN : MATERIAL PROPERTIES"},{"$f":"IF('Matl Properties'!$B$40=\"\",\"\",'Matl Properties'!$B$40)","v":"User Defined Testing"},{"$f":"IF('Matl Properties'!$C$45=\"\",\"\",'Matl Properties'!$C$45)","v":5},{"$f":"IF('Matl Properties'!$L$19=\"\",\"\",'Matl Properties'!$L$19)","v":"Bin No.2"},{"$f":"IF('Matl Properties'!$L$25=\"\",\"\",'Matl Properties'!$L$25)","v":"Result"}]
[517,{"$f":"IF('Matl Properties'!$M$45=\"\",\"\",'Matl Properties'!$M$45)","v":""},{"$f":"IF('Matl Properties'!$B$4=\"\",\"\",'Matl Properties'!$B$4)","v":"HMACP MIXTURE DESIGN : MATERIAL PROPERTIES"},{"$f":"IF('Matl Properties'!$B$40=\"\",\"\",'Matl Properties'!$B$40)","v":"User Defined Testing"},{"$f":"IF('Matl Properties'!$C$45=\"\",\"\",'Matl Properties'!$C$45)","v":5},{"$f":"IF('Matl Properties'!$L$19=\"\",\"\",'Matl Properties'!$L$19)","v":"Bin No.2"},{"$f":"IF('Matl Properties'!$M$25=\"\",\"\",'Matl Properties'!$M$25)","v":"Sample ID"}]
[518,{"$f":"IF('Matl Properties'!$O$45=\"\",\"\",'Matl Properties'!$O$45)","v":""},{"$f":"IF('Matl Properties'!$B$4=\"\",\"\",'Matl Properties'!$B$4)","v":"HMACP MIXTURE DESIGN : MATERIAL PROPERTIES"},{"$f":"IF('Matl Properties'!$B$40=\"\",\"\",'Matl Properties'!$B$40)","v":"User Defined Testing"},{"$f":"IF('Matl Properties'!$C$45=\"\",\"\",'Matl Properties'!$C$45)","v":5},{"$f":"IF('Matl Properties'!$O$19=\"\",\"\",'Matl Properties'!$O$19)","v":"Bin No.3"},{"$f":"IF('Matl Properties'!$O$25=\"\",\"\",'Matl Properties'!$O$25)","v":"Result"}]
[519,{"$f":"IF('Matl Properties'!$P$45=\"\",\"\",'Matl Properties'!$P$45)","v":""},{"$f":"IF('Matl Properties'!$B$4=\"\",\"\",'Matl Properties'!$B$4)","v":"HMACP MIXTURE DESIGN : MATERIAL PROPERTIES"},{"$f":"IF('Matl Properties'!$B$40=\"\",\"\",'Matl Properties'!$B$40)","v":"User Defined Testing"},{"$f":"IF('Matl Properties'!$C$45=\"\",\"\",'Matl Properties'!$C$45)","v":5},{"$f":"IF('Matl Properties'!$O$19=\"\",\"\",'Matl Properties'!$O$19)","v":"Bin No.3"},{"$f":"IF('Matl Properties'!$P$25=\"\",\"\",'Matl Properties'!$P$25)","v":"Sample ID"}]
[520,{"$f":"IF('Matl Properties'!$R$45=\"\",\"\",'Matl Properties'!$R$45)","v":""},{"$f":"IF('Matl Properties'!$B$4=\"\",\"\",'Matl Properties'!$B$4)","v":"HMACP MIXTURE DESIGN : MATERIAL PROPERTIES"},{"$f":"IF('Matl Properties'!$B$40=\"\",\"\",'Matl Properties'!$B$40)","v":"User Defined Testing"},{"$f":"IF('Matl Properties'!$C$45=\"\",\"\",'Matl Properties'!$C$45)","v":5},{"$f":"IF('Matl Properties'!$R$19=\"\",\"\",'Matl Properties'!$R$19)","v":"Bin No.4"},{"$f":"IF('Matl Properties'!$R$25=\"\",\"\",'Matl Properties'!$R$25)","v":"Result"}]
[521,{"$f":"IF('Matl Properties'!$S$45=\"\",\"\",'Matl Properties'!$S$45)","v":""},{"$f":"IF('Matl Properties'!$B$4=\"\",\"\",'Matl Properties'!$B$4)","v":"HMACP MIXTURE DESIGN : MATERIAL PROPERTIES"},{"$f":"IF('Matl Properties'!$B$40=\"\",\"\",'Matl Properties'!$B$40)","v":"User Defined Testing"},{"$f":"IF('Matl Properties'!$C$45=\"\",\"\",'Matl Properties'!$C$45)","v":5},{"$f":"IF('Matl Properties'!$R$19=\"\",\"\",'Matl Properties'!$R$19)","v":"Bin No.4"},{"$f":"IF('Matl Properties'!$S$25=\"\",\"\",'Matl Properties'!$S$25)","v":"Sample ID"}]
[522,{"$f":"IF('Matl Properties'!$U$45=\"\",\"\",'Matl Properties'!$U$45)","v":""},{"$f":"IF('Matl Properties'!$B$4=\"\",\"\",'Matl Properties'!$B$4)","v":"HMACP MIXTURE DESIGN : MATERIAL PROPERTIES"},{"$f":"IF('Matl Properties'!$B$40=\"\",\"\",'Matl Properties'!$B$40)","v":"User Defined Testing"},{"$f":"IF('Matl Properties'!$C$45=\"\",\"\",'Matl Properties'!$C$45)","v":5},{"$f":"IF('Matl Properties'!$U$19=\"\",\"\",'Matl Properties'!$U$19)","v":"Bin No.5"},{"$f":"IF('Matl Properties'!$U$25=\"\",\"\",'Matl Properties'!$U$25)","v":"Result"}]
[523,{"$f":"IF('Matl Properties'!$V$45=\"\",\"\",'Matl Properties'!$V$45)","v":""},{"$f":"IF('Matl Properties'!$B$4=\"\",\"\",'Matl Properties'!$B$4)","v":"HMACP MIXTURE DESIGN : MATERIAL PROPERTIES"},{"$f":"IF('Matl Properties'!$B$40=\"\",\"\",'Matl Properties'!$B$40)","v":"User Defined Testing"},{"$f":"IF('Matl Properties'!$C$45=\"\",\"\",'Matl Properties'!$C$45)","v":5},{"$f":"IF('Matl Properties'!$U$19=\"\",\"\",'Matl Properties'!$U$19)","v":"Bin No.5"},{"$f":"IF('Matl Properties'!$V$25=\"\",\"\",'Matl Properties'!$V$25)","v":"Sample ID"}]
[524,{"$f":"IF('Matl Properties'!$X$45=\"\",\"\",'Matl Properties'!$X$45)","v":""},{"$f":"IF('Matl Properties'!$B$4=\"\",\"\",'Matl Properties'!$B$4)","v":"HMACP MIXTURE DESIGN : MATERIAL PROPERTIES"},{"$f":"IF('Matl Properties'!$B$40=\"\",\"\",'Matl Properties'!$B$40)","v":"User Defined Testing"},{"$f":"IF('Matl Properties'!$C$45=\"\",\"\",'Matl Properties'!$C$45)","v":5},{"$f":"IF('Matl Properties'!$X$19=\"\",\"\",'Matl Properties'!$X$19)","v":"Bin No.6 "},{"$f":"IF('Matl Properties'!$X$25=\"\",\"\",'Matl Properties'!$X$25)","v":"Result"}]
[525,{"$f":"IF('Matl Properties'!$Y$45=\"\",\"\",'Matl Properties'!$Y$45)","v":""},{"$f":"IF('Matl Properties'!$B$4=\"\",\"\",'Matl Properties'!$B$4)","v":"HMACP MIXTURE DESIGN : MATERIAL PROPERTIES"},{"$f":"IF('Matl Properties'!$B$40=\"\",\"\",'Matl Properties'!$B$40)","v":"User Defined Testing"},{"$f":"IF('Matl Properties'!$C$45=\"\",\"\",'Matl Properties'!$C$45)","v":5},{"$f":"IF('Matl Properties'!$X$19=\"\",\"\",'Matl Properties'!$X$19)","v":"Bin No.6 "},{"$f":"IF('Matl Properties'!$Y$25=\"\",\"\",'Matl Properties'!$Y$25)","v":"Sample ID"}]
[526,{"$f":"IF('Matl Properties'!$AA$45=\"\",\"\",'Matl Properties'!$AA$45)","v":""},{"$f":"IF('Matl Properties'!$B$4=\"\",\"\",'Matl Properties'!$B$4)","v":"HMACP MIXTURE DESIGN : MATERIAL PROPERTIES"},{"$f":"IF('Matl Properties'!$B$40=\"\",\"\",'Matl Properties'!$B$40)","v":"User Defined Testing"},{"$f":"IF('Matl Properties'!$C$45=\"\",\"\",'Matl Properties'!$C$45)","v":5},{"$f":"IF('Matl Properties'!$AA$19=\"\",\"\",'Matl Properties'!$AA$19)","v":"Bin No.7 "},{"$f":"IF('Matl Properties'!$AA$25=\"\",\"\",'Matl Properties'!$AA$25)","v":"Result"}]
[527,{"$f":"IF('Matl Properties'!$AB$45=\"\",\"\",'Matl Properties'!$AB$45)","v":""},{"$f":"IF('Matl Properties'!$B$4=\"\",\"\",'Matl Properties'!$B$4)","v":"HMACP MIXTURE DESIGN : MATERIAL PROPERTIES"},{"$f":"IF('Matl Properties'!$B$40=\"\",\"\",'Matl Properties'!$B$40)","v":"User Defined Testing"},{"$f":"IF('Matl Properties'!$C$45=\"\",\"\",'Matl Properties'!$C$45)","v":5},{"$f":"IF('Matl Properties'!$AA$19=\"\",\"\",'Matl Properties'!$AA$19)","v":"Bin No.7 "},{"$f":"IF('Matl Properties'!$AB$25=\"\",\"\",'Matl Properties'!$AB$25)","v":"Sample ID"}]
[528,{"$f":"IF('Matl Properties'!$B$52=\"\",\"\",'Matl Properties'!$B$52)","v":""},{"$f":"IF('Matl Properties'!$B$4=\"\",\"\",'Matl Properties'!$B$4)","v":"HMACP MIXTURE DESIGN : MATERIAL PROPERTIES"},{"$f":"IF('Matl Properties'!$B$51=\"\",\"\",'Matl Properties'!$B$51)","v":"Remarks:"}]
[529,{"$f":"IF('Aggregate Classification'!$D$23=\"\",\"\",'Aggregate Classification'!$D$23)","v":""},{"$f":"IF('Aggregate Classification'!$B$4=\"\",\"\",'Aggregate Classification'!$B$4)","v":"HMACP MIXTURE DESIGN : Aggregate Classification"},{"$f":"IF('Aggregate Classification'!$D$19=\"\",\"\",'Aggregate Classification'!$D$19)","v":"Bin No.1"},{"$f":"IF('Aggregate Classification'!$B$23=\"\",\"\",'Aggregate Classification'!$B$23)","v":"Class (A) Rock (Y/N):"}]
[530,{"$f":"IF('Aggregate Classification'!$D$27=\"\",\"\",'Aggregate Classification'!$D$27)","v":""},{"$f":"IF('Aggregate Classification'!$B$4=\"\",\"\",'Aggregate Classification'!$B$4)","v":"HMACP MIXTURE DESIGN : Aggregate Classification"},{"$f":"IF('Aggregate Classification'!$D$19=\"\",\"\",'Aggregate Classification'!$D$19)","v":"Bin No.1"},{"$f":"IF('Aggregate Classification'!$D$25=\"\",\"\",'Aggregate Classification'!$D$25)","v":"Individual Ret., %"},{"$f":"IF('Aggregate Classification'!$B$26=\"\",\"\",'Aggregate Classification'!$B$26)","v":"Passing"},{"$f":"IF('Aggregate Classification'!$B$27=\"\",\"\",'Aggregate Classification'!$B$27)","v":"-"},{"$f":"IF('Aggregate Classification'!$B$25=\"\",\"\",'Aggregate Classification'!$B$25)","v":"Sieve Size:"},{"$f":"IF('Aggregate Classification'!$C$26=\"\",\"\",'Aggregate Classification'!$C$26)","v":"Retained"},{"$f":"'Aggregate Classification'!$C$27","v":"1\""}]
[531,{"$f":"IF('Aggregate Classification'!$D$28=\"\",\"\",'Aggregate Classification'!$D$28)","v":""},{"$f":"IF('Aggregate Classification'!$B$4=\"\",\"\",'Aggregate Classification'!$B$4)","v":"HMACP MIXTURE DESIGN : Aggregate Classification"},{"$f":"IF('Aggregate Classification'!$D$19=\"\",\"\",'Aggregate Classification'!$D$19)","v":"Bin No.1"},{"$f":"IF('Aggregate Classification'!$D$25=\"\",\"\",'Aggregate Classification'!$D$25)","v":"Individual Ret., %"},{"$f":"IF('Aggregate Classification'!$B$26=\"\",\"\",'Aggregate Classification'!$B$26)","v":"Passing"},{"$f":"IF('Aggregate Classification'!$B$28=\"\",\"\",'Aggregate Classification'!$B$28)","v":"1\""},{"$f":"IF('Aggregate Classification'!$B$25=\"\",\"\",'Aggregate Classification'!$B$25)","v":"Sieve Size:"},{"$f":"IF('Aggregate Classification'!$C$26=\"\",\"\",'Aggregate Classification'!$C$26)","v":"Retained"},{"$f":"'Aggregate Classification'!$C$28","v":"3/4\""}]
[532,{"$f":"IF('Aggregate Classification'!$D$29=\"\",\"\",'Aggregate Classification'!$D$29)","v":""},{"$f":"IF('Aggregate Classification'!$B$4=\"\",\"\",'Aggregate Classification'!$B$4)","v":"HMACP MIXTURE DESIGN : Aggregate Classification"},{"$f":"IF('Aggregate Classification'!$D$19=\"\",\"\",'Aggregate Classification'!$D$19)","v":"Bin No.1"},{"$f":"IF('Aggregate Classification'!$D$25=\"\",\"\",'Aggregate Classification'!$D$25)","v":"Individual Ret., %"},{"$f":"IF('Aggregate Classification'!$B$26=\"\",\"\",'Aggregate Classification'!$B$26)","v":"Passing"},{"$f":"IF('Aggregate Classification'!$B$29=\"\",\"\",'Aggregate Classification'!$B$29)","v":"3/4\""},{"$f":"IF('Aggregate Classification'!$B$25=\"\",\"\",'Aggregate Classification'!$B$25)","v":"Sieve Size:"},{"$f":"IF('Aggregate Classification'!$C$26=\"\",\"\",'Aggregate Classification'!$C$26)","v":"Retained"},{"$f":"'Aggregate Classification'!$C$29","v":"1/2\""}]
[533,{"$f":"IF('Aggregate Classification'!$D$30=\"\",\"\",'Aggregate Classification'!$D$30)","v":""},{"$f":"IF('Aggregate Classification'!$B$4=\"\",\"\",'Aggregate Classification'!$B$4)","v":"HMACP MIXTURE DESIGN : Aggregate Classification"},{"$f":"IF('Aggregate Classification'!$D$19=\"\",\"\",'Aggregate Classification'!$D$19)","v":"Bin No.1"},{"$f":"IF('Aggregate Classification'!$D$25=\"\",\"\",'Aggregate Classification'!$D$25)","v":"Individual Ret., %"},{"$f":"IF('Aggregate Classification'!$B$26=\"\",\"\",'Aggregate Classification'!$B$26)","v":"Passing"},{"$f":"IF('Aggregate Classification'!$B$30=\"\",\"\",'Aggregate Classification'!$B$30)","v":"1/2\""},{"$f":"IF('Aggregate Classification'!$B$25=\"\",\"\",'Aggregate Classification'!$B$25)","v":"Sieve Size:"},{"$f":"IF('Aggregate Classification'!$C$26=\"\",\"\",'Aggregate Classification'!$C$26)","v":"Retained"},{"$f":"'Aggregate Classification'!$C$30","v":"3/8\""}]
[534,{"$f":"IF('Aggregate Classification'!$D$31=\"\",\"\",'Aggregate Classification'!$D$31)","v":""},{"$f":"IF('Aggregate Classification'!$B$4=\"\",\"\",'Aggregate Classification'!$B$4)","v":"HMACP MIXTURE DESIGN : Aggregate Classification"},{"$f":"IF('Aggregate Classification'!$D$19=\"\",\"\",'Aggregate Classification'!$D$19)","v":"Bin No.1"},{"$f":"IF('Aggregate Classification'!$D$25=\"\",\"\",'Aggregate Classification'!$D$25)","v":"Individual Ret., %"},{"$f":"IF('Aggregate Classification'!$B$26=\"\",\"\",'Aggregate Classification'!$B$26)","v":"Passing"},{"$f":"IF('Aggregate Classification'!$B$31=\"\",\"\",'Aggregate Classification'!$B$31)","v":"3/8\""},{"$f":"IF('Aggregate Classification'!$B$25=\"\",\"\",'Aggregate Classification'!$B$25)","v":"Sieve Size:"},{"$f":"IF('Aggregate Classification'!$C$26=\"\",\"\",'Aggregate Classification'!$C$26)","v":"Retained"},{"$f":"'Aggregate Classification'!$C$31","v":"No. 4"}]
[535,{"$f":"IF('Aggregate Classification'!$D$32=\"\",\"\",'Aggregate Classification'!$D$32)","v":""},{"$f":"IF('Aggregate Classification'!$B$4=\"\",\"\",'Aggregate Classification'!$B$4)","v":"HMACP MIXTURE DESIGN : Aggregate Classification"},{"$f":"IF('Aggregate Classification'!$D$19=\"\",\"\",'Aggregate Classification'!$D$19)","v":"Bin No.1"},{"$f":"IF('Aggregate Classification'!$D$25=\"\",\"\",'Aggregate Classification'!$D$25)","v":"Individual Ret., %"},{"$f":"IF('Aggregate Classification'!$B$26=\"\",\"\",'Aggregate Classification'!$B$26)","v":"Passing"},{"$f":"IF('Aggregate Classification'!$B$32=\"\",\"\",'Aggregate Classification'!$B$32)","v":"No. 4"},{"$f":"IF('Aggregate Classification'!$B$25=\"\",\"\",'Aggregate Classification'!$B$25)","v":"Sieve Size:"},{"$f":"IF('Aggregate Classification'!$C$26=\"\",\"\",'Aggregate Classification'!$C$26)","v":"Retained"},{"$f":"'Aggregate Classification'!$C$32","v":"No. 8"}]
[536,{"$f":"IF('Aggregate Classification'!$D$33=\"\",\"\",'Aggregate Classification'!$D$33)","v":""},{"$f":"IF('Aggregate Classification'!$B$4=\"\",\"\",'Aggregate Classification'!$B$4)","v":"HMACP MIXTURE DESIGN : Aggregate Classification"},{"$f":"IF('Aggregate Classification'!$D$19=\"\",\"\",'Aggregate Classification'!$D$19)","v":"Bin No.1"},{"$f":"IF('Aggregate Classification'!$D$25=\"\",\"\",'Aggregate Classification'!$D$25)","v":"Individual Ret., %"},{"$f":"IF('Aggregate Classification'!$B$26=\"\",\"\",'Aggregate Classification'!$B$26)","v":"Passing"},{"$f":"IF('Aggregate Classification'!$B$33=\"\",\"\",'Aggregate Classification'!$B$33)","v":"No. 8"},{"$f":"IF('Aggregate Classification'!$B$25=\"\",\"\",'Aggregate Classification'!$B$25)","v":"Sieve Size:"},{"$f":"IF('Aggregate Classification'!$C$26=\"\",\"\",'Aggregate Classification'!$C$26)","v":"Retained"},{"$f":"'Aggregate Classification'!$C$33","v":"No. 16"}]
[537,{"$f":"IF('Aggregate Classification'!$D$34=\"\",\"\",'Aggregate Classification'!$D$34)","v":""},{"$f":"IF('Aggregate Classification'!$B$4=\"\",\"\",'Aggregate Classification'!$B$4)","v":"HMACP MIXTURE DESIGN : Aggregate Classification"},{"$f":"IF('Aggregate Classification'!$D$19=\"\",\"\",'Aggregate Classification'!$D$19)","v":"Bin No.1"},{"$f":"IF('Aggregate Classification'!$D$25=\"\",\"\",'Aggregate Classification'!$D$25)","v":"Individual Ret., %"},{"$f":"IF('Aggregate Classification'!$B$26=\"\",\"\",'Aggregate Classification'!$B$26)","v":"Passing"},{"$f":"IF('Aggregate Classification'!$B$34=\"\",\"\",'Aggregate Classification'!$B$34)","v":"No. 16"},{"$f":"IF('Aggregate Classification'!$B$25=\"\",\"\",'Aggregate Classification'!$B$25)","v":"Sieve Size:"},{"$f":"IF('Aggregate Classification'!$C$26=\"\",\"\",'Aggregate Classification'!$C$26)","v":"Retained"},{"$f":"'Aggregate Classification'!$C$34","v":"No. 30"}]
[538,{"$f":"IF('Aggregate Classification'!$D$35=\"\",\"\",'Aggregate Classification'!$D$35)","v":""},{"$f":"IF('Aggregate Classification'!$B$4=\"\",\"\",'Aggregate Classification'!$B$4)","v":"HMACP MIXTURE DESIGN : Aggregate Classification"},{"$f":"IF('Aggregate Classification'!$D$19=\"\",\"\",'Aggregate Classification'!$D$19)","v":"Bin No.1"},{"$f":"IF('Aggregate Classification'!$D$25=\"\",\"\",'Aggregate Classification'!$D$25)","v":"Individual Ret., %"},{"$f":"IF('Aggregate Classification'!$B$26=\"\",\"\",'Aggregate Classification'!$B$26)","v":"Passing"},{"$f":"IF('Aggregate Classification'!$B$35=\"\",\"\",'Aggregate Classification'!$B$35)","v":"No. 30"},{"$f":"IF('Aggregate Classification'!$B$25=\"\",\"\",'Aggregate Classification'!$B$25)","v":"Sieve Size:"},{"$f":"IF('Aggregate Classification'!$C$26=\"\",\"\",'Aggregate Classification'!$C$26)","v":"Retained"},{"$f":"'Aggregate Classification'!$C$35","v":"No. 50"}]
[539,{"$f":"IF('Aggregate Classification'!$D$36=\"\",\"\",'Aggregate Classification'!$D$36)","v":""},{"$f":"IF('Aggregate Classification'!$B$4=\"\",\"\",'Aggregate Classification'!$B$4)","v":"HMACP MIXTURE DESIGN : Aggregate Classification"},{"$f":"IF('Aggregate Classification'!$D$19=\"\",\"\",'Aggregate Classification'!$D$19)","v":"Bin No.1"},{"$f":"IF('Aggregate Classification'!$D$25=\"\",\"\",'Aggregate Classification'!$D$25)","v":"Individual Ret., %"},{"$f":"IF('Aggregate Classification'!$B$26=\"\",\"\",'Aggregate Classification'!$B$26)","v":"Passing"},{"$f":"IF('Aggregate Classification'!$B$36=\"\",\"\",'Aggregate Classification'!$B$36)","v":"No. 50"},{"$f":"IF('Aggregate Classification'!$B$25=\"\",\"\",'Aggregate Classification'!$B$25)","v":"Sieve Size:"},{"$f":"IF('Aggregate Classification'!$C$26=\"\",\"\",'Aggregate Classification'!$C$26)","v":"Retained"},{"$f":"'Aggregate Classification'!$C$36","v":"No. 200"}]
[540,{"$f":"IF('Aggregate Classification'!$D$37=\"\",\"\",'Aggregate Classification'!$D$37)","v":""},{"$f":"IF('Aggregate Classification'!$B$4=\"\",\"\",'Aggregate Classification'!$B$4)","v":"HMACP MIXTURE DESIGN : Aggregate Classification"},{"$f":"IF('Aggregate Classification'!$D$19=\"\",\"\",'Aggregate Classification'!$D$19)","v":"Bin No.1"},{"$f":"IF('Aggregate Classification'!$D$25=\"\",\"\",'Aggregate Classification'!$D$25)","v":"Individual Ret., %"},{"$f":"IF('Aggregate Classification'!$B$26=\"\",\"\",'Aggregate Classification'!$B$26)","v":"Passing"},{"$f":"IF('Aggregate Classification'!$B$37=\"\",\"\",'Aggregate Classification'!$B$37)","v":"No. 200"},{"$f":"IF('Aggregate Classification'!$B$25=\"\",\"\",'Aggregate Classification'!$B$25)","v":"Sieve Size:"},{"$f":"IF('Aggregate Classification'!$C$26=\"\",\"\",'Aggregate Classification'!$C$26)","v":"Retained"},{"$f":"'Aggregate Classification'!$C$37","v":"Pan"}]
[541,{"$f":"IF('Aggregate Classification'!$D$38=\"\",\"\",'Aggregate Classification'!$D$38)","v":""},{"$f":"IF('Aggregate Classification'!$B$4=\"\",\"\",'Aggregate Classification'!$B$4)","v":"HMACP MIXTURE DESIGN : Aggregate Classification"},{"$f":"IF('Aggregate Classification'!$D$19=\"\",\"\",'Aggregate Classification'!$D$19)","v":"Bin No.1"},{"$f":"IF('Aggregate Classification'!$D$25=\"\",\"\",'Aggregate Classification'!$D$25)","v":"Individual Ret., %"},{"$f":"IF('Aggregate Classification'!$B$38=\"\",\"\",'Aggregate Classification'!$B$38)","v":"Total:"}]
[542,{"$f":"IF('Aggregate Classification'!$D$39=\"\",\"\",'Aggregate Classification'!$D$39)","v":""},{"$f":"IF('Aggregate Classification'!$B$4=\"\",\"\",'Aggregate Classification'!$B$4)","v":"HMACP MIXTURE DESIGN : Aggregate Classification"},{"$f":"IF('Aggregate Classification'!$D$19=\"\",\"\",'Aggregate Classification'!$D$19)","v":"Bin No.1"},{"$f":"IF('Aggregate Classification'!$D$25=\"\",\"\",'Aggregate Classification'!$D$25)","v":"Individual Ret., %"},{"$f":"IF('Aggregate Classification'!$B$39=\"\",\"\",'Aggregate Classification'!$B$39)","v":"Percent of plus No. 4"}]
[543,{"$f":"IF('Aggregate Classification'!$H$23=\"\",\"\",'Aggregate Classification'!$H$23)","v":""},{"$f":"IF('Aggregate Classification'!$B$4=\"\",\"\",'Aggregate Classification'!$B$4)","v":"HMACP MIXTURE DESIGN : Aggregate Classification"},{"$f":"IF('Aggregate Classification'!$H$19=\"\",\"\",'Aggregate Classification'!$H$19)","v":"Bin No.2"},{"$f":"IF('Aggregate Classification'!$B$23=\"\",\"\",'Aggregate Classification'!$B$23)","v":"Class (A) Rock (Y/N):"}]
[544,{"$f":"IF('Aggregate Classification'!$H$27=\"\",\"\",'Aggregate Classification'!$H$27)","v":""},{"$f":"IF('Aggregate Classification'!$B$4=\"\",\"\",'Aggregate Classification'!$B$4)","v":"HMACP MIXTURE DESIGN : Aggregate Classification"},{"$f":"IF('Aggregate Classification'!$H$19=\"\",\"\",'Aggregate Classification'!$H$19)","v":"Bin No.2"},{"$f":"IF('Aggregate Classification'!$H$25=\"\",\"\",'Aggregate Classification'!$H$25)","v":"Individual Ret., %"},{"$f":"IF('Aggregate Classification'!$B$26=\"\",\"\",'Aggregate Classification'!$B$26)","v":"Passing"},{"$f":"IF('Aggregate Classification'!$B$27=\"\",\"\",'Aggregate Classification'!$B$27)","v":"-"},{"$f":"IF('Aggregate Classification'!$B$25=\"\",\"\",'Aggregate Classification'!$B$25)","v":"Sieve Size:"},{"$f":"IF('Aggregate Classification'!$C$26=\"\",\"\",'Aggregate Classification'!$C$26)","v":"Retained"},{"$f":"'Aggregate Classification'!$C$27","v":"1\""}]
[545,{"$f":"IF('Aggregate Classification'!$H$28=\"\",\"\",'Aggregate Classification'!$H$28)","v":""},{"$f":"IF('Aggregate Classification'!$B$4=\"\",\"\",'Aggregate Classification'!$B$4)","v":"HMACP MIXTURE DESIGN : Aggregate Classification"},{"$f":"IF('Aggregate Classification'!$H$19=\"\",\"\",'Aggregate Classification'!$H$19)","v":"Bin No.2"},{"$f":"IF('Aggregate Classification'!$H$25=\"\",\"\",'Aggregate Classification'!$H$25)","v":"Individual Ret., %"},{"$f":"IF('Aggregate Classification'!$B$26=\"\",\"\",'Aggregate Classification'!$B$26)","v":"Passing"},{"$f":"IF('Aggregate Classification'!$B$28=\"\",\"\",'Aggregate Classification'!$B$28)","v":"1\""},{"$f":"IF('Aggregate Classification'!$B$25=\"\",\"\",'Aggregate Classification'!$B$25)","v":"Sieve Size:"},{"$f":"IF('Aggregate Classification'!$C$26=\"\",\"\",'Aggregate Classification'!$C$26)","v":"Retained"},{"$f":"'Aggregate Classification'!$C$28","v":"3/4\""}]
[546,{"$f":"IF('Aggregate Classification'!$H$29=\"\",\"\",'Aggregate Classification'!$H$29)","v":""},{"$f":"IF('Aggregate Classification'!$B$4=\"\",\"\",'Aggregate Classification'!$B$4)","v":"HMACP MIXTURE DESIGN : Aggregate Classification"},{"$f":"IF('Aggregate Classification'!$H$19=\"\",\"\",'Aggregate Classification'!$H$19)","v":"Bin No.2"},{"$f":"IF('Aggregate Classification'!$H$25=\"\",\"\",'Aggregate Classification'!$H$25)","v":"Individual Ret., %"},{"$f":"IF('Aggregate Classification'!$B$26=\"\",\"\",'Aggregate Classification'!$B$26)","v":"Passing"},{"$f":"IF('Aggregate Classification'!$B$29=\"\",\"\",'Aggregate Classification'!$B$29)","v":"3/4\""},{"$f":"IF('Aggregate Classification'!$B$25=\"\",\"\",'Aggregate Classification'!$B$25)","v":"Sieve Size:"},{"$f":"IF('Aggregate Classification'!$C$26=\"\",\"\",'Aggregate Classification'!$C$26)","v":"Retained"},{"$f":"'Aggregate Classification'!$C$29","v":"1/2\""}]
[547,{"$f":"IF('Aggregate Classification'!$H$30=\"\",\"\",'Aggregate Classification'!$H$30)","v":""},{"$f":"IF('Aggregate Classification'!$B$4=\"\",\"\",'Aggregate Classification'!$B$4)","v":"HMACP MIXTURE DESIGN : Aggregate Classification"},{"$f":"IF('Aggregate Classification'!$H$19=\"\",\"\",'Aggregate Classification'!$H$19)","v":"Bin No.2"},{"$f":"IF('Aggregate Classification'!$H$25=\"\",\"\",'Aggregate Classification'!$H$25)","v":"Individual Ret., %"},{"$f":"IF('Aggregate Classification'!$B$26=\"\",\"\",'Aggregate Classification'!$B$26)","v":"Passing"},{"$f":"IF('Aggregate Classification'!$B$30=\"\",\"\",'Aggregate Classification'!$B$30)","v":"1/2\""},{"$f":"IF('Aggregate Classification'!$B$25=\"\",\"\",'Aggregate Classification'!$B$25)","v":"Sieve Size:"},{"$f":"IF('Aggregate Classification'!$C$26=\"\",\"\",'Aggregate Classification'!$C$26)","v":"Retained"},{"$f":"'Aggregate Classification'!$C$30","v":"3/8\""}]
[548,{"$f":"IF('Aggregate Classification'!$H$31=\"\",\"\",'Aggregate Classification'!$H$31)","v":""},{"$f":"IF('Aggregate Classification'!$B$4=\"\",\"\",'Aggregate Classification'!$B$4)","v":"HMACP MIXTURE DESIGN : Aggregate Classification"},{"$f":"IF('Aggregate Classification'!$H$19=\"\",\"\",'Aggregate Classification'!$H$19)","v":"Bin No.2"},{"$f":"IF('Aggregate Classification'!$H$25=\"\",\"\",'Aggregate Classification'!$H$25)","v":"Individual Ret., %"},{"$f":"IF('Aggregate Classification'!$B$26=\"\",\"\",'Aggregate Classification'!$B$26)","v":"Passing"},{"$f":"IF('Aggregate Classification'!$B$31=\"\",\"\",'Aggregate Classification'!$B$31)","v":"3/8\""},{"$f":"IF('Aggregate Classification'!$B$25=\"\",\"\",'Aggregate Classification'!$B$25)","v":"Sieve Size:"},{"$f":"IF('Aggregate Classification'!$C$26=\"\",\"\",'Aggregate Classification'!$C$26)","v":"Retained"},{"$f":"'Aggregate Classification'!$C$31","v":"No. 4"}]
[549,{"$f":"IF('Aggregate Classification'!$H$32=\"\",\"\",'Aggregate Classification'!$H$32)","v":""},{"$f":"IF('Aggregate Classification'!$B$4=\"\",\"\",'Aggregate Classification'!$B$4)","v":"HMACP MIXTURE DESIGN : Aggregate Classification"},{"$f":"IF('Aggregate Classification'!$H$19=\"\",\"\",'Aggregate Classification'!$H$19)","v":"Bin No.2"},{"$f":"IF('Aggregate Classification'!$H$25=\"\",\"\",'Aggregate Classification'!$H$25)","v":"Individual Ret., %"},{"$f":"IF('Aggregate Classification'!$B$26=\"\",\"\",'Aggregate Classification'!$B$26)","v":"Passing"},{"$f":"IF('Aggregate Classification'!$B$32=\"\",\"\",'Aggregate Classification'!$B$32)","v":"No. 4"},{"$f":"IF('Aggregate Classification'!$B$25=\"\",\"\",'Aggregate Classification'!$B$25)","v":"Sieve Size:"},{"$f":"IF('Aggregate Classification'!$C$26=\"\",\"\",'Aggregate Classification'!$C$26)","v":"Retained"},{"$f":"'Aggregate Classification'!$C$32","v":"No. 8"}]
[550,{"$f":"IF('Aggregate Classification'!$H$33=\"\",\"\",'Aggregate Classification'!$H$33)","v":""},{"$f":"IF('Aggregate Classification'!$B$4=\"\",\"\",'Aggregate Classification'!$B$4)","v":"HMACP MIXTURE DESIGN : Aggregate Classification"},{"$f":"IF('Aggregate Classification'!$H$19=\"\",\"\",'Aggregate Classification'!$H$19)","v":"Bin No.2"},{"$f":"IF('Aggregate Classification'!$H$25=\"\",\"\",'Aggregate Classification'!$H$25)","v":"Individual Ret., %"},{"$f":"IF('Aggregate Classification'!$B$26=\"\",\"\",'Aggregate Classification'!$B$26)","v":"Passing"},{"$f":"IF('Aggregate Classification'!$B$33=\"\",\"\",'Aggregate Classification'!$B$33)","v":"No. 8"},{"$f":"IF('Aggregate Classification'!$B$25=\"\",\"\",'Aggregate Classification'!$B$25)","v":"Sieve Size:"},{"$f":"IF('Aggregate Classification'!$C$26=\"\",\"\",'Aggregate Classification'!$C$26)","v":"Retained"},{"$f":"'Aggregate Classification'!$C$33","v":"No. 16"}]
[551,{"$f":"IF('Aggregate Classification'!$H$34=\"\",\"\",'Aggregate Classification'!$H$34)","v":""},{"$f":"IF('Aggregate Classification'!$B$4=\"\",\"\",'Aggregate Classification'!$B$4)","v":"HMACP MIXTURE DESIGN : Aggregate Classification"},{"$f":"IF('Aggregate Classification'!$H$19=\"\",\"\",'Aggregate Classification'!$H$19)","v":"Bin No.2"},{"$f":"IF('Aggregate Classification'!$H$25=\"\",\"\",'Aggregate Classification'!$H$25)","v":"Individual Ret., %"},{"$f":"IF('Aggregate Classification'!$B$26=\"\",\"\",'Aggregate Classification'!$B$26)","v":"Passing"},{"$f":"IF('Aggregate Classification'!$B$34=\"\",\"\",'Aggregate Classification'!$B$34)","v":"No. 16"},{"$f":"IF('Aggregate Classification'!$B$25=\"\",\"\",'Aggregate Classification'!$B$25)","v":"Sieve Size:"},{"$f":"IF('Aggregate Classification'!$C$26=\"\",\"\",'Aggregate Classification'!$C$26)","v":"Retained"},{"$f":"'Aggregate Classification'!$C$34","v":"No. 30"}]
[552,{"$f":"IF('Aggregate Classification'!$H$35=\"\",\"\",'Aggregate Classification'!$H$35)","v":""},{"$f":"IF('Aggregate Classification'!$B$4=\"\",\"\",'Aggregate Classification'!$B$4)","v":"HMACP MIXTURE DESIGN : Aggregate Classification"},{"$f":"IF('Aggregate Classification'!$H$19=\"\",\"\",'Aggregate Classification'!$H$19)","v":"Bin No.2"},{"$f":"IF('Aggregate Classification'!$H$25=\"\",\"\",'Aggregate Classification'!$H$25)","v":"Individual Ret., %"},{"$f":"IF('Aggregate Classification'!$B$26=\"\",\"\",'Aggregate Classification'!$B$26)","v":"Passing"},{"$f":"IF('Aggregate Classification'!$B$35=\"\",\"\",'Aggregate Classification'!$B$35)","v":"No. 30"},{"$f":"IF('Aggregate Classification'!$B$25=\"\",\"\",'Aggregate Classification'!$B$25)","v":"Sieve Size:"},{"$f":"IF('Aggregate Classification'!$C$26=\"\",\"\",'Aggregate Classification'!$C$26)","v":"Retained"},{"$f":"'Aggregate Classification'!$C$35","v":"No. 50"}]
[553,{"$f":"IF('Aggregate Classification'!$H$36=\"\",\"\",'Aggregate Classification'!$H$36)","v":""},{"$f":"IF('Aggregate Classification'!$B$4=\"\",\"\",'Aggregate Classification'!$B$4)","v":"HMACP MIXTURE DESIGN : Aggregate Classification"},{"$f":"IF('Aggregate Classification'!$H$19=\"\",\"\",'Aggregate Classification'!$H$19)","v":"Bin No.2"},{"$f":"IF('Aggregate Classification'!$H$25=\"\",\"\",'Aggregate Classification'!$H$25)","v":"Individual Ret., %"},{"$f":"IF('Aggregate Classification'!$B$26=\"\",\"\",'Aggregate Classification'!$B$26)","v":"Passing"},{"$f":"IF('Aggregate Classification'!$B$36=\"\",\"\",'Aggregate Classification'!$B$36)","v":"No. 50"},{"$f":"IF('Aggregate Classification'!$B$25=\"\",\"\",'Aggregate Classification'!$B$25)","v":"Sieve Size:"},{"$f":"IF('Aggregate Classification'!$C$26=\"\",\"\",'Aggregate Classification'!$C$26)","v":"Retained"},{"$f":"'Aggregate Classification'!$C$36","v":"No. 200"}]
[554,{"$f":"IF('Aggregate Classification'!$H$37=\"\",\"\",'Aggregate Classification'!$H$37)","v":""},{"$f":"IF('Aggregate Classification'!$B$4=\"\",\"\",'Aggregate Classification'!$B$4)","v":"HMACP MIXTURE DESIGN : Aggregate Classification"},{"$f":"IF('Aggregate Classification'!$H$19=\"\",\"\",'Aggregate Classification'!$H$19)","v":"Bin No.2"},{"$f":"IF('Aggregate Classification'!$H$25=\"\",\"\",'Aggregate Classification'!$H$25)","v":"Individual Ret., %"},{"$f":"IF('Aggregate Classification'!$B$26=\"\",\"\",'Aggregate Classification'!$B$26)","v":"Passing"},{"$f":"IF('Aggregate Classification'!$B$37=\"\",\"\",'Aggregate Classification'!$B$37)","v":"No. 200"},{"$f":"IF('Aggregate Classification'!$B$25=\"\",\"\",'Aggregate Classification'!$B$25)","v":"Sieve Size:"},{"$f":"IF('Aggregate Classification'!$C$26=\"\",\"\",'Aggregate Classification'!$C$26)","v":"Retained"},{"$f":"'Aggregate Classification'!$C$37","v":"Pan"}]
[555,{"$f":"IF('Aggregate Classification'!$H$38=\"\",\"\",'Aggregate Classification'!$H$38)","v":""},{"$f":"IF('Aggregate Classification'!$B$4=\"\",\"\",'Aggregate Classification'!$B$4)","v":"HMACP MIXTURE DESIGN : Aggregate Classification"},{"$f":"IF('Aggregate Classification'!$H$19=\"\",\"\",'Aggregate Classification'!$H$19)","v":"Bin No.2"},{"$f":"IF('Aggregate Classification'!$H$25=\"\",\"\",'Aggregate Classification'!$H$25)","v":"Individual Ret., %"},{"$f":"IF('Aggregate Classification'!$B$38=\"\",\"\",'Aggregate Classification'!$B$38)","v":"Total:"}]
[556,{"$f":"IF('Aggregate Classification'!$H$39=\"\",\"\",'Aggregate Classification'!$H$39)","v":""},{"$f":"IF('Aggregate Classification'!$B$4=\"\",\"\",'Aggregate Classification'!$B$4)","v":"HMACP MIXTURE DESIGN : Aggregate Classification"},{"$f":"IF('Aggregate Classification'!$H$19=\"\",\"\",'Aggregate Classification'!$H$19)","v":"Bin No.2"},{"$f":"IF('Aggregate Classification'!$H$25=\"\",\"\",'Aggregate Classification'!$H$25)","v":"Individual Ret., %"},{"$f":"IF('Aggregate Classification'!$B$39=\"\",\"\",'Aggregate Classification'!$B$39)","v":"Percent of plus No. 4"}]
[557,{"$f":"IF('Aggregate Classification'!$L$23=\"\",\"\",'Aggregate Classification'!$L$23)","v":""},{"$f":"IF('Aggregate Classification'!$B$4=\"\",\"\",'Aggregate Classification'!$B$4)","v":"HMACP MIXTURE DESIGN : Aggregate Classification"},{"$f":"IF('Aggregate Classification'!$L$19=\"\",\"\",'Aggregate Classification'!$L$19)","v":"Bin No.3"},{"$f":"IF('Aggregate Classification'!$B$23=\"\",\"\",'Aggregate Classification'!$B$23)","v":"Class (A) Rock (Y/N):"}]
[558,{"$f":"IF('Aggregate Classification'!$L$27=\"\",\"\",'Aggregate Classification'!$L$27)","v":""},{"$f":"IF('Aggregate Classification'!$B$4=\"\",\"\",'Aggregate Classification'!$B$4)","v":"HMACP MIXTURE DESIGN : Aggregate Classification"},{"$f":"IF('Aggregate Classification'!$L$19=\"\",\"\",'Aggregate Classification'!$L$19)","v":"Bin No.3"},{"$f":"IF('Aggregate Classification'!$L$25=\"\",\"\",'Aggregate Classification'!$L$25)","v":"Individual Ret., %"},{"$f":"IF('Aggregate Classification'!$B$26=\"\",\"\",'Aggregate Classification'!$B$26)","v":"Passing"},{"$f":"IF('Aggregate Classification'!$B$27=\"\",\"\",'Aggregate Classification'!$B$27)","v":"-"},{"$f":"IF('Aggregate Classification'!$B$25=\"\",\"\",'Aggregate Classification'!$B$25)","v":"Sieve Size:"},{"$f":"IF('Aggregate Classification'!$C$26=\"\",\"\",'Aggregate Classification'!$C$26)","v":"Retained"},{"$f":"'Aggregate Classification'!$C$27","v":"1\""}]
[559,{"$f":"IF('Aggregate Classification'!$L$28=\"\",\"\",'Aggregate Classification'!$L$28)","v":""},{"$f":"IF('Aggregate Classification'!$B$4=\"\",\"\",'Aggregate Classification'!$B$4)","v":"HMACP MIXTURE DESIGN : Aggregate Classification"},{"$f":"IF('Aggregate Classification'!$L$19=\"\",\"\",'Aggregate Classification'!$L$19)","v":"Bin No.3"},{"$f":"IF('Aggregate Classification'!$L$25=\"\",\"\",'Aggregate Classification'!$L$25)","v":"Individual Ret., %"},{"$f":"IF('Aggregate Classification'!$B$26=\"\",\"\",'Aggregate Classification'!$B$26)","v":"Passing"},{"$f":"IF('Aggregate Classification'!$B$28=\"\",\"\",'Aggregate Classification'!$B$28)","v":"1\""},{"$f":"IF('Aggregate Classification'!$B$25=\"\",\"\",'Aggregate Classification'!$B$25)","v":"Sieve Size:"},{"$f":"IF('Aggregate Classification'!$C$26=\"\",\"\",'Aggregate Classification'!$C$26)","v":"Retained"},{"$f":"'Aggregate Classification'!$C$28","v":"3/4\""}]
[560,{"$f":"IF('Aggregate Classification'!$L$29=\"\",\"\",'Aggregate Classification'!$L$29)","v":""},{"$f":"IF('Aggregate Classification'!$B$4=\"\",\"\",'Aggregate Classification'!$B$4)","v":"HMACP MIXTURE DESIGN : Aggregate Classification"},{"$f":"IF('Aggregate Classification'!$L$19=\"\",\"\",'Aggregate Classification'!$L$19)","v":"Bin No.3"},{"$f":"IF('Aggregate Classification'!$L$25=\"\",\"\",'Aggregate Classification'!$L$25)","v":"Individual Ret., %"},{"$f":"IF('Aggregate Classification'!$B$26=\"\",\"\",'Aggregate Classification'!$B$26)","v":"Passing"},{"$f":"IF('Aggregate Classification'!$B$29=\"\",\"\",'Aggregate Classification'!$B$29)","v":"3/4\""},{"$f":"IF('Aggregate Classification'!$B$25=\"\",\"\",'Aggregate Classification'!$B$25)","v":"Sieve Size:"},{"$f":"IF('Aggregate Classification'!$C$26=\"\",\"\",'Aggregate Classification'!$C$26)","v":"Retained"},{"$f":"'Aggregate Classification'!$C$29","v":"1/2\""}]
[561,{"$f":"IF('Aggregate Classification'!$L$30=\"\",\"\",'Aggregate Classification'!$L$30)","v":""},{"$f":"IF('Aggregate Classification'!$B$4=\"\",\"\",'Aggregate Classification'!$B$4)","v":"HMACP MIXTURE DESIGN : Aggregate Classification"},{"$f":"IF('Aggregate Classification'!$L$19=\"\",\"\",'Aggregate Classification'!$L$19)","v":"Bin No.3"},{"$f":"IF('Aggregate Classification'!$L$25=\"\",\"\",'Aggregate Classification'!$L$25)","v":"Individual Ret., %"},{"$f":"IF('Aggregate Classification'!$B$26=\"\",\"\",'Aggregate Classification'!$B$26)","v":"Passing"},{"$f":"IF('Aggregate Classification'!$B$30=\"\",\"\",'Aggregate Classification'!$B$30)","v":"1/2\""},{"$f":"IF('Aggregate Classification'!$B$25=\"\",\"\",'Aggregate Classification'!$B$25)","v":"Sieve Size:"},{"$f":"IF('Aggregate Classification'!$C$26=\"\",\"\",'Aggregate Classification'!$C$26)","v":"Retained"},{"$f":"'Aggregate Classification'!$C$30","v":"3/8\""}]
[562,{"$f":"IF('Aggregate Classification'!$L$31=\"\",\"\",'Aggregate Classification'!$L$31)","v":""},{"$f":"IF('Aggregate Classification'!$B$4=\"\",\"\",'Aggregate Classification'!$B$4)","v":"HMACP MIXTURE DESIGN : Aggregate Classification"},{"$f":"IF('Aggregate Classification'!$L$19=\"\",\"\",'Aggregate Classification'!$L$19)","v":"Bin No.3"},{"$f":"IF('Aggregate Classification'!$L$25=\"\",\"\",'Aggregate Classification'!$L$25)","v":"Individual Ret., %"},{"$f":"IF('Aggregate Classification'!$B$26=\"\",\"\",'Aggregate Classification'!$B$26)","v":"Passing"},{"$f":"IF('Aggregate Classification'!$B$31=\"\",\"\",'Aggregate Classification'!$B$31)","v":"3/8\""},{"$f":"IF('Aggregate Classification'!$B$25=\"\",\"\",'Aggregate Classification'!$B$25)","v":"Sieve Size:"},{"$f":"IF('Aggregate Classification'!$C$26=\"\",\"\",'Aggregate Classification'!$C$26)","v":"Retained"},{"$f":"'Aggregate Classification'!$C$31","v":"No. 4"}]
[563,{"$f":"IF('Aggregate Classification'!$L$32=\"\",\"\",'Aggregate Classification'!$L$32)","v":""},{"$f":"IF('Aggregate Classification'!$B$4=\"\",\"\",'Aggregate Classification'!$B$4)","v":"HMACP MIXTURE DESIGN : Aggregate Classification"},{"$f":"IF('Aggregate Classification'!$L$19=\"\",\"\",'Aggregate Classification'!$L$19)","v":"Bin No.3"},{"$f":"IF('Aggregate Classification'!$L$25=\"\",\"\",'Aggregate Classification'!$L$25)","v":"Individual Ret., %"},{"$f":"IF('Aggregate Classification'!$B$26=\"\",\"\",'Aggregate Classification'!$B$26)","v":"Passing"},{"$f":"IF('Aggregate Classification'!$B$32=\"\",\"\",'Aggregate Classification'!$B$32)","v":"No. 4"},{"$f":"IF('Aggregate Classification'!$B$25=\"\",\"\",'Aggregate Classification'!$B$25)","v":"Sieve Size:"},{"$f":"IF('Aggregate Classification'!$C$26=\"\",\"\",'Aggregate Classification'!$C$26)","v":"Retained"},{"$f":"'Aggregate Classification'!$C$32","v":"No. 8"}]
[564,{"$f":"IF('Aggregate Classification'!$L$33=\"\",\"\",'Aggregate Classification'!$L$33)","v":""},{"$f":"IF('Aggregate Classification'!$B$4=\"\",\"\",'Aggregate Classification'!$B$4)","v":"HMACP MIXTURE DESIGN : Aggregate Classification"},{"$f":"IF('Aggregate Classification'!$L$19=\"\",\"\",'Aggregate Classification'!$L$19)","v":"Bin No.3"},{"$f":"IF('Aggregate Classification'!$L$25=\"\",\"\",'Aggregate Classification'!$L$25)","v":"Individual Ret., %"},{"$f":"IF('Aggregate Classification'!$B$26=\"\",\"\",'Aggregate Classification'!$B$26)","v":"Passing"},{"$f":"IF('Aggregate Classification'!$B$33=\"\",\"\",'Aggregate Classification'!$B$33)","v":"No. 8"},{"$f":"IF('Aggregate Classification'!$B$25=\"\",\"\",'Aggregate Classification'!$B$25)","v":"Sieve Size:"},{"$f":"IF('Aggregate Classification'!$C$26=\"\",\"\",'Aggregate Classification'!$C$26)","v":"Retained"},{"$f":"'Aggregate Classification'!$C$33","v":"No. 16"}]
[565,{"$f":"IF('Aggregate Classification'!$L$34=\"\",\"\",'Aggregate Classification'!$L$34)","v":""},{"$f":"IF('Aggregate Classification'!$B$4=\"\",\"\",'Aggregate Classification'!$B$4)","v":"HMACP MIXTURE DESIGN : Aggregate Classification"},{"$f":"IF('Aggregate Classification'!$L$19=\"\",\"\",'Aggregate Classification'!$L$19)","v":"Bin No.3"},{"$f":"IF('Aggregate Classification'!$L$25=\"\",\"\",'Aggregate Classification'!$L$25)","v":"Individual Ret., %"},{"$f":"IF('Aggregate Classification'!$B$26=\"\",\"\",'Aggregate Classification'!$B$26)","v":"Passing"},{"$f":"IF('Aggregate Classification'!$B$34=\"\",\"\",'Aggregate Classification'!$B$34)","v":"No. 16"},{"$f":"IF('Aggregate Classification'!$B$25=\"\",\"\",'Aggregate Classification'!$B$25)","v":"Sieve Size:"},{"$f":"IF('Aggregate Classification'!$C$26=\"\",\"\",'Aggregate Classification'!$C$26)","v":"Retained"},{"$f":"'Aggregate Classification'!$C$34","v":"No. 30"}]
[566,{"$f":"IF('Aggregate Classification'!$L$35=\"\",\"\",'Aggregate Classification'!$L$35)","v":""},{"$f":"IF('Aggregate Classification'!$B$4=\"\",\"\",'Aggregate Classification'!$B$4)","v":"HMACP MIXTURE DESIGN : Aggregate Classification"},{"$f":"IF('Aggregate Classification'!$L$19=\"\",\"\",'Aggregate Classification'!$L$19)","v":"Bin No.3"},{"$f":"IF('Aggregate Classification'!$L$25=\"\",\"\",'Aggregate Classification'!$L$25)","v":"Individual Ret., %"},{"$f":"IF('Aggregate Classification'!$B$26=\"\",\"\",'Aggregate Classification'!$B$26)","v":"Passing"},{"$f":"IF('Aggregate Classification'!$B$35=\"\",\"\",'Aggregate Classification'!$B$35)","v":"No. 30"},{"$f":"IF('Aggregate Classification'!$B$25=\"\",\"\",'Aggregate Classification'!$B$25)","v":"Sieve Size:"},{"$f":"IF('Aggregate Classification'!$C$26=\"\",\"\",'Aggregate Classification'!$C$26)","v":"Retained"},{"$f":"'Aggregate Classification'!$C$35","v":"No. 50"}]
[567,{"$f":"IF('Aggregate Classification'!$L$36=\"\",\"\",'Aggregate Classification'!$L$36)","v":""},{"$f":"IF('Aggregate Classification'!$B$4=\"\",\"\",'Aggregate Classification'!$B$4)","v":"HMACP MIXTURE DESIGN : Aggregate Classification"},{"$f":"IF('Aggregate Classification'!$L$19=\"\",\"\",'Aggregate Classification'!$L$19)","v":"Bin No.3"},{"$f":"IF('Aggregate Classification'!$L$25=\"\",\"\",'Aggregate Classification'!$L$25)","v":"Individual Ret., %"},{"$f":"IF('Aggregate Classification'!$B$26=\"\",\"\",'Aggregate Classification'!$B$26)","v":"Passing"},{"$f":"IF('Aggregate Classification'!$B$36=\"\",\"\",'Aggregate Classification'!$B$36)","v":"No. 50"},{"$f":"IF('Aggregate Classification'!$B$25=\"\",\"\",'Aggregate Classification'!$B$25)","v":"Sieve Size:"},{"$f":"IF('Aggregate Classification'!$C$26=\"\",\"\",'Aggregate Classification'!$C$26)","v":"Retained"},{"$f":"'Aggregate Classification'!$C$36","v":"No. 200"}]
[568,{"$f":"IF('Aggregate Classification'!$L$37=\"\",\"\",'Aggregate Classification'!$L$37)","v":""},{"$f":"IF('Aggregate Classification'!$B$4=\"\",\"\",'Aggregate Classification'!$B$4)","v":"HMACP MIXTURE DESIGN : Aggregate Classification"},{"$f":"IF('Aggregate Classification'!$L$19=\"\",\"\",'Aggregate Classification'!$L$19)","v":"Bin No.3"},{"$f":"IF('Aggregate Classification'!$L$25=\"\",\"\",'Aggregate Classification'!$L$25)","v":"Individual Ret., %"},{"$f":"IF('Aggregate Classification'!$B$26=\"\",\"\",'Aggregate Classification'!$B$26)","v":"Passing"},{"$f":"IF('Aggregate Classification'!$B$37=\"\",\"\",'Aggregate Classification'!$B$37)","v":"No. 200"},{"$f":"IF('Aggregate Classification'!$B$25=\"\",\"\",'Aggregate Classification'!$B$25)","v":"Sieve Size:"},{"$f":"IF('Aggregate Classification'!$C$26=\"\",\"\",'Aggregate Classification'!$C$26)","v":"Retained"},{"$f":"'Aggregate Classification'!$C$37","v":"Pan"}]
[569,{"$f":"IF('Aggregate Classification'!$L$38=\"\",\"\",'Aggregate Classification'!$L$38)","v":""},{"$f":"IF('Aggregate Classification'!$B$4=\"\",\"\",'Aggregate Classification'!$B$4)","v":"HMACP MIXTURE DESIGN : Aggregate Classification"},{"$f":"IF('Aggregate Classification'!$L$19=\"\",\"\",'Aggregate Classification'!$L$19)","v":"Bin No.3"},{"$f":"IF('Aggregate Classification'!$L$25=\"\",\"\",'Aggregate Classification'!$L$25)","v":"Individual Ret., %"},{"$f":"IF('Aggregate Classification'!$B$38=\"\",\"\",'Aggregate Classification'!$B$38)","v":"Total:"}]
[570,{"$f":"IF('Aggregate Classification'!$L$39=\"\",\"\",'Aggregate Classification'!$L$39)","v":""},{"$f":"IF('Aggregate Classification'!$B$4=\"\",\"\",'Aggregate Classification'!$B$4)","v":"HMACP MIXTURE DESIGN : Aggregate Classification"},{"$f":"IF('Aggregate Classification'!$L$19=\"\",\"\",'Aggregate Classification'!$L$19)","v":"Bin No.3"},{"$f":"IF('Aggregate Classification'!$L$25=\"\",\"\",'Aggregate Classification'!$L$25)","v":"Individual Ret., %"},{"$f":"IF('Aggregate Classification'!$B$39=\"\",\"\",'Aggregate Classification'!$B$39)","v":"Percent of plus No. 4"}]
[571,{"$f":"IF('Aggregate Classification'!$P$23=\"\",\"\",'Aggregate Classification'!$P$23)","v":""},{"$f":"IF('Aggregate Classification'!$B$4=\"\",\"\",'Aggregate Classification'!$B$4)","v":"HMACP MIXTURE DESIGN : Aggregate Classification"},{"$f":"IF('Aggregate Classification'!$P$19=\"\",\"\",'Aggregate Classification'!$P$19)","v":"Bin No.4"},{"$f":"IF('Aggregate Classification'!$B$23=\"\",\"\",'Aggregate Classification'!$B$23)","v":"Class (A) Rock (Y/N):"}]
[572,{"$f":"IF('Aggregate Classification'!$P$27=\"\",\"\",'Aggregate Classification'!$P$27)","v":""},{"$f":"IF('Aggregate Classification'!$B$4=\"\",\"\",'Aggregate Classification'!$B$4)","v":"HMACP MIXTURE DESIGN : Aggregate Classification"},{"$f":"IF('Aggregate Classification'!$P$19=\"\",\"\",'Aggregate Classification'!$P$19)","v":"Bin No.4"},{"$f":"IF('Aggregate Classification'!$P$25=\"\",\"\",'Aggregate Classification'!$P$25)","v":"Individual Ret., %"},{"$f":"IF('Aggregate Classification'!$B$26=\"\",\"\",'Aggregate Classification'!$B$26)","v":"Passing"},{"$f":"IF('Aggregate Classification'!$B$27=\"\",\"\",'Aggregate Classification'!$B$27)","v":"-"},{"$f":"IF('Aggregate Classification'!$B$25=\"\",\"\",'Aggregate Classification'!$B$25)","v":"Sieve Size:"},{"$f":"IF('Aggregate Classification'!$C$26=\"\",\"\",'Aggregate Classification'!$C$26)","v":"Retained"},{"$f":"'Aggregate Classification'!$C$27","v":"1\""}]
[573,{"$f":"IF('Aggregate Classification'!$P$28=\"\",\"\",'Aggregate Classification'!$P$28)","v":""},{"$f":"IF('Aggregate Classification'!$B$4=\"\",\"\",'Aggregate Classification'!$B$4)","v":"HMACP MIXTURE DESIGN : Aggregate Classification"},{"$f":"IF('Aggregate Classification'!$P$19=\"\",\"\",'Aggregate Classification'!$P$19)","v":"Bin No.4"},{"$f":"IF('Aggregate Classification'!$P$25=\"\",\"\",'Aggregate Classification'!$P$25)","v":"Individual Ret., %"},{"$f":"IF('Aggregate Classification'!$B$26=\"\",\"\",'Aggregate Classification'!$B$26)","v":"Passing"},{"$f":"IF('Aggregate Classification'!$B$28=\"\",\"\",'Aggregate Classification'!$B$28)","v":"1\""},{"$f":"IF('Aggregate Classification'!$B$25=\"\",\"\",'Aggregate Classification'!$B$25)","v":"Sieve Size:"},{"$f":"IF('Aggregate Classification'!$C$26=\"\",\"\",'Aggregate Classification'!$C$26)","v":"Retained"},{"$f":"'Aggregate Classification'!$C$28","v":"3/4\""}]
[574,{"$f":"IF('Aggregate Classification'!$P$29=\"\",\"\",'Aggregate Classification'!$P$29)","v":""},{"$f":"IF('Aggregate Classification'!$B$4=\"\",\"\",'Aggregate Classification'!$B$4)","v":"HMACP MIXTURE DESIGN : Aggregate Classification"},{"$f":"IF('Aggregate Classification'!$P$19=\"\",\"\",'Aggregate Classification'!$P$19)","v":"Bin No.4"},{"$f":"IF('Aggregate Classification'!$P$25=\"\",\"\",'Aggregate Classification'!$P$25)","v":"Individual Ret., %"},{"$f":"IF('Aggregate Classification'!$B$26=\"\",\"\",'Aggregate Classification'!$B$26)","v":"Passing"},{"$f":"IF('Aggregate Classification'!$B$29=\"\",\"\",'Aggregate Classification'!$B$29)","v":"3/4\""},{"$f":"IF('Aggregate Classification'!$B$25=\"\",\"\",'Aggregate Classification'!$B$25)","v":"Sieve Size:"},{"$f":"IF('Aggregate Classification'!$C$26=\"\",\"\",'Aggregate Classification'!$C$26)","v":"Retained"},{"$f":"'Aggregate Classification'!$C$29","v":"1/2\""}]
[575,{"$f":"IF('Aggregate Classification'!$P$30=\"\",\"\",'Aggregate Classification'!$P$30)","v":""},{"$f":"IF('Aggregate Classification'!$B$4=\"\",\"\",'Aggregate Classification'!$B$4)","v":"HMACP MIXTURE DESIGN : Aggregate Classification"},{"$f":"IF('Aggregate Classification'!$P$19=\"\",\"\",'Aggregate Classification'!$P$19)","v":"Bin No.4"},{"$f":"IF('Aggregate Classification'!$P$25=\"\",\"\",'Aggregate Classification'!$P$25)","v":"Individual Ret., %"},{"$f":"IF('Aggregate Classification'!$B$26=\"\",\"\",'Aggregate Classification'!$B$26)","v":"Passing"},{"$f":"IF('Aggregate Classification'!$B$30=\"\",\"\",'Aggregate Classification'!$B$30)","v":"1/2\""},{"$f":"IF('Aggregate Classification'!$B$25=\"\",\"\",'Aggregate Classification'!$B$25)","v":"Sieve Size:"},{"$f":"IF('Aggregate Classification'!$C$26=\"\",\"\",'Aggregate Classification'!$C$26)","v":"Retained"},{"$f":"'Aggregate Classification'!$C$30","v":"3/8\""}]
[576,{"$f":"IF('Aggregate Classification'!$P$31=\"\",\"\",'Aggregate Classification'!$P$31)","v":""},{"$f":"IF('Aggregate Classification'!$B$4=\"\",\"\",'Aggregate Classification'!$B$4)","v":"HMACP MIXTURE DESIGN : Aggregate Classification"},{"$f":"IF('Aggregate Classification'!$P$19=\"\",\"\",'Aggregate Classification'!$P$19)","v":"Bin No.4"},{"$f":"IF('Aggregate Classification'!$P$25=\"\",\"\",'Aggregate Classification'!$P$25)","v":"Individual Ret., %"},{"$f":"IF('Aggregate Classification'!$B$26=\"\",\"\",'Aggregate Classification'!$B$26)","v":"Passing"},{"$f":"IF('Aggregate Classification'!$B$31=\"\",\"\",'Aggregate Classification'!$B$31)","v":"3/8\""},{"$f":"IF('Aggregate Classification'!$B$25=\"\",\"\",'Aggregate Classification'!$B$25)","v":"Sieve Size:"},{"$f":"IF('Aggregate Classification'!$C$26=\"\",\"\",'Aggregate Classification'!$C$26)","v":"Retained"},{"$f":"'Aggregate Classification'!$C$31","v":"No. 4"}]
[577,{"$f":"IF('Aggregate Classification'!$P$32=\"\",\"\",'Aggregate Classification'!$P$32)","v":""},{"$f":"IF('Aggregate Classification'!$B$4=\"\",\"\",'Aggregate Classification'!$B$4)","v":"HMACP MIXTURE DESIGN : Aggregate Classification"},{"$f":"IF('Aggregate Classification'!$P$19=\"\",\"\",'Aggregate Classification'!$P$19)","v":"Bin No.4"},{"$f":"IF('Aggregate Classification'!$P$25=\"\",\"\",'Aggregate Classification'!$P$25)","v":"Individual Ret., %"},{"$f":"IF('Aggregate Classification'!$B$26=\"\",\"\",'Aggregate Classification'!$B$26)","v":"Passing"},{"$f":"IF('Aggregate Classification'!$B$32=\"\",\"\",'Aggregate Classification'!$B$32)","v":"No. 4"},{"$f":"IF('Aggregate Classification'!$B$25=\"\",\"\",'Aggregate Classification'!$B$25)","v":"Sieve Size:"},{"$f":"IF('Aggregate Classification'!$C$26=\"\",\"\",'Aggregate Classification'!$C$26)","v":"Retained"},{"$f":"'Aggregate Classification'!$C$32","v":"No. 8"}]
[578,{"$f":"IF('Aggregate Classification'!$P$33=\"\",\"\",'Aggregate Classification'!$P$33)","v":""},{"$f":"IF('Aggregate Classification'!$B$4=\"\",\"\",'Aggregate Classification'!$B$4)","v":"HMACP MIXTURE DESIGN : Aggregate Classification"},{"$f":"IF('Aggregate Classification'!$P$19=\"\",\"\",'Aggregate Classification'!$P$19)","v":"Bin No.4"},{"$f":"IF('Aggregate Classification'!$P$25=\"\",\"\",'Aggregate Classification'!$P$25)","v":"Individual Ret., %"},{"$f":"IF('Aggregate Classification'!$B$26=\"\",\"\",'Aggregate Classification'!$B$26)","v":"Passing"},{"$f":"IF('Aggregate Classification'!$B$33=\"\",\"\",'Aggregate Classification'!$B$33)","v":"No. 8"},{"$f":"IF('Aggregate Classification'!$B$25=\"\",\"\",'Aggregate Classification'!$B$25)","v":"Sieve Size:"},{"$f":"IF('Aggregate Classification'!$C$26=\"\",\"\",'Aggregate Classification'!$C$26)","v":"Retained"},{"$f":"'Aggregate Classification'!$C$33","v":"No. 16"}]
[579,{"$f":"IF('Aggregate Classification'!$P$34=\"\",\"\",'Aggregate Classification'!$P$34)","v":""},{"$f":"IF('Aggregate Classification'!$B$4=\"\",\"\",'Aggregate Classification'!$B$4)","v":"HMACP MIXTURE DESIGN : Aggregate Classification"},{"$f":"IF('Aggregate Classification'!$P$19=\"\",\"\",'Aggregate Classification'!$P$19)","v":"Bin No.4"},{"$f":"IF('Aggregate Classification'!$P$25=\"\",\"\",'Aggregate Classification'!$P$25)","v":"Individual Ret., %"},{"$f":"IF('Aggregate Classification'!$B$26=\"\",\"\",'Aggregate Classification'!$B$26)","v":"Passing"},{"$f":"IF('Aggregate Classification'!$B$34=\"\",\"\",'Aggregate Classification'!$B$34)","v":"No. 16"},{"$f":"IF('Aggregate Classification'!$B$25=\"\",\"\",'Aggregate Classification'!$B$25)","v":"Sieve Size:"},{"$f":"IF('Aggregate Classification'!$C$26=\"\",\"\",'Aggregate Classification'!$C$26)","v":"Retained"},{"$f":"'Aggregate Classification'!$C$34","v":"No. 30"}]
[580,{"$f":"IF('Aggregate Classification'!$P$35=\"\",\"\",'Aggregate Classification'!$P$35)","v":""},{"$f":"IF('Aggregate Classification'!$B$4=\"\",\"\",'Aggregate Classification'!$B$4)","v":"HMACP MIXTURE DESIGN : Aggregate Classification"},{"$f":"IF('Aggregate Classification'!$P$19=\"\",\"\",'Aggregate Classification'!$P$19)","v":"Bin No.4"},{"$f":"IF('Aggregate Classification'!$P$25=\"\",\"\",'Aggregate Classification'!$P$25)","v":"Individual Ret., %"},{"$f":"IF('Aggregate Classification'!$B$26=\"\",\"\",'Aggregate Classification'!$B$26)","v":"Passing"},{"$f":"IF('Aggregate Classification'!$B$35=\"\",\"\",'Aggregate Classification'!$B$35)","v":"No. 30"},{"$f":"IF('Aggregate Classification'!$B$25=\"\",\"\",'Aggregate Classification'!$B$25)","v":"Sieve Size:"},{"$f":"IF('Aggregate Classification'!$C$26=\"\",\"\",'Aggregate Classification'!$C$26)","v":"Retained"},{"$f":"'Aggregate Classification'!$C$35","v":"No. 50"}]
[581,{"$f":"IF('Aggregate Classification'!$P$36=\"\",\"\",'Aggregate Classification'!$P$36)","v":""},{"$f":"IF('Aggregate Classification'!$B$4=\"\",\"\",'Aggregate Classification'!$B$4)","v":"HMACP MIXTURE DESIGN : Aggregate Classification"},{"$f":"IF('Aggregate Classification'!$P$19=\"\",\"\",'Aggregate Classification'!$P$19)","v":"Bin No.4"},{"$f":"IF('Aggregate Classification'!$P$25=\"\",\"\",'Aggregate Classification'!$P$25)","v":"Individual Ret., %"},{"$f":"IF('Aggregate Classification'!$B$26=\"\",\"\",'Aggregate Classification'!$B$26)","v":"Passing"},{"$f":"IF('Aggregate Classification'!$B$36=\"\",\"\",'Aggregate Classification'!$B$36)","v":"No. 50"},{"$f":"IF('Aggregate Classification'!$B$25=\"\",\"\",'Aggregate Classification'!$B$25)","v":"Sieve Size:"},{"$f":"IF('Aggregate Classification'!$C$26=\"\",\"\",'Aggregate Classification'!$C$26)","v":"Retained"},{"$f":"'Aggregate Classification'!$C$36","v":"No. 200"}]
[582,{"$f":"IF('Aggregate Classification'!$P$37=\"\",\"\",'Aggregate Classification'!$P$37)","v":""},{"$f":"IF('Aggregate Classification'!$B$4=\"\",\"\",'Aggregate Classification'!$B$4)","v":"HMACP MIXTURE DESIGN : Aggregate Classification"},{"$f":"IF('Aggregate Classification'!$P$19=\"\",\"\",'Aggregate Classification'!$P$19)","v":"Bin No.4"},{"$f":"IF('Aggregate Classification'!$P$25=\"\",\"\",'Aggregate Classification'!$P$25)","v":"Individual Ret., %"},{"$f":"IF('Aggregate Classification'!$B$26=\"\",\"\",'Aggregate Classification'!$B$26)","v":"Passing"},{"$f":"IF('Aggregate Classification'!$B$37=\"\",\"\",'Aggregate Classification'!$B$37)","v":"No. 200"},{"$f":"IF('Aggregate Classification'!$B$25=\"\",\"\",'Aggregate Classification'!$B$25)","v":"Sieve Size:"},{"$f":"IF('Aggregate Classification'!$C$26=\"\",\"\",'Aggregate Classification'!$C$26)","v":"Retained"},{"$f":"'Aggregate Classification'!$C$37","v":"Pan"}]
[583,{"$f":"IF('Aggregate Classification'!$P$38=\"\",\"\",'Aggregate Classification'!$P$38)","v":""},{"$f":"IF('Aggregate Classification'!$B$4=\"\",\"\",'Aggregate Classification'!$B$4)","v":"HMACP MIXTURE DESIGN : Aggregate Classification"},{"$f":"IF('Aggregate Classification'!$P$19=\"\",\"\",'Aggregate Classification'!$P$19)","v":"Bin No.4"},{"$f":"IF('Aggregate Classification'!$P$25=\"\",\"\",'Aggregate Classification'!$P$25)","v":"Individual Ret., %"},{"$f":"IF('Aggregate Classification'!$B$38=\"\",\"\",'Aggregate Classification'!$B$38)","v":"Total:"}]
[584,{"$f":"IF('Aggregate Classification'!$P$39=\"\",\"\",'Aggregate Classification'!$P$39)","v":""},{"$f":"IF('Aggregate Classification'!$B$4=\"\",\"\",'Aggregate Classification'!$B$4)","v":"HMACP MIXTURE DESIGN : Aggregate Classification"},{"$f":"IF('Aggregate Classification'!$P$19=\"\",\"\",'Aggregate Classification'!$P$19)","v":"Bin No.4"},{"$f":"IF('Aggregate Classification'!$P$25=\"\",\"\",'Aggregate Classification'!$P$25)","v":"Individual Ret., %"},{"$f":"IF('Aggregate Classification'!$B$39=\"\",\"\",'Aggregate Classification'!$B$39)","v":"Percent of plus No. 4"}]
[585,{"$f":"IF('Aggregate Classification'!$T$23=\"\",\"\",'Aggregate Classification'!$T$23)","v":""},{"$f":"IF('Aggregate Classification'!$B$4=\"\",\"\",'Aggregate Classification'!$B$4)","v":"HMACP MIXTURE DESIGN : Aggregate Classification"},{"$f":"IF('Aggregate Classification'!$T$19=\"\",\"\",'Aggregate Classification'!$T$19)","v":"Bin No.5"},{"$f":"IF('Aggregate Classification'!$B$23=\"\",\"\",'Aggregate Classification'!$B$23)","v":"Class (A) Rock (Y/N):"}]
[586,{"$f":"IF('Aggregate Classification'!$T$27=\"\",\"\",'Aggregate Classification'!$T$27)","v":""},{"$f":"IF('Aggregate Classification'!$B$4=\"\",\"\",'Aggregate Classification'!$B$4)","v":"HMACP MIXTURE DESIGN : Aggregate Classification"},{"$f":"IF('Aggregate Classification'!$T$19=\"\",\"\",'Aggregate Classification'!$T$19)","v":"Bin No.5"},{"$f":"IF('Aggregate Classification'!$T$25=\"\",\"\",'Aggregate Classification'!$T$25)","v":"Individual Ret., %"},{"$f":"IF('Aggregate Classification'!$B$26=\"\",\"\",'Aggregate Classification'!$B$26)","v":"Passing"},{"$f":"IF('Aggregate Classification'!$B$27=\"\",\"\",'Aggregate Classification'!$B$27)","v":"-"},{"$f":"IF('Aggregate Classification'!$B$25=\"\",\"\",'Aggregate Classification'!$B$25)","v":"Sieve Size:"},{"$f":"IF('Aggregate Classification'!$C$26=\"\",\"\",'Aggregate Classification'!$C$26)","v":"Retained"},{"$f":"'Aggregate Classification'!$C$27","v":"1\""}]
[587,{"$f":"IF('Aggregate Classification'!$T$28=\"\",\"\",'Aggregate Classification'!$T$28)","v":""},{"$f":"IF('Aggregate Classification'!$B$4=\"\",\"\",'Aggregate Classification'!$B$4)","v":"HMACP MIXTURE DESIGN : Aggregate Classification"},{"$f":"IF('Aggregate Classification'!$T$19=\"\",\"\",'Aggregate Classification'!$T$19)","v":"Bin No.5"},{"$f":"IF('Aggregate Classification'!$T$25=\"\",\"\",'Aggregate Classification'!$T$25)","v":"Individual Ret., %"},{"$f":"IF('Aggregate Classification'!$B$26=\"\",\"\",'Aggregate Classification'!$B$26)","v":"Passing"},{"$f":"IF('Aggregate Classification'!$B$28=\"\",\"\",'Aggregate Classification'!$B$28)","v":"1\""},{"$f":"IF('Aggregate Classification'!$B$25=\"\",\"\",'Aggregate Classification'!$B$25)","v":"Sieve Size:"},{"$f":"IF('Aggregate Classification'!$C$26=\"\",\"\",'Aggregate Classification'!$C$26)","v":"Retained"},{"$f":"'Aggregate Classification'!$C$28","v":"3/4\""}]
[588,{"$f":"IF('Aggregate Classification'!$T$29=\"\",\"\",'Aggregate Classification'!$T$29)","v":""},{"$f":"IF('Aggregate Classification'!$B$4=\"\",\"\",'Aggregate Classification'!$B$4)","v":"HMACP MIXTURE DESIGN : Aggregate Classification"},{"$f":"IF('Aggregate Classification'!$T$19=\"\",\"\",'Aggregate Classification'!$T$19)","v":"Bin No.5"},{"$f":"IF('Aggregate Classification'!$T$25=\"\",\"\",'Aggregate Classification'!$T$25)","v":"Individual Ret., %"},{"$f":"IF('Aggregate Classification'!$B$26=\"\",\"\",'Aggregate Classification'!$B$26)","v":"Passing"},{"$f":"IF('Aggregate Classification'!$B$29=\"\",\"\",'Aggregate Classification'!$B$29)","v":"3/4\""},{"$f":"IF('Aggregate Classification'!$B$25=\"\",\"\",'Aggregate Classification'!$B$25)","v":"Sieve Size:"},{"$f":"IF('Aggregate Classification'!$C$26=\"\",\"\",'Aggregate Classification'!$C$26)","v":"Retained"},{"$f":"'Aggregate Classification'!$C$29","v":"1/2\""}]
[589,{"$f":"IF('Aggregate Classification'!$T$30=\"\",\"\",'Aggregate Classification'!$T$30)","v":""},{"$f":"IF('Aggregate Classification'!$B$4=\"\",\"\",'Aggregate Classification'!$B$4)","v":"HMACP MIXTURE DESIGN : Aggregate Classification"},{"$f":"IF('Aggregate Classification'!$T$19=\"\",\"\",'Aggregate Classification'!$T$19)","v":"Bin No.5"},{"$f":"IF('Aggregate Classification'!$T$25=\"\",\"\",'Aggregate Classification'!$T$25)","v":"Individual Ret., %"},{"$f":"IF('Aggregate Classification'!$B$26=\"\",\"\",'Aggregate Classification'!$B$26)","v":"Passing"},{"$f":"IF('Aggregate Classification'!$B$30=\"\",\"\",'Aggregate Classification'!$B$30)","v":"1/2\""},{"$f":"IF('Aggregate Classification'!$B$25=\"\",\"\",'Aggregate Classification'!$B$25)","v":"Sieve Size:"},{"$f":"IF('Aggregate Classification'!$C$26=\"\",\"\",'Aggregate Classification'!$C$26)","v":"Retained"},{"$f":"'Aggregate Classification'!$C$30","v":"3/8\""}]
[590,{"$f":"IF('Aggregate Classification'!$T$31=\"\",\"\",'Aggregate Classification'!$T$31)","v":""},{"$f":"IF('Aggregate Classification'!$B$4=\"\",\"\",'Aggregate Classification'!$B$4)","v":"HMACP MIXTURE DESIGN : Aggregate Classification"},{"$f":"IF('Aggregate Classification'!$T$19=\"\",\"\",'Aggregate Classification'!$T$19)","v":"Bin No.5"},{"$f":"IF('Aggregate Classification'!$T$25=\"\",\"\",'Aggregate Classification'!$T$25)","v":"Individual Ret., %"},{"$f":"IF('Aggregate Classification'!$B$26=\"\",\"\",'Aggregate Classification'!$B$26)","v":"Passing"},{"$f":"IF('Aggregate Classification'!$B$31=\"\",\"\",'Aggregate Classification'!$B$31)","v":"3/8\""},{"$f":"IF('Aggregate Classification'!$B$25=\"\",\"\",'Aggregate Classification'!$B$25)","v":"Sieve Size:"},{"$f":"IF('Aggregate Classification'!$C$26=\"\",\"\",'Aggregate Classification'!$C$26)","v":"Retained"},{"$f":"'Aggregate Classification'!$C$31","v":"No. 4"}]
[591,{"$f":"IF('Aggregate Classification'!$T$32=\"\",\"\",'Aggregate Classification'!$T$32)","v":""},{"$f":"IF('Aggregate Classification'!$B$4=\"\",\"\",'Aggregate Classification'!$B$4)","v":"HMACP MIXTURE DESIGN : Aggregate Classification"},{"$f":"IF('Aggregate Classification'!$T$19=\"\",\"\",'Aggregate Classification'!$T$19)","v":"Bin No.5"},{"$f":"IF('Aggregate Classification'!$T$25=\"\",\"\",'Aggregate Classification'!$T$25)","v":"Individual Ret., %"},{"$f":"IF('Aggregate Classification'!$B$26=\"\",\"\",'Aggregate Classification'!$B$26)","v":"Passing"},{"$f":"IF('Aggregate Classification'!$B$32=\"\",\"\",'Aggregate Classification'!$B$32)","v":"No. 4"},{"$f":"IF('Aggregate Classification'!$B$25=\"\",\"\",'Aggregate Classification'!$B$25)","v":"Sieve Size:"},{"$f":"IF('Aggregate Classification'!$C$26=\"\",\"\",'Aggregate Classification'!$C$26)","v":"Retained"},{"$f":"'Aggregate Classification'!$C$32","v":"No. 8"}]
[592,{"$f":"IF('Aggregate Classification'!$T$33=\"\",\"\",'Aggregate Classification'!$T$33)","v":""},{"$f":"IF('Aggregate Classification'!$B$4=\"\",\"\",'Aggregate Classification'!$B$4)","v":"HMACP MIXTURE DESIGN : Aggregate Classification"},{"$f":"IF('Aggregate Classification'!$T$19=\"\",\"\",'Aggregate Classification'!$T$19)","v":"Bin No.5"},{"$f":"IF('Aggregate Classification'!$T$25=\"\",\"\",'Aggregate Classification'!$T$25)","v":"Individual Ret., %"},{"$f":"IF('Aggregate Classification'!$B$26=\"\",\"\",'Aggregate Classification'!$B$26)","v":"Passing"},{"$f":"IF('Aggregate Classification'!$B$33=\"\",\"\",'Aggregate Classification'!$B$33)","v":"No. 8"},{"$f":"IF('Aggregate Classification'!$B$25=\"\",\"\",'Aggregate Classification'!$B$25)","v":"Sieve Size:"},{"$f":"IF('Aggregate Classification'!$C$26=\"\",\"\",'Aggregate Classification'!$C$26)","v":"Retained"},{"$f":"'Aggregate Classification'!$C$33","v":"No. 16"}]
[593,{"$f":"IF('Aggregate Classification'!$T$34=\"\",\"\",'Aggregate Classification'!$T$34)","v":""},{"$f":"IF('Aggregate Classification'!$B$4=\"\",\"\",'Aggregate Classification'!$B$4)","v":"HMACP MIXTURE DESIGN : Aggregate Classification"},{"$f":"IF('Aggregate Classification'!$T$19=\"\",\"\",'Aggregate Classification'!$T$19)","v":"Bin No.5"},{"$f":"IF('Aggregate Classification'!$T$25=\"\",\"\",'Aggregate Classification'!$T$25)","v":"Individual Ret., %"},{"$f":"IF('Aggregate Classification'!$B$26=\"\",\"\",'Aggregate Classification'!$B$26)","v":"Passing"},{"$f":"IF('Aggregate Classification'!$B$34=\"\",\"\",'Aggregate Classification'!$B$34)","v":"No. 16"},{"$f":"IF('Aggregate Classification'!$B$25=\"\",\"\",'Aggregate Classification'!$B$25)","v":"Sieve Size:"},{"$f":"IF('Aggregate Classification'!$C$26=\"\",\"\",'Aggregate Classification'!$C$26)","v":"Retained"},{"$f":"'Aggregate Classification'!$C$34","v":"No. 30"}]
[594,{"$f":"IF('Aggregate Classification'!$T$35=\"\",\"\",'Aggregate Classification'!$T$35)","v":""},{"$f":"IF('Aggregate Classification'!$B$4=\"\",\"\",'Aggregate Classification'!$B$4)","v":"HMACP MIXTURE DESIGN : Aggregate Classification"},{"$f":"IF('Aggregate Classification'!$T$19=\"\",\"\",'Aggregate Classification'!$T$19)","v":"Bin No.5"},{"$f":"IF('Aggregate Classification'!$T$25=\"\",\"\",'Aggregate Classification'!$T$25)","v":"Individual Ret., %"},{"$f":"IF('Aggregate Classification'!$B$26=\"\",\"\",'Aggregate Classification'!$B$26)","v":"Passing"},{"$f":"IF('Aggregate Classification'!$B$35=\"\",\"\",'Aggregate Classification'!$B$35)","v":"No. 30"},{"$f":"IF('Aggregate Classification'!$B$25=\"\",\"\",'Aggregate Classification'!$B$25)","v":"Sieve Size:"},{"$f":"IF('Aggregate Classification'!$C$26=\"\",\"\",'Aggregate Classification'!$C$26)","v":"Retained"},{"$f":"'Aggregate Classification'!$C$35","v":"No. 50"}]
[595,{"$f":"IF('Aggregate Classification'!$T$36=\"\",\"\",'Aggregate Classification'!$T$36)","v":""},{"$f":"IF('Aggregate Classification'!$B$4=\"\",\"\",'Aggregate Classification'!$B$4)","v":"HMACP MIXTURE DESIGN : Aggregate Classification"},{"$f":"IF('Aggregate Classification'!$T$19=\"\",\"\",'Aggregate Classification'!$T$19)","v":"Bin No.5"},{"$f":"IF('Aggregate Classification'!$T$25=\"\",\"\",'Aggregate Classification'!$T$25)","v":"Individual Ret., %"},{"$f":"IF('Aggregate Classification'!$B$26=\"\",\"\",'Aggregate Classification'!$B$26)","v":"Passing"},{"$f":"IF('Aggregate Classification'!$B$36=\"\",\"\",'Aggregate Classification'!$B$36)","v":"No. 50"},{"$f":"IF('Aggregate Classification'!$B$25=\"\",\"\",'Aggregate Classification'!$B$25)","v":"Sieve Size:"},{"$f":"IF('Aggregate Classification'!$C$26=\"\",\"\",'Aggregate Classification'!$C$26)","v":"Retained"},{"$f":"'Aggregate Classification'!$C$36","v":"No. 200"}]
[596,{"$f":"IF('Aggregate Classification'!$T$37=\"\",\"\",'Aggregate Classification'!$T$37)","v":""},{"$f":"IF('Aggregate Classification'!$B$4=\"\",\"\",'Aggregate Classification'!$B$4)","v":"HMACP MIXTURE DESIGN : Aggregate Classification"},{"$f":"IF('Aggregate Classification'!$T$19=\"\",\"\",'Aggregate Classification'!$T$19)","v":"Bin No.5"},{"$f":"IF('Aggregate Classification'!$T$25=\"\",\"\",'Aggregate Classification'!$T$25)","v":"Individual Ret., %"},{"$f":"IF('Aggregate Classification'!$B$26=\"\",\"\",'Aggregate Classification'!$B$26)","v":"Passing"},{"$f":"IF('Aggregate Classification'!$B$37=\"\",\"\",'Aggregate Classification'!$B$37)","v":"No. 200"},{"$f":"IF('Aggregate Classification'!$B$25=\"\",\"\",'Aggregate Classification'!$B$25)","v":"Sieve Size:"},{"$f":"IF('Aggregate Classification'!$C$26=\"\",\"\",'Aggregate Classification'!$C$26)","v":"Retained"},{"$f":"'Aggregate Classification'!$C$37","v":"Pan"}]
[597,{"$f":"IF('Aggregate Classification'!$T$38=\"\",\"\",'Aggregate Classification'!$T$38)","v":""},{"$f":"IF('Aggregate Classification'!$B$4=\"\",\"\",'Aggregate Classification'!$B$4)","v":"HMACP MIXTURE DESIGN : Aggregate Classification"},{"$f":"IF('Aggregate Classification'!$T$19=\"\",\"\",'Aggregate Classification'!$T$19)","v":"Bin No.5"},{"$f":"IF('Aggregate Classification'!$T$25=\"\",\"\",'Aggregate Classification'!$T$25)","v":"Individual Ret., %"},{"$f":"IF('Aggregate Classification'!$B$38=\"\",\"\",'Aggregate Classification'!$B$38)","v":"Total:"}]
[598,{"$f":"IF('Aggregate Classification'!$T$39=\"\",\"\",'Aggregate Classification'!$T$39)","v":""},{"$f":"IF('Aggregate Classification'!$B$4=\"\",\"\",'Aggregate Classification'!$B$4)","v":"HMACP MIXTURE DESIGN : Aggregate Classification"},{"$f":"IF('Aggregate Classification'!$T$19=\"\",\"\",'Aggregate Classification'!$T$19)","v":"Bin No.5"},{"$f":"IF('Aggregate Classification'!$T$25=\"\",\"\",'Aggregate Classification'!$T$25)","v":"Individual Ret., %"},{"$f":"IF('Aggregate Classification'!$B$39=\"\",\"\",'Aggregate Classification'!$B$39)","v":"Percent of plus No. 4"}]
[599,{"$f":"IF('Aggregate Classification'!$X$23=\"\",\"\",'Aggregate Classification'!$X$23)","v":""},{"$f":"IF('Aggregate Classification'!$B$4=\"\",\"\",'Aggregate Classification'!$B$4)","v":"HMACP MIXTURE DESIGN : Aggregate Classification"},{"$f":"IF('Aggregate Classification'!$X$19=\"\",\"\",'Aggregate Classification'!$X$19)","v":"Bin No.6 "},{"$f":"IF('Aggregate Classification'!$B$23=\"\",\"\",'Aggregate Classification'!$B$23)","v":"Class (A) Rock (Y/N):"}]
[600,{"$f":"IF('Aggregate Classification'!$X$27=\"\",\"\",'Aggregate Classification'!$X$27)","v":""},{"$f":"IF('Aggregate Classification'!$B$4=\"\",\"\",'Aggregate Classification'!$B$4)","v":"HMACP MIXTURE DESIGN : Aggregate Classification"},{"$f":"IF('Aggregate Classification'!$X$19=\"\",\"\",'Aggregate Classification'!$X$19)","v":"Bin No.6 "},{"$f":"IF('Aggregate Classification'!$X$25=\"\",\"\",'Aggregate Classification'!$X$25)","v":"Individual Ret., %"},{"$f":"IF('Aggregate Classification'!$B$26=\"\",\"\",'Aggregate Classification'!$B$26)","v":"Passing"},{"$f":"IF('Aggregate Classification'!$B$27=\"\",\"\",'Aggregate Classification'!$B$27)","v":"-"},{"$f":"IF('Aggregate Classification'!$B$25=\"\",\"\",'Aggregate Classification'!$B$25)","v":"Sieve Size:"},{"$f":"IF('Aggregate Classification'!$C$26=\"\",\"\",'Aggregate Classification'!$C$26)","v":"Retained"},{"$f":"'Aggregate Classification'!$C$27","v":"1\""}]
[601,{"$f":"IF('Aggregate Classification'!$X$28=\"\",\"\",'Aggregate Classification'!$X$28)","v":""},{"$f":"IF('Aggregate Classification'!$B$4=\"\",\"\",'Aggregate Classification'!$B$4)","v":"HMACP MIXTURE DESIGN : Aggregate Classification"},{"$f":"IF('Aggregate Classification'!$X$19=\"\",\"\",'Aggregate Classification'!$X$19)","v":"Bin No.6 "},{"$f":"IF('Aggregate Classification'!$X$25=\"\",\"\",'Aggregate Classification'!$X$25)","v":"Individual Ret., %"},{"$f":"IF('Aggregate Classification'!$B$26=\"\",\"\",'Aggregate Classification'!$B$26)","v":"Passing"},{"$f":"IF('Aggregate Classification'!$B$28=\"\",\"\",'Aggregate Classification'!$B$28)","v":"1\""},{"$f":"IF('Aggregate Classification'!$B$25=\"\",\"\",'Aggregate Classification'!$B$25)","v":"Sieve Size:"},{"$f":"IF('Aggregate Classification'!$C$26=\"\",\"\",'Aggregate Classification'!$C$26)","v":"Retained"},{"$f":"'Aggregate Classification'!$C$28","v":"3/4\""}]
[602,{"$f":"IF('Aggregate Classification'!$X$29=\"\",\"\",'Aggregate Classification'!$X$29)","v":""},{"$f":"IF('Aggregate Classification'!$B$4=\"\",\"\",'Aggregate Classification'!$B$4)","v":"HMACP MIXTURE DESIGN : Aggregate Classification"},{"$f":"IF('Aggregate Classification'!$X$19=\"\",\"\",'Aggregate Classification'!$X$19)","v":"Bin No.6 "},{"$f":"IF('Aggregate Classification'!$X$25=\"\",\"\",'Aggregate Classification'!$X$25)","v":"Individual Ret., %"},{"$f":"IF('Aggregate Classification'!$B$26=\"\",\"\",'Aggregate Classification'!$B$26)","v":"Passing"},{"$f":"IF('Aggregate Classification'!$B$29=\"\",\"\",'Aggregate Classification'!$B$29)","v":"3/4\""},{"$f":"IF('Aggregate Classification'!$B$25=\"\",\"\",'Aggregate Classification'!$B$25)","v":"Sieve Size:"},{"$f":"IF('Aggregate Classification'!$C$26=\"\",\"\",'Aggregate Classification'!$C$26)","v":"Retained"},{"$f":"'Aggregate Classification'!$C$29","v":"1/2\""}]
[603,{"$f":"IF('Aggregate Classification'!$X$30=\"\",\"\",'Aggregate Classification'!$X$30)","v":""},{"$f":"IF('Aggregate Classification'!$B$4=\"\",\"\",'Aggregate Classification'!$B$4)","v":"HMACP MIXTURE DESIGN : Aggregate Classification"},{"$f":"IF('Aggregate Classification'!$X$19=\"\",\"\",'Aggregate Classification'!$X$19)","v":"Bin No.6 "},{"$f":"IF('Aggregate Classification'!$X$25=\"\",\"\",'Aggregate Classification'!$X$25)","v":"Individual Ret., %"},{"$f":"IF('Aggregate Classification'!$B$26=\"\",\"\",'Aggregate Classification'!$B$26)","v":"Passing"},{"$f":"IF('Aggregate Classification'!$B$30=\"\",\"\",'Aggregate Classification'!$B$30)","v":"1/2\""},{"$f":"IF('Aggregate Classification'!$B$25=\"\",\"\",'Aggregate Classification'!$B$25)","v":"Sieve Size:"},{"$f":"IF('Aggregate Classification'!$C$26=\"\",\"\",'Aggregate Classification'!$C$26)","v":"Retained"},{"$f":"'Aggregate Classification'!$C$30","v":"3/8\""}]
[604,{"$f":"IF('Aggregate Classification'!$X$31=\"\",\"\",'Aggregate Classification'!$X$31)","v":""},{"$f":"IF('Aggregate Classification'!$B$4=\"\",\"\",'Aggregate Classification'!$B$4)","v":"HMACP MIXTURE DESIGN : Aggregate Classification"},{"$f":"IF('Aggregate Classification'!$X$19=\"\",\"\",'Aggregate Classification'!$X$19)","v":"Bin No.6 "},{"$f":"IF('Aggregate Classification'!$X$25=\"\",\"\",'Aggregate Classification'!$X$25)","v":"Individual Ret., %"},{"$f":"IF('Aggregate Classification'!$B$26=\"\",\"\",'Aggregate Classification'!$B$26)","v":"Passing"},{"$f":"IF('Aggregate Classification'!$B$31=\"\",\"\",'Aggregate Classification'!$B$31)","v":"3/8\""},{"$f":"IF('Aggregate Classification'!$B$25=\"\",\"\",'Aggregate Classification'!$B$25)","v":"Sieve Size:"},{"$f":"IF('Aggregate Classification'!$C$26=\"\",\"\",'Aggregate Classification'!$C$26)","v":"Retained"},{"$f":"'Aggregate Classification'!$C$31","v":"No. 4"}]
[605,{"$f":"IF('Aggregate Classification'!$X$32=\"\",\"\",'Aggregate Classification'!$X$32)","v":""},{"$f":"IF('Aggregate Classification'!$B$4=\"\",\"\",'Aggregate Classification'!$B$4)","v":"HMACP MIXTURE DESIGN : Aggregate Classification"},{"$f":"IF('Aggregate Classification'!$X$19=\"\",\"\",'Aggregate Classification'!$X$19)","v":"Bin No.6 "},{"$f":"IF('Aggregate Classification'!$X$25=\"\",\"\",'Aggregate Classification'!$X$25)","v":"Individual Ret., %"},{"$f":"IF('Aggregate Classification'!$B$26=\"\",\"\",'Aggregate Classification'!$B$26)","v":"Passing"},{"$f":"IF('Aggregate Classification'!$B$32=\"\",\"\",'Aggregate Classification'!$B$32)","v":"No. 4"},{"$f":"IF('Aggregate Classification'!$B$25=\"\",\"\",'Aggregate Classification'!$B$25)","v":"Sieve Size:"},{"$f":"IF('Aggregate Classification'!$C$26=\"\",\"\",'Aggregate Classification'!$C$26)","v":"Retained"},{"$f":"'Aggregate Classification'!$C$32","v":"No. 8"}]
[606,{"$f":"IF('Aggregate Classification'!$X$33=\"\",\"\",'Aggregate Classification'!$X$33)","v":""},{"$f":"IF('Aggregate Classification'!$B$4=\"\",\"\",'Aggregate Classification'!$B$4)","v":"HMACP MIXTURE DESIGN : Aggregate Classification"},{"$f":"IF('Aggregate Classification'!$X$19=\"\",\"\",'Aggregate Classification'!$X$19)","v":"Bin No.6 "},{"$f":"IF('Aggregate Classification'!$X$25=\"\",\"\",'Aggregate Classification'!$X$25)","v":"Individual Ret., %"},{"$f":"IF('Aggregate Classification'!$B$26=\"\",\"\",'Aggregate Classification'!$B$26)","v":"Passing"},{"$f":"IF('Aggregate Classification'!$B$33=\"\",\"\",'Aggregate Classification'!$B$33)","v":"No. 8"},{"$f":"IF('Aggregate Classification'!$B$25=\"\",\"\",'Aggregate Classification'!$B$25)","v":"Sieve Size:"},{"$f":"IF('Aggregate Classification'!$C$26=\"\",\"\",'Aggregate Classification'!$C$26)","v":"Retained"},{"$f":"'Aggregate Classification'!$C$33","v":"No. 16"}]
[607,{"$f":"IF('Aggregate Classification'!$X$34=\"\",\"\",'Aggregate Classification'!$X$34)","v":""},{"$f":"IF('Aggregate Classification'!$B$4=\"\",\"\",'Aggregate Classification'!$B$4)","v":"HMACP MIXTURE DESIGN : Aggregate Classification"},{"$f":"IF('Aggregate Classification'!$X$19=\"\",\"\",'Aggregate Classification'!$X$19)","v":"Bin No.6 "},{"$f":"IF('Aggregate Classification'!$X$25=\"\",\"\",'Aggregate Classification'!$X$25)","v":"Individual Ret., %"},{"$f":"IF('Aggregate Classification'!$B$26=\"\",\"\",'Aggregate Classification'!$B$26)","v":"Passing"},{"$f":"IF('Aggregate Classification'!$B$34=\"\",\"\",'Aggregate Classification'!$B$34)","v":"No. 16"},{"$f":"IF('Aggregate Classification'!$B$25=\"\",\"\",'Aggregate Classification'!$B$25)","v":"Sieve Size:"},{"$f":"IF('Aggregate Classification'!$C$26=\"\",\"\",'Aggregate Classification'!$C$26)","v":"Retained"},{"$f":"'Aggregate Classification'!$C$34","v":"No. 30"}]
[608,{"$f":"IF('Aggregate Classification'!$X$35=\"\",\"\",'Aggregate Classification'!$X$35)","v":""},{"$f":"IF('Aggregate Classification'!$B$4=\"\",\"\",'Aggregate Classification'!$B$4)","v":"HMACP MIXTURE DESIGN : Aggregate Classification"},{"$f":"IF('Aggregate Classification'!$X$19=\"\",\"\",'Aggregate Classification'!$X$19)","v":"Bin No.6 "},{"$f":"IF('Aggregate Classification'!$X$25=\"\",\"\",'Aggregate Classification'!$X$25)","v":"Individual Ret., %"},{"$f":"IF('Aggregate Classification'!$B$26=\"\",\"\",'Aggregate Classification'!$B$26)","v":"Passing"},{"$f":"IF('Aggregate Classification'!$B$35=\"\",\"\",'Aggregate Classification'!$B$35)","v":"No. 30"},{"$f":"IF('Aggregate Classification'!$B$25=\"\",\"\",'Aggregate Classification'!$B$25)","v":"Sieve Size:"},{"$f":"IF('Aggregate Classification'!$C$26=\"\",\"\",'Aggregate Classification'!$C$26)","v":"Retained"},{"$f":"'Aggregate Classification'!$C$35","v":"No. 50"}]
[609,{"$f":"IF('Aggregate Classification'!$X$36=\"\",\"\",'Aggregate Classification'!$X$36)","v":""},{"$f":"IF('Aggregate Classification'!$B$4=\"\",\"\",'Aggregate Classification'!$B$4)","v":"HMACP MIXTURE DESIGN : Aggregate Classification"},{"$f":"IF('Aggregate Classification'!$X$19=\"\",\"\",'Aggregate Classification'!$X$19)","v":"Bin No.6 "},{"$f":"IF('Aggregate Classification'!$X$25=\"\",\"\",'Aggregate Classification'!$X$25)","v":"Individual Ret., %"},{"$f":"IF('Aggregate Classification'!$B$26=\"\",\"\",'Aggregate Classification'!$B$26)","v":"Passing"},{"$f":"IF('Aggregate Classification'!$B$36=\"\",\"\",'Aggregate Classification'!$B$36)","v":"No. 50"},{"$f":"IF('Aggregate Classification'!$B$25=\"\",\"\",'Aggregate Classification'!$B$25)","v":"Sieve Size:"},{"$f":"IF('Aggregate Classification'!$C$26=\"\",\"\",'Aggregate Classification'!$C$26)","v":"Retained"},{"$f":"'Aggregate Classification'!$C$36","v":"No. 200"}]
[610,{"$f":"IF('Aggregate Classification'!$X$37=\"\",\"\",'Aggregate Classification'!$X$37)","v":""},{"$f":"IF('Aggregate Classification'!$B$4=\"\",\"\",'Aggregate Classification'!$B$4)","v":"HMACP MIXTURE DESIGN : Aggregate Classification"},{"$f":"IF('Aggregate Classification'!$X$19=\"\",\"\",'Aggregate Classification'!$X$19)","v":"Bin No.6 "},{"$f":"IF('Aggregate Classification'!$X$25=\"\",\"\",'Aggregate Classification'!$X$25)","v":"Individual Ret., %"},{"$f":"IF('Aggregate Classification'!$B$26=\"\",\"\",'Aggregate Classification'!$B$26)","v":"Passing"},{"$f":"IF('Aggregate Classification'!$B$37=\"\",\"\",'Aggregate Classification'!$B$37)","v":"No. 200"},{"$f":"IF('Aggregate Classification'!$B$25=\"\",\"\",'Aggregate Classification'!$B$25)","v":"Sieve Size:"},{"$f":"IF('Aggregate Classification'!$C$26=\"\",\"\",'Aggregate Classification'!$C$26)","v":"Retained"},{"$f":"'Aggregate Classification'!$C$37","v":"Pan"}]
[611,{"$f":"IF('Aggregate Classification'!$X$38=\"\",\"\",'Aggregate Classification'!$X$38)","v":""},{"$f":"IF('Aggregate Classification'!$B$4=\"\",\"\",'Aggregate Classification'!$B$4)","v":"HMACP MIXTURE DESIGN : Aggregate Classification"},{"$f":"IF('Aggregate Classification'!$X$19=\"\",\"\",'Aggregate Classification'!$X$19)","v":"Bin No.6 "},{"$f":"IF('Aggregate Classification'!$X$25=\"\",\"\",'Aggregate Classification'!$X$25)","v":"Individual Ret., %"},{"$f":"IF('Aggregate Classification'!$B$38=\"\",\"\",'Aggregate Classification'!$B$38)","v":"Total:"}]
[612,{"$f":"IF('Aggregate Classification'!$X$39=\"\",\"\",'Aggregate Classification'!$X$39)","v":""},{"$f":"IF('Aggregate Classification'!$B$4=\"\",\"\",'Aggregate Classification'!$B$4)","v":"HMACP MIXTURE DESIGN : Aggregate Classification"},{"$f":"IF('Aggregate Classification'!$X$19=\"\",\"\",'Aggregate Classification'!$X$19)","v":"Bin No.6 "},{"$f":"IF('Aggregate Classification'!$X$25=\"\",\"\",'Aggregate Classification'!$X$25)","v":"Individual Ret., %"},{"$f":"IF('Aggregate Classification'!$B$39=\"\",\"\",'Aggregate Classification'!$B$39)","v":"Percent of plus No. 4"}]
[613,{"$f":"IF('Aggregate Classification'!$AB$23=\"\",\"\",'Aggregate Classification'!$AB$23)","v":""},{"$f":"IF('Aggregate Classification'!$B$4=\"\",\"\",'Aggregate Classification'!$B$4)","v":"HMACP MIXTURE DESIGN : Aggregate Classification"},{"$f":"IF('Aggregate Classification'!$AB$19=\"\",\"\",'Aggregate Classification'!$AB$19)","v":"Bin No.7 "},{"$f":"IF('Aggregate Classification'!$B$23=\"\",\"\",'Aggregate Classification'!$B$23)","v":"Class (A) Rock (Y/N):"}]
[614,{"$f":"IF('Aggregate Classification'!$AB$27=\"\",\"\",'Aggregate Classification'!$AB$27)","v":""},{"$f":"IF('Aggregate Classification'!$B$4=\"\",\"\",'Aggregate Classification'!$B$4)","v":"HMACP MIXTURE DESIGN : Aggregate Classification"},{"$f":"IF('Aggregate Classification'!$AB$19=\"\",\"\",'Aggregate Classification'!$AB$19)","v":"Bin No.7 "},{"$f":"IF('Aggregate Classification'!$AB$25=\"\",\"\",'Aggregate Classification'!$AB$25)","v":"Individual Ret., %"},{"$f":"IF('Aggregate Classification'!$B$26=\"\",\"\",'Aggregate Classification'!$B$26)","v":"Passing"},{"$f":"IF('Aggregate Classification'!$B$27=\"\",\"\",'Aggregate Classification'!$B$27)","v":"-"},{"$f":"IF('Aggregate Classification'!$B$25=\"\",\"\",'Aggregate Classification'!$B$25)","v":"Sieve Size:"},{"$f":"IF('Aggregate Classification'!$C$26=\"\",\"\",'Aggregate Classification'!$C$26)","v":"Retained"},{"$f":"'Aggregate Classification'!$C$27","v":"1\""}]
[615,{"$f":"IF('Aggregate Classification'!$AB$28=\"\",\"\",'Aggregate Classification'!$AB$28)","v":""},{"$f":"IF('Aggregate Classification'!$B$4=\"\",\"\",'Aggregate Classification'!$B$4)","v":"HMACP MIXTURE DESIGN : Aggregate Classification"},{"$f":"IF('Aggregate Classification'!$AB$19=\"\",\"\",'Aggregate Classification'!$AB$19)","v":"Bin No.7 "},{"$f":"IF('Aggregate Classification'!$AB$25=\"\",\"\",'Aggregate Classification'!$AB$25)","v":"Individual Ret., %"},{"$f":"IF('Aggregate Classification'!$B$26=\"\",\"\",'Aggregate Classification'!$B$26)","v":"Passing"},{"$f":"IF('Aggregate Classification'!$B$28=\"\",\"\",'Aggregate Classification'!$B$28)","v":"1\""},{"$f":"IF('Aggregate Classification'!$B$25=\"\",\"\",'Aggregate Classification'!$B$25)","v":"Sieve Size:"},{"$f":"IF('Aggregate Classification'!$C$26=\"\",\"\",'Aggregate Classification'!$C$26)","v":"Retained"},{"$f":"'Aggregate Classification'!$C$28","v":"3/4\""}]
[616,{"$f":"IF('Aggregate Classification'!$AB$29=\"\",\"\",'Aggregate Classification'!$AB$29)","v":""},{"$f":"IF('Aggregate Classification'!$B$4=\"\",\"\",'Aggregate Classification'!$B$4)","v":"HMACP MIXTURE DESIGN : Aggregate Classification"},{"$f":"IF('Aggregate Classification'!$AB$19=\"\",\"\",'Aggregate Classification'!$AB$19)","v":"Bin No.7 "},{"$f":"IF('Aggregate Classification'!$AB$25=\"\",\"\",'Aggregate Classification'!$AB$25)","v":"Individual Ret., %"},{"$f":"IF('Aggregate Classification'!$B$26=\"\",\"\",'Aggregate Classification'!$B$26)","v":"Passing"},{"$f":"IF('Aggregate Classification'!$B$29=\"\",\"\",'Aggregate Classification'!$B$29)","v":"3/4\""},{"$f":"IF('Aggregate Classification'!$B$25=\"\",\"\",'Aggregate Classification'!$B$25)","v":"Sieve Size:"},{"$f":"IF('Aggregate Classification'!$C$26=\"\",\"\",'Aggregate Classification'!$C$26)","v":"Retained"},{"$f":"'Aggregate Classification'!$C$29","v":"1/2\""}]
[617,{"$f":"IF('Aggregate Classification'!$AB$30=\"\",\"\",'Aggregate Classification'!$AB$30)","v":""},{"$f":"IF('Aggregate Classification'!$B$4=\"\",\"\",'Aggregate Classification'!$B$4)","v":"HMACP MIXTURE DESIGN : Aggregate Classification"},{"$f":"IF('Aggregate Classification'!$AB$19=\"\",\"\",'Aggregate Classification'!$AB$19)","v":"Bin No.7 "},{"$f":"IF('Aggregate Classification'!$AB$25=\"\",\"\",'Aggregate Classification'!$AB$25)","v":"Individual Ret., %"},{"$f":"IF('Aggregate Classification'!$B$26=\"\",\"\",'Aggregate Classification'!$B$26)","v":"Passing"},{"$f":"IF('Aggregate Classification'!$B$30=\"\",\"\",'Aggregate Classification'!$B$30)","v":"1/2\""},{"$f":"IF('Aggregate Classification'!$B$25=\"\",\"\",'Aggregate Classification'!$B$25)","v":"Sieve Size:"},{"$f":"IF('Aggregate Classification'!$C$26=\"\",\"\",'Aggregate Classification'!$C$26)","v":"Retained"},{"$f":"'Aggregate Classification'!$C$30","v":"3/8\""}]
[618,{"$f":"IF('Aggregate Classification'!$AB$31=\"\",\"\",'Aggregate Classification'!$AB$31)","v":""},{"$f":"IF('Aggregate Classification'!$B$4=\"\",\"\",'Aggregate Classification'!$B$4)","v":"HMACP MIXTURE DESIGN : Aggregate Classification"},{"$f":"IF('Aggregate Classification'!$AB$19=\"\",\"\",'Aggregate Classification'!$AB$19)","v":"Bin No.7 "},{"$f":"IF('Aggregate Classification'!$AB$25=\"\",\"\",'Aggregate Classification'!$AB$25)","v":"Individual Ret., %"},{"$f":"IF('Aggregate Classification'!$B$26=\"\",\"\",'Aggregate Classification'!$B$26)","v":"Passing"},{"$f":"IF('Aggregate Classification'!$B$31=\"\",\"\",'Aggregate Classification'!$B$31)","v":"3/8\""},{"$f":"IF('Aggregate Classification'!$B$25=\"\",\"\",'Aggregate Classification'!$B$25)","v":"Sieve Size:"},{"$f":"IF('Aggregate Classification'!$C$26=\"\",\"\",'Aggregate Classification'!$C$26)","v":"Retained"},{"$f":"'Aggregate Classification'!$C$31","v":"No. 4"}]
[619,{"$f":"IF('Aggregate Classification'!$AB$32=\"\",\"\",'Aggregate Classification'!$AB$32)","v":""},{"$f":"IF('Aggregate Classification'!$B$4=\"\",\"\",'Aggregate Classification'!$B$4)","v":"HMACP MIXTURE DESIGN : Aggregate Classification"},{"$f":"IF('Aggregate Classification'!$AB$19=\"\",\"\",'Aggregate Classification'!$AB$19)","v":"Bin No.7 "},{"$f":"IF('Aggregate Classification'!$AB$25=\"\",\"\",'Aggregate Classification'!$AB$25)","v":"Individual Ret., %"},{"$f":"IF('Aggregate Classification'!$B$26=\"\",\"\",'Aggregate Classification'!$B$26)","v":"Passing"},{"$f":"IF('Aggregate Classification'!$B$32=\"\",\"\",'Aggregate Classification'!$B$32)","v":"No. 4"},{"$f":"IF('Aggregate Classification'!$B$25=\"\",\"\",'Aggregate Classification'!$B$25)","v":"Sieve Size:"},{"$f":"IF('Aggregate Classification'!$C$26=\"\",\"\",'Aggregate Classification'!$C$26)","v":"Retained"},{"$f":"'Aggregate Classification'!$C$32","v":"No. 8"}]
[620,{"$f":"IF('Aggregate Classification'!$AB$33=\"\",\"\",'Aggregate Classification'!$AB$33)","v":""},{"$f":"IF('Aggregate Classification'!$B$4=\"\",\"\",'Aggregate Classification'!$B$4)","v":"HMACP MIXTURE DESIGN : Aggregate Classification"},{"$f":"IF('Aggregate Classification'!$AB$19=\"\",\"\",'Aggregate Classification'!$AB$19)","v":"Bin No.7 "},{"$f":"IF('Aggregate Classification'!$AB$25=\"\",\"\",'Aggregate Classification'!$AB$25)","v":"Individual Ret., %"},{"$f":"IF('Aggregate Classification'!$B$26=\"\",\"\",'Aggregate Classification'!$B$26)","v":"Passing"},{"$f":"IF('Aggregate Classification'!$B$33=\"\",\"\",'Aggregate Classification'!$B$33)","v":"No. 8"},{"$f":"IF('Aggregate Classification'!$B$25=\"\",\"\",'Aggregate Classification'!$B$25)","v":"Sieve Size:"},{"$f":"IF('Aggregate Classification'!$C$26=\"\",\"\",'Aggregate Classification'!$C$26)","v":"Retained"},{"$f":"'Aggregate Classification'!$C$33","v":"No. 16"}]
[621,{"$f":"IF('Aggregate Classification'!$AB$34=\"\",\"\",'Aggregate Classification'!$AB$34)","v":""},{"$f":"IF('Aggregate Classification'!$B$4=\"\",\"\",'Aggregate Classification'!$B$4)","v":"HMACP MIXTURE DESIGN : Aggregate Classification"},{"$f":"IF('Aggregate Classification'!$AB$19=\"\",\"\",'Aggregate Classification'!$AB$19)","v":"Bin No.7 "},{"$f":"IF('Aggregate Classification'!$AB$25=\"\",\"\",'Aggregate Classification'!$AB$25)","v":"Individual Ret., %"},{"$f":"IF('Aggregate Classification'!$B$26=\"\",\"\",'Aggregate Classification'!$B$26)","v":"Passing"},{"$f":"IF('Aggregate Classification'!$B$34=\"\",\"\",'Aggregate Classification'!$B$34)","v":"No. 16"},{"$f":"IF('Aggregate Classification'!$B$25=\"\",\"\",'Aggregate Classification'!$B$25)","v":"Sieve Size:"},{"$f":"IF('Aggregate Classification'!$C$26=\"\",\"\",'Aggregate Classification'!$C$26)","v":"Retained"},{"$f":"'Aggregate Classification'!$C$34","v":"No. 30"}]
[622,{"$f":"IF('Aggregate Classification'!$AB$35=\"\",\"\",'Aggregate Classification'!$AB$35)","v":""},{"$f":"IF('Aggregate Classification'!$B$4=\"\",\"\",'Aggregate Classification'!$B$4)","v":"HMACP MIXTURE DESIGN : Aggregate Classification"},{"$f":"IF('Aggregate Classification'!$AB$19=\"\",\"\",'Aggregate Classification'!$AB$19)","v":"Bin No.7 "},{"$f":"IF('Aggregate Classification'!$AB$25=\"\",\"\",'Aggregate Classification'!$AB$25)","v":"Individual Ret., %"},{"$f":"IF('Aggregate Classification'!$B$26=\"\",\"\",'Aggregate Classification'!$B$26)","v":"Passing"},{"$f":"IF('Aggregate Classification'!$B$35=\"\",\"\",'Aggregate Classification'!$B$35)","v":"No. 30"},{"$f":"IF('Aggregate Classification'!$B$25=\"\",\"\",'Aggregate Classification'!$B$25)","v":"Sieve Size:"},{"$f":"IF('Aggregate Classification'!$C$26=\"\",\"\",'Aggregate Classification'!$C$26)","v":"Retained"},{"$f":"'Aggregate Classification'!$C$35","v":"No. 50"}]
[623,{"$f":"IF('Aggregate Classification'!$AB$36=\"\",\"\",'Aggregate Classification'!$AB$36)","v":""},{"$f":"IF('Aggregate Classification'!$B$4=\"\",\"\",'Aggregate Classification'!$B$4)","v":"HMACP MIXTURE DESIGN : Aggregate Classification"},{"$f":"IF('Aggregate Classification'!$AB$19=\"\",\"\",'Aggregate Classification'!$AB$19)","v":"Bin No.7 "},{"$f":"IF('Aggregate Classification'!$AB$25=\"\",\"\",'Aggregate Classification'!$AB$25)","v":"Individual Ret., %"},{"$f":"IF('Aggregate Classification'!$B$26=\"\",\"\",'Aggregate Classification'!$B$26)","v":"Passing"},{"$f":"IF('Aggregate Classification'!$B$36=\"\",\"\",'Aggregate Classification'!$B$36)","v":"No. 50"},{"$f":"IF('Aggregate Classification'!$B$25=\"\",\"\",'Aggregate Classification'!$B$25)","v":"Sieve Size:"},{"$f":"IF('Aggregate Classification'!$C$26=\"\",\"\",'Aggregate Classification'!$C$26)","v":"Retained"},{"$f":"'Aggregate Classification'!$C$36","v":"No. 200"}]
[624,{"$f":"IF('Aggregate Classification'!$AB$37=\"\",\"\",'Aggregate Classification'!$AB$37)","v":""},{"$f":"IF('Aggregate Classification'!$B$4=\"\",\"\",'Aggregate Classification'!$B$4)","v":"HMACP MIXTURE DESIGN : Aggregate Classification"},{"$f":"IF('Aggregate Classification'!$AB$19=\"\",\"\",'Aggregate Classification'!$AB$19)","v":"Bin No.7 "},{"$f":"IF('Aggregate Classification'!$AB$25=\"\",\"\",'Aggregate Classification'!$AB$25)","v":"Individual Ret., %"},{"$f":"IF('Aggregate Classification'!$B$26=\"\",\"\",'Aggregate Classification'!$B$26)","v":"Passing"},{"$f":"IF('Aggregate Classification'!$B$37=\"\",\"\",'Aggregate Classification'!$B$37)","v":"No. 200"},{"$f":"IF('Aggregate Classification'!$B$25=\"\",\"\",'Aggregate Classification'!$B$25)","v":"Sieve Size:"},{"$f":"IF('Aggregate Classification'!$C$26=\"\",\"\",'Aggregate Classification'!$C$26)","v":"Retained"},{"$f":"'Aggregate Classification'!$C$37","v":"Pan"}]
[625,{"$f":"IF('Aggregate Classification'!$AB$38=\"\",\"\",'Aggregate Classification'!$AB$38)","v":""},{"$f":"IF('Aggregate Classification'!$B$4=\"\",\"\",'Aggregate Classification'!$B$4)","v":"HMACP MIXTURE DESIGN : Aggregate Classification"},{"$f":"IF('Aggregate Classification'!$AB$19=\"\",\"\",'Aggregate Classification'!$AB$19)","v":"Bin No.7 "},{"$f":"IF('Aggregate Classification'!$AB$25=\"\",\"\",'Aggregate Classification'!$AB$25)","v":"Individual Ret., %"},{"$f":"IF('Aggregate Classification'!$B$38=\"\",\"\",'Aggregate Classification'!$B$38)","v":"Total:"}]
[626,{"$f":"IF('Aggregate Classification'!$AB$39=\"\",\"\",'Aggregate Classification'!$AB$39)","v":""},{"$f":"IF('Aggregate Classification'!$B$4=\"\",\"\",'Aggregate Classification'!$B$4)","v":"HMACP MIXTURE DESIGN : Aggregate Classification"},{"$f":"IF('Aggregate Classification'!$AB$19=\"\",\"\",'Aggregate Classification'!$AB$19)","v":"Bin No.7 "},{"$f":"IF('Aggregate Classification'!$AB$25=\"\",\"\",'Aggregate Classification'!$AB$25)","v":"Individual Ret., %"},{"$f":"IF('Aggregate Classification'!$B$39=\"\",\"\",'Aggregate Classification'!$B$39)","v":"Percent of plus No. 4"}]
[627,{"$f":"IF('Aggregate Classification'!$B$48=\"\",\"\",'Aggregate Classification'!$B$48)","v":""},{"$f":"IF('Aggregate Classification'!$B$4=\"\",\"\",'Aggregate Classification'!$B$4)","v":"HMACP MIXTURE DESIGN : Aggregate Classification"},{"$f":"IF('Aggregate Classification'!$B$47=\"\",\"\",'Aggregate Classification'!$B$47)","v":"Remarks:"}]
[628,{"$f":"IF('Weigh Up'!$F$19=\"\",\"\",'Weigh Up'!$F$19)","v":""},{"$f":"IF('Weigh Up'!$B$4=\"\",\"\",'Weigh Up'!$B$4)","v":"HMACP MIXTURE DESIGN : WEIGH UP SHEET"},{"$f":"IF('Weigh Up'!$B$19=\"\",\"\",'Weigh Up'!$B$19)","v":"Aggregate Weight, g:"}]
[629,{"$f":"IF('Weigh Up'!$F$20=\"\",\"\",'Weigh Up'!$F$20)","v":""},{"$f":"IF('Weigh Up'!$B$4=\"\",\"\",'Weigh Up'!$B$4)","v":"HMACP MIXTURE DESIGN : WEIGH UP SHEET"},{"$f":"IF('Weigh Up'!$B$20=\"\",\"\",'Weigh Up'!$B$20)","v":"5.3% Asphalt by Total Weight, g:"}]
[630,{"$f":"IF('Weigh Up'!$F$21=\"\",\"\",'Weigh Up'!$F$21)","v":""},{"$f":"IF('Weigh Up'!$B$4=\"\",\"\",'Weigh Up'!$B$4)","v":"HMACP MIXTURE DESIGN : WEIGH UP SHEET"},{"$f":"IF('Weigh Up'!$B$21=\"\",\"\",'Weigh Up'!$B$21)","v":"Total Weight, g:"}]
[631,{"$f":"IF('Weigh Up'!$O$19=\"\",\"\",'Weigh Up'!$O$19)","v":""},{"$f":"IF('Weigh Up'!$B$4=\"\",\"\",'Weigh Up'!$B$4)","v":"HMACP MIXTURE DESIGN : WEIGH UP SHEET"},{"$f":"IF('Weigh Up'!$I$19=\"\",\"\",'Weigh Up'!$I$19)","v":"5.3% Asphalt by Total Weight, g:"}]
[632,{"$f":"IF('Weigh Up'!$O$20=\"\",\"\",'Weigh Up'!$O$20)","v":0},{"$f":"IF('Weigh Up'!$B$4=\"\",\"\",'Weigh Up'!$B$4)","v":"HMACP MIXTURE DESIGN : WEIGH UP SHEET"},{"$f":"IF('Weigh Up'!$I$20=\"\",\"\",'Weigh Up'!$I$20)","v":"Less Asphalt by Weight of Recycled Material, g:"}]
[633,{"$f":"IF('Weigh Up'!$O$21=\"\",\"\",'Weigh Up'!$O$21)","v":""},{"$f":"IF('Weigh Up'!$B$4=\"\",\"\",'Weigh Up'!$B$4)","v":"HMACP MIXTURE DESIGN : WEIGH UP SHEET"},{"$f":"IF('Weigh Up'!$I$21=\"\",\"\",'Weigh Up'!$I$21)","v":"(Ergon Austin) Asphalt to Add, g:"}]
[634,{"$f":"IF('Weigh Up'!$T$19=\"\",\"\",'Weigh Up'!$T$19)","v":""},{"$f":"IF('Weigh Up'!$B$4=\"\",\"\",'Weigh Up'!$B$4)","v":"HMACP MIXTURE DESIGN : WEIGH UP SHEET"},{"$f":"IF('Weigh Up'!$R$19=\"\",\"\",'Weigh Up'!$R$19)","v":""}]
[635,{"$f":"IF('Weigh Up'!$E$31=\"\",\"\",'Weigh Up'!$E$31)","v":""},{"$f":"IF('Weigh Up'!$B$4=\"\",\"\",'Weigh Up'!$B$4)","v":"HMACP MIXTURE DESIGN : WEIGH UP SHEET"},{"$f":"IF('Weigh Up'!$B$31=\"\",\"\",'Weigh Up'!$B$31)","v":"INDIVIDUAL"},{"$f":"IF('Weigh Up'!$C$30=\"\",\"\",'Weigh Up'!$C$30)","v":"Passing"},{"$f":"IF('Weigh Up'!$C$31=\"\",\"\",'Weigh Up'!$C$31)","v":"-"},{"$f":"IF('Weigh Up'!$C$29=\"\",\"\",'Weigh Up'!$C$29)","v":"Sieve Size:"},{"$f":"IF('Weigh Up'!$D$30=\"\",\"\",'Weigh Up'!$D$30)","v":"Retained"},{"$f":"IF('Weigh Up'!$D$31=\"\",\"\",'Weigh Up'!$D$31)","v":"1\""},{"$f":"'Weigh Up'!$E$23","v":"Bin No.1"}]
[636,{"$f":"IF('Weigh Up'!$G$31=\"\",\"\",'Weigh Up'!$G$31)","v":""},{"$f":"IF('Weigh Up'!$B$4=\"\",\"\",'Weigh Up'!$B$4)","v":"HMACP MIXTURE DESIGN : WEIGH UP SHEET"},{"$f":"IF('Weigh Up'!$B$31=\"\",\"\",'Weigh Up'!$B$31)","v":"INDIVIDUAL"},{"$f":"IF('Weigh Up'!$C$30=\"\",\"\",'Weigh Up'!$C$30)","v":"Passing"},{"$f":"IF('Weigh Up'!$C$31=\"\",\"\",'Weigh Up'!$C$31)","v":"-"},{"$f":"IF('Weigh Up'!$C$29=\"\",\"\",'Weigh Up'!$C$29)","v":"Sieve Size:"},{"$f":"IF('Weigh Up'!$D$30=\"\",\"\",'Weigh Up'!$D$30)","v":"Retained"},{"$f":"IF('Weigh Up'!$D$31=\"\",\"\",'Weigh Up'!$D$31)","v":"1\""},{"$f":"'Weigh Up'!$G$23","v":"Bin No.2"}]
[637,{"$f":"IF('Weigh Up'!$I$31=\"\",\"\",'Weigh Up'!$I$31)","v":""},{"$f":"IF('Weigh Up'!$B$4=\"\",\"\",'Weigh Up'!$B$4)","v":"HMACP MIXTURE DESIGN : WEIGH UP SHEET"},{"$f":"IF('Weigh Up'!$B$31=\"\",\"\",'Weigh Up'!$B$31)","v":"INDIVIDUAL"},{"$f":"IF('Weigh Up'!$C$30=\"\",\"\",'Weigh Up'!$C$30)","v":"Passing"},{"$f":"IF('Weigh Up'!$C$31=\"\",\"\",'Weigh Up'!$C$31)","v":"-"},{"$f":"IF('Weigh Up'!$C$29=\"\",\"\",'Weigh Up'!$C$29)","v":"Sieve Size:"},{"$f":"IF('Weigh Up'!$D$30=\"\",\"\",'Weigh Up'!$D$30)","v":"Retained"},{"$f":"IF('Weigh Up'!$D$31=\"\",\"\",'Weigh Up'!$D$31)","v":"1\""},{"$f":"'Weigh Up'!$I$23","v":"Bin No.3"}]
[638,{"$f":"IF('Weigh Up'!$K$31=\"\",\"\",'Weigh Up'!$K$31)","v":""},{"$f":"IF('Weigh Up'!$B$4=\"\",\"\",'Weigh Up'!$B$4)","v":"HMACP MIXTURE DESIGN : WEIGH UP SHEET"},{"$f":"IF('Weigh Up'!$B$31=\"\",\"\",'Weigh Up'!$B$31)","v":"INDIVIDUAL"},{"$f":"IF('Weigh Up'!$C$30=\"\",\"\",'Weigh Up'!$C$30)","v":"Passing"},{"$f":"IF('Weigh Up'!$C$31=\"\",\"\",'Weigh Up'!$C$31)","v":"-"},{"$f":"IF('Weigh Up'!$C$29=\"\",\"\",'Weigh Up'!$C$29)","v":"Sieve Size:"},{"$f":"IF('Weigh Up'!$D$30=\"\",\"\",'Weigh Up'!$D$30)","v":"Retained"},{"$f":"IF('Weigh Up'!$D$31=\"\",\"\",'Weigh Up'!$D$31)","v":"1\""},{"$f":"'Weigh Up'!$K$23","v":"Bin No.4"}]
[639,{"$f":"IF('Weigh Up'!$M$31=\"\",\"\",'Weigh Up'!$M$31)","v":""},{"$f":"IF('Weigh Up'!$B$4=\"\",\"\",'Weigh Up'!$B$4)","v":"HMACP MIXTURE DESIGN : WEIGH UP SHEET"},{"$f":"IF('Weigh Up'!$B$31=\"\",\"\",'Weigh Up'!$B$31)","v":"INDIVIDUAL"},{"$f":"IF('Weigh Up'!$C$30=\"\",\"\",'Weigh Up'!$C$30)","v":"Passing"},{"$f":"IF('Weigh Up'!$C$31=\"\",\"\",'Weigh Up'!$C$31)","v":"-"},{"$f":"IF('Weigh Up'!$C$29=\"\",\"\",'Weigh Up'!$C$29)","v":"Sieve Size:"},{"$f":"IF('Weigh Up'!$D$30=\"\",\"\",'Weigh Up'!$D$30)","v":"Retained"},{"$f":"IF('Weigh Up'!$D$31=\"\",\"\",'Weigh Up'!$D$31)","v":"1\""},{"$f":"'Weigh Up'!$M$23","v":"Bin No.5"}]
[640,{"$f":"IF('Weigh Up'!$O$31=\"\",\"\",'Weigh Up'!$O$31)","v":""},{"$f":"IF('Weigh Up'!$B$4=\"\",\"\",'Weigh Up'!$B$4)","v":"HMACP MIXTURE DESIGN : WEIGH UP SHEET"},{"$f":"IF('Weigh Up'!$B$31=\"\",\"\",'Weigh Up'!$B$31)","v":"INDIVIDUAL"},{"$f":"IF('Weigh Up'!$C$30=\"\",\"\",'Weigh Up'!$C$30)","v":"Passing"},{"$f":"IF('Weigh Up'!$C$31=\"\",\"\",'Weigh Up'!$C$31)","v":"-"},{"$f":"IF('Weigh Up'!$C$29=\"\",\"\",'Weigh Up'!$C$29)","v":"Sieve Size:"},{"$f":"IF('Weigh Up'!$D$30=\"\",\"\",'Weigh Up'!$D$30)","v":"Retained"},{"$f":"IF('Weigh Up'!$D$31=\"\",\"\",'Weigh Up'!$D$31)","v":"1\""},{"$f":"'Weigh Up'!$O$23","v":"Bin No.6 "}]
[641,{"$f":"IF('Weigh Up'!$Q$31=\"\",\"\",'Weigh Up'!$Q$31)","v":""},{"$f":"IF('Weigh Up'!$B$4=\"\",\"\",'Weigh Up'!$B$4)","v":"HMACP MIXTURE DESIGN : WEIGH UP SHEET"},{"$f":"IF('Weigh Up'!$B$31=\"\",\"\",'Weigh Up'!$B$31)","v":"INDIVIDUAL"},{"$f":"IF('Weigh Up'!$C$30=\"\",\"\",'Weigh Up'!$C$30)","v":"Passing"},{"$f":"IF('Weigh Up'!$C$31=\"\",\"\",'Weigh Up'!$C$31)","v":"-"},{"$f":"IF('Weigh Up'!$C$29=\"\",\"\",'Weigh Up'!$C$29)","v":"Sieve Size:"},{"$f":"IF('Weigh Up'!$D$30=\"\",\"\",'Weigh Up'!$D$30)","v":"Retained"},{"$f":"IF('Weigh Up'!$D$31=\"\",\"\",'Weigh Up'!$D$31)","v":"1\""},{"$f":"'Weigh Up'!$Q$23","v":"Bin No.7 "}]
[642,{"$f":"IF('Weigh Up'!$Y$31=\"\",\"\",'Weigh Up'!$Y$31)","v":0},{"$f":"IF('Weigh Up'!$B$4=\"\",\"\",'Weigh Up'!$B$4)","v":"HMACP MIXTURE DESIGN : WEIGH UP SHEET"},{"$f":"IF('Weigh Up'!$B$31=\"\",\"\",'Weigh Up'!$B$31)","v":"INDIVIDUAL"},{"$f":"IF('Weigh Up'!$C$30=\"\",\"\",'Weigh Up'!$C$30)","v":"Passing"},{"$f":"IF('Weigh Up'!$C$31=\"\",\"\",'Weigh Up'!$C$31)","v":"-"},{"$f":"IF('Weigh Up'!$C$29=\"\",\"\",'Weigh Up'!$C$29)","v":"Sieve Size:"},{"$f":"IF('Weigh Up'!$D$30=\"\",\"\",'Weigh Up'!$D$30)","v":"Retained"},{"$f":"IF('Weigh Up'!$D$31=\"\",\"\",'Weigh Up'!$D$31)","v":"1\""},{"$f":"'Weigh Up'!$Y$26","v":"Total Weights"}]
[643,{"$f":"IF('Weigh Up'!$Z$31=\"\",\"\",'Weigh Up'!$Z$31)","v":""},{"$f":"IF('Weigh Up'!$B$4=\"\",\"\",'Weigh Up'!$B$4)","v":"HMACP MIXTURE DESIGN : WEIGH UP SHEET"},{"$f":"IF('Weigh Up'!$B$31=\"\",\"\",'Weigh Up'!$B$31)","v":"INDIVIDUAL"},{"$f":"IF('Weigh Up'!$C$30=\"\",\"\",'Weigh Up'!$C$30)","v":"Passing"},{"$f":"IF('Weigh Up'!$C$31=\"\",\"\",'Weigh Up'!$C$31)","v":"-"},{"$f":"IF('Weigh Up'!$C$29=\"\",\"\",'Weigh Up'!$C$29)","v":"Sieve Size:"},{"$f":"IF('Weigh Up'!$D$30=\"\",\"\",'Weigh Up'!$D$30)","v":"Retained"},{"$f":"IF('Weigh Up'!$D$31=\"\",\"\",'Weigh Up'!$D$31)","v":"1\""},{"$f":"'Weigh Up'!$Z$26","v":"Individual\nRetained, %"}]
[644,{"$f":"IF('Weigh Up'!$AA$31=\"\",\"\",'Weigh Up'!$AA$31)","v":""},{"$f":"IF('Weigh Up'!$B$4=\"\",\"\",'Weigh Up'!$B$4)","v":"HMACP MIXTURE DESIGN : WEIGH UP SHEET"},{"$f":"IF('Weigh Up'!$B$31=\"\",\"\",'Weigh Up'!$B$31)","v":"INDIVIDUAL"},{"$f":"IF('Weigh Up'!$C$30=\"\",\"\",'Weigh Up'!$C$30)","v":"Passing"},{"$f":"IF('Weigh Up'!$C$31=\"\",\"\",'Weigh Up'!$C$31)","v":"-"},{"$f":"IF('Weigh Up'!$C$29=\"\",\"\",'Weigh Up'!$C$29)","v":"Sieve Size:"},{"$f":"IF('Weigh Up'!$D$30=\"\",\"\",'Weigh Up'!$D$30)","v":"Retained"},{"$f":"IF('Weigh Up'!$D$31=\"\",\"\",'Weigh Up'!$D$31)","v":"1\""},{"$f":"'Weigh Up'!$AA$26","v":"Cumulative Retained, %"}]
[645,{"$f":"IF('Weigh Up'!$E$32=\"\",\"\",'Weigh Up'!$E$32)","v":""},{"$f":"IF('Weigh Up'!$B$4=\"\",\"\",'Weigh Up'!$B$4)","v":"HMACP MIXTURE DESIGN : WEIGH UP SHEET"},{"$f":"IF('Weigh Up'!$B$31=\"\",\"\",'Weigh Up'!$B$31)","v":"INDIVIDUAL"},{"$f":"IF('Weigh Up'!$C$30=\"\",\"\",'Weigh Up'!$C$30)","v":"Passing"},{"$f":"IF('Weigh Up'!$C$32=\"\",\"\",'Weigh Up'!$C$32)","v":"1\""},{"$f":"IF('Weigh Up'!$C$29=\"\",\"\",'Weigh Up'!$C$29)","v":"Sieve Size:"},{"$f":"IF('Weigh Up'!$D$30=\"\",\"\",'Weigh Up'!$D$30)","v":"Retained"},{"$f":"IF('Weigh Up'!$D$32=\"\",\"\",'Weigh Up'!$D$32)","v":"3/4\""},{"$f":"'Weigh Up'!$E$23","v":"Bin No.1"}]
[646,{"$f":"IF('Weigh Up'!$G$32=\"\",\"\",'Weigh Up'!$G$32)","v":""},{"$f":"IF('Weigh Up'!$B$4=\"\",\"\",'Weigh Up'!$B$4)","v":"HMACP MIXTURE DESIGN : WEIGH UP SHEET"},{"$f":"IF('Weigh Up'!$B$31=\"\",\"\",'Weigh Up'!$B$31)","v":"INDIVIDUAL"},{"$f":"IF('Weigh Up'!$C$30=\"\",\"\",'Weigh Up'!$C$30)","v":"Passing"},{"$f":"IF('Weigh Up'!$C$32=\"\",\"\",'Weigh Up'!$C$32)","v":"1\""},{"$f":"IF('Weigh Up'!$C$29=\"\",\"\",'Weigh Up'!$C$29)","v":"Sieve Size:"},{"$f":"IF('Weigh Up'!$D$30=\"\",\"\",'Weigh Up'!$D$30)","v":"Retained"},{"$f":"IF('Weigh Up'!$D$32=\"\",\"\",'Weigh Up'!$D$32)","v":"3/4\""},{"$f":"'Weigh Up'!$G$23","v":"Bin No.2"}]
[647,{"$f":"IF('Weigh Up'!$I$32=\"\",\"\",'Weigh Up'!$I$32)","v":""},{"$f":"IF('Weigh Up'!$B$4=\"\",\"\",'Weigh Up'!$B$4)","v":"HMACP MIXTURE DESIGN : WEIGH UP SHEET"},{"$f":"IF('Weigh Up'!$B$31=\"\",\"\",'Weigh Up'!$B$31)","v":"INDIVIDUAL"},{"$f":"IF('Weigh Up'!$C$30=\"\",\"\",'Weigh Up'!$C$30)","v":"Passing"},{"$f":"IF('Weigh Up'!$C$32=\"\",\"\",'Weigh Up'!$C$32)","v":"1\""},{"$f":"IF('Weigh Up'!$C$29=\"\",\"\",'Weigh Up'!$C$29)","v":"Sieve Size:"},{"$f":"IF('Weigh Up'!$D$30=\"\",\"\",'Weigh Up'!$D$30)","v":"Retained"},{"$f":"IF('Weigh Up'!$D$32=\"\",\"\",'Weigh Up'!$D$32)","v":"3/4\""},{"$f":"'Weigh Up'!$I$23","v":"Bin No.3"}]
[648,{"$f":"IF('Weigh Up'!$K$32=\"\",\"\",'Weigh Up'!$K$32)","v":""},{"$f":"IF('Weigh Up'!$B$4=\"\",\"\",'Weigh Up'!$B$4)","v":"HMACP MIXTURE DESIGN : WEIGH UP SHEET"},{"$f":"IF('Weigh Up'!$B$31=\"\",\"\",'Weigh Up'!$B$31)","v":"INDIVIDUAL"},{"$f":"IF('Weigh Up'!$C$30=\"\",\"\",'Weigh Up'!$C$30)","v":"Passing"},{"$f":"IF('Weigh Up'!$C$32=\"\",\"\",'Weigh Up'!$C$32)","v":"1\""},{"$f":"IF('Weigh Up'!$C$29=\"\",\"\",'Weigh Up'!$C$29)","v":"Sieve Size:"},{"$f":"IF('Weigh Up'!$D$30=\"\",\"\",'Weigh Up'!$D$30)","v":"Retained"},{"$f":"IF('Weigh Up'!$D$32=\"\",\"\",'Weigh Up'!$D$32)","v":"3/4\""},{"$f":"'Weigh Up'!$K$23","v":"Bin No.4"}]
[649,{"$f":"IF('Weigh Up'!$M$32=\"\",\"\",'Weigh Up'!$M$32)","v":""},{"$f":"IF('Weigh Up'!$B$4=\"\",\"\",'Weigh Up'!$B$4)","v":"HMACP MIXTURE DESIGN : WEIGH UP SHEET"},{"$f":"IF('Weigh Up'!$B$31=\"\",\"\",'Weigh Up'!$B$31)","v":"INDIVIDUAL"},{"$f":"IF('Weigh Up'!$C$30=\"\",\"\",'Weigh Up'!$C$30)","v":"Passing"},{"$f":"IF('Weigh Up'!$C$32=\"\",\"\",'Weigh Up'!$C$32)","v":"1\""},{"$f":"IF('Weigh Up'!$C$29=\"\",\"\",'Weigh Up'!$C$29)","v":"Sieve Size:"},{"$f":"IF('Weigh Up'!$D$30=\"\",\"\",'Weigh Up'!$D$30)","v":"Retained"},{"$f":"IF('Weigh Up'!$D$32=\"\",\"\",'Weigh Up'!$D$32)","v":"3/4\""},{"$f":"'Weigh Up'!$M$23","v":"Bin No.5"}]
[650,{"$f":"IF('Weigh Up'!$O$32=\"\",\"\",'Weigh Up'!$O$32)","v":""},{"$f":"IF('Weigh Up'!$B$4=\"\",\"\",'Weigh Up'!$B$4)","v":"HMACP MIXTURE DESIGN : WEIGH UP SHEET"},{"$f":"IF('Weigh Up'!$B$31=\"\",\"\",'Weigh Up'!$B$31)","v":"INDIVIDUAL"},{"$f":"IF('Weigh Up'!$C$30=\"\",\"\",'Weigh Up'!$C$30)","v":"Passing"},{"$f":"IF('Weigh Up'!$C$32=\"\",\"\",'Weigh Up'!$C$32)","v":"1\""},{"$f":"IF('Weigh Up'!$C$29=\"\",\"\",'Weigh Up'!$C$29)","v":"Sieve Size:"},{"$f":"IF('Weigh Up'!$D$30=\"\",\"\",'Weigh Up'!$D$30)","v":"Retained"},{"$f":"IF('Weigh Up'!$D$32=\"\",\"\",'Weigh Up'!$D$32)","v":"3/4\""},{"$f":"'Weigh Up'!$O$23","v":"Bin No.6 "}]
[651,{"$f":"IF('Weigh Up'!$Q$32=\"\",\"\",'Weigh Up'!$Q$32)","v":""},{"$f":"IF('Weigh Up'!$B$4=\"\",\"\",'Weigh Up'!$B$4)","v":"HMACP MIXTURE DESIGN : WEIGH UP SHEET"},{"$f":"IF('Weigh Up'!$B$31=\"\",\"\",'Weigh Up'!$B$31)","v":"INDIVIDUAL"},{"$f":"IF('Weigh Up'!$C$30=\"\",\"\",'Weigh Up'!$C$30)","v":"Passing"},{"$f":"IF('Weigh Up'!$C$32=\"\",\"\",'Weigh Up'!$C$32)","v":"1\""},{"$f":"IF('Weigh Up'!$C$29=\"\",\"\",'Weigh Up'!$C$29)","v":"Sieve Size:"},{"$f":"IF('Weigh Up'!$D$30=\"\",\"\",'Weigh Up'!$D$30)","v":"Retained"},{"$f":"IF('Weigh Up'!$D$32=\"\",\"\",'Weigh Up'!$D$32)","v":"3/4\""},{"$f":"'Weigh Up'!$Q$23","v":"Bin No.7 "}]
[652,{"$f":"IF('Weigh Up'!$Y$32=\"\",\"\",'Weigh Up'!$Y$32)","v":0},{"$f":"IF('Weigh Up'!$B$4=\"\",\"\",'Weigh Up'!$B$4)","v":"HMACP MIXTURE DESIGN : WEIGH UP SHEET"},{"$f":"IF('Weigh Up'!$B$31=\"\",\"\",'Weigh Up'!$B$31)","v":"INDIVIDUAL"},{"$f":"IF('Weigh Up'!$C$30=\"\",\"\",'Weigh Up'!$C$30)","v":"Passing"},{"$f":"IF('Weigh Up'!$C$32=\"\",\"\",'Weigh Up'!$C$32)","v":"1\""},{"$f":"IF('Weigh Up'!$C$29=\"\",\"\",'Weigh Up'!$C$29)","v":"Sieve Size:"},{"$f":"IF('Weigh Up'!$D$30=\"\",\"\",'Weigh Up'!$D$30)","v":"Retained"},{"$f":"IF('Weigh Up'!$D$32=\"\",\"\",'Weigh Up'!$D$32)","v":"3/4\""},{"$f":"'Weigh Up'!$Y$26","v":"Total Weights"}]
[653,{"$f":"IF('Weigh Up'!$Z$32=\"\",\"\",'Weigh Up'!$Z$32)","v":""},{"$f":"IF('Weigh Up'!$B$4=\"\",\"\",'Weigh Up'!$B$4)","v":"HMACP MIXTURE DESIGN : WEIGH UP SHEET"},{"$f":"IF('Weigh Up'!$B$31=\"\",\"\",'Weigh Up'!$B$31)","v":"INDIVIDUAL"},{"$f":"IF('Weigh Up'!$C$30=\"\",\"\",'Weigh Up'!$C$30)","v":"Passing"},{"$f":"IF('Weigh Up'!$C$32=\"\",\"\",'Weigh Up'!$C$32)","v":"1\""},{"$f":"IF('Weigh Up'!$C$29=\"\",\"\",'Weigh Up'!$C$29)","v":"Sieve Size:"},{"$f":"IF('Weigh Up'!$D$30=\"\",\"\",'Weigh Up'!$D$30)","v":"Retained"},{"$f":"IF('Weigh Up'!$D$32=\"\",\"\",'Weigh Up'!$D$32)","v":"3/4\""},{"$f":"'Weigh Up'!$Z$26","v":"Individual\nRetained, %"}]
[654,{"$f":"IF('Weigh Up'!$AA$32=\"\",\"\",'Weigh Up'!$AA$32)","v":""},{"$f":"IF('Weigh Up'!$B$4=\"\",\"\",'Weigh Up'!$B$4)","v":"HMACP MIXTURE DESIGN : WEIGH UP SHEET"},{"$f":"IF('Weigh Up'!$B$31=\"\",\"\",'Weigh Up'!$B$31)","v":"INDIVIDUAL"},{"$f":"IF('Weigh Up'!$C$30=\"\",\"\",'Weigh Up'!$C$30)","v":"Passing"},{"$f":"IF('Weigh Up'!$C$32=\"\",\"\",'Weigh Up'!$C$32)","v":"1\""},{"$f":"IF('Weigh Up'!$C$29=\"\",\"\",'Weigh Up'!$C$29)","v":"Sieve Size:"},{"$f":"IF('Weigh Up'!$D$30=\"\",\"\",'Weigh Up'!$D$30)","v":"Retained"},{"$f":"IF('Weigh Up'!$D$32=\"\",\"\",'Weigh Up'!$D$32)","v":"3/4\""},{"$f":"'Weigh Up'!$AA$26","v":"Cumulative Retained, %"}]
[655,{"$f":"IF('Weigh Up'!$E$33=\"\",\"\",'Weigh Up'!$E$33)","v":""},{"$f":"IF('Weigh Up'!$B$4=\"\",\"\",'Weigh Up'!$B$4)","v":"HMACP MIXTURE DESIGN : WEIGH UP SHEET"},{"$f":"IF('Weigh Up'!$B$31=\"\",\"\",'Weigh Up'!$B$31)","v":"INDIVIDUAL"},{"$f":"IF('Weigh Up'!$C$30=\"\",\"\",'Weigh Up'!$C$30)","v":"Passing"},{"$f":"IF('Weigh Up'!$C$33=\"\",\"\",'Weigh Up'!$C$33)","v":"3/4\""},{"$f":"IF('Weigh Up'!$C$29=\"\",\"\",'Weigh Up'!$C$29)","v":"Sieve Size:"},{"$f":"IF('Weigh Up'!$D$30=\"\",\"\",'Weigh Up'!$D$30)","v":"Retained"},{"$f":"IF('Weigh Up'!$D$33=\"\",\"\",'Weigh Up'!$D$33)","v":"1/2\""},{"$f":"'Weigh Up'!$E$23","v":"Bin No.1"}]
[656,{"$f":"IF('Weigh Up'!$G$33=\"\",\"\",'Weigh Up'!$G$33)","v":""},{"$f":"IF('Weigh Up'!$B$4=\"\",\"\",'Weigh Up'!$B$4)","v":"HMACP MIXTURE DESIGN : WEIGH UP SHEET"},{"$f":"IF('Weigh Up'!$B$31=\"\",\"\",'Weigh Up'!$B$31)","v":"INDIVIDUAL"},{"$f":"IF('Weigh Up'!$C$30=\"\",\"\",'Weigh Up'!$C$30)","v":"Passing"},{"$f":"IF('Weigh Up'!$C$33=\"\",\"\",'Weigh Up'!$C$33)","v":"3/4\""},{"$f":"IF('Weigh Up'!$C$29=\"\",\"\",'Weigh Up'!$C$29)","v":"Sieve Size:"},{"$f":"IF('Weigh Up'!$D$30=\"\",\"\",'Weigh Up'!$D$30)","v":"Retained"},{"$f":"IF('Weigh Up'!$D$33=\"\",\"\",'Weigh Up'!$D$33)","v":"1/2\""},{"$f":"'Weigh Up'!$G$23","v":"Bin No.2"}]
[657,{"$f":"IF('Weigh Up'!$I$33=\"\",\"\",'Weigh Up'!$I$33)","v":""},{"$f":"IF('Weigh Up'!$B$4=\"\",\"\",'Weigh Up'!$B$4)","v":"HMACP MIXTURE DESIGN : WEIGH UP SHEET"},{"$f":"IF('Weigh Up'!$B$31=\"\",\"\",'Weigh Up'!$B$31)","v":"INDIVIDUAL"},{"$f":"IF('Weigh Up'!$C$30=\"\",\"\",'Weigh Up'!$C$30)","v":"Passing"},{"$f":"IF('Weigh Up'!$C$33=\"\",\"\",'Weigh Up'!$C$33)","v":"3/4\""},{"$f":"IF('Weigh Up'!$C$29=\"\",\"\",'Weigh Up'!$C$29)","v":"Sieve Size:"},{"$f":"IF('Weigh Up'!$D$30=\"\",\"\",'Weigh Up'!$D$30)","v":"Retained"},{"$f":"IF('Weigh Up'!$D$33=\"\",\"\",'Weigh Up'!$D$33)","v":"1/2\""},{"$f":"'Weigh Up'!$I$23","v":"Bin No.3"}]
[658,{"$f":"IF('Weigh Up'!$K$33=\"\",\"\",'Weigh Up'!$K$33)","v":""},{"$f":"IF('Weigh Up'!$B$4=\"\",\"\",'Weigh Up'!$B$4)","v":"HMACP MIXTURE DESIGN : WEIGH UP SHEET"},{"$f":"IF('Weigh Up'!$B$31=\"\",\"\",'Weigh Up'!$B$31)","v":"INDIVIDUAL"},{"$f":"IF('Weigh Up'!$C$30=\"\",\"\",'Weigh Up'!$C$30)","v":"Passing"},{"$f":"IF('Weigh Up'!$C$33=\"\",\"\",'Weigh Up'!$C$33)","v":"3/4\""},{"$f":"IF('Weigh Up'!$C$29=\"\",\"\",'Weigh Up'!$C$29)","v":"Sieve Size:"},{"$f":"IF('Weigh Up'!$D$30=\"\",\"\",'Weigh Up'!$D$30)","v":"Retained"},{"$f":"IF('Weigh Up'!$D$33=\"\",\"\",'Weigh Up'!$D$33)","v":"1/2\""},{"$f":"'Weigh Up'!$K$23","v":"Bin No.4"}]
[659,{"$f":"IF('Weigh Up'!$M$33=\"\",\"\",'Weigh Up'!$M$33)","v":""},{"$f":"IF('Weigh Up'!$B$4=\"\",\"\",'Weigh Up'!$B$4)","v":"HMACP MIXTURE DESIGN : WEIGH UP SHEET"},{"$f":"IF('Weigh Up'!$B$31=\"\",\"\",'Weigh Up'!$B$31)","v":"INDIVIDUAL"},{"$f":"IF('Weigh Up'!$C$30=\"\",\"\",'Weigh Up'!$C$30)","v":"Passing"},{"$f":"IF('Weigh Up'!$C$33=\"\",\"\",'Weigh Up'!$C$33)","v":"3/4\""},{"$f":"IF('Weigh Up'!$C$29=\"\",\"\",'Weigh Up'!$C$29)","v":"Sieve Size:"},{"$f":"IF('Weigh Up'!$D$30=\"\",\"\",'Weigh Up'!$D$30)","v":"Retained"},{"$f":"IF('Weigh Up'!$D$33=\"\",\"\",'Weigh Up'!$D$33)","v":"1/2\""},{"$f":"'Weigh Up'!$M$23","v":"Bin No.5"}]
[660,{"$f":"IF('Weigh Up'!$O$33=\"\",\"\",'Weigh Up'!$O$33)","v":""},{"$f":"IF('Weigh Up'!$B$4=\"\",\"\",'Weigh Up'!$B$4)","v":"HMACP MIXTURE DESIGN : WEIGH UP SHEET"},{"$f":"IF('Weigh Up'!$B$31=\"\",\"\",'Weigh Up'!$B$31)","v":"INDIVIDUAL"},{"$f":"IF('Weigh Up'!$C$30=\"\",\"\",'Weigh Up'!$C$30)","v":"Passing"},{"$f":"IF('Weigh Up'!$C$33=\"\",\"\",'Weigh Up'!$C$33)","v":"3/4\""},{"$f":"IF('Weigh Up'!$C$29=\"\",\"\",'Weigh Up'!$C$29)","v":"Sieve Size:"},{"$f":"IF('Weigh Up'!$D$30=\"\",\"\",'Weigh Up'!$D$30)","v":"Retained"},{"$f":"IF('Weigh Up'!$D$33=\"\",\"\",'Weigh Up'!$D$33)","v":"1/2\""},{"$f":"'Weigh Up'!$O$23","v":"Bin No.6 "}]
[661,{"$f":"IF('Weigh Up'!$Q$33=\"\",\"\",'Weigh Up'!$Q$33)","v":""},{"$f":"IF('Weigh Up'!$B$4=\"\",\"\",'Weigh Up'!$B$4)","v":"HMACP MIXTURE DESIGN : WEIGH UP SHEET"},{"$f":"IF('Weigh Up'!$B$31=\"\",\"\",'Weigh Up'!$B$31)","v":"INDIVIDUAL"},{"$f":"IF('Weigh Up'!$C$30=\"\",\"\",'Weigh Up'!$C$30)","v":"Passing"},{"$f":"IF('Weigh Up'!$C$33=\"\",\"\",'Weigh Up'!$C$33)","v":"3/4\""},{"$f":"IF('Weigh Up'!$C$29=\"\",\"\",'Weigh Up'!$C$29)","v":"Sieve Size:"},{"$f":"IF('Weigh Up'!$D$30=\"\",\"\",'Weigh Up'!$D$30)","v":"Retained"},{"$f":"IF('Weigh Up'!$D$33=\"\",\"\",'Weigh Up'!$D$33)","v":"1/2\""},{"$f":"'Weigh Up'!$Q$23","v":"Bin No.7 "}]
[662,{"$f":"IF('Weigh Up'!$Y$33=\"\",\"\",'Weigh Up'!$Y$33)","v":0},{"$f":"IF('Weigh Up'!$B$4=\"\",\"\",'Weigh Up'!$B$4)","v":"HMACP MIXTURE DESIGN : WEIGH UP SHEET"},{"$f":"IF('Weigh Up'!$B$31=\"\",\"\",'Weigh Up'!$B$31)","v":"INDIVIDUAL"},{"$f":"IF('Weigh Up'!$C$30=\"\",\"\",'Weigh Up'!$C$30)","v":"Passing"},{"$f":"IF('Weigh Up'!$C$33=\"\",\"\",'Weigh Up'!$C$33)","v":"3/4\""},{"$f":"IF('Weigh Up'!$C$29=\"\",\"\",'Weigh Up'!$C$29)","v":"Sieve Size:"},{"$f":"IF('Weigh Up'!$D$30=\"\",\"\",'Weigh Up'!$D$30)","v":"Retained"},{"$f":"IF('Weigh Up'!$D$33=\"\",\"\",'Weigh Up'!$D$33)","v":"1/2\""},{"$f":"'Weigh Up'!$Y$26","v":"Total Weights"}]
[663,{"$f":"IF('Weigh Up'!$Z$33=\"\",\"\",'Weigh Up'!$Z$33)","v":""},{"$f":"IF('Weigh Up'!$B$4=\"\",\"\",'Weigh Up'!$B$4)","v":"HMACP MIXTURE DESIGN : WEIGH UP SHEET"},{"$f":"IF('Weigh Up'!$B$31=\"\",\"\",'Weigh Up'!$B$31)","v":"INDIVIDUAL"},{"$f":"IF('Weigh Up'!$C$30=\"\",\"\",'Weigh Up'!$C$30)","v":"Passing"},{"$f":"IF('Weigh Up'!$C$33=\"\",\"\",'Weigh Up'!$C$33)","v":"3/4\""},{"$f":"IF('Weigh Up'!$C$29=\"\",\"\",'Weigh Up'!$C$29)","v":"Sieve Size:"},{"$f":"IF('Weigh Up'!$D$30=\"\",\"\",'Weigh Up'!$D$30)","v":"Retained"},{"$f":"IF('Weigh Up'!$D$33=\"\",\"\",'Weigh Up'!$D$33)","v":"1/2\""},{"$f":"'Weigh Up'!$Z$26","v":"Individual\nRetained, %"}]
[664,{"$f":"IF('Weigh Up'!$AA$33=\"\",\"\",'Weigh Up'!$AA$33)","v":""},{"$f":"IF('Weigh Up'!$B$4=\"\",\"\",'Weigh Up'!$B$4)","v":"HMACP MIXTURE DESIGN : WEIGH UP SHEET"},{"$f":"IF('Weigh Up'!$B$31=\"\",\"\",'Weigh Up'!$B$31)","v":"INDIVIDUAL"},{"$f":"IF('Weigh Up'!$C$30=\"\",\"\",'Weigh Up'!$C$30)","v":"Passing"},{"$f":"IF('Weigh Up'!$C$33=\"\",\"\",'Weigh Up'!$C$33)","v":"3/4\""},{"$f":"IF('Weigh Up'!$C$29=\"\",\"\",'Weigh Up'!$C$29)","v":"Sieve Size:"},{"$f":"IF('Weigh Up'!$D$30=\"\",\"\",'Weigh Up'!$D$30)","v":"Retained"},{"$f":"IF('Weigh Up'!$D$33=\"\",\"\",'Weigh Up'!$D$33)","v":"1/2\""},{"$f":"'Weigh Up'!$AA$26","v":"Cumulative Retained, %"}]
[665,{"$f":"IF('Weigh Up'!$E$34=\"\",\"\",'Weigh Up'!$E$34)","v":""},{"$f":"IF('Weigh Up'!$B$4=\"\",\"\",'Weigh Up'!$B$4)","v":"HMACP MIXTURE DESIGN : WEIGH UP SHEET"},{"$f":"IF('Weigh Up'!$B$31=\"\",\"\",'Weigh Up'!$B$31)","v":"INDIVIDUAL"},{"$f":"IF('Weigh Up'!$C$30=\"\",\"\",'Weigh Up'!$C$30)","v":"Passing"},{"$f":"IF('Weigh Up'!$C$34=\"\",\"\",'Weigh Up'!$C$34)","v":"1/2\""},{"$f":"IF('Weigh Up'!$C$29=\"\",\"\",'Weigh Up'!$C$29)","v":"Sieve Size:"},{"$f":"IF('Weigh Up'!$D$30=\"\",\"\",'Weigh Up'!$D$30)","v":"Retained"},{"$f":"IF('Weigh Up'!$D$34=\"\",\"\",'Weigh Up'!$D$34)","v":"3/8\""},{"$f":"'Weigh Up'!$E$23","v":"Bin No.1"}]
[666,{"$f":"IF('Weigh Up'!$G$34=\"\",\"\",'Weigh Up'!$G$34)","v":""},{"$f":"IF('Weigh Up'!$B$4=\"\",\"\",'Weigh Up'!$B$4)","v":"HMACP MIXTURE DESIGN : WEIGH UP SHEET"},{"$f":"IF('Weigh Up'!$B$31=\"\",\"\",'Weigh Up'!$B$31)","v":"INDIVIDUAL"},{"$f":"IF('Weigh Up'!$C$30=\"\",\"\",'Weigh Up'!$C$30)","v":"Passing"},{"$f":"IF('Weigh Up'!$C$34=\"\",\"\",'Weigh Up'!$C$34)","v":"1/2\""},{"$f":"IF('Weigh Up'!$C$29=\"\",\"\",'Weigh Up'!$C$29)","v":"Sieve Size:"},{"$f":"IF('Weigh Up'!$D$30=\"\",\"\",'Weigh Up'!$D$30)","v":"Retained"},{"$f":"IF('Weigh Up'!$D$34=\"\",\"\",'Weigh Up'!$D$34)","v":"3/8\""},{"$f":"'Weigh Up'!$G$23","v":"Bin No.2"}]
[667,{"$f":"IF('Weigh Up'!$I$34=\"\",\"\",'Weigh Up'!$I$34)","v":""},{"$f":"IF('Weigh Up'!$B$4=\"\",\"\",'Weigh Up'!$B$4)","v":"HMACP MIXTURE DESIGN : WEIGH UP SHEET"},{"$f":"IF('Weigh Up'!$B$31=\"\",\"\",'Weigh Up'!$B$31)","v":"INDIVIDUAL"},{"$f":"IF('Weigh Up'!$C$30=\"\",\"\",'Weigh Up'!$C$30)","v":"Passing"},{"$f":"IF('Weigh Up'!$C$34=\"\",\"\",'Weigh Up'!$C$34)","v":"1/2\""},{"$f":"IF('Weigh Up'!$C$29=\"\",\"\",'Weigh Up'!$C$29)","v":"Sieve Size:"},{"$f":"IF('Weigh Up'!$D$30=\"\",\"\",'Weigh Up'!$D$30)","v":"Retained"},{"$f":"IF('Weigh Up'!$D$34=\"\",\"\",'Weigh Up'!$D$34)","v":"3/8\""},{"$f":"'Weigh Up'!$I$23","v":"Bin No.3"}]
[668,{"$f":"IF('Weigh Up'!$K$34=\"\",\"\",'Weigh Up'!$K$34)","v":""},{"$f":"IF('Weigh Up'!$B$4=\"\",\"\",'Weigh Up'!$B$4)","v":"HMACP MIXTURE DESIGN : WEIGH UP SHEET"},{"$f":"IF('Weigh Up'!$B$31=\"\",\"\",'Weigh Up'!$B$31)","v":"INDIVIDUAL"},{"$f":"IF('Weigh Up'!$C$30=\"\",\"\",'Weigh Up'!$C$30)","v":"Passing"},{"$f":"IF('Weigh Up'!$C$34=\"\",\"\",'Weigh Up'!$C$34)","v":"1/2\""},{"$f":"IF('Weigh Up'!$C$29=\"\",\"\",'Weigh Up'!$C$29)","v":"Sieve Size:"},{"$f":"IF('Weigh Up'!$D$30=\"\",\"\",'Weigh Up'!$D$30)","v":"Retained"},{"$f":"IF('Weigh Up'!$D$34=\"\",\"\",'Weigh Up'!$D$34)","v":"3/8\""},{"$f":"'Weigh Up'!$K$23","v":"Bin No.4"}]
[669,{"$f":"IF('Weigh Up'!$M$34=\"\",\"\",'Weigh Up'!$M$34)","v":""},{"$f":"IF('Weigh Up'!$B$4=\"\",\"\",'Weigh Up'!$B$4)","v":"HMACP MIXTURE DESIGN : WEIGH UP SHEET"},{"$f":"IF('Weigh Up'!$B$31=\"\",\"\",'Weigh Up'!$B$31)","v":"INDIVIDUAL"},{"$f":"IF('Weigh Up'!$C$30=\"\",\"\",'Weigh Up'!$C$30)","v":"Passing"},{"$f":"IF('Weigh Up'!$C$34=\"\",\"\",'Weigh Up'!$C$34)","v":"1/2\""},{"$f":"IF('Weigh Up'!$C$29=\"\",\"\",'Weigh Up'!$C$29)","v":"Sieve Size:"},{"$f":"IF('Weigh Up'!$D$30=\"\",\"\",'Weigh Up'!$D$30)","v":"Retained"},{"$f":"IF('Weigh Up'!$D$34=\"\",\"\",'Weigh Up'!$D$34)","v":"3/8\""},{"$f":"'Weigh Up'!$M$23","v":"Bin No.5"}]
[670,{"$f":"IF('Weigh Up'!$O$34=\"\",\"\",'Weigh Up'!$O$34)","v":""},{"$f":"IF('Weigh Up'!$B$4=\"\",\"\",'Weigh Up'!$B$4)","v":"HMACP MIXTURE DESIGN : WEIGH UP SHEET"},{"$f":"IF('Weigh Up'!$B$31=\"\",\"\",'Weigh Up'!$B$31)","v":"INDIVIDUAL"},{"$f":"IF('Weigh Up'!$C$30=\"\",\"\",'Weigh Up'!$C$30)","v":"Passing"},{"$f":"IF('Weigh Up'!$C$34=\"\",\"\",'Weigh Up'!$C$34)","v":"1/2\""},{"$f":"IF('Weigh Up'!$C$29=\"\",\"\",'Weigh Up'!$C$29)","v":"Sieve Size:"},{"$f":"IF('Weigh Up'!$D$30=\"\",\"\",'Weigh Up'!$D$30)","v":"Retained"},{"$f":"IF('Weigh Up'!$D$34=\"\",\"\",'Weigh Up'!$D$34)","v":"3/8\""},{"$f":"'Weigh Up'!$O$23","v":"Bin No.6 "}]
[671,{"$f":"IF('Weigh Up'!$Q$34=\"\",\"\",'Weigh Up'!$Q$34)","v":""},{"$f":"IF('Weigh Up'!$B$4=\"\",\"\",'Weigh Up'!$B$4)","v":"HMACP MIXTURE DESIGN : WEIGH UP SHEET"},{"$f":"IF('Weigh Up'!$B$31=\"\",\"\",'Weigh Up'!$B$31)","v":"INDIVIDUAL"},{"$f":"IF('Weigh Up'!$C$30=\"\",\"\",'Weigh Up'!$C$30)","v":"Passing"},{"$f":"IF('Weigh Up'!$C$34=\"\",\"\",'Weigh Up'!$C$34)","v":"1/2\""},{"$f":"IF('Weigh Up'!$C$29=\"\",\"\",'Weigh Up'!$C$29)","v":"Sieve Size:"},{"$f":"IF('Weigh Up'!$D$30=\"\",\"\",'Weigh Up'!$D$30)","v":"Retained"},{"$f":"IF('Weigh Up'!$D$34=\"\",\"\",'Weigh Up'!$D$34)","v":"3/8\""},{"$f":"'Weigh Up'!$Q$23","v":"Bin No.7 "}]
[672,{"$f":"IF('Weigh Up'!$Y$34=\"\",\"\",'Weigh Up'!$Y$34)","v":0},{"$f":"IF('Weigh Up'!$B$4=\"\",\"\",'Weigh Up'!$B$4)","v":"HMACP MIXTURE DESIGN : WEIGH UP SHEET"},{"$f":"IF('Weigh Up'!$B$31=\"\",\"\",'Weigh Up'!$B$31)","v":"INDIVIDUAL"},{"$f":"IF('Weigh Up'!$C$30=\"\",\"\",'Weigh Up'!$C$30)","v":"Passing"},{"$f":"IF('Weigh Up'!$C$34=\"\",\"\",'Weigh Up'!$C$34)","v":"1/2\""},{"$f":"IF('Weigh Up'!$C$29=\"\",\"\",'Weigh Up'!$C$29)","v":"Sieve Size:"},{"$f":"IF('Weigh Up'!$D$30=\"\",\"\",'Weigh Up'!$D$30)","v":"Retained"},{"$f":"IF('Weigh Up'!$D$34=\"\",\"\",'Weigh Up'!$D$34)","v":"3/8\""},{"$f":"'Weigh Up'!$Y$26","v":"Total Weights"}]
[673,{"$f":"IF('Weigh Up'!$Z$34=\"\",\"\",'Weigh Up'!$Z$34)","v":""},{"$f":"IF('Weigh Up'!$B$4=\"\",\"\",'Weigh Up'!$B$4)","v":"HMACP MIXTURE DESIGN : WEIGH UP SHEET"},{"$f":"IF('Weigh Up'!$B$31=\"\",\"\",'Weigh Up'!$B$31)","v":"INDIVIDUAL"},{"$f":"IF('Weigh Up'!$C$30=\"\",\"\",'Weigh Up'!$C$30)","v":"Passing"},{"$f":"IF('Weigh Up'!$C$34=\"\",\"\",'Weigh Up'!$C$34)","v":"1/2\""},{"$f":"IF('Weigh Up'!$C$29=\"\",\"\",'Weigh Up'!$C$29)","v":"Sieve Size:"},{"$f":"IF('Weigh Up'!$D$30=\"\",\"\",'Weigh Up'!$D$30)","v":"Retained"},{"$f":"IF('Weigh Up'!$D$34=\"\",\"\",'Weigh Up'!$D$34)","v":"3/8\""},{"$f":"'Weigh Up'!$Z$26","v":"Individual\nRetained, %"}]
[674,{"$f":"IF('Weigh Up'!$AA$34=\"\",\"\",'Weigh Up'!$AA$34)","v":""},{"$f":"IF('Weigh Up'!$B$4=\"\",\"\",'Weigh Up'!$B$4)","v":"HMACP MIXTURE DESIGN : WEIGH UP SHEET"},{"$f":"IF('Weigh Up'!$B$31=\"\",\"\",'Weigh Up'!$B$31)","v":"INDIVIDUAL"},{"$f":"IF('Weigh Up'!$C$30=\"\",\"\",'Weigh Up'!$C$30)","v":"Passing"},{"$f":"IF('Weigh Up'!$C$34=\"\",\"\",'Weigh Up'!$C$34)","v":"1/2\""},{"$f":"IF('Weigh Up'!$C$29=\"\",\"\",'Weigh Up'!$C$29)","v":"Sieve Size:"},{"$f":"IF('Weigh Up'!$D$30=\"\",\"\",'Weigh Up'!$D$30)","v":"Retained"},{"$f":"IF('Weigh Up'!$D$34=\"\",\"\",'Weigh Up'!$D$34)","v":"3/8\""},{"$f":"'Weigh Up'!$AA$26","v":"Cumulative Retained, %"}]
[675,{"$f":"IF('Weigh Up'!$E$35=\"\",\"\",'Weigh Up'!$E$35)","v":""},{"$f":"IF('Weigh Up'!$B$4=\"\",\"\",'Weigh Up'!$B$4)","v":"HMACP MIXTURE DESIGN : WEIGH UP SHEET"},{"$f":"IF('Weigh Up'!$B$31=\"\",\"\",'Weigh Up'!$B$31)","v":"INDIVIDUAL"},{"$f":"IF('Weigh Up'!$C$30=\"\",\"\",'Weigh Up'!$C$30)","v":"Passing"},{"$f":"IF('Weigh Up'!$C$35=\"\",\"\",'Weigh Up'!$C$35)","v":"3/8\""},{"$f":"IF('Weigh Up'!$C$29=\"\",\"\",'Weigh Up'!$C$29)","v":"Sieve Size:"},{"$f":"IF('Weigh Up'!$D$30=\"\",\"\",'Weigh Up'!$D$30)","v":"Retained"},{"$f":"IF('Weigh Up'!$D$35=\"\",\"\",'Weigh Up'!$D$35)","v":"No. 4"},{"$f":"'Weigh Up'!$E$23","v":"Bin No.1"}]
[676,{"$f":"IF('Weigh Up'!$G$35=\"\",\"\",'Weigh Up'!$G$35)","v":""},{"$f":"IF('Weigh Up'!$B$4=\"\",\"\",'Weigh Up'!$B$4)","v":"HMACP MIXTURE DESIGN : WEIGH UP SHEET"},{"$f":"IF('Weigh Up'!$B$31=\"\",\"\",'Weigh Up'!$B$31)","v":"INDIVIDUAL"},{"$f":"IF('Weigh Up'!$C$30=\"\",\"\",'Weigh Up'!$C$30)","v":"Passing"},{"$f":"IF('Weigh Up'!$C$35=\"\",\"\",'Weigh Up'!$C$35)","v":"3/8\""},{"$f":"IF('Weigh Up'!$C$29=\"\",\"\",'Weigh Up'!$C$29)","v":"Sieve Size:"},{"$f":"IF('Weigh Up'!$D$30=\"\",\"\",'Weigh Up'!$D$30)","v":"Retained"},{"$f":"IF('Weigh Up'!$D$35=\"\",\"\",'Weigh Up'!$D$35)","v":"No. 4"},{"$f":"'Weigh Up'!$G$23","v":"Bin No.2"}]
[677,{"$f":"IF('Weigh Up'!$I$35=\"\",\"\",'Weigh Up'!$I$35)","v":""},{"$f":"IF('Weigh Up'!$B$4=\"\",\"\",'Weigh Up'!$B$4)","v":"HMACP MIXTURE DESIGN : WEIGH UP SHEET"},{"$f":"IF('Weigh Up'!$B$31=\"\",\"\",'Weigh Up'!$B$31)","v":"INDIVIDUAL"},{"$f":"IF('Weigh Up'!$C$30=\"\",\"\",'Weigh Up'!$C$30)","v":"Passing"},{"$f":"IF('Weigh Up'!$C$35=\"\",\"\",'Weigh Up'!$C$35)","v":"3/8\""},{"$f":"IF('Weigh Up'!$C$29=\"\",\"\",'Weigh Up'!$C$29)","v":"Sieve Size:"},{"$f":"IF('Weigh Up'!$D$30=\"\",\"\",'Weigh Up'!$D$30)","v":"Retained"},{"$f":"IF('Weigh Up'!$D$35=\"\",\"\",'Weigh Up'!$D$35)","v":"No. 4"},{"$f":"'Weigh Up'!$I$23","v":"Bin No.3"}]
[678,{"$f":"IF('Weigh Up'!$K$35=\"\",\"\",'Weigh Up'!$K$35)","v":""},{"$f":"IF('Weigh Up'!$B$4=\"\",\"\",'Weigh Up'!$B$4)","v":"HMACP MIXTURE DESIGN : WEIGH UP SHEET"},{"$f":"IF('Weigh Up'!$B$31=\"\",\"\",'Weigh Up'!$B$31)","v":"INDIVIDUAL"},{"$f":"IF('Weigh Up'!$C$30=\"\",\"\",'Weigh Up'!$C$30)","v":"Passing"},{"$f":"IF('Weigh Up'!$C$35=\"\",\"\",'Weigh Up'!$C$35)","v":"3/8\""},{"$f":"IF('Weigh Up'!$C$29=\"\",\"\",'Weigh Up'!$C$29)","v":"Sieve Size:"},{"$f":"IF('Weigh Up'!$D$30=\"\",\"\",'Weigh Up'!$D$30)","v":"Retained"},{"$f":"IF('Weigh Up'!$D$35=\"\",\"\",'Weigh Up'!$D$35)","v":"No. 4"},{"$f":"'Weigh Up'!$K$23","v":"Bin No.4"}]
[679,{"$f":"IF('Weigh Up'!$M$35=\"\",\"\",'Weigh Up'!$M$35)","v":""},{"$f":"IF('Weigh Up'!$B$4=\"\",\"\",'Weigh Up'!$B$4)","v":"HMACP MIXTURE DESIGN : WEIGH UP SHEET"},{"$f":"IF('Weigh Up'!$B$31=\"\",\"\",'Weigh Up'!$B$31)","v":"INDIVIDUAL"},{"$f":"IF('Weigh Up'!$C$30=\"\",\"\",'Weigh Up'!$C$30)","v":"Passing"},{"$f":"IF('Weigh Up'!$C$35=\"\",\"\",'Weigh Up'!$C$35)","v":"3/8\""},{"$f":"IF('Weigh Up'!$C$29=\"\",\"\",'Weigh Up'!$C$29)","v":"Sieve Size:"},{"$f":"IF('Weigh Up'!$D$30=\"\",\"\",'Weigh Up'!$D$30)","v":"Retained"},{"$f":"IF('Weigh Up'!$D$35=\"\",\"\",'Weigh Up'!$D$35)","v":"No. 4"},{"$f":"'Weigh Up'!$M$23","v":"Bin No.5"}]
[680,{"$f":"IF('Weigh Up'!$O$35=\"\",\"\",'Weigh Up'!$O$35)","v":""},{"$f":"IF('Weigh Up'!$B$4=\"\",\"\",'Weigh Up'!$B$4)","v":"HMACP MIXTURE DESIGN : WEIGH UP SHEET"},{"$f":"IF('Weigh Up'!$B$31=\"\",\"\",'Weigh Up'!$B$31)","v":"INDIVIDUAL"},{"$f":"IF('Weigh Up'!$C$30=\"\",\"\",'Weigh Up'!$C$30)","v":"Passing"},{"$f":"IF('Weigh Up'!$C$35=\"\",\"\",'Weigh Up'!$C$35)","v":"3/8\""},{"$f":"IF('Weigh Up'!$C$29=\"\",\"\",'Weigh Up'!$C$29)","v":"Sieve Size:"},{"$f":"IF('Weigh Up'!$D$30=\"\",\"\",'Weigh Up'!$D$30)","v":"Retained"},{"$f":"IF('Weigh Up'!$D$35=\"\",\"\",'Weigh Up'!$D$35)","v":"No. 4"},{"$f":"'Weigh Up'!$O$23","v":"Bin No.6 "}]
[681,{"$f":"IF('Weigh Up'!$Q$35=\"\",\"\",'Weigh Up'!$Q$35)","v":""},{"$f":"IF('Weigh Up'!$B$4=\"\",\"\",'Weigh Up'!$B$4)","v":"HMACP MIXTURE DESIGN : WEIGH UP SHEET"},{"$f":"IF('Weigh Up'!$B$31=\"\",\"\",'Weigh Up'!$B$31)","v":"INDIVIDUAL"},{"$f":"IF('Weigh Up'!$C$30=\"\",\"\",'Weigh Up'!$C$30)","v":"Passing"},{"$f":"IF('Weigh Up'!$C$35=\"\",\"\",'Weigh Up'!$C$35)","v":"3/8\""},{"$f":"IF('Weigh Up'!$C$29=\"\",\"\",'Weigh Up'!$C$29)","v":"Sieve Size:"},{"$f":"IF('Weigh Up'!$D$30=\"\",\"\",'Weigh Up'!$D$30)","v":"Retained"},{"$f":"IF('Weigh Up'!$D$35=\"\",\"\",'Weigh Up'!$D$35)","v":"No. 4"},{"$f":"'Weigh Up'!$Q$23","v":"Bin No.7 "}]
[682,{"$f":"IF('Weigh Up'!$Y$35=\"\",\"\",'Weigh Up'!$Y$35)","v":0},{"$f":"IF('Weigh Up'!$B$4=\"\",\"\",'Weigh Up'!$B$4)","v":"HMACP MIXTURE DESIGN : WEIGH UP SHEET"},{"$f":"IF('Weigh Up'!$B$31=\"\",\"\",'Weigh Up'!$B$31)","v":"INDIVIDUAL"},{"$f":"IF('Weigh Up'!$C$30=\"\",\"\",'Weigh Up'!$C$30)","v":"Passing"},{"$f":"IF('Weigh Up'!$C$35=\"\",\"\",'Weigh Up'!$C$35)","v":"3/8\""},{"$f":"IF('Weigh Up'!$C$29=\"\",\"\",'Weigh Up'!$C$29)","v":"Sieve Size:"},{"$f":"IF('Weigh Up'!$D$30=\"\",\"\",'Weigh Up'!$D$30)","v":"Retained"},{"$f":"IF('Weigh Up'!$D$35=\"\",\"\",'Weigh Up'!$D$35)","v":"No. 4"},{"$f":"'Weigh Up'!$Y$26","v":"Total Weights"}]
[683,{"$f":"IF('Weigh Up'!$Z$35=\"\",\"\",'Weigh Up'!$Z$35)","v":""},{"$f":"IF('Weigh Up'!$B$4=\"\",\"\",'Weigh Up'!$B$4)","v":"HMACP MIXTURE DESIGN : WEIGH UP SHEET"},{"$f":"IF('Weigh Up'!$B$31=\"\",\"\",'Weigh Up'!$B$31)","v":"INDIVIDUAL"},{"$f":"IF('Weigh Up'!$C$30=\"\",\"\",'Weigh Up'!$C$30)","v":"Passing"},{"$f":"IF('Weigh Up'!$C$35=\"\",\"\",'Weigh Up'!$C$35)","v":"3/8\""},{"$f":"IF('Weigh Up'!$C$29=\"\",\"\",'Weigh Up'!$C$29)","v":"Sieve Size:"},{"$f":"IF('Weigh Up'!$D$30=\"\",\"\",'Weigh Up'!$D$30)","v":"Retained"},{"$f":"IF('Weigh Up'!$D$35=\"\",\"\",'Weigh Up'!$D$35)","v":"No. 4"},{"$f":"'Weigh Up'!$Z$26","v":"Individual\nRetained, %"}]
[684,{"$f":"IF('Weigh Up'!$AA$35=\"\",\"\",'Weigh Up'!$AA$35)","v":""},{"$f":"IF('Weigh Up'!$B$4=\"\",\"\",'Weigh Up'!$B$4)","v":"HMACP MIXTURE DESIGN : WEIGH UP SHEET"},{"$f":"IF('Weigh Up'!$B$31=\"\",\"\",'Weigh Up'!$B$31)","v":"INDIVIDUAL"},{"$f":"IF('Weigh Up'!$C$30=\"\",\"\",'Weigh Up'!$C$30)","v":"Passing"},{"$f":"IF('Weigh Up'!$C$35=\"\",\"\",'Weigh Up'!$C$35)","v":"3/8\""},{"$f":"IF('Weigh Up'!$C$29=\"\",\"\",'Weigh Up'!$C$29)","v":"Sieve Size:"},{"$f":"IF('Weigh Up'!$D$30=\"\",\"\",'Weigh Up'!$D$30)","v":"Retained"},{"$f":"IF('Weigh Up'!$D$35=\"\",\"\",'Weigh Up'!$D$35)","v":"No. 4"},{"$f":"'Weigh Up'!$AA$26","v":"Cumulative Retained, %"}]
[685,{"$f":"IF('Weigh Up'!$E$36=\"\",\"\",'Weigh Up'!$E$36)","v":""},{"$f":"IF('Weigh Up'!$B$4=\"\",\"\",'Weigh Up'!$B$4)","v":"HMACP MIXTURE DESIGN : WEIGH UP SHEET"},{"$f":"IF('Weigh Up'!$B$31=\"\",\"\",'Weigh Up'!$B$31)","v":"INDIVIDUAL"},{"$f":"IF('Weigh Up'!$C$30=\"\",\"\",'Weigh Up'!$C$30)","v":"Passing"},{"$f":"IF('Weigh Up'!$C$36=\"\",\"\",'Weigh Up'!$C$36)","v":"No. 4"},{"$f":"IF('Weigh Up'!$C$29=\"\",\"\",'Weigh Up'!$C$29)","v":"Sieve Size:"},{"$f":"IF('Weigh Up'!$D$30=\"\",\"\",'Weigh Up'!$D$30)","v":"Retained"},{"$f":"IF('Weigh Up'!$D$36=\"\",\"\",'Weigh Up'!$D$36)","v":"No. 8"},{"$f":"'Weigh Up'!$E$23","v":"Bin No.1"}]
[686,{"$f":"IF('Weigh Up'!$G$36=\"\",\"\",'Weigh Up'!$G$36)","v":""},{"$f":"IF('Weigh Up'!$B$4=\"\",\"\",'Weigh Up'!$B$4)","v":"HMACP MIXTURE DESIGN : WEIGH UP SHEET"},{"$f":"IF('Weigh Up'!$B$31=\"\",\"\",'Weigh Up'!$B$31)","v":"INDIVIDUAL"},{"$f":"IF('Weigh Up'!$C$30=\"\",\"\",'Weigh Up'!$C$30)","v":"Passing"},{"$f":"IF('Weigh Up'!$C$36=\"\",\"\",'Weigh Up'!$C$36)","v":"No. 4"},{"$f":"IF('Weigh Up'!$C$29=\"\",\"\",'Weigh Up'!$C$29)","v":"Sieve Size:"},{"$f":"IF('Weigh Up'!$D$30=\"\",\"\",'Weigh Up'!$D$30)","v":"Retained"},{"$f":"IF('Weigh Up'!$D$36=\"\",\"\",'Weigh Up'!$D$36)","v":"No. 8"},{"$f":"'Weigh Up'!$G$23","v":"Bin No.2"}]
[687,{"$f":"IF('Weigh Up'!$I$36=\"\",\"\",'Weigh Up'!$I$36)","v":""},{"$f":"IF('Weigh Up'!$B$4=\"\",\"\",'Weigh Up'!$B$4)","v":"HMACP MIXTURE DESIGN : WEIGH UP SHEET"},{"$f":"IF('Weigh Up'!$B$31=\"\",\"\",'Weigh Up'!$B$31)","v":"INDIVIDUAL"},{"$f":"IF('Weigh Up'!$C$30=\"\",\"\",'Weigh Up'!$C$30)","v":"Passing"},{"$f":"IF('Weigh Up'!$C$36=\"\",\"\",'Weigh Up'!$C$36)","v":"No. 4"},{"$f":"IF('Weigh Up'!$C$29=\"\",\"\",'Weigh Up'!$C$29)","v":"Sieve Size:"},{"$f":"IF('Weigh Up'!$D$30=\"\",\"\",'Weigh Up'!$D$30)","v":"Retained"},{"$f":"IF('Weigh Up'!$D$36=\"\",\"\",'Weigh Up'!$D$36)","v":"No. 8"},{"$f":"'Weigh Up'!$I$23","v":"Bin No.3"}]
[688,{"$f":"IF('Weigh Up'!$K$36=\"\",\"\",'Weigh Up'!$K$36)","v":""},{"$f":"IF('Weigh Up'!$B$4=\"\",\"\",'Weigh Up'!$B$4)","v":"HMACP MIXTURE DESIGN : WEIGH UP SHEET"},{"$f":"IF('Weigh Up'!$B$31=\"\",\"\",'Weigh Up'!$B$31)","v":"INDIVIDUAL"},{"$f":"IF('Weigh Up'!$C$30=\"\",\"\",'Weigh Up'!$C$30)","v":"Passing"},{"$f":"IF('Weigh Up'!$C$36=\"\",\"\",'Weigh Up'!$C$36)","v":"No. 4"},{"$f":"IF('Weigh Up'!$C$29=\"\",\"\",'Weigh Up'!$C$29)","v":"Sieve Size:"},{"$f":"IF('Weigh Up'!$D$30=\"\",\"\",'Weigh Up'!$D$30)","v":"Retained"},{"$f":"IF('Weigh Up'!$D$36=\"\",\"\",'Weigh Up'!$D$36)","v":"No. 8"},{"$f":"'Weigh Up'!$K$23","v":"Bin No.4"}]
[689,{"$f":"IF('Weigh Up'!$M$36=\"\",\"\",'Weigh Up'!$M$36)","v":""},{"$f":"IF('Weigh Up'!$B$4=\"\",\"\",'Weigh Up'!$B$4)","v":"HMACP MIXTURE DESIGN : WEIGH UP SHEET"},{"$f":"IF('Weigh Up'!$B$31=\"\",\"\",'Weigh Up'!$B$31)","v":"INDIVIDUAL"},{"$f":"IF('Weigh Up'!$C$30=\"\",\"\",'Weigh Up'!$C$30)","v":"Passing"},{"$f":"IF('Weigh Up'!$C$36=\"\",\"\",'Weigh Up'!$C$36)","v":"No. 4"},{"$f":"IF('Weigh Up'!$C$29=\"\",\"\",'Weigh Up'!$C$29)","v":"Sieve Size:"},{"$f":"IF('Weigh Up'!$D$30=\"\",\"\",'Weigh Up'!$D$30)","v":"Retained"},{"$f":"IF('Weigh Up'!$D$36=\"\",\"\",'Weigh Up'!$D$36)","v":"No. 8"},{"$f":"'Weigh Up'!$M$23","v":"Bin No.5"}]
[690,{"$f":"IF('Weigh Up'!$O$36=\"\",\"\",'Weigh Up'!$O$36)","v":""},{"$f":"IF('Weigh Up'!$B$4=\"\",\"\",'Weigh Up'!$B$4)","v":"HMACP MIXTURE DESIGN : WEIGH UP SHEET"},{"$f":"IF('Weigh Up'!$B$31=\"\",\"\",'Weigh Up'!$B$31)","v":"INDIVIDUAL"},{"$f":"IF('Weigh Up'!$C$30=\"\",\"\",'Weigh Up'!$C$30)","v":"Passing"},{"$f":"IF('Weigh Up'!$C$36=\"\",\"\",'Weigh Up'!$C$36)","v":"No. 4"},{"$f":"IF('Weigh Up'!$C$29=\"\",\"\",'Weigh Up'!$C$29)","v":"Sieve Size:"},{"$f":"IF('Weigh Up'!$D$30=\"\",\"\",'Weigh Up'!$D$30)","v":"Retained"},{"$f":"IF('Weigh Up'!$D$36=\"\",\"\",'Weigh Up'!$D$36)","v":"No. 8"},{"$f":"'Weigh Up'!$O$23","v":"Bin No.6 "}]
[691,{"$f":"IF('Weigh Up'!$Q$36=\"\",\"\",'Weigh Up'!$Q$36)","v":""},{"$f":"IF('Weigh Up'!$B$4=\"\",\"\",'Weigh Up'!$B$4)","v":"HMACP MIXTURE DESIGN : WEIGH UP SHEET"},{"$f":"IF('Weigh Up'!$B$31=\"\",\"\",'Weigh Up'!$B$31)","v":"INDIVIDUAL"},{"$f":"IF('Weigh Up'!$C$30=\"\",\"\",'Weigh Up'!$C$30)","v":"Passing"},{"$f":"IF('Weigh Up'!$C$36=\"\",\"\",'Weigh Up'!$C$36)","v":"No. 4"},{"$f":"IF('Weigh Up'!$C$29=\"\",\"\",'Weigh Up'!$C$29)","v":"Sieve Size:"},{"$f":"IF('Weigh Up'!$D$30=\"\",\"\",'Weigh Up'!$D$30)","v":"Retained"},{"$f":"IF('Weigh Up'!$D$36=\"\",\"\",'Weigh Up'!$D$36)","v":"No. 8"},{"$f":"'Weigh Up'!$Q$23","v":"Bin No.7 "}]
[692,{"$f":"IF('Weigh Up'!$Y$36=\"\",\"\",'Weigh Up'!$Y$36)","v":0},{"$f":"IF('Weigh Up'!$B$4=\"\",\"\",'Weigh Up'!$B$4)","v":"HMACP MIXTURE DESIGN : WEIGH UP SHEET"},{"$f":"IF('Weigh Up'!$B$31=\"\",\"\",'Weigh Up'!$B$31)","v":"INDIVIDUAL"},{"$f":"IF('Weigh Up'!$C$30=\"\",\"\",'Weigh Up'!$C$30)","v":"Passing"},{"$f":"IF('Weigh Up'!$C$36=\"\",\"\",'Weigh Up'!$C$36)","v":"No. 4"},{"$f":"IF('Weigh Up'!$C$29=\"\",\"\",'Weigh Up'!$C$29)","v":"Sieve Size:"},{"$f":"IF('Weigh Up'!$D$30=\"\",\"\",'Weigh Up'!$D$30)","v":"Retained"},{"$f":"IF('Weigh Up'!$D$36=\"\",\"\",'Weigh Up'!$D$36)","v":"No. 8"},{"$f":"'Weigh Up'!$Y$26","v":"Total Weights"}]
[693,{"$f":"IF('Weigh Up'!$Z$36=\"\",\"\",'Weigh Up'!$Z$36)","v":""},{"$f":"IF('Weigh Up'!$B$4=\"\",\"\",'Weigh Up'!$B$4)","v":"HMACP MIXTURE DESIGN : WEIGH UP SHEET"},{"$f":"IF('Weigh Up'!$B$31=\"\",\"\",'Weigh Up'!$B$31)","v":"INDIVIDUAL"},{"$f":"IF('Weigh Up'!$C$30=\"\",\"\",'Weigh Up'!$C$30)","v":"Passing"},{"$f":"IF('Weigh Up'!$C$36=\"\",\"\",'Weigh Up'!$C$36)","v":"No. 4"},{"$f":"IF('Weigh Up'!$C$29=\"\",\"\",'Weigh Up'!$C$29)","v":"Sieve Size:"},{"$f":"IF('Weigh Up'!$D$30=\"\",\"\",'Weigh Up'!$D$30)","v":"Retained"},{"$f":"IF('Weigh Up'!$D$36=\"\",\"\",'Weigh Up'!$D$36)","v":"No. 8"},{"$f":"'Weigh Up'!$Z$26","v":"Individual\nRetained, %"}]
[694,{"$f":"IF('Weigh Up'!$AA$36=\"\",\"\",'Weigh Up'!$AA$36)","v":""},{"$f":"IF('Weigh Up'!$B$4=\"\",\"\",'Weigh Up'!$B$4)","v":"HMACP MIXTURE DESIGN : WEIGH UP SHEET"},{"$f":"IF('Weigh Up'!$B$31=\"\",\"\",'Weigh Up'!$B$31)","v":"INDIVIDUAL"},{"$f":"IF('Weigh Up'!$C$30=\"\",\"\",'Weigh Up'!$C$30)","v":"Passing"},{"$f":"IF('Weigh Up'!$C$36=\"\",\"\",'Weigh Up'!$C$36)","v":"No. 4"},{"$f":"IF('Weigh Up'!$C$29=\"\",\"\",'Weigh Up'!$C$29)","v":"Sieve Size:"},{"$f":"IF('Weigh Up'!$D$30=\"\",\"\",'Weigh Up'!$D$30)","v":"Retained"},{"$f":"IF('Weigh Up'!$D$36=\"\",\"\",'Weigh Up'!$D$36)","v":"No. 8"},{"$f":"'Weigh Up'!$AA$26","v":"Cumulative Retained, %"}]
[695,{"$f":"IF('Weigh Up'!$E$37=\"\",\"\",'Weigh Up'!$E$37)","v":""},{"$f":"IF('Weigh Up'!$B$4=\"\",\"\",'Weigh Up'!$B$4)","v":"HMACP MIXTURE DESIGN : WEIGH UP SHEET"},{"$f":"IF('Weigh Up'!$B$31=\"\",\"\",'Weigh Up'!$B$31)","v":"INDIVIDUAL"},{"$f":"IF('Weigh Up'!$C$30=\"\",\"\",'Weigh Up'!$C$30)","v":"Passing"},{"$f":"IF('Weigh Up'!$C$37=\"\",\"\",'Weigh Up'!$C$37)","v":"No. 8"},{"$f":"IF('Weigh Up'!$C$29=\"\",\"\",'Weigh Up'!$C$29)","v":"Sieve Size:"},{"$f":"IF('Weigh Up'!$D$30=\"\",\"\",'Weigh Up'!$D$30)","v":"Retained"},{"$f":"IF('Weigh Up'!$D$37=\"\",\"\",'Weigh Up'!$D$37)","v":"No. 16"},{"$f":"'Weigh Up'!$E$23","v":"Bin No.1"}]
[696,{"$f":"IF('Weigh Up'!$G$37=\"\",\"\",'Weigh Up'!$G$37)","v":""},{"$f":"IF('Weigh Up'!$B$4=\"\",\"\",'Weigh Up'!$B$4)","v":"HMACP MIXTURE DESIGN : WEIGH UP SHEET"},{"$f":"IF('Weigh Up'!$B$31=\"\",\"\",'Weigh Up'!$B$31)","v":"INDIVIDUAL"},{"$f":"IF('Weigh Up'!$C$30=\"\",\"\",'Weigh Up'!$C$30)","v":"Passing"},{"$f":"IF('Weigh Up'!$C$37=\"\",\"\",'Weigh Up'!$C$37)","v":"No. 8"},{"$f":"IF('Weigh Up'!$C$29=\"\",\"\",'Weigh Up'!$C$29)","v":"Sieve Size:"},{"$f":"IF('Weigh Up'!$D$30=\"\",\"\",'Weigh Up'!$D$30)","v":"Retained"},{"$f":"IF('Weigh Up'!$D$37=\"\",\"\",'Weigh Up'!$D$37)","v":"No. 16"},{"$f":"'Weigh Up'!$G$23","v":"Bin No.2"}]
[697,{"$f":"IF('Weigh Up'!$I$37=\"\",\"\",'Weigh Up'!$I$37)","v":""},{"$f":"IF('Weigh Up'!$B$4=\"\",\"\",'Weigh Up'!$B$4)","v":"HMACP MIXTURE DESIGN : WEIGH UP SHEET"},{"$f":"IF('Weigh Up'!$B$31=\"\",\"\",'Weigh Up'!$B$31)","v":"INDIVIDUAL"},{"$f":"IF('Weigh Up'!$C$30=\"\",\"\",'Weigh Up'!$C$30)","v":"Passing"},{"$f":"IF('Weigh Up'!$C$37=\"\",\"\",'Weigh Up'!$C$37)","v":"No. 8"},{"$f":"IF('Weigh Up'!$C$29=\"\",\"\",'Weigh Up'!$C$29)","v":"Sieve Size:"},{"$f":"IF('Weigh Up'!$D$30=\"\",\"\",'Weigh Up'!$D$30)","v":"Retained"},{"$f":"IF('Weigh Up'!$D$37=\"\",\"\",'Weigh Up'!$D$37)","v":"No. 16"},{"$f":"'Weigh Up'!$I$23","v":"Bin No.3"}]
[698,{"$f":"IF('Weigh Up'!$K$37=\"\",\"\",'Weigh Up'!$K$37)","v":""},{"$f":"IF('Weigh Up'!$B$4=\"\",\"\",'Weigh Up'!$B$4)","v":"HMACP MIXTURE DESIGN : WEIGH UP SHEET"},{"$f":"IF('Weigh Up'!$B$31=\"\",\"\",'Weigh Up'!$B$31)","v":"INDIVIDUAL"},{"$f":"IF('Weigh Up'!$C$30=\"\",\"\",'Weigh Up'!$C$30)","v":"Passing"},{"$f":"IF('Weigh Up'!$C$37=\"\",\"\",'Weigh Up'!$C$37)","v":"No. 8"},{"$f":"IF('Weigh Up'!$C$29=\"\",\"\",'Weigh Up'!$C$29)","v":"Sieve Size:"},{"$f":"IF('Weigh Up'!$D$30=\"\",\"\",'Weigh Up'!$D$30)","v":"Retained"},{"$f":"IF('Weigh Up'!$D$37=\"\",\"\",'Weigh Up'!$D$37)","v":"No. 16"},{"$f":"'Weigh Up'!$K$23","v":"Bin No.4"}]
[699,{"$f":"IF('Weigh Up'!$M$37=\"\",\"\",'Weigh Up'!$M$37)","v":""},{"$f":"IF('Weigh Up'!$B$4=\"\",\"\",'Weigh Up'!$B$4)","v":"HMACP MIXTURE DESIGN : WEIGH UP SHEET"},{"$f":"IF('Weigh Up'!$B$31=\"\",\"\",'Weigh Up'!$B$31)","v":"INDIVIDUAL"},{"$f":"IF('Weigh Up'!$C$30=\"\",\"\",'Weigh Up'!$C$30)","v":"Passing"},{"$f":"IF('Weigh Up'!$C$37=\"\",\"\",'Weigh Up'!$C$37)","v":"No. 8"},{"$f":"IF('Weigh Up'!$C$29=\"\",\"\",'Weigh Up'!$C$29)","v":"Sieve Size:"},{"$f":"IF('Weigh Up'!$D$30=\"\",\"\",'Weigh Up'!$D$30)","v":"Retained"},{"$f":"IF('Weigh Up'!$D$37=\"\",\"\",'Weigh Up'!$D$37)","v":"No. 16"},{"$f":"'Weigh Up'!$M$23","v":"Bin No.5"}]
[700,{"$f":"IF('Weigh Up'!$O$37=\"\",\"\",'Weigh Up'!$O$37)","v":""},{"$f":"IF('Weigh Up'!$B$4=\"\",\"\",'Weigh Up'!$B$4)","v":"HMACP MIXTURE DESIGN : WEIGH UP SHEET"},{"$f":"IF('Weigh Up'!$B$31=\"\",\"\",'Weigh Up'!$B$31)","v":"INDIVIDUAL"},{"$f":"IF('Weigh Up'!$C$30=\"\",\"\",'Weigh Up'!$C$30)","v":"Passing"},{"$f":"IF('Weigh Up'!$C$37=\"\",\"\",'Weigh Up'!$C$37)","v":"No. 8"},{"$f":"IF('Weigh Up'!$C$29=\"\",\"\",'Weigh Up'!$C$29)","v":"Sieve Size:"},{"$f":"IF('Weigh Up'!$D$30=\"\",\"\",'Weigh Up'!$D$30)","v":"Retained"},{"$f":"IF('Weigh Up'!$D$37=\"\",\"\",'Weigh Up'!$D$37)","v":"No. 16"},{"$f":"'Weigh Up'!$O$23","v":"Bin No.6 "}]
[701,{"$f":"IF('Weigh Up'!$Q$37=\"\",\"\",'Weigh Up'!$Q$37)","v":""},{"$f":"IF('Weigh Up'!$B$4=\"\",\"\",'Weigh Up'!$B$4)","v":"HMACP MIXTURE DESIGN : WEIGH UP SHEET"},{"$f":"IF('Weigh Up'!$B$31=\"\",\"\",'Weigh Up'!$B$31)","v":"INDIVIDUAL"},{"$f":"IF('Weigh Up'!$C$30=\"\",\"\",'Weigh Up'!$C$30)","v":"Passing"},{"$f":"IF('Weigh Up'!$C$37=\"\",\"\",'Weigh Up'!$C$37)","v":"No. 8"},{"$f":"IF('Weigh Up'!$C$29=\"\",\"\",'Weigh Up'!$C$29)","v":"Sieve Size:"},{"$f":"IF('Weigh Up'!$D$30=\"\",\"\",'Weigh Up'!$D$30)","v":"Retained"},{"$f":"IF('Weigh Up'!$D$37=\"\",\"\",'Weigh Up'!$D$37)","v":"No. 16"},{"$f":"'Weigh Up'!$Q$23","v":"Bin No.7 "}]
[702,{"$f":"IF('Weigh Up'!$Y$37=\"\",\"\",'Weigh Up'!$Y$37)","v":0},{"$f":"IF('Weigh Up'!$B$4=\"\",\"\",'Weigh Up'!$B$4)","v":"HMACP MIXTURE DESIGN : WEIGH UP SHEET"},{"$f":"IF('Weigh Up'!$B$31=\"\",\"\",'Weigh Up'!$B$31)","v":"INDIVIDUAL"},{"$f":"IF('Weigh Up'!$C$30=\"\",\"\",'Weigh Up'!$C$30)","v":"Passing"},{"$f":"IF('Weigh Up'!$C$37=\"\",\"\",'Weigh Up'!$C$37)","v":"No. 8"},{"$f":"IF('Weigh Up'!$C$29=\"\",\"\",'Weigh Up'!$C$29)","v":"Sieve Size:"},{"$f":"IF('Weigh Up'!$D$30=\"\",\"\",'Weigh Up'!$D$30)","v":"Retained"},{"$f":"IF('Weigh Up'!$D$37=\"\",\"\",'Weigh Up'!$D$37)","v":"No. 16"},{"$f":"'Weigh Up'!$Y$26","v":"Total Weights"}]
[703,{"$f":"IF('Weigh Up'!$Z$37=\"\",\"\",'Weigh Up'!$Z$37)","v":""},{"$f":"IF('Weigh Up'!$B$4=\"\",\"\",'Weigh Up'!$B$4)","v":"HMACP MIXTURE DESIGN : WEIGH UP SHEET"},{"$f":"IF('Weigh Up'!$B$31=\"\",\"\",'Weigh Up'!$B$31)","v":"INDIVIDUAL"},{"$f":"IF('Weigh Up'!$C$30=\"\",\"\",'Weigh Up'!$C$30)","v":"Passing"},{"$f":"IF('Weigh Up'!$C$37=\"\",\"\",'Weigh Up'!$C$37)","v":"No. 8"},{"$f":"IF('Weigh Up'!$C$29=\"\",\"\",'Weigh Up'!$C$29)","v":"Sieve Size:"},{"$f":"IF('Weigh Up'!$D$30=\"\",\"\",'Weigh Up'!$D$30)","v":"Retained"},{"$f":"IF('Weigh Up'!$D$37=\"\",\"\",'Weigh Up'!$D$37)","v":"No. 16"},{"$f":"'Weigh Up'!$Z$26","v":"Individual\nRetained, %"}]
[704,{"$f":"IF('Weigh Up'!$AA$37=\"\",\"\",'Weigh Up'!$AA$37)","v":""},{"$f":"IF('Weigh Up'!$B$4=\"\",\"\",'Weigh Up'!$B$4)","v":"HMACP MIXTURE DESIGN : WEIGH UP SHEET"},{"$f":"IF('Weigh Up'!$B$31=\"\",\"\",'Weigh Up'!$B$31)","v":"INDIVIDUAL"},{"$f":"IF('Weigh Up'!$C$30=\"\",\"\",'Weigh Up'!$C$30)","v":"Passing"},{"$f":"IF('Weigh Up'!$C$37=\"\",\"\",'Weigh Up'!$C$37)","v":"No. 8"},{"$f":"IF('Weigh Up'!$C$29=\"\",\"\",'Weigh Up'!$C$29)","v":"Sieve Size:"},{"$f":"IF('Weigh Up'!$D$30=\"\",\"\",'Weigh Up'!$D$30)","v":"Retained"},{"$f":"IF('Weigh Up'!$D$37=\"\",\"\",'Weigh Up'!$D$37)","v":"No. 16"},{"$f":"'Weigh Up'!$AA$26","v":"Cumulative Retained, %"}]
[705,{"$f":"IF('Weigh Up'!$E$38=\"\",\"\",'Weigh Up'!$E$38)","v":""},{"$f":"IF('Weigh Up'!$B$4=\"\",\"\",'Weigh Up'!$B$4)","v":"HMACP MIXTURE DESIGN : WEIGH UP SHEET"},{"$f":"IF('Weigh Up'!$B$31=\"\",\"\",'Weigh Up'!$B$31)","v":"INDIVIDUAL"},{"$f":"IF('Weigh Up'!$C$30=\"\",\"\",'Weigh Up'!$C$30)","v":"Passing"},{"$f":"IF('Weigh Up'!$C$38=\"\",\"\",'Weigh Up'!$C$38)","v":"No. 16"},{"$f":"IF('Weigh Up'!$C$29=\"\",\"\",'Weigh Up'!$C$29)","v":"Sieve Size:"},{"$f":"IF('Weigh Up'!$D$30=\"\",\"\",'Weigh Up'!$D$30)","v":"Retained"},{"$f":"IF('Weigh Up'!$D$38=\"\",\"\",'Weigh Up'!$D$38)","v":"No. 30"},{"$f":"'Weigh Up'!$E$23","v":"Bin No.1"}]
[706,{"$f":"IF('Weigh Up'!$G$38=\"\",\"\",'Weigh Up'!$G$38)","v":""},{"$f":"IF('Weigh Up'!$B$4=\"\",\"\",'Weigh Up'!$B$4)","v":"HMACP MIXTURE DESIGN : WEIGH UP SHEET"},{"$f":"IF('Weigh Up'!$B$31=\"\",\"\",'Weigh Up'!$B$31)","v":"INDIVIDUAL"},{"$f":"IF('Weigh Up'!$C$30=\"\",\"\",'Weigh Up'!$C$30)","v":"Passing"},{"$f":"IF('Weigh Up'!$C$38=\"\",\"\",'Weigh Up'!$C$38)","v":"No. 16"},{"$f":"IF('Weigh Up'!$C$29=\"\",\"\",'Weigh Up'!$C$29)","v":"Sieve Size:"},{"$f":"IF('Weigh Up'!$D$30=\"\",\"\",'Weigh Up'!$D$30)","v":"Retained"},{"$f":"IF('Weigh Up'!$D$38=\"\",\"\",'Weigh Up'!$D$38)","v":"No. 30"},{"$f":"'Weigh Up'!$G$23","v":"Bin No.2"}]
[707,{"$f":"IF('Weigh Up'!$I$38=\"\",\"\",'Weigh Up'!$I$38)","v":""},{"$f":"IF('Weigh Up'!$B$4=\"\",\"\",'Weigh Up'!$B$4)","v":"HMACP MIXTURE DESIGN : WEIGH UP SHEET"},{"$f":"IF('Weigh Up'!$B$31=\"\",\"\",'Weigh Up'!$B$31)","v":"INDIVIDUAL"},{"$f":"IF('Weigh Up'!$C$30=\"\",\"\",'Weigh Up'!$C$30)","v":"Passing"},{"$f":"IF('Weigh Up'!$C$38=\"\",\"\",'Weigh Up'!$C$38)","v":"No. 16"},{"$f":"IF('Weigh Up'!$C$29=\"\",\"\",'Weigh Up'!$C$29)","v":"Sieve Size:"},{"$f":"IF('Weigh Up'!$D$30=\"\",\"\",'Weigh Up'!$D$30)","v":"Retained"},{"$f":"IF('Weigh Up'!$D$38=\"\",\"\",'Weigh Up'!$D$38)","v":"No. 30"},{"$f":"'Weigh Up'!$I$23","v":"Bin No.3"}]
[708,{"$f":"IF('Weigh Up'!$K$38=\"\",\"\",'Weigh Up'!$K$38)","v":""},{"$f":"IF('Weigh Up'!$B$4=\"\",\"\",'Weigh Up'!$B$4)","v":"HMACP MIXTURE DESIGN : WEIGH UP SHEET"},{"$f":"IF('Weigh Up'!$B$31=\"\",\"\",'Weigh Up'!$B$31)","v":"INDIVIDUAL"},{"$f":"IF('Weigh Up'!$C$30=\"\",\"\",'Weigh Up'!$C$30)","v":"Passing"},{"$f":"IF('Weigh Up'!$C$38=\"\",\"\",'Weigh Up'!$C$38)","v":"No. 16"},{"$f":"IF('Weigh Up'!$C$29=\"\",\"\",'Weigh Up'!$C$29)","v":"Sieve Size:"},{"$f":"IF('Weigh Up'!$D$30=\"\",\"\",'Weigh Up'!$D$30)","v":"Retained"},{"$f":"IF('Weigh Up'!$D$38=\"\",\"\",'Weigh Up'!$D$38)","v":"No. 30"},{"$f":"'Weigh Up'!$K$23","v":"Bin No.4"}]
[709,{"$f":"IF('Weigh Up'!$M$38=\"\",\"\",'Weigh Up'!$M$38)","v":""},{"$f":"IF('Weigh Up'!$B$4=\"\",\"\",'Weigh Up'!$B$4)","v":"HMACP MIXTURE DESIGN : WEIGH UP SHEET"},{"$f":"IF('Weigh Up'!$B$31=\"\",\"\",'Weigh Up'!$B$31)","v":"INDIVIDUAL"},{"$f":"IF('Weigh Up'!$C$30=\"\",\"\",'Weigh Up'!$C$30)","v":"Passing"},{"$f":"IF('Weigh Up'!$C$38=\"\",\"\",'Weigh Up'!$C$38)","v":"No. 16"},{"$f":"IF('Weigh Up'!$C$29=\"\",\"\",'Weigh Up'!$C$29)","v":"Sieve Size:"},{"$f":"IF('Weigh Up'!$D$30=\"\",\"\",'Weigh Up'!$D$30)","v":"Retained"},{"$f":"IF('Weigh Up'!$D$38=\"\",\"\",'Weigh Up'!$D$38)","v":"No. 30"},{"$f":"'Weigh Up'!$M$23","v":"Bin No.5"}]
[710,{"$f":"IF('Weigh Up'!$O$38=\"\",\"\",'Weigh Up'!$O$38)","v":""},{"$f":"IF('Weigh Up'!$B$4=\"\",\"\",'Weigh Up'!$B$4)","v":"HMACP MIXTURE DESIGN : WEIGH UP SHEET"},{"$f":"IF('Weigh Up'!$B$31=\"\",\"\",'Weigh Up'!$B$31)","v":"INDIVIDUAL"},{"$f":"IF('Weigh Up'!$C$30=\"\",\"\",'Weigh Up'!$C$30)","v":"Passing"},{"$f":"IF('Weigh Up'!$C$38=\"\",\"\",'Weigh Up'!$C$38)","v":"No. 16"},{"$f":"IF('Weigh Up'!$C$29=\"\",\"\",'Weigh Up'!$C$29)","v":"Sieve Size:"},{"$f":"IF('Weigh Up'!$D$30=\"\",\"\",'Weigh Up'!$D$30)","v":"Retained"},{"$f":"IF('Weigh Up'!$D$38=\"\",\"\",'Weigh Up'!$D$38)","v":"No. 30"},{"$f":"'Weigh Up'!$O$23","v":"Bin No.6 "}]
[711,{"$f":"IF('Weigh Up'!$Q$38=\"\",\"\",'Weigh Up'!$Q$38)","v":""},{"$f":"IF('Weigh Up'!$B$4=\"\",\"\",'Weigh Up'!$B$4)","v":"HMACP MIXTURE DESIGN : WEIGH UP SHEET"},{"$f":"IF('Weigh Up'!$B$31=\"\",\"\",'Weigh Up'!$B$31)","v":"INDIVIDUAL"},{"$f":"IF('Weigh Up'!$C$30=\"\",\"\",'Weigh Up'!$C$30)","v":"Passing"},{"$f":"IF('Weigh Up'!$C$38=\"\",\"\",'Weigh Up'!$C$38)","v":"No. 16"},{"$f":"IF('Weigh Up'!$C$29=\"\",\"\",'Weigh Up'!$C$29)","v":"Sieve Size:"},{"$f":"IF('Weigh Up'!$D$30=\"\",\"\",'Weigh Up'!$D$30)","v":"Retained"},{"$f":"IF('Weigh Up'!$D$38=\"\",\"\",'Weigh Up'!$D$38)","v":"No. 30"},{"$f":"'Weigh Up'!$Q$23","v":"Bin No.7 "}]
[712,{"$f":"IF('Weigh Up'!$Y$38=\"\",\"\",'Weigh Up'!$Y$38)","v":0},{"$f":"IF('Weigh Up'!$B$4=\"\",\"\",'Weigh Up'!$B$4)","v":"HMACP MIXTURE DESIGN : WEIGH UP SHEET"},{"$f":"IF('Weigh Up'!$B$31=\"\",\"\",'Weigh Up'!$B$31)","v":"INDIVIDUAL"},{"$f":"IF('Weigh Up'!$C$30=\"\",\"\",'Weigh Up'!$C$30)","v":"Passing"},{"$f":"IF('Weigh Up'!$C$38=\"\",\"\",'Weigh Up'!$C$38)","v":"No. 16"},{"$f":"IF('Weigh Up'!$C$29=\"\",\"\",'Weigh Up'!$C$29)","v":"Sieve Size:"},{"$f":"IF('Weigh Up'!$D$30=\"\",\"\",'Weigh Up'!$D$30)","v":"Retained"},{"$f":"IF('Weigh Up'!$D$38=\"\",\"\",'Weigh Up'!$D$38)","v":"No. 30"},{"$f":"'Weigh Up'!$Y$26","v":"Total Weights"}]
[713,{"$f":"IF('Weigh Up'!$Z$38=\"\",\"\",'Weigh Up'!$Z$38)","v":""},{"$f":"IF('Weigh Up'!$B$4=\"\",\"\",'Weigh Up'!$B$4)","v":"HMACP MIXTURE DESIGN : WEIGH UP SHEET"},{"$f":"IF('Weigh Up'!$B$31=\"\",\"\",'Weigh Up'!$B$31)","v":"INDIVIDUAL"},{"$f":"IF('Weigh Up'!$C$30=\"\",\"\",'Weigh Up'!$C$30)","v":"Passing"},{"$f":"IF('Weigh Up'!$C$38=\"\",\"\",'Weigh Up'!$C$38)","v":"No. 16"},{"$f":"IF('Weigh Up'!$C$29=\"\",\"\",'Weigh Up'!$C$29)","v":"Sieve Size:"},{"$f":"IF('Weigh Up'!$D$30=\"\",\"\",'Weigh Up'!$D$30)","v":"Retained"},{"$f":"IF('Weigh Up'!$D$38=\"\",\"\",'Weigh Up'!$D$38)","v":"No. 30"},{"$f":"'Weigh Up'!$Z$26","v":"Individual\nRetained, %"}]
[714,{"$f":"IF('Weigh Up'!$AA$38=\"\",\"\",'Weigh Up'!$AA$38)","v":""},{"$f":"IF('Weigh Up'!$B$4=\"\",\"\",'Weigh Up'!$B$4)","v":"HMACP MIXTURE DESIGN : WEIGH UP SHEET"},{"$f":"IF('Weigh Up'!$B$31=\"\",\"\",'Weigh Up'!$B$31)","v":"INDIVIDUAL"},{"$f":"IF('Weigh Up'!$C$30=\"\",\"\",'Weigh Up'!$C$30)","v":"Passing"},{"$f":"IF('Weigh Up'!$C$38=\"\",\"\",'Weigh Up'!$C$38)","v":"No. 16"},{"$f":"IF('Weigh Up'!$C$29=\"\",\"\",'Weigh Up'!$C$29)","v":"Sieve Size:"},{"$f":"IF('Weigh Up'!$D$30=\"\",\"\",'Weigh Up'!$D$30)","v":"Retained"},{"$f":"IF('Weigh Up'!$D$38=\"\",\"\",'Weigh Up'!$D$38)","v":"No. 30"},{"$f":"'Weigh Up'!$AA$26","v":"Cumulative Retained, %"}]
[715,{"$f":"IF('Weigh Up'!$E$39=\"\",\"\",'Weigh Up'!$E$39)","v":""},{"$f":"IF('Weigh Up'!$B$4=\"\",\"\",'Weigh Up'!$B$4)","v":"HMACP MIXTURE DESIGN : WEIGH UP SHEET"},{"$f":"IF('Weigh Up'!$B$31=\"\",\"\",'Weigh Up'!$B$31)","v":"INDIVIDUAL"},{"$f":"IF('Weigh Up'!$C$30=\"\",\"\",'Weigh Up'!$C$30)","v":"Passing"},{"$f":"IF('Weigh Up'!$C$39=\"\",\"\",'Weigh Up'!$C$39)","v":"No. 30"},{"$f":"IF('Weigh Up'!$C$29=\"\",\"\",'Weigh Up'!$C$29)","v":"Sieve Size:"},{"$f":"IF('Weigh Up'!$D$30=\"\",\"\",'Weigh Up'!$D$30)","v":"Retained"},{"$f":"IF('Weigh Up'!$D$39=\"\",\"\",'Weigh Up'!$D$39)","v":"No. 50"},{"$f":"'Weigh Up'!$E$23","v":"Bin No.1"}]
[716,{"$f":"IF('Weigh Up'!$G$39=\"\",\"\",'Weigh Up'!$G$39)","v":""},{"$f":"IF('Weigh Up'!$B$4=\"\",\"\",'Weigh Up'!$B$4)","v":"HMACP MIXTURE DESIGN : WEIGH UP SHEET"},{"$f":"IF('Weigh Up'!$B$31=\"\",\"\",'Weigh Up'!$B$31)","v":"INDIVIDUAL"},{"$f":"IF('Weigh Up'!$C$30=\"\",\"\",'Weigh Up'!$C$30)","v":"Passing"},{"$f":"IF('Weigh Up'!$C$39=\"\",\"\",'Weigh Up'!$C$39)","v":"No. 30"},{"$f":"IF('Weigh Up'!$C$29=\"\",\"\",'Weigh Up'!$C$29)","v":"Sieve Size:"},{"$f":"IF('Weigh Up'!$D$30=\"\",\"\",'Weigh Up'!$D$30)","v":"Retained"},{"$f":"IF('Weigh Up'!$D$39=\"\",\"\",'Weigh Up'!$D$39)","v":"No. 50"},{"$f":"'Weigh Up'!$G$23","v":"Bin No.2"}]
[717,{"$f":"IF('Weigh Up'!$I$39=\"\",\"\",'Weigh Up'!$I$39)","v":""},{"$f":"IF('Weigh Up'!$B$4=\"\",\"\",'Weigh Up'!$B$4)","v":"HMACP MIXTURE DESIGN : WEIGH UP SHEET"},{"$f":"IF('Weigh Up'!$B$31=\"\",\"\",'Weigh Up'!$B$31)","v":"INDIVIDUAL"},{"$f":"IF('Weigh Up'!$C$30=\"\",\"\",'Weigh Up'!$C$30)","v":"Passing"},{"$f":"IF('Weigh Up'!$C$39=\"\",\"\",'Weigh Up'!$C$39)","v":"No. 30"},{"$f":"IF('Weigh Up'!$C$29=\"\",\"\",'Weigh Up'!$C$29)","v":"Sieve Size:"},{"$f":"IF('Weigh Up'!$D$30=\"\",\"\",'Weigh Up'!$D$30)","v":"Retained"},{"$f":"IF('Weigh Up'!$D$39=\"\",\"\",'Weigh Up'!$D$39)","v":"No. 50"},{"$f":"'Weigh Up'!$I$23","v":"Bin No.3"}]
[718,{"$f":"IF('Weigh Up'!$K$39=\"\",\"\",'Weigh Up'!$K$39)","v":""},{"$f":"IF('Weigh Up'!$B$4=\"\",\"\",'Weigh Up'!$B$4)","v":"HMACP MIXTURE DESIGN : WEIGH UP SHEET"},{"$f":"IF('Weigh Up'!$B$31=\"\",\"\",'Weigh Up'!$B$31)","v":"INDIVIDUAL"},{"$f":"IF('Weigh Up'!$C$30=\"\",\"\",'Weigh Up'!$C$30)","v":"Passing"},{"$f":"IF('Weigh Up'!$C$39=\"\",\"\",'Weigh Up'!$C$39)","v":"No. 30"},{"$f":"IF('Weigh Up'!$C$29=\"\",\"\",'Weigh Up'!$C$29)","v":"Sieve Size:"},{"$f":"IF('Weigh Up'!$D$30=\"\",\"\",'Weigh Up'!$D$30)","v":"Retained"},{"$f":"IF('Weigh Up'!$D$39=\"\",\"\",'Weigh Up'!$D$39)","v":"No. 50"},{"$f":"'Weigh Up'!$K$23","v":"Bin No.4"}]
[719,{"$f":"IF('Weigh Up'!$M$39=\"\",\"\",'Weigh Up'!$M$39)","v":""},{"$f":"IF('Weigh Up'!$B$4=\"\",\"\",'Weigh Up'!$B$4)","v":"HMACP MIXTURE DESIGN : WEIGH UP SHEET"},{"$f":"IF('Weigh Up'!$B$31=\"\",\"\",'Weigh Up'!$B$31)","v":"INDIVIDUAL"},{"$f":"IF('Weigh Up'!$C$30=\"\",\"\",'Weigh Up'!$C$30)","v":"Passing"},{"$f":"IF('Weigh Up'!$C$39=\"\",\"\",'Weigh Up'!$C$39)","v":"No. 30"},{"$f":"IF('Weigh Up'!$C$29=\"\",\"\",'Weigh Up'!$C$29)","v":"Sieve Size:"},{"$f":"IF('Weigh Up'!$D$30=\"\",\"\",'Weigh Up'!$D$30)","v":"Retained"},{"$f":"IF('Weigh Up'!$D$39=\"\",\"\",'Weigh Up'!$D$39)","v":"No. 50"},{"$f":"'Weigh Up'!$M$23","v":"Bin No.5"}]
[720,{"$f":"IF('Weigh Up'!$O$39=\"\",\"\",'Weigh Up'!$O$39)","v":""},{"$f":"IF('Weigh Up'!$B$4=\"\",\"\",'Weigh Up'!$B$4)","v":"HMACP MIXTURE DESIGN : WEIGH UP SHEET"},{"$f":"IF('Weigh Up'!$B$31=\"\",\"\",'Weigh Up'!$B$31)","v":"INDIVIDUAL"},{"$f":"IF('Weigh Up'!$C$30=\"\",\"\",'Weigh Up'!$C$30)","v":"Passing"},{"$f":"IF('Weigh Up'!$C$39=\"\",\"\",'Weigh Up'!$C$39)","v":"No. 30"},{"$f":"IF('Weigh Up'!$C$29=\"\",\"\",'Weigh Up'!$C$29)","v":"Sieve Size:"},{"$f":"IF('Weigh Up'!$D$30=\"\",\"\",'Weigh Up'!$D$30)","v":"Retained"},{"$f":"IF('Weigh Up'!$D$39=\"\",\"\",'Weigh Up'!$D$39)","v":"No. 50"},{"$f":"'Weigh Up'!$O$23","v":"Bin No.6 "}]
[721,{"$f":"IF('Weigh Up'!$Q$39=\"\",\"\",'Weigh Up'!$Q$39)","v":""},{"$f":"IF('Weigh Up'!$B$4=\"\",\"\",'Weigh Up'!$B$4)","v":"HMACP MIXTURE DESIGN : WEIGH UP SHEET"},{"$f":"IF('Weigh Up'!$B$31=\"\",\"\",'Weigh Up'!$B$31)","v":"INDIVIDUAL"},{"$f":"IF('Weigh Up'!$C$30=\"\",\"\",'Weigh Up'!$C$30)","v":"Passing"},{"$f":"IF('Weigh Up'!$C$39=\"\",\"\",'Weigh Up'!$C$39)","v":"No. 30"},{"$f":"IF('Weigh Up'!$C$29=\"\",\"\",'Weigh Up'!$C$29)","v":"Sieve Size:"},{"$f":"IF('Weigh Up'!$D$30=\"\",\"\",'Weigh Up'!$D$30)","v":"Retained"},{"$f":"IF('Weigh Up'!$D$39=\"\",\"\",'Weigh Up'!$D$39)","v":"No. 50"},{"$f":"'Weigh Up'!$Q$23","v":"Bin No.7 "}]
[722,{"$f":"IF('Weigh Up'!$Y$39=\"\",\"\",'Weigh Up'!$Y$39)","v":0},{"$f":"IF('Weigh Up'!$B$4=\"\",\"\",'Weigh Up'!$B$4)","v":"HMACP MIXTURE DESIGN : WEIGH UP SHEET"},{"$f":"IF('Weigh Up'!$B$31=\"\",\"\",'Weigh Up'!$B$31)","v":"INDIVIDUAL"},{"$f":"IF('Weigh Up'!$C$30=\"\",\"\",'Weigh Up'!$C$30)","v":"Passing"},{"$f":"IF('Weigh Up'!$C$39=\"\",\"\",'Weigh Up'!$C$39)","v":"No. 30"},{"$f":"IF('Weigh Up'!$C$29=\"\",\"\",'Weigh Up'!$C$29)","v":"Sieve Size:"},{"$f":"IF('Weigh Up'!$D$30=\"\",\"\",'Weigh Up'!$D$30)","v":"Retained"},{"$f":"IF('Weigh Up'!$D$39=\"\",\"\",'Weigh Up'!$D$39)","v":"No. 50"},{"$f":"'Weigh Up'!$Y$26","v":"Total Weights"}]
[723,{"$f":"IF('Weigh Up'!$Z$39=\"\",\"\",'Weigh Up'!$Z$39)","v":""},{"$f":"IF('Weigh Up'!$B$4=\"\",\"\",'Weigh Up'!$B$4)","v":"HMACP MIXTURE DESIGN : WEIGH UP SHEET"},{"$f":"IF('Weigh Up'!$B$31=\"\",\"\",'Weigh Up'!$B$31)","v":"INDIVIDUAL"},{"$f":"IF('Weigh Up'!$C$30=\"\",\"\",'Weigh Up'!$C$30)","v":"Passing"},{"$f":"IF('Weigh Up'!$C$39=\"\",\"\",'Weigh Up'!$C$39)","v":"No. 30"},{"$f":"IF('Weigh Up'!$C$29=\"\",\"\",'Weigh Up'!$C$29)","v":"Sieve Size:"},{"$f":"IF('Weigh Up'!$D$30=\"\",\"\",'Weigh Up'!$D$30)","v":"Retained"},{"$f":"IF('Weigh Up'!$D$39=\"\",\"\",'Weigh Up'!$D$39)","v":"No. 50"},{"$f":"'Weigh Up'!$Z$26","v":"Individual\nRetained, %"}]
[724,{"$f":"IF('Weigh Up'!$AA$39=\"\",\"\",'Weigh Up'!$AA$39)","v":""},{"$f":"IF('Weigh Up'!$B$4=\"\",\"\",'Weigh Up'!$B$4)","v":"HMACP MIXTURE DESIGN : WEIGH UP SHEET"},{"$f":"IF('Weigh Up'!$B$31=\"\",\"\",'Weigh Up'!$B$31)","v":"INDIVIDUAL"},{"$f":"IF('Weigh Up'!$C$30=\"\",\"\",'Weigh Up'!$C$30)","v":"Passing"},{"$f":"IF('Weigh Up'!$C$39=\"\",\"\",'Weigh Up'!$C$39)","v":"No. 30"},{"$f":"IF('Weigh Up'!$C$29=\"\",\"\",'Weigh Up'!$C$29)","v":"Sieve Size:"},{"$f":"IF('Weigh Up'!$D$30=\"\",\"\",'Weigh Up'!$D$30)","v":"Retained"},{"$f":"IF('Weigh Up'!$D$39=\"\",\"\",'Weigh Up'!$D$39)","v":"No. 50"},{"$f":"'Weigh Up'!$AA$26","v":"Cumulative Retained, %"}]
[725,{"$f":"IF('Weigh Up'!$E$40=\"\",\"\",'Weigh Up'!$E$40)","v":""},{"$f":"IF('Weigh Up'!$B$4=\"\",\"\",'Weigh Up'!$B$4)","v":"HMACP MIXTURE DESIGN : WEIGH UP SHEET"},{"$f":"IF('Weigh Up'!$B$31=\"\",\"\",'Weigh Up'!$B$31)","v":"INDIVIDUAL"},{"$f":"IF('Weigh Up'!$C$30=\"\",\"\",'Weigh Up'!$C$30)","v":"Passing"},{"$f":"IF('Weigh Up'!$C$40=\"\",\"\",'Weigh Up'!$C$40)","v":"No. 50"},{"$f":"IF('Weigh Up'!$C$29=\"\",\"\",'Weigh Up'!$C$29)","v":"Sieve Size:"},{"$f":"IF('Weigh Up'!$D$30=\"\",\"\",'Weigh Up'!$D$30)","v":"Retained"},{"$f":"IF('Weigh Up'!$D$40=\"\",\"\",'Weigh Up'!$D$40)","v":"No. 200"},{"$f":"'Weigh Up'!$E$23","v":"Bin No.1"}]
[726,{"$f":"IF('Weigh Up'!$G$40=\"\",\"\",'Weigh Up'!$G$40)","v":""},{"$f":"IF('Weigh Up'!$B$4=\"\",\"\",'Weigh Up'!$B$4)","v":"HMACP MIXTURE DESIGN : WEIGH UP SHEET"},{"$f":"IF('Weigh Up'!$B$31=\"\",\"\",'Weigh Up'!$B$31)","v":"INDIVIDUAL"},{"$f":"IF('Weigh Up'!$C$30=\"\",\"\",'Weigh Up'!$C$30)","v":"Passing"},{"$f":"IF('Weigh Up'!$C$40=\"\",\"\",'Weigh Up'!$C$40)","v":"No. 50"},{"$f":"IF('Weigh Up'!$C$29=\"\",\"\",'Weigh Up'!$C$29)","v":"Sieve Size:"},{"$f":"IF('Weigh Up'!$D$30=\"\",\"\",'Weigh Up'!$D$30)","v":"Retained"},{"$f":"IF('Weigh Up'!$D$40=\"\",\"\",'Weigh Up'!$D$40)","v":"No. 200"},{"$f":"'Weigh Up'!$G$23","v":"Bin No.2"}]
[727,{"$f":"IF('Weigh Up'!$I$40=\"\",\"\",'Weigh Up'!$I$40)","v":""},{"$f":"IF('Weigh Up'!$B$4=\"\",\"\",'Weigh Up'!$B$4)","v":"HMACP MIXTURE DESIGN : WEIGH UP SHEET"},{"$f":"IF('Weigh Up'!$B$31=\"\",\"\",'Weigh Up'!$B$31)","v":"INDIVIDUAL"},{"$f":"IF('Weigh Up'!$C$30=\"\",\"\",'Weigh Up'!$C$30)","v":"Passing"},{"$f":"IF('Weigh Up'!$C$40=\"\",\"\",'Weigh Up'!$C$40)","v":"No. 50"},{"$f":"IF('Weigh Up'!$C$29=\"\",\"\",'Weigh Up'!$C$29)","v":"Sieve Size:"},{"$f":"IF('Weigh Up'!$D$30=\"\",\"\",'Weigh Up'!$D$30)","v":"Retained"},{"$f":"IF('Weigh Up'!$D$40=\"\",\"\",'Weigh Up'!$D$40)","v":"No. 200"},{"$f":"'Weigh Up'!$I$23","v":"Bin No.3"}]
[728,{"$f":"IF('Weigh Up'!$K$40=\"\",\"\",'Weigh Up'!$K$40)","v":""},{"$f":"IF('Weigh Up'!$B$4=\"\",\"\",'Weigh Up'!$B$4)","v":"HMACP MIXTURE DESIGN : WEIGH UP SHEET"},{"$f":"IF('Weigh Up'!$B$31=\"\",\"\",'Weigh Up'!$B$31)","v":"INDIVIDUAL"},{"$f":"IF('Weigh Up'!$C$30=\"\",\"\",'Weigh Up'!$C$30)","v":"Passing"},{"$f":"IF('Weigh Up'!$C$40=\"\",\"\",'Weigh Up'!$C$40)","v":"No. 50"},{"$f":"IF('Weigh Up'!$C$29=\"\",\"\",'Weigh Up'!$C$29)","v":"Sieve Size:"},{"$f":"IF('Weigh Up'!$D$30=\"\",\"\",'Weigh Up'!$D$30)","v":"Retained"},{"$f":"IF('Weigh Up'!$D$40=\"\",\"\",'Weigh Up'!$D$40)","v":"No. 200"},{"$f":"'Weigh Up'!$K$23","v":"Bin No.4"}]
[729,{"$f":"IF('Weigh Up'!$M$40=\"\",\"\",'Weigh Up'!$M$40)","v":""},{"$f":"IF('Weigh Up'!$B$4=\"\",\"\",'Weigh Up'!$B$4)","v":"HMACP MIXTURE DESIGN : WEIGH UP SHEET"},{"$f":"IF('Weigh Up'!$B$31=\"\",\"\",'Weigh Up'!$B$31)","v":"INDIVIDUAL"},{"$f":"IF('Weigh Up'!$C$30=\"\",\"\",'Weigh Up'!$C$30)","v":"Passing"},{"$f":"IF('Weigh Up'!$C$40=\"\",\"\",'Weigh Up'!$C$40)","v":"No. 50"},{"$f":"IF('Weigh Up'!$C$29=\"\",\"\",'Weigh Up'!$C$29)","v":"Sieve Size:"},{"$f":"IF('Weigh Up'!$D$30=\"\",\"\",'Weigh Up'!$D$30)","v":"Retained"},{"$f":"IF('Weigh Up'!$D$40=\"\",\"\",'Weigh Up'!$D$40)","v":"No. 200"},{"$f":"'Weigh Up'!$M$23","v":"Bin No.5"}]
[730,{"$f":"IF('Weigh Up'!$O$40=\"\",\"\",'Weigh Up'!$O$40)","v":""},{"$f":"IF('Weigh Up'!$B$4=\"\",\"\",'Weigh Up'!$B$4)","v":"HMACP MIXTURE DESIGN : WEIGH UP SHEET"},{"$f":"IF('Weigh Up'!$B$31=\"\",\"\",'Weigh Up'!$B$31)","v":"INDIVIDUAL"},{"$f":"IF('Weigh Up'!$C$30=\"\",\"\",'Weigh Up'!$C$30)","v":"Passing"},{"$f":"IF('Weigh Up'!$C$40=\"\",\"\",'Weigh Up'!$C$40)","v":"No. 50"},{"$f":"IF('Weigh Up'!$C$29=\"\",\"\",'Weigh Up'!$C$29)","v":"Sieve Size:"},{"$f":"IF('Weigh Up'!$D$30=\"\",\"\",'Weigh Up'!$D$30)","v":"Retained"},{"$f":"IF('Weigh Up'!$D$40=\"\",\"\",'Weigh Up'!$D$40)","v":"No. 200"},{"$f":"'Weigh Up'!$O$23","v":"Bin No.6 "}]
[731,{"$f":"IF('Weigh Up'!$Q$40=\"\",\"\",'Weigh Up'!$Q$40)","v":""},{"$f":"IF('Weigh Up'!$B$4=\"\",\"\",'Weigh Up'!$B$4)","v":"HMACP MIXTURE DESIGN : WEIGH UP SHEET"},{"$f":"IF('Weigh Up'!$B$31=\"\",\"\",'Weigh Up'!$B$31)","v":"INDIVIDUAL"},{"$f":"IF('Weigh Up'!$C$30=\"\",\"\",'Weigh Up'!$C$30)","v":"Passing"},{"$f":"IF('Weigh Up'!$C$40=\"\",\"\",'Weigh Up'!$C$40)","v":"No. 50"},{"$f":"IF('Weigh Up'!$C$29=\"\",\"\",'Weigh Up'!$C$29)","v":"Sieve Size:"},{"$f":"IF('Weigh Up'!$D$30=\"\",\"\",'Weigh Up'!$D$30)","v":"Retained"},{"$f":"IF('Weigh Up'!$D$40=\"\",\"\",'Weigh Up'!$D$40)","v":"No. 200"},{"$f":"'Weigh Up'!$Q$23","v":"Bin No.7 "}]
[732,{"$f":"IF('Weigh Up'!$Y$40=\"\",\"\",'Weigh Up'!$Y$40)","v":0},{"$f":"IF('Weigh Up'!$B$4=\"\",\"\",'Weigh Up'!$B$4)","v":"HMACP MIXTURE DESIGN : WEIGH UP SHEET"},{"$f":"IF('Weigh Up'!$B$31=\"\",\"\",'Weigh Up'!$B$31)","v":"INDIVIDUAL"},{"$f":"IF('Weigh Up'!$C$30=\"\",\"\",'Weigh Up'!$C$30)","v":"Passing"},{"$f":"IF('Weigh Up'!$C$40=\"\",\"\",'Weigh Up'!$C$40)","v":"No. 50"},{"$f":"IF('Weigh Up'!$C$29=\"\",\"\",'Weigh Up'!$C$29)","v":"Sieve Size:"},{"$f":"IF('Weigh Up'!$D$30=\"\",\"\",'Weigh Up'!$D$30)","v":"Retained"},{"$f":"IF('Weigh Up'!$D$40=\"\",\"\",'Weigh Up'!$D$40)","v":"No. 200"},{"$f":"'Weigh Up'!$Y$26","v":"Total Weights"}]
[733,{"$f":"IF('Weigh Up'!$Z$40=\"\",\"\",'Weigh Up'!$Z$40)","v":""},{"$f":"IF('Weigh Up'!$B$4=\"\",\"\",'Weigh Up'!$B$4)","v":"HMACP MIXTURE DESIGN : WEIGH UP SHEET"},{"$f":"IF('Weigh Up'!$B$31=\"\",\"\",'Weigh Up'!$B$31)","v":"INDIVIDUAL"},{"$f":"IF('Weigh Up'!$C$30=\"\",\"\",'Weigh Up'!$C$30)","v":"Passing"},{"$f":"IF('Weigh Up'!$C$40=\"\",\"\",'Weigh Up'!$C$40)","v":"No. 50"},{"$f":"IF('Weigh Up'!$C$29=\"\",\"\",'Weigh Up'!$C$29)","v":"Sieve Size:"},{"$f":"IF('Weigh Up'!$D$30=\"\",\"\",'Weigh Up'!$D$30)","v":"Retained"},{"$f":"IF('Weigh Up'!$D$40=\"\",\"\",'Weigh Up'!$D$40)","v":"No. 200"},{"$f":"'Weigh Up'!$Z$26","v":"Individual\nRetained, %"}]
[734,{"$f":"IF('Weigh Up'!$AA$40=\"\",\"\",'Weigh Up'!$AA$40)","v":""},{"$f":"IF('Weigh Up'!$B$4=\"\",\"\",'Weigh Up'!$B$4)","v":"HMACP MIXTURE DESIGN : WEIGH UP SHEET"},{"$f":"IF('Weigh Up'!$B$31=\"\",\"\",'Weigh Up'!$B$31)","v":"INDIVIDUAL"},{"$f":"IF('Weigh Up'!$C$30=\"\",\"\",'Weigh Up'!$C$30)","v":"Passing"},{"$f":"IF('Weigh Up'!$C$40=\"\",\"\",'Weigh Up'!$C$40)","v":"No. 50"},{"$f":"IF('Weigh Up'!$C$29=\"\",\"\",'Weigh Up'!$C$29)","v":"Sieve Size:"},{"$f":"IF('Weigh Up'!$D$30=\"\",\"\",'Weigh Up'!$D$30)","v":"Retained"},{"$f":"IF('Weigh Up'!$D$40=\"\",\"\",'Weigh Up'!$D$40)","v":"No. 200"},{"$f":"'Weigh Up'!$AA$26","v":"Cumulative Retained, %"}]
[735,{"$f":"IF('Weigh Up'!$E$41=\"\",\"\",'Weigh Up'!$E$41)","v":""},{"$f":"IF('Weigh Up'!$B$4=\"\",\"\",'Weigh Up'!$B$4)","v":"HMACP MIXTURE DESIGN : WEIGH UP SHEET"},{"$f":"IF('Weigh Up'!$B$31=\"\",\"\",'Weigh Up'!$B$31)","v":"INDIVIDUAL"},{"$f":"IF('Weigh Up'!$C$30=\"\",\"\",'Weigh Up'!$C$30)","v":"Passing"},{"$f":"IF('Weigh Up'!$C$41=\"\",\"\",'Weigh Up'!$C$41)","v":"No. 200"},{"$f":"IF('Weigh Up'!$C$29=\"\",\"\",'Weigh Up'!$C$29)","v":"Sieve Size:"},{"$f":"IF('Weigh Up'!$D$30=\"\",\"\",'Weigh Up'!$D$30)","v":"Retained"},{"$f":"IF('Weigh Up'!$D$41=\"\",\"\",'Weigh Up'!$D$41)","v":"Pan"},{"$f":"'Weigh Up'!$E$23","v":"Bin No.1"}]
[736,{"$f":"IF('Weigh Up'!$G$41=\"\",\"\",'Weigh Up'!$G$41)","v":""},{"$f":"IF('Weigh Up'!$B$4=\"\",\"\",'Weigh Up'!$B$4)","v":"HMACP MIXTURE DESIGN : WEIGH UP SHEET"},{"$f":"IF('Weigh Up'!$B$31=\"\",\"\",'Weigh Up'!$B$31)","v":"INDIVIDUAL"},{"$f":"IF('Weigh Up'!$C$30=\"\",\"\",'Weigh Up'!$C$30)","v":"Passing"},{"$f":"IF('Weigh Up'!$C$41=\"\",\"\",'Weigh Up'!$C$41)","v":"No. 200"},{"$f":"IF('Weigh Up'!$C$29=\"\",\"\",'Weigh Up'!$C$29)","v":"Sieve Size:"},{"$f":"IF('Weigh Up'!$D$30=\"\",\"\",'Weigh Up'!$D$30)","v":"Retained"},{"$f":"IF('Weigh Up'!$D$41=\"\",\"\",'Weigh Up'!$D$41)","v":"Pan"},{"$f":"'Weigh Up'!$G$23","v":"Bin No.2"}]
[737,{"$f":"IF('Weigh Up'!$I$41=\"\",\"\",'Weigh Up'!$I$41)","v":""},{"$f":"IF('Weigh Up'!$B$4=\"\",\"\",'Weigh Up'!$B$4)","v":"HMACP MIXTURE DESIGN : WEIGH UP SHEET"},{"$f":"IF('Weigh Up'!$B$31=\"\",\"\",'Weigh Up'!$B$31)","v":"INDIVIDUAL"},{"$f":"IF('Weigh Up'!$C$30=\"\",\"\",'Weigh Up'!$C$30)","v":"Passing"},{"$f":"IF('Weigh Up'!$C$41=\"\",\"\",'Weigh Up'!$C$41)","v":"No. 200"},{"$f":"IF('Weigh Up'!$C$29=\"\",\"\",'Weigh Up'!$C$29)","v":"Sieve Size:"},{"$f":"IF('Weigh Up'!$D$30=\"\",\"\",'Weigh Up'!$D$30)","v":"Retained"},{"$f":"IF('Weigh Up'!$D$41=\"\",\"\",'Weigh Up'!$D$41)","v":"Pan"},{"$f":"'Weigh Up'!$I$23","v":"Bin No.3"}]
[738,{"$f":"IF('Weigh Up'!$K$41=\"\",\"\",'Weigh Up'!$K$41)","v":""},{"$f":"IF('Weigh Up'!$B$4=\"\",\"\",'Weigh Up'!$B$4)","v":"HMACP MIXTURE DESIGN : WEIGH UP SHEET"},{"$f":"IF('Weigh Up'!$B$31=\"\",\"\",'Weigh Up'!$B$31)","v":"INDIVIDUAL"},{"$f":"IF('Weigh Up'!$C$30=\"\",\"\",'Weigh Up'!$C$30)","v":"Passing"},{"$f":"IF('Weigh Up'!$C$41=\"\",\"\",'Weigh Up'!$C$41)","v":"No. 200"},{"$f":"IF('Weigh Up'!$C$29=\"\",\"\",'Weigh Up'!$C$29)","v":"Sieve Size:"},{"$f":"IF('Weigh Up'!$D$30=\"\",\"\",'Weigh Up'!$D$30)","v":"Retained"},{"$f":"IF('Weigh Up'!$D$41=\"\",\"\",'Weigh Up'!$D$41)","v":"Pan"},{"$f":"'Weigh Up'!$K$23","v":"Bin No.4"}]
[739,{"$f":"IF('Weigh Up'!$M$41=\"\",\"\",'Weigh Up'!$M$41)","v":""},{"$f":"IF('Weigh Up'!$B$4=\"\",\"\",'Weigh Up'!$B$4)","v":"HMACP MIXTURE DESIGN : WEIGH UP SHEET"},{"$f":"IF('Weigh Up'!$B$31=\"\",\"\",'Weigh Up'!$B$31)","v":"INDIVIDUAL"},{"$f":"IF('Weigh Up'!$C$30=\"\",\"\",'Weigh Up'!$C$30)","v":"Passing"},{"$f":"IF('Weigh Up'!$C$41=\"\",\"\",'Weigh Up'!$C$41)","v":"No. 200"},{"$f":"IF('Weigh Up'!$C$29=\"\",\"\",'Weigh Up'!$C$29)","v":"Sieve Size:"},{"$f":"IF('Weigh Up'!$D$30=\"\",\"\",'Weigh Up'!$D$30)","v":"Retained"},{"$f":"IF('Weigh Up'!$D$41=\"\",\"\",'Weigh Up'!$D$41)","v":"Pan"},{"$f":"'Weigh Up'!$M$23","v":"Bin No.5"}]
[740,{"$f":"IF('Weigh Up'!$O$41=\"\",\"\",'Weigh Up'!$O$41)","v":""},{"$f":"IF('Weigh Up'!$B$4=\"\",\"\",'Weigh Up'!$B$4)","v":"HMACP MIXTURE DESIGN : WEIGH UP SHEET"},{"$f":"IF('Weigh Up'!$B$31=\"\",\"\",'Weigh Up'!$B$31)","v":"INDIVIDUAL"},{"$f":"IF('Weigh Up'!$C$30=\"\",\"\",'Weigh Up'!$C$30)","v":"Passing"},{"$f":"IF('Weigh Up'!$C$41=\"\",\"\",'Weigh Up'!$C$41)","v":"No. 200"},{"$f":"IF('Weigh Up'!$C$29=\"\",\"\",'Weigh Up'!$C$29)","v":"Sieve Size:"},{"$f":"IF('Weigh Up'!$D$30=\"\",\"\",'Weigh Up'!$D$30)","v":"Retained"},{"$f":"IF('Weigh Up'!$D$41=\"\",\"\",'Weigh Up'!$D$41)","v":"Pan"},{"$f":"'Weigh Up'!$O$23","v":"Bin No.6 "}]
[741,{"$f":"IF('Weigh Up'!$Q$41=\"\",\"\",'Weigh Up'!$Q$41)","v":""},{"$f":"IF('Weigh Up'!$B$4=\"\",\"\",'Weigh Up'!$B$4)","v":"HMACP MIXTURE DESIGN : WEIGH UP SHEET"},{"$f":"IF('Weigh Up'!$B$31=\"\",\"\",'Weigh Up'!$B$31)","v":"INDIVIDUAL"},{"$f":"IF('Weigh Up'!$C$30=\"\",\"\",'Weigh Up'!$C$30)","v":"Passing"},{"$f":"IF('Weigh Up'!$C$41=\"\",\"\",'Weigh Up'!$C$41)","v":"No. 200"},{"$f":"IF('Weigh Up'!$C$29=\"\",\"\",'Weigh Up'!$C$29)","v":"Sieve Size:"},{"$f":"IF('Weigh Up'!$D$30=\"\",\"\",'Weigh Up'!$D$30)","v":"Retained"},{"$f":"IF('Weigh Up'!$D$41=\"\",\"\",'Weigh Up'!$D$41)","v":"Pan"},{"$f":"'Weigh Up'!$Q$23","v":"Bin No.7 "}]
[742,{"$f":"IF('Weigh Up'!$Y$41=\"\",\"\",'Weigh Up'!$Y$41)","v":0},{"$f":"IF('Weigh Up'!$B$4=\"\",\"\",'Weigh Up'!$B$4)","v":"HMACP MIXTURE DESIGN : WEIGH UP SHEET"},{"$f":"IF('Weigh Up'!$B$31=\"\",\"\",'Weigh Up'!$B$31)","v":"INDIVIDUAL"},{"$f":"IF('Weigh Up'!$C$30=\"\",\"\",'Weigh Up'!$C$30)","v":"Passing"},{"$f":"IF('Weigh Up'!$C$41=\"\",\"\",'Weigh Up'!$C$41)","v":"No. 200"},{"$f":"IF('Weigh Up'!$C$29=\"\",\"\",'Weigh Up'!$C$29)","v":"Sieve Size:"},{"$f":"IF('Weigh Up'!$D$30=\"\",\"\",'Weigh Up'!$D$30)","v":"Retained"},{"$f":"IF('Weigh Up'!$D$41=\"\",\"\",'Weigh Up'!$D$41)","v":"Pan"},{"$f":"'Weigh Up'!$Y$26","v":"Total Weights"}]
[743,{"$f":"IF('Weigh Up'!$Z$41=\"\",\"\",'Weigh Up'!$Z$41)","v":""},{"$f":"IF('Weigh Up'!$B$4=\"\",\"\",'Weigh Up'!$B$4)","v":"HMACP MIXTURE DESIGN : WEIGH UP SHEET"},{"$f":"IF('Weigh Up'!$B$31=\"\",\"\",'Weigh Up'!$B$31)","v":"INDIVIDUAL"},{"$f":"IF('Weigh Up'!$C$30=\"\",\"\",'Weigh Up'!$C$30)","v":"Passing"},{"$f":"IF('Weigh Up'!$C$41=\"\",\"\",'Weigh Up'!$C$41)","v":"No. 200"},{"$f":"IF('Weigh Up'!$C$29=\"\",\"\",'Weigh Up'!$C$29)","v":"Sieve Size:"},{"$f":"IF('Weigh Up'!$D$30=\"\",\"\",'Weigh Up'!$D$30)","v":"Retained"},{"$f":"IF('Weigh Up'!$D$41=\"\",\"\",'Weigh Up'!$D$41)","v":"Pan"},{"$f":"'Weigh Up'!$Z$26","v":"Individual\nRetained, %"}]
[744,{"$f":"IF('Weigh Up'!$AA$41=\"\",\"\",'Weigh Up'!$AA$41)","v":""},{"$f":"IF('Weigh Up'!$B$4=\"\",\"\",'Weigh Up'!$B$4)","v":"HMACP MIXTURE DESIGN : WEIGH UP SHEET"},{"$f":"IF('Weigh Up'!$B$31=\"\",\"\",'Weigh Up'!$B$31)","v":"INDIVIDUAL"},{"$f":"IF('Weigh Up'!$C$30=\"\",\"\",'Weigh Up'!$C$30)","v":"Passing"},{"$f":"IF('Weigh Up'!$C$41=\"\",\"\",'Weigh Up'!$C$41)","v":"No. 200"},{"$f":"IF('Weigh Up'!$C$29=\"\",\"\",'Weigh Up'!$C$29)","v":"Sieve Size:"},{"$f":"IF('Weigh Up'!$D$30=\"\",\"\",'Weigh Up'!$D$30)","v":"Retained"},{"$f":"IF('Weigh Up'!$D$41=\"\",\"\",'Weigh Up'!$D$41)","v":"Pan"},{"$f":"'Weigh Up'!$AA$26","v":"Cumulative Retained, %"}]
[745,{"$f":"IF('Weigh Up'!$E$42=\"\",\"\",'Weigh Up'!$E$42)","v":""},{"$f":"IF('Weigh Up'!$B$4=\"\",\"\",'Weigh Up'!$B$4)","v":"HMACP MIXTURE DESIGN : WEIGH UP SHEET"},{"$f":"IF('Weigh Up'!$B$31=\"\",\"\",'Weigh Up'!$B$31)","v":"INDIVIDUAL"},{"$f":"IF('Weigh Up'!$C$42=\"\",\"\",'Weigh Up'!$C$42)","v":"Totals"},{"$f":"IF('Weigh Up'!$E$23=\"\",\"\",'Weigh Up'!$E$23)","v":"Bin No.1"},{"$f":"IF('Weigh Up'!$E$29=\"\",\"\",'Weigh Up'!$E$29)","v":""}]
[746,{"$f":"IF('Weigh Up'!$G$42=\"\",\"\",'Weigh Up'!$G$42)","v":""},{"$f":"IF('Weigh Up'!$B$4=\"\",\"\",'Weigh Up'!$B$4)","v":"HMACP MIXTURE DESIGN : WEIGH UP SHEET"},{"$f":"IF('Weigh Up'!$B$31=\"\",\"\",'Weigh Up'!$B$31)","v":"INDIVIDUAL"},{"$f":"IF('Weigh Up'!$C$42=\"\",\"\",'Weigh Up'!$C$42)","v":"Totals"},{"$f":"IF('Weigh Up'!$G$23=\"\",\"\",'Weigh Up'!$G$23)","v":"Bin No.2"},{"$f":"IF('Weigh Up'!$G$29=\"\",\"\",'Weigh Up'!$G$29)","v":""}]
[747,{"$f":"IF('Weigh Up'!$I$42=\"\",\"\",'Weigh Up'!$I$42)","v":""},{"$f":"IF('Weigh Up'!$B$4=\"\",\"\",'Weigh Up'!$B$4)","v":"HMACP MIXTURE DESIGN : WEIGH UP SHEET"},{"$f":"IF('Weigh Up'!$B$31=\"\",\"\",'Weigh Up'!$B$31)","v":"INDIVIDUAL"},{"$f":"IF('Weigh Up'!$C$42=\"\",\"\",'Weigh Up'!$C$42)","v":"Totals"},{"$f":"IF('Weigh Up'!$I$23=\"\",\"\",'Weigh Up'!$I$23)","v":"Bin No.3"},{"$f":"IF('Weigh Up'!$I$29=\"\",\"\",'Weigh Up'!$I$29)","v":""}]
[748,{"$f":"IF('Weigh Up'!$K$42=\"\",\"\",'Weigh Up'!$K$42)","v":""},{"$f":"IF('Weigh Up'!$B$4=\"\",\"\",'Weigh Up'!$B$4)","v":"HMACP MIXTURE DESIGN : WEIGH UP SHEET"},{"$f":"IF('Weigh Up'!$B$31=\"\",\"\",'Weigh Up'!$B$31)","v":"INDIVIDUAL"},{"$f":"IF('Weigh Up'!$C$42=\"\",\"\",'Weigh Up'!$C$42)","v":"Totals"},{"$f":"IF('Weigh Up'!$K$23=\"\",\"\",'Weigh Up'!$K$23)","v":"Bin No.4"},{"$f":"IF('Weigh Up'!$K$29=\"\",\"\",'Weigh Up'!$K$29)","v":""}]
[749,{"$f":"IF('Weigh Up'!$M$42=\"\",\"\",'Weigh Up'!$M$42)","v":""},{"$f":"IF('Weigh Up'!$B$4=\"\",\"\",'Weigh Up'!$B$4)","v":"HMACP MIXTURE DESIGN : WEIGH UP SHEET"},{"$f":"IF('Weigh Up'!$B$31=\"\",\"\",'Weigh Up'!$B$31)","v":"INDIVIDUAL"},{"$f":"IF('Weigh Up'!$C$42=\"\",\"\",'Weigh Up'!$C$42)","v":"Totals"},{"$f":"IF('Weigh Up'!$M$23=\"\",\"\",'Weigh Up'!$M$23)","v":"Bin No.5"},{"$f":"IF('Weigh Up'!$M$29=\"\",\"\",'Weigh Up'!$M$29)","v":""}]
[750,{"$f":"IF('Weigh Up'!$O$42=\"\",\"\",'Weigh Up'!$O$42)","v":""},{"$f":"IF('Weigh Up'!$B$4=\"\",\"\",'Weigh Up'!$B$4)","v":"HMACP MIXTURE DESIGN : WEIGH UP SHEET"},{"$f":"IF('Weigh Up'!$B$31=\"\",\"\",'Weigh Up'!$B$31)","v":"INDIVIDUAL"},{"$f":"IF('Weigh Up'!$C$42=\"\",\"\",'Weigh Up'!$C$42)","v":"Totals"},{"$f":"IF('Weigh Up'!$O$23=\"\",\"\",'Weigh Up'!$O$23)","v":"Bin No.6 "},{"$f":"IF('Weigh Up'!$O$29=\"\",\"\",'Weigh Up'!$O$29)","v":""}]
[751,{"$f":"IF('Weigh Up'!$Q$42=\"\",\"\",'Weigh Up'!$Q$42)","v":""},{"$f":"IF('Weigh Up'!$B$4=\"\",\"\",'Weigh Up'!$B$4)","v":"HMACP MIXTURE DESIGN : WEIGH UP SHEET"},{"$f":"IF('Weigh Up'!$B$31=\"\",\"\",'Weigh Up'!$B$31)","v":"INDIVIDUAL"},{"$f":"IF('Weigh Up'!$C$42=\"\",\"\",'Weigh Up'!$C$42)","v":"Totals"},{"$f":"IF('Weigh Up'!$Q$23=\"\",\"\",'Weigh Up'!$Q$23)","v":"Bin No.7 "},{"$f":"IF('Weigh Up'!$Q$29=\"\",\"\",'Weigh Up'!$Q$29)","v":""}]
[752,{"$f":"IF('Weigh Up'!$Y$42=\"\",\"\",'Weigh Up'!$Y$42)","v":0},{"$f":"IF('Weigh Up'!$B$4=\"\",\"\",'Weigh Up'!$B$4)","v":"HMACP MIXTURE DESIGN : WEIGH UP SHEET"},{"$f":"IF('Weigh Up'!$B$31=\"\",\"\",'Weigh Up'!$B$31)","v":"INDIVIDUAL"},{"$f":"IF('Weigh Up'!$C$42=\"\",\"\",'Weigh Up'!$C$42)","v":"Totals"},{"$f":"IF('Weigh Up'!$Y$26=\"\",\"\",'Weigh Up'!$Y$26)","v":"Total Weights"}]
[753,{"$f":"IF('Weigh Up'!$C$44=\"\",\"\",'Weigh Up'!$C$44)","v":""},{"$f":"IF('Weigh Up'!$B$4=\"\",\"\",'Weigh Up'!$B$4)","v":"HMACP MIXTURE DESIGN : WEIGH UP SHEET"},{"$f":"IF('Weigh Up'!$B$44=\"\",\"\",'Weigh Up'!$B$44)","v":"Running Total:"}]
[754,{"$f":"IF('Weigh Up'!$E$45=\"\",\"\",'Weigh Up'!$E$45)","v":""},{"$f":"IF('Weigh Up'!$B$4=\"\",\"\",'Weigh Up'!$B$4)","v":"HMACP MIXTURE DESIGN : WEIGH UP SHEET"},{"$f":"IF('Weigh Up'!$B$45=\"\",\"\",'Weigh Up'!$B$45)","v":"CUMULATIVE"},{"$f":"IF('Weigh Up'!$C$30=\"\",\"\",'Weigh Up'!$C$30)","v":"Passing"},{"$f":"IF('Weigh Up'!$C$45=\"\",\"\",'Weigh Up'!$C$45)","v":"-"},{"$f":"IF('Weigh Up'!$C$29=\"\",\"\",'Weigh Up'!$C$29)","v":"Sieve Size:"},{"$f":"IF('Weigh Up'!$D$30=\"\",\"\",'Weigh Up'!$D$30)","v":"Retained"},{"$f":"'Weigh Up'!$D$45","v":"1\""},{"$f":"'Weigh Up'!$E$23","v":"Bin No.1"}]
[755,{"$f":"IF('Weigh Up'!$G$45=\"\",\"\",'Weigh Up'!$G$45)","v":""},{"$f":"IF('Weigh Up'!$B$4=\"\",\"\",'Weigh Up'!$B$4)","v":"HMACP MIXTURE DESIGN : WEIGH UP SHEET"},{"$f":"IF('Weigh Up'!$B$45=\"\",\"\",'Weigh Up'!$B$45)","v":"CUMULATIVE"},{"$f":"IF('Weigh Up'!$C$30=\"\",\"\",'Weigh Up'!$C$30)","v":"Passing"},{"$f":"IF('Weigh Up'!$C$45=\"\",\"\",'Weigh Up'!$C$45)","v":"-"},{"$f":"IF('Weigh Up'!$C$29=\"\",\"\",'Weigh Up'!$C$29)","v":"Sieve Size:"},{"$f":"IF('Weigh Up'!$D$30=\"\",\"\",'Weigh Up'!$D$30)","v":"Retained"},{"$f":"'Weigh Up'!$D$45","v":"1\""},{"$f":"'Weigh Up'!$G$23","v":"Bin No.2"}]
[756,{"$f":"IF('Weigh Up'!$I$45=\"\",\"\",'Weigh Up'!$I$45)","v":""},{"$f":"IF('Weigh Up'!$B$4=\"\",\"\",'Weigh Up'!$B$4)","v":"HMACP MIXTURE DESIGN : WEIGH UP SHEET"},{"$f":"IF('Weigh Up'!$B$45=\"\",\"\",'Weigh Up'!$B$45)","v":"CUMULATIVE"},{"$f":"IF('Weigh Up'!$C$30=\"\",\"\",'Weigh Up'!$C$30)","v":"Passing"},{"$f":"IF('Weigh Up'!$C$45=\"\",\"\",'Weigh Up'!$C$45)","v":"-"},{"$f":"IF('Weigh Up'!$C$29=\"\",\"\",'Weigh Up'!$C$29)","v":"Sieve Size:"},{"$f":"IF('Weigh Up'!$D$30=\"\",\"\",'Weigh Up'!$D$30)","v":"Retained"},{"$f":"'Weigh Up'!$D$45","v":"1\""},{"$f":"'Weigh Up'!$I$23","v":"Bin No.3"}]
[757,{"$f":"IF('Weigh Up'!$K$45=\"\",\"\",'Weigh Up'!$K$45)","v":""},{"$f":"IF('Weigh Up'!$B$4=\"\",\"\",'Weigh Up'!$B$4)","v":"HMACP MIXTURE DESIGN : WEIGH UP SHEET"},{"$f":"IF('Weigh Up'!$B$45=\"\",\"\",'Weigh Up'!$B$45)","v":"CUMULATIVE"},{"$f":"IF('Weigh Up'!$C$30=\"\",\"\",'Weigh Up'!$C$30)","v":"Passing"},{"$f":"IF('Weigh Up'!$C$45=\"\",\"\",'Weigh Up'!$C$45)","v":"-"},{"$f":"IF('Weigh Up'!$C$29=\"\",\"\",'Weigh Up'!$C$29)","v":"Sieve Size:"},{"$f":"IF('Weigh Up'!$D$30=\"\",\"\",'Weigh Up'!$D$30)","v":"Retained"},{"$f":"'Weigh Up'!$D$45","v":"1\""},{"$f":"'Weigh Up'!$K$23","v":"Bin No.4"}]
[758,{"$f":"IF('Weigh Up'!$M$45=\"\",\"\",'Weigh Up'!$M$45)","v":""},{"$f":"IF('Weigh Up'!$B$4=\"\",\"\",'Weigh Up'!$B$4)","v":"HMACP MIXTURE DESIGN : WEIGH UP SHEET"},{"$f":"IF('Weigh Up'!$B$45=\"\",\"\",'Weigh Up'!$B$45)","v":"CUMULATIVE"},{"$f":"IF('Weigh Up'!$C$30=\"\",\"\",'Weigh Up'!$C$30)","v":"Passing"},{"$f":"IF('Weigh Up'!$C$45=\"\",\"\",'Weigh Up'!$C$45)","v":"-"},{"$f":"IF('Weigh Up'!$C$29=\"\",\"\",'Weigh Up'!$C$29)","v":"Sieve Size:"},{"$f":"IF('Weigh Up'!$D$30=\"\",\"\",'Weigh Up'!$D$30)","v":"Retained"},{"$f":"'Weigh Up'!$D$45","v":"1\""},{"$f":"'Weigh Up'!$M$23","v":"Bin No.5"}]
[759,{"$f":"IF('Weigh Up'!$O$45=\"\",\"\",'Weigh Up'!$O$45)","v":""},{"$f":"IF('Weigh Up'!$B$4=\"\",\"\",'Weigh Up'!$B$4)","v":"HMACP MIXTURE DESIGN : WEIGH UP SHEET"},{"$f":"IF('Weigh Up'!$B$45=\"\",\"\",'Weigh Up'!$B$45)","v":"CUMULATIVE"},{"$f":"IF('Weigh Up'!$C$30=\"\",\"\",'Weigh Up'!$C$30)","v":"Passing"},{"$f":"IF('Weigh Up'!$C$45=\"\",\"\",'Weigh Up'!$C$45)","v":"-"},{"$f":"IF('Weigh Up'!$C$29=\"\",\"\",'Weigh Up'!$C$29)","v":"Sieve Size:"},{"$f":"IF('Weigh Up'!$D$30=\"\",\"\",'Weigh Up'!$D$30)","v":"Retained"},{"$f":"'Weigh Up'!$D$45","v":"1\""},{"$f":"'Weigh Up'!$O$23","v":"Bin No.6 "}]
[760,{"$f":"IF('Weigh Up'!$Q$45=\"\",\"\",'Weigh Up'!$Q$45)","v":""},{"$f":"IF('Weigh Up'!$B$4=\"\",\"\",'Weigh Up'!$B$4)","v":"HMACP MIXTURE DESIGN : WEIGH UP SHEET"},{"$f":"IF('Weigh Up'!$B$45=\"\",\"\",'Weigh Up'!$B$45)","v":"CUMULATIVE"},{"$f":"IF('Weigh Up'!$C$30=\"\",\"\",'Weigh Up'!$C$30)","v":"Passing"},{"$f":"IF('Weigh Up'!$C$45=\"\",\"\",'Weigh Up'!$C$45)","v":"-"},{"$f":"IF('Weigh Up'!$C$29=\"\",\"\",'Weigh Up'!$C$29)","v":"Sieve Size:"},{"$f":"IF('Weigh Up'!$D$30=\"\",\"\",'Weigh Up'!$D$30)","v":"Retained"},{"$f":"'Weigh Up'!$D$45","v":"1\""},{"$f":"'Weigh Up'!$Q$23","v":"Bin No.7 "}]
[761,{"$f":"IF('Weigh Up'!$Y$45=\"\",\"\",'Weigh Up'!$Y$45)","v":0},{"$f":"IF('Weigh Up'!$B$4=\"\",\"\",'Weigh Up'!$B$4)","v":"HMACP MIXTURE DESIGN : WEIGH UP SHEET"},{"$f":"IF('Weigh Up'!$B$45=\"\",\"\",'Weigh Up'!$B$45)","v":"CUMULATIVE"},{"$f":"IF('Weigh Up'!$C$30=\"\",\"\",'Weigh Up'!$C$30)","v":"Passing"},{"$f":"IF('Weigh Up'!$C$45=\"\",\"\",'Weigh Up'!$C$45)","v":"-"},{"$f":"IF('Weigh Up'!$C$29=\"\",\"\",'Weigh Up'!$C$29)","v":"Sieve Size:"},{"$f":"IF('Weigh Up'!$D$30=\"\",\"\",'Weigh Up'!$D$30)","v":"Retained"},{"$f":"'Weigh Up'!$D$45","v":"1\""},{"$f":"'Weigh Up'!$Y$26","v":"Total Weights"}]
[762,{"$f":"IF('Weigh Up'!$E$46=\"\",\"\",'Weigh Up'!$E$46)","v":""},{"$f":"IF('Weigh Up'!$B$4=\"\",\"\",'Weigh Up'!$B$4)","v":"HMACP MIXTURE DESIGN : WEIGH UP SHEET"},{"$f":"IF('Weigh Up'!$B$45=\"\",\"\",'Weigh Up'!$B$45)","v":"CUMULATIVE"},{"$f":"IF('Weigh Up'!$C$30=\"\",\"\",'Weigh Up'!$C$30)","v":"Passing"},{"$f":"IF('Weigh Up'!$C$46=\"\",\"\",'Weigh Up'!$C$46)","v":"1\""},{"$f":"IF('Weigh Up'!$C$29=\"\",\"\",'Weigh Up'!$C$29)","v":"Sieve Size:"},{"$f":"IF('Weigh Up'!$D$30=\"\",\"\",'Weigh Up'!$D$30)","v":"Retained"},{"$f":"'Weigh Up'!$D$46","v":"3/4\""},{"$f":"'Weigh Up'!$E$23","v":"Bin No.1"}]
[763,{"$f":"IF('Weigh Up'!$G$46=\"\",\"\",'Weigh Up'!$G$46)","v":""},{"$f":"IF('Weigh Up'!$B$4=\"\",\"\",'Weigh Up'!$B$4)","v":"HMACP MIXTURE DESIGN : WEIGH UP SHEET"},{"$f":"IF('Weigh Up'!$B$45=\"\",\"\",'Weigh Up'!$B$45)","v":"CUMULATIVE"},{"$f":"IF('Weigh Up'!$C$30=\"\",\"\",'Weigh Up'!$C$30)","v":"Passing"},{"$f":"IF('Weigh Up'!$C$46=\"\",\"\",'Weigh Up'!$C$46)","v":"1\""},{"$f":"IF('Weigh Up'!$C$29=\"\",\"\",'Weigh Up'!$C$29)","v":"Sieve Size:"},{"$f":"IF('Weigh Up'!$D$30=\"\",\"\",'Weigh Up'!$D$30)","v":"Retained"},{"$f":"'Weigh Up'!$D$46","v":"3/4\""},{"$f":"'Weigh Up'!$G$23","v":"Bin No.2"}]
[764,{"$f":"IF('Weigh Up'!$I$46=\"\",\"\",'Weigh Up'!$I$46)","v":""},{"$f":"IF('Weigh Up'!$B$4=\"\",\"\",'Weigh Up'!$B$4)","v":"HMACP MIXTURE DESIGN : WEIGH UP SHEET"},{"$f":"IF('Weigh Up'!$B$45=\"\",\"\",'Weigh Up'!$B$45)","v":"CUMULATIVE"},{"$f":"IF('Weigh Up'!$C$30=\"\",\"\",'Weigh Up'!$C$30)","v":"Passing"},{"$f":"IF('Weigh Up'!$C$46=\"\",\"\",'Weigh Up'!$C$46)","v":"1\""},{"$f":"IF('Weigh Up'!$C$29=\"\",\"\",'Weigh Up'!$C$29)","v":"Sieve Size:"},{"$f":"IF('Weigh Up'!$D$30=\"\",\"\",'Weigh Up'!$D$30)","v":"Retained"},{"$f":"'Weigh Up'!$D$46","v":"3/4\""},{"$f":"'Weigh Up'!$I$23","v":"Bin No.3"}]
[765,{"$f":"IF('Weigh Up'!$K$46=\"\",\"\",'Weigh Up'!$K$46)","v":""},{"$f":"IF('Weigh Up'!$B$4=\"\",\"\",'Weigh Up'!$B$4)","v":"HMACP MIXTURE DESIGN : WEIGH UP SHEET"},{"$f":"IF('Weigh Up'!$B$45=\"\",\"\",'Weigh Up'!$B$45)","v":"CUMULATIVE"},{"$f":"IF('Weigh Up'!$C$30=\"\",\"\",'Weigh Up'!$C$30)","v":"Passing"},{"$f":"IF('Weigh Up'!$C$46=\"\",\"\",'Weigh Up'!$C$46)","v":"1\""},{"$f":"IF('Weigh Up'!$C$29=\"\",\"\",'Weigh Up'!$C$29)","v":"Sieve Size:"},{"$f":"IF('Weigh Up'!$D$30=\"\",\"\",'Weigh Up'!$D$30)","v":"Retained"},{"$f":"'Weigh Up'!$D$46","v":"3/4\""},{"$f":"'Weigh Up'!$K$23","v":"Bin No.4"}]
[766,{"$f":"IF('Weigh Up'!$M$46=\"\",\"\",'Weigh Up'!$M$46)","v":""},{"$f":"IF('Weigh Up'!$B$4=\"\",\"\",'Weigh Up'!$B$4)","v":"HMACP MIXTURE DESIGN : WEIGH UP SHEET"},{"$f":"IF('Weigh Up'!$B$45=\"\",\"\",'Weigh Up'!$B$45)","v":"CUMULATIVE"},{"$f":"IF('Weigh Up'!$C$30=\"\",\"\",'Weigh Up'!$C$30)","v":"Passing"},{"$f":"IF('Weigh Up'!$C$46=\"\",\"\",'Weigh Up'!$C$46)","v":"1\""},{"$f":"IF('Weigh Up'!$C$29=\"\",\"\",'Weigh Up'!$C$29)","v":"Sieve Size:"},{"$f":"IF('Weigh Up'!$D$30=\"\",\"\",'Weigh Up'!$D$30)","v":"Retained"},{"$f":"'Weigh Up'!$D$46","v":"3/4\""},{"$f":"'Weigh Up'!$M$23","v":"Bin No.5"}]
[767,{"$f":"IF('Weigh Up'!$O$46=\"\",\"\",'Weigh Up'!$O$46)","v":""},{"$f":"IF('Weigh Up'!$B$4=\"\",\"\",'Weigh Up'!$B$4)","v":"HMACP MIXTURE DESIGN : WEIGH UP SHEET"},{"$f":"IF('Weigh Up'!$B$45=\"\",\"\",'Weigh Up'!$B$45)","v":"CUMULATIVE"},{"$f":"IF('Weigh Up'!$C$30=\"\",\"\",'Weigh Up'!$C$30)","v":"Passing"},{"$f":"IF('Weigh Up'!$C$46=\"\",\"\",'Weigh Up'!$C$46)","v":"1\""},{"$f":"IF('Weigh Up'!$C$29=\"\",\"\",'Weigh Up'!$C$29)","v":"Sieve Size:"},{"$f":"IF('Weigh Up'!$D$30=\"\",\"\",'Weigh Up'!$D$30)","v":"Retained"},{"$f":"'Weigh Up'!$D$46","v":"3/4\""},{"$f":"'Weigh Up'!$O$23","v":"Bin No.6 "}]
[768,{"$f":"IF('Weigh Up'!$Q$46=\"\",\"\",'Weigh Up'!$Q$46)","v":""},{"$f":"IF('Weigh Up'!$B$4=\"\",\"\",'Weigh Up'!$B$4)","v":"HMACP MIXTURE DESIGN : WEIGH UP SHEET"},{"$f":"IF('Weigh Up'!$B$45=\"\",\"\",'Weigh Up'!$B$45)","v":"CUMULATIVE"},{"$f":"IF('Weigh Up'!$C$30=\"\",\"\",'Weigh Up'!$C$30)","v":"Passing"},{"$f":"IF('Weigh Up'!$C$46=\"\",\"\",'Weigh Up'!$C$46)","v":"1\""},{"$f":"IF('Weigh Up'!$C$29=\"\",\"\",'Weigh Up'!$C$29)","v":"Sieve Size:"},{"$f":"IF('Weigh Up'!$D$30=\"\",\"\",'Weigh Up'!$D$30)","v":"Retained"},{"$f":"'Weigh Up'!$D$46","v":"3/4\""},{"$f":"'Weigh Up'!$Q$23","v":"Bin No.7 "}]
[769,{"$f":"IF('Weigh Up'!$Y$46=\"\",\"\",'Weigh Up'!$Y$46)","v":0},{"$f":"IF('Weigh Up'!$B$4=\"\",\"\",'Weigh Up'!$B$4)","v":"HMACP MIXTURE DESIGN : WEIGH UP SHEET"},{"$f":"IF('Weigh Up'!$B$45=\"\",\"\",'Weigh Up'!$B$45)","v":"CUMULATIVE"},{"$f":"IF('Weigh Up'!$C$30=\"\",\"\",'Weigh Up'!$C$30)","v":"Passing"},{"$f":"IF('Weigh Up'!$C$46=\"\",\"\",'Weigh Up'!$C$46)","v":"1\""},{"$f":"IF('Weigh Up'!$C$29=\"\",\"\",'Weigh Up'!$C$29)","v":"Sieve Size:"},{"$f":"IF('Weigh Up'!$D$30=\"\",\"\",'Weigh Up'!$D$30)","v":"Retained"},{"$f":"'Weigh Up'!$D$46","v":"3/4\""},{"$f":"'Weigh Up'!$Y$26","v":"Total Weights"}]
[770,{"$f":"IF('Weigh Up'!$E$47=\"\",\"\",'Weigh Up'!$E$47)","v":""},{"$f":"IF('Weigh Up'!$B$4=\"\",\"\",'Weigh Up'!$B$4)","v":"HMACP MIXTURE DESIGN : WEIGH UP SHEET"},{"$f":"IF('Weigh Up'!$B$45=\"\",\"\",'Weigh Up'!$B$45)","v":"CUMULATIVE"},{"$f":"IF('Weigh Up'!$C$30=\"\",\"\",'Weigh Up'!$C$30)","v":"Passing"},{"$f":"IF('Weigh Up'!$C$47=\"\",\"\",'Weigh Up'!$C$47)","v":"3/4\""},{"$f":"IF('Weigh Up'!$C$29=\"\",\"\",'Weigh Up'!$C$29)","v":"Sieve Size:"},{"$f":"IF('Weigh Up'!$D$30=\"\",\"\",'Weigh Up'!$D$30)","v":"Retained"},{"$f":"'Weigh Up'!$D$47","v":"1/2\""},{"$f":"'Weigh Up'!$E$23","v":"Bin No.1"}]
[771,{"$f":"IF('Weigh Up'!$G$47=\"\",\"\",'Weigh Up'!$G$47)","v":""},{"$f":"IF('Weigh Up'!$B$4=\"\",\"\",'Weigh Up'!$B$4)","v":"HMACP MIXTURE DESIGN : WEIGH UP SHEET"},{"$f":"IF('Weigh Up'!$B$45=\"\",\"\",'Weigh Up'!$B$45)","v":"CUMULATIVE"},{"$f":"IF('Weigh Up'!$C$30=\"\",\"\",'Weigh Up'!$C$30)","v":"Passing"},{"$f":"IF('Weigh Up'!$C$47=\"\",\"\",'Weigh Up'!$C$47)","v":"3/4\""},{"$f":"IF('Weigh Up'!$C$29=\"\",\"\",'Weigh Up'!$C$29)","v":"Sieve Size:"},{"$f":"IF('Weigh Up'!$D$30=\"\",\"\",'Weigh Up'!$D$30)","v":"Retained"},{"$f":"'Weigh Up'!$D$47","v":"1/2\""},{"$f":"'Weigh Up'!$G$23","v":"Bin No.2"}]
[772,{"$f":"IF('Weigh Up'!$I$47=\"\",\"\",'Weigh Up'!$I$47)","v":""},{"$f":"IF('Weigh Up'!$B$4=\"\",\"\",'Weigh Up'!$B$4)","v":"HMACP MIXTURE DESIGN : WEIGH UP SHEET"},{"$f":"IF('Weigh Up'!$B$45=\"\",\"\",'Weigh Up'!$B$45)","v":"CUMULATIVE"},{"$f":"IF('Weigh Up'!$C$30=\"\",\"\",'Weigh Up'!$C$30)","v":"Passing"},{"$f":"IF('Weigh Up'!$C$47=\"\",\"\",'Weigh Up'!$C$47)","v":"3/4\""},{"$f":"IF('Weigh Up'!$C$29=\"\",\"\",'Weigh Up'!$C$29)","v":"Sieve Size:"},{"$f":"IF('Weigh Up'!$D$30=\"\",\"\",'Weigh Up'!$D$30)","v":"Retained"},{"$f":"'Weigh Up'!$D$47","v":"1/2\""},{"$f":"'Weigh Up'!$I$23","v":"Bin No.3"}]
[773,{"$f":"IF('Weigh Up'!$K$47=\"\",\"\",'Weigh Up'!$K$47)","v":""},{"$f":"IF('Weigh Up'!$B$4=\"\",\"\",'Weigh Up'!$B$4)","v":"HMACP MIXTURE DESIGN : WEIGH UP SHEET"},{"$f":"IF('Weigh Up'!$B$45=\"\",\"\",'Weigh Up'!$B$45)","v":"CUMULATIVE"},{"$f":"IF('Weigh Up'!$C$30=\"\",\"\",'Weigh Up'!$C$30)","v":"Passing"},{"$f":"IF('Weigh Up'!$C$47=\"\",\"\",'Weigh Up'!$C$47)","v":"3/4\""},{"$f":"IF('Weigh Up'!$C$29=\"\",\"\",'Weigh Up'!$C$29)","v":"Sieve Size:"},{"$f":"IF('Weigh Up'!$D$30=\"\",\"\",'Weigh Up'!$D$30)","v":"Retained"},{"$f":"'Weigh Up'!$D$47","v":"1/2\""},{"$f":"'Weigh Up'!$K$23","v":"Bin No.4"}]
[774,{"$f":"IF('Weigh Up'!$M$47=\"\",\"\",'Weigh Up'!$M$47)","v":""},{"$f":"IF('Weigh Up'!$B$4=\"\",\"\",'Weigh Up'!$B$4)","v":"HMACP MIXTURE DESIGN : WEIGH UP SHEET"},{"$f":"IF('Weigh Up'!$B$45=\"\",\"\",'Weigh Up'!$B$45)","v":"CUMULATIVE"},{"$f":"IF('Weigh Up'!$C$30=\"\",\"\",'Weigh Up'!$C$30)","v":"Passing"},{"$f":"IF('Weigh Up'!$C$47=\"\",\"\",'Weigh Up'!$C$47)","v":"3/4\""},{"$f":"IF('Weigh Up'!$C$29=\"\",\"\",'Weigh Up'!$C$29)","v":"Sieve Size:"},{"$f":"IF('Weigh Up'!$D$30=\"\",\"\",'Weigh Up'!$D$30)","v":"Retained"},{"$f":"'Weigh Up'!$D$47","v":"1/2\""},{"$f":"'Weigh Up'!$M$23","v":"Bin No.5"}]
[775,{"$f":"IF('Weigh Up'!$O$47=\"\",\"\",'Weigh Up'!$O$47)","v":""},{"$f":"IF('Weigh Up'!$B$4=\"\",\"\",'Weigh Up'!$B$4)","v":"HMACP MIXTURE DESIGN : WEIGH UP SHEET"},{"$f":"IF('Weigh Up'!$B$45=\"\",\"\",'Weigh Up'!$B$45)","v":"CUMULATIVE"},{"$f":"IF('Weigh Up'!$C$30=\"\",\"\",'Weigh Up'!$C$30)","v":"Passing"},{"$f":"IF('Weigh Up'!$C$47=\"\",\"\",'Weigh Up'!$C$47)","v":"3/4\""},{"$f":"IF('Weigh Up'!$C$29=\"\",\"\",'Weigh Up'!$C$29)","v":"Sieve Size:"},{"$f":"IF('Weigh Up'!$D$30=\"\",\"\",'Weigh Up'!$D$30)","v":"Retained"},{"$f":"'Weigh Up'!$D$47","v":"1/2\""},{"$f":"'Weigh Up'!$O$23","v":"Bin No.6 "}]
[776,{"$f":"IF('Weigh Up'!$Q$47=\"\",\"\",'Weigh Up'!$Q$47)","v":""},{"$f":"IF('Weigh Up'!$B$4=\"\",\"\",'Weigh Up'!$B$4)","v":"HMACP MIXTURE DESIGN : WEIGH UP SHEET"},{"$f":"IF('Weigh Up'!$B$45=\"\",\"\",'Weigh Up'!$B$45)","v":"CUMULATIVE"},{"$f":"IF('Weigh Up'!$C$30=\"\",\"\",'Weigh Up'!$C$30)","v":"Passing"},{"$f":"IF('Weigh Up'!$C$47=\"\",\"\",'Weigh Up'!$C$47)","v":"3/4\""},{"$f":"IF('Weigh Up'!$C$29=\"\",\"\",'Weigh Up'!$C$29)","v":"Sieve Size:"},{"$f":"IF('Weigh Up'!$D$30=\"\",\"\",'Weigh Up'!$D$30)","v":"Retained"},{"$f":"'Weigh Up'!$D$47","v":"1/2\""},{"$f":"'Weigh Up'!$Q$23","v":"Bin No.7 "}]
[777,{"$f":"IF('Weigh Up'!$Y$47=\"\",\"\",'Weigh Up'!$Y$47)","v":0},{"$f":"IF('Weigh Up'!$B$4=\"\",\"\",'Weigh Up'!$B$4)","v":"HMACP MIXTURE DESIGN : WEIGH UP SHEET"},{"$f":"IF('Weigh Up'!$B$45=\"\",\"\",'Weigh Up'!$B$45)","v":"CUMULATIVE"},{"$f":"IF('Weigh Up'!$C$30=\"\",\"\",'Weigh Up'!$C$30)","v":"Passing"},{"$f":"IF('Weigh Up'!$C$47=\"\",\"\",'Weigh Up'!$C$47)","v":"3/4\""},{"$f":"IF('Weigh Up'!$C$29=\"\",\"\",'Weigh Up'!$C$29)","v":"Sieve Size:"},{"$f":"IF('Weigh Up'!$D$30=\"\",\"\",'Weigh Up'!$D$30)","v":"Retained"},{"$f":"'Weigh Up'!$D$47","v":"1/2\""},{"$f":"'Weigh Up'!$Y$26","v":"Total Weights"}]
[778,{"$f":"IF('Weigh Up'!$E$48=\"\",\"\",'Weigh Up'!$E$48)","v":""},{"$f":"IF('Weigh Up'!$B$4=\"\",\"\",'Weigh Up'!$B$4)","v":"HMACP MIXTURE DESIGN : WEIGH UP SHEET"},{"$f":"IF('Weigh Up'!$B$45=\"\",\"\",'Weigh Up'!$B$45)","v":"CUMULATIVE"},{"$f":"IF('Weigh Up'!$C$30=\"\",\"\",'Weigh Up'!$C$30)","v":"Passing"},{"$f":"IF('Weigh Up'!$C$48=\"\",\"\",'Weigh Up'!$C$48)","v":"1/2\""},{"$f":"IF('Weigh Up'!$C$29=\"\",\"\",'Weigh Up'!$C$29)","v":"Sieve Size:"},{"$f":"IF('Weigh Up'!$D$30=\"\",\"\",'Weigh Up'!$D$30)","v":"Retained"},{"$f":"'Weigh Up'!$D$48","v":"3/8\""},{"$f":"'Weigh Up'!$E$23","v":"Bin No.1"}]
[779,{"$f":"IF('Weigh Up'!$G$48=\"\",\"\",'Weigh Up'!$G$48)","v":""},{"$f":"IF('Weigh Up'!$B$4=\"\",\"\",'Weigh Up'!$B$4)","v":"HMACP MIXTURE DESIGN : WEIGH UP SHEET"},{"$f":"IF('Weigh Up'!$B$45=\"\",\"\",'Weigh Up'!$B$45)","v":"CUMULATIVE"},{"$f":"IF('Weigh Up'!$C$30=\"\",\"\",'Weigh Up'!$C$30)","v":"Passing"},{"$f":"IF('Weigh Up'!$C$48=\"\",\"\",'Weigh Up'!$C$48)","v":"1/2\""},{"$f":"IF('Weigh Up'!$C$29=\"\",\"\",'Weigh Up'!$C$29)","v":"Sieve Size:"},{"$f":"IF('Weigh Up'!$D$30=\"\",\"\",'Weigh Up'!$D$30)","v":"Retained"},{"$f":"'Weigh Up'!$D$48","v":"3/8\""},{"$f":"'Weigh Up'!$G$23","v":"Bin No.2"}]
[780,{"$f":"IF('Weigh Up'!$I$48=\"\",\"\",'Weigh Up'!$I$48)","v":""},{"$f":"IF('Weigh Up'!$B$4=\"\",\"\",'Weigh Up'!$B$4)","v":"HMACP MIXTURE DESIGN : WEIGH UP SHEET"},{"$f":"IF('Weigh Up'!$B$45=\"\",\"\",'Weigh Up'!$B$45)","v":"CUMULATIVE"},{"$f":"IF('Weigh Up'!$C$30=\"\",\"\",'Weigh Up'!$C$30)","v":"Passing"},{"$f":"IF('Weigh Up'!$C$48=\"\",\"\",'Weigh Up'!$C$48)","v":"1/2\""},{"$f":"IF('Weigh Up'!$C$29=\"\",\"\",'Weigh Up'!$C$29)","v":"Sieve Size:"},{"$f":"IF('Weigh Up'!$D$30=\"\",\"\",'Weigh Up'!$D$30)","v":"Retained"},{"$f":"'Weigh Up'!$D$48","v":"3/8\""},{"$f":"'Weigh Up'!$I$23","v":"Bin No.3"}]
[781,{"$f":"IF('Weigh Up'!$K$48=\"\",\"\",'Weigh Up'!$K$48)","v":""},{"$f":"IF('Weigh Up'!$B$4=\"\",\"\",'Weigh Up'!$B$4)","v":"HMACP MIXTURE DESIGN : WEIGH UP SHEET"},{"$f":"IF('Weigh Up'!$B$45=\"\",\"\",'Weigh Up'!$B$45)","v":"CUMULATIVE"},{"$f":"IF('Weigh Up'!$C$30=\"\",\"\",'Weigh Up'!$C$30)","v":"Passing"},{"$f":"IF('Weigh Up'!$C$48=\"\",\"\",'Weigh Up'!$C$48)","v":"1/2\""},{"$f":"IF('Weigh Up'!$C$29=\"\",\"\",'Weigh Up'!$C$29)","v":"Sieve Size:"},{"$f":"IF('Weigh Up'!$D$30=\"\",\"\",'Weigh Up'!$D$30)","v":"Retained"},{"$f":"'Weigh Up'!$D$48","v":"3/8\""},{"$f":"'Weigh Up'!$K$23","v":"Bin No.4"}]
[782,{"$f":"IF('Weigh Up'!$M$48=\"\",\"\",'Weigh Up'!$M$48)","v":""},{"$f":"IF('Weigh Up'!$B$4=\"\",\"\",'Weigh Up'!$B$4)","v":"HMACP MIXTURE DESIGN : WEIGH UP SHEET"},{"$f":"IF('Weigh Up'!$B$45=\"\",\"\",'Weigh Up'!$B$45)","v":"CUMULATIVE"},{"$f":"IF('Weigh Up'!$C$30=\"\",\"\",'Weigh Up'!$C$30)","v":"Passing"},{"$f":"IF('Weigh Up'!$C$48=\"\",\"\",'Weigh Up'!$C$48)","v":"1/2\""},{"$f":"IF('Weigh Up'!$C$29=\"\",\"\",'Weigh Up'!$C$29)","v":"Sieve Size:"},{"$f":"IF('Weigh Up'!$D$30=\"\",\"\",'Weigh Up'!$D$30)","v":"Retained"},{"$f":"'Weigh Up'!$D$48","v":"3/8\""},{"$f":"'Weigh Up'!$M$23","v":"Bin No.5"}]
[783,{"$f":"IF('Weigh Up'!$O$48=\"\",\"\",'Weigh Up'!$O$48)","v":""},{"$f":"IF('Weigh Up'!$B$4=\"\",\"\",'Weigh Up'!$B$4)","v":"HMACP MIXTURE DESIGN : WEIGH UP SHEET"},{"$f":"IF('Weigh Up'!$B$45=\"\",\"\",'Weigh Up'!$B$45)","v":"CUMULATIVE"},{"$f":"IF('Weigh Up'!$C$30=\"\",\"\",'Weigh Up'!$C$30)","v":"Passing"},{"$f":"IF('Weigh Up'!$C$48=\"\",\"\",'Weigh Up'!$C$48)","v":"1/2\""},{"$f":"IF('Weigh Up'!$C$29=\"\",\"\",'Weigh Up'!$C$29)","v":"Sieve Size:"},{"$f":"IF('Weigh Up'!$D$30=\"\",\"\",'Weigh Up'!$D$30)","v":"Retained"},{"$f":"'Weigh Up'!$D$48","v":"3/8\""},{"$f":"'Weigh Up'!$O$23","v":"Bin No.6 "}]
[784,{"$f":"IF('Weigh Up'!$Q$48=\"\",\"\",'Weigh Up'!$Q$48)","v":""},{"$f":"IF('Weigh Up'!$B$4=\"\",\"\",'Weigh Up'!$B$4)","v":"HMACP MIXTURE DESIGN : WEIGH UP SHEET"},{"$f":"IF('Weigh Up'!$B$45=\"\",\"\",'Weigh Up'!$B$45)","v":"CUMULATIVE"},{"$f":"IF('Weigh Up'!$C$30=\"\",\"\",'Weigh Up'!$C$30)","v":"Passing"},{"$f":"IF('Weigh Up'!$C$48=\"\",\"\",'Weigh Up'!$C$48)","v":"1/2\""},{"$f":"IF('Weigh Up'!$C$29=\"\",\"\",'Weigh Up'!$C$29)","v":"Sieve Size:"},{"$f":"IF('Weigh Up'!$D$30=\"\",\"\",'Weigh Up'!$D$30)","v":"Retained"},{"$f":"'Weigh Up'!$D$48","v":"3/8\""},{"$f":"'Weigh Up'!$Q$23","v":"Bin No.7 "}]
[785,{"$f":"IF('Weigh Up'!$Y$48=\"\",\"\",'Weigh Up'!$Y$48)","v":0},{"$f":"IF('Weigh Up'!$B$4=\"\",\"\",'Weigh Up'!$B$4)","v":"HMACP MIXTURE DESIGN : WEIGH UP SHEET"},{"$f":"IF('Weigh Up'!$B$45=\"\",\"\",'Weigh Up'!$B$45)","v":"CUMULATIVE"},{"$f":"IF('Weigh Up'!$C$30=\"\",\"\",'Weigh Up'!$C$30)","v":"Passing"},{"$f":"IF('Weigh Up'!$C$48=\"\",\"\",'Weigh Up'!$C$48)","v":"1/2\""},{"$f":"IF('Weigh Up'!$C$29=\"\",\"\",'Weigh Up'!$C$29)","v":"Sieve Size:"},{"$f":"IF('Weigh Up'!$D$30=\"\",\"\",'Weigh Up'!$D$30)","v":"Retained"},{"$f":"'Weigh Up'!$D$48","v":"3/8\""},{"$f":"'Weigh Up'!$Y$26","v":"Total Weights"}]
[786,{"$f":"IF('Weigh Up'!$E$49=\"\",\"\",'Weigh Up'!$E$49)","v":""},{"$f":"IF('Weigh Up'!$B$4=\"\",\"\",'Weigh Up'!$B$4)","v":"HMACP MIXTURE DESIGN : WEIGH UP SHEET"},{"$f":"IF('Weigh Up'!$B$45=\"\",\"\",'Weigh Up'!$B$45)","v":"CUMULATIVE"},{"$f":"IF('Weigh Up'!$C$30=\"\",\"\",'Weigh Up'!$C$30)","v":"Passing"},{"$f":"IF('Weigh Up'!$C$49=\"\",\"\",'Weigh Up'!$C$49)","v":"3/8\""},{"$f":"IF('Weigh Up'!$C$29=\"\",\"\",'Weigh Up'!$C$29)","v":"Sieve Size:"},{"$f":"IF('Weigh Up'!$D$30=\"\",\"\",'Weigh Up'!$D$30)","v":"Retained"},{"$f":"'Weigh Up'!$D$49","v":"No. 4"},{"$f":"'Weigh Up'!$E$23","v":"Bin No.1"}]
[787,{"$f":"IF('Weigh Up'!$G$49=\"\",\"\",'Weigh Up'!$G$49)","v":""},{"$f":"IF('Weigh Up'!$B$4=\"\",\"\",'Weigh Up'!$B$4)","v":"HMACP MIXTURE DESIGN : WEIGH UP SHEET"},{"$f":"IF('Weigh Up'!$B$45=\"\",\"\",'Weigh Up'!$B$45)","v":"CUMULATIVE"},{"$f":"IF('Weigh Up'!$C$30=\"\",\"\",'Weigh Up'!$C$30)","v":"Passing"},{"$f":"IF('Weigh Up'!$C$49=\"\",\"\",'Weigh Up'!$C$49)","v":"3/8\""},{"$f":"IF('Weigh Up'!$C$29=\"\",\"\",'Weigh Up'!$C$29)","v":"Sieve Size:"},{"$f":"IF('Weigh Up'!$D$30=\"\",\"\",'Weigh Up'!$D$30)","v":"Retained"},{"$f":"'Weigh Up'!$D$49","v":"No. 4"},{"$f":"'Weigh Up'!$G$23","v":"Bin No.2"}]
[788,{"$f":"IF('Weigh Up'!$I$49=\"\",\"\",'Weigh Up'!$I$49)","v":""},{"$f":"IF('Weigh Up'!$B$4=\"\",\"\",'Weigh Up'!$B$4)","v":"HMACP MIXTURE DESIGN : WEIGH UP SHEET"},{"$f":"IF('Weigh Up'!$B$45=\"\",\"\",'Weigh Up'!$B$45)","v":"CUMULATIVE"},{"$f":"IF('Weigh Up'!$C$30=\"\",\"\",'Weigh Up'!$C$30)","v":"Passing"},{"$f":"IF('Weigh Up'!$C$49=\"\",\"\",'Weigh Up'!$C$49)","v":"3/8\""},{"$f":"IF('Weigh Up'!$C$29=\"\",\"\",'Weigh Up'!$C$29)","v":"Sieve Size:"},{"$f":"IF('Weigh Up'!$D$30=\"\",\"\",'Weigh Up'!$D$30)","v":"Retained"},{"$f":"'Weigh Up'!$D$49","v":"No. 4"},{"$f":"'Weigh Up'!$I$23","v":"Bin No.3"}]
[789,{"$f":"IF('Weigh Up'!$K$49=\"\",\"\",'Weigh Up'!$K$49)","v":""},{"$f":"IF('Weigh Up'!$B$4=\"\",\"\",'Weigh Up'!$B$4)","v":"HMACP MIXTURE DESIGN : WEIGH UP SHEET"},{"$f":"IF('Weigh Up'!$B$45=\"\",\"\",'Weigh Up'!$B$45)","v":"CUMULATIVE"},{"$f":"IF('Weigh Up'!$C$30=\"\",\"\",'Weigh Up'!$C$30)","v":"Passing"},{"$f":"IF('Weigh Up'!$C$49=\"\",\"\",'Weigh Up'!$C$49)","v":"3/8\""},{"$f":"IF('Weigh Up'!$C$29=\"\",\"\",'Weigh Up'!$C$29)","v":"Sieve Size:"},{"$f":"IF('Weigh Up'!$D$30=\"\",\"\",'Weigh Up'!$D$30)","v":"Retained"},{"$f":"'Weigh Up'!$D$49","v":"No. 4"},{"$f":"'Weigh Up'!$K$23","v":"Bin No.4"}]
[790,{"$f":"IF('Weigh Up'!$M$49=\"\",\"\",'Weigh Up'!$M$49)","v":""},{"$f":"IF('Weigh Up'!$B$4=\"\",\"\",'Weigh Up'!$B$4)","v":"HMACP MIXTURE DESIGN : WEIGH UP SHEET"},{"$f":"IF('Weigh Up'!$B$45=\"\",\"\",'Weigh Up'!$B$45)","v":"CUMULATIVE"},{"$f":"IF('Weigh Up'!$C$30=\"\",\"\",'Weigh Up'!$C$30)","v":"Passing"},{"$f":"IF('Weigh Up'!$C$49=\"\",\"\",'Weigh Up'!$C$49)","v":"3/8\""},{"$f":"IF('Weigh Up'!$C$29=\"\",\"\",'Weigh Up'!$C$29)","v":"Sieve Size:"},{"$f":"IF('Weigh Up'!$D$30=\"\",\"\",'Weigh Up'!$D$30)","v":"Retained"},{"$f":"'Weigh Up'!$D$49","v":"No. 4"},{"$f":"'Weigh Up'!$M$23","v":"Bin No.5"}]
[791,{"$f":"IF('Weigh Up'!$O$49=\"\",\"\",'Weigh Up'!$O$49)","v":""},{"$f":"IF('Weigh Up'!$B$4=\"\",\"\",'Weigh Up'!$B$4)","v":"HMACP MIXTURE DESIGN : WEIGH UP SHEET"},{"$f":"IF('Weigh Up'!$B$45=\"\",\"\",'Weigh Up'!$B$45)","v":"CUMULATIVE"},{"$f":"IF('Weigh Up'!$C$30=\"\",\"\",'Weigh Up'!$C$30)","v":"Passing"},{"$f":"IF('Weigh Up'!$C$49=\"\",\"\",'Weigh Up'!$C$49)","v":"3/8\""},{"$f":"IF('Weigh Up'!$C$29=\"\",\"\",'Weigh Up'!$C$29)","v":"Sieve Size:"},{"$f":"IF('Weigh Up'!$D$30=\"\",\"\",'Weigh Up'!$D$30)","v":"Retained"},{"$f":"'Weigh Up'!$D$49","v":"No. 4"},{"$f":"'Weigh Up'!$O$23","v":"Bin No.6 "}]
[792,{"$f":"IF('Weigh Up'!$Q$49=\"\",\"\",'Weigh Up'!$Q$49)","v":""},{"$f":"IF('Weigh Up'!$B$4=\"\",\"\",'Weigh Up'!$B$4)","v":"HMACP MIXTURE DESIGN : WEIGH UP SHEET"},{"$f":"IF('Weigh Up'!$B$45=\"\",\"\",'Weigh Up'!$B$45)","v":"CUMULATIVE"},{"$f":"IF('Weigh Up'!$C$30=\"\",\"\",'Weigh Up'!$C$30)","v":"Passing"},{"$f":"IF('Weigh Up'!$C$49=\"\",\"\",'Weigh Up'!$C$49)","v":"3/8\""},{"$f":"IF('Weigh Up'!$C$29=\"\",\"\",'Weigh Up'!$C$29)","v":"Sieve Size:"},{"$f":"IF('Weigh Up'!$D$30=\"\",\"\",'Weigh Up'!$D$30)","v":"Retained"},{"$f":"'Weigh Up'!$D$49","v":"No. 4"},{"$f":"'Weigh Up'!$Q$23","v":"Bin No.7 "}]
[793,{"$f":"IF('Weigh Up'!$Y$49=\"\",\"\",'Weigh Up'!$Y$49)","v":0},{"$f":"IF('Weigh Up'!$B$4=\"\",\"\",'Weigh Up'!$B$4)","v":"HMACP MIXTURE DESIGN : WEIGH UP SHEET"},{"$f":"IF('Weigh Up'!$B$45=\"\",\"\",'Weigh Up'!$B$45)","v":"CUMULATIVE"},{"$f":"IF('Weigh Up'!$C$30=\"\",\"\",'Weigh Up'!$C$30)","v":"Passing"},{"$f":"IF('Weigh Up'!$C$49=\"\",\"\",'Weigh Up'!$C$49)","v":"3/8\""},{"$f":"IF('Weigh Up'!$C$29=\"\",\"\",'Weigh Up'!$C$29)","v":"Sieve Size:"},{"$f":"IF('Weigh Up'!$D$30=\"\",\"\",'Weigh Up'!$D$30)","v":"Retained"},{"$f":"'Weigh Up'!$D$49","v":"No. 4"},{"$f":"'Weigh Up'!$Y$26","v":"Total Weights"}]
[794,{"$f":"IF('Weigh Up'!$E$50=\"\",\"\",'Weigh Up'!$E$50)","v":""},{"$f":"IF('Weigh Up'!$B$4=\"\",\"\",'Weigh Up'!$B$4)","v":"HMACP MIXTURE DESIGN : WEIGH UP SHEET"},{"$f":"IF('Weigh Up'!$B$45=\"\",\"\",'Weigh Up'!$B$45)","v":"CUMULATIVE"},{"$f":"IF('Weigh Up'!$C$30=\"\",\"\",'Weigh Up'!$C$30)","v":"Passing"},{"$f":"IF('Weigh Up'!$C$50=\"\",\"\",'Weigh Up'!$C$50)","v":"No. 4"},{"$f":"IF('Weigh Up'!$C$29=\"\",\"\",'Weigh Up'!$C$29)","v":"Sieve Size:"},{"$f":"IF('Weigh Up'!$D$30=\"\",\"\",'Weigh Up'!$D$30)","v":"Retained"},{"$f":"'Weigh Up'!$D$50","v":"No. 8"},{"$f":"'Weigh Up'!$E$23","v":"Bin No.1"}]
[795,{"$f":"IF('Weigh Up'!$G$50=\"\",\"\",'Weigh Up'!$G$50)","v":""},{"$f":"IF('Weigh Up'!$B$4=\"\",\"\",'Weigh Up'!$B$4)","v":"HMACP MIXTURE DESIGN : WEIGH UP SHEET"},{"$f":"IF('Weigh Up'!$B$45=\"\",\"\",'Weigh Up'!$B$45)","v":"CUMULATIVE"},{"$f":"IF('Weigh Up'!$C$30=\"\",\"\",'Weigh Up'!$C$30)","v":"Passing"},{"$f":"IF('Weigh Up'!$C$50=\"\",\"\",'Weigh Up'!$C$50)","v":"No. 4"},{"$f":"IF('Weigh Up'!$C$29=\"\",\"\",'Weigh Up'!$C$29)","v":"Sieve Size:"},{"$f":"IF('Weigh Up'!$D$30=\"\",\"\",'Weigh Up'!$D$30)","v":"Retained"},{"$f":"'Weigh Up'!$D$50","v":"No. 8"},{"$f":"'Weigh Up'!$G$23","v":"Bin No.2"}]
[796,{"$f":"IF('Weigh Up'!$I$50=\"\",\"\",'Weigh Up'!$I$50)","v":""},{"$f":"IF('Weigh Up'!$B$4=\"\",\"\",'Weigh Up'!$B$4)","v":"HMACP MIXTURE DESIGN : WEIGH UP SHEET"},{"$f":"IF('Weigh Up'!$B$45=\"\",\"\",'Weigh Up'!$B$45)","v":"CUMULATIVE"},{"$f":"IF('Weigh Up'!$C$30=\"\",\"\",'Weigh Up'!$C$30)","v":"Passing"},{"$f":"IF('Weigh Up'!$C$50=\"\",\"\",'Weigh Up'!$C$50)","v":"No. 4"},{"$f":"IF('Weigh Up'!$C$29=\"\",\"\",'Weigh Up'!$C$29)","v":"Sieve Size:"},{"$f":"IF('Weigh Up'!$D$30=\"\",\"\",'Weigh Up'!$D$30)","v":"Retained"},{"$f":"'Weigh Up'!$D$50","v":"No. 8"},{"$f":"'Weigh Up'!$I$23","v":"Bin No.3"}]
[797,{"$f":"IF('Weigh Up'!$K$50=\"\",\"\",'Weigh Up'!$K$50)","v":""},{"$f":"IF('Weigh Up'!$B$4=\"\",\"\",'Weigh Up'!$B$4)","v":"HMACP MIXTURE DESIGN : WEIGH UP SHEET"},{"$f":"IF('Weigh Up'!$B$45=\"\",\"\",'Weigh Up'!$B$45)","v":"CUMULATIVE"},{"$f":"IF('Weigh Up'!$C$30=\"\",\"\",'Weigh Up'!$C$30)","v":"Passing"},{"$f":"IF('Weigh Up'!$C$50=\"\",\"\",'Weigh Up'!$C$50)","v":"No. 4"},{"$f":"IF('Weigh Up'!$C$29=\"\",\"\",'Weigh Up'!$C$29)","v":"Sieve Size:"},{"$f":"IF('Weigh Up'!$D$30=\"\",\"\",'Weigh Up'!$D$30)","v":"Retained"},{"$f":"'Weigh Up'!$D$50","v":"No. 8"},{"$f":"'Weigh Up'!$K$23","v":"Bin No.4"}]
[798,{"$f":"IF('Weigh Up'!$M$50=\"\",\"\",'Weigh Up'!$M$50)","v":""},{"$f":"IF('Weigh Up'!$B$4=\"\",\"\",'Weigh Up'!$B$4)","v":"HMACP MIXTURE DESIGN : WEIGH UP SHEET"},{"$f":"IF('Weigh Up'!$B$45=\"\",\"\",'Weigh Up'!$B$45)","v":"CUMULATIVE"},{"$f":"IF('Weigh Up'!$C$30=\"\",\"\",'Weigh Up'!$C$30)","v":"Passing"},{"$f":"IF('Weigh Up'!$C$50=\"\",\"\",'Weigh Up'!$C$50)","v":"No. 4"},{"$f":"IF('Weigh Up'!$C$29=\"\",\"\",'Weigh Up'!$C$29)","v":"Sieve Size:"},{"$f":"IF('Weigh Up'!$D$30=\"\",\"\",'Weigh Up'!$D$30)","v":"Retained"},{"$f":"'Weigh Up'!$D$50","v":"No. 8"},{"$f":"'Weigh Up'!$M$23","v":"Bin No.5"}]
[799,{"$f":"IF('Weigh Up'!$O$50=\"\",\"\",'Weigh Up'!$O$50)","v":""},{"$f":"IF('Weigh Up'!$B$4=\"\",\"\",'Weigh Up'!$B$4)","v":"HMACP MIXTURE DESIGN : WEIGH UP SHEET"},{"$f":"IF('Weigh Up'!$B$45=\"\",\"\",'Weigh Up'!$B$45)","v":"CUMULATIVE"},{"$f":"IF('Weigh Up'!$C$30=\"\",\"\",'Weigh Up'!$C$30)","v":"Passing"},{"$f":"IF('Weigh Up'!$C$50=\"\",\"\",'Weigh Up'!$C$50)","v":"No. 4"},{"$f":"IF('Weigh Up'!$C$29=\"\",\"\",'Weigh Up'!$C$29)","v":"Sieve Size:"},{"$f":"IF('Weigh Up'!$D$30=\"\",\"\",'Weigh Up'!$D$30)","v":"Retained"},{"$f":"'Weigh Up'!$D$50","v":"No. 8"},{"$f":"'Weigh Up'!$O$23","v":"Bin No.6 "}]
[800,{"$f":"IF('Weigh Up'!$Q$50=\"\",\"\",'Weigh Up'!$Q$50)","v":""},{"$f":"IF('Weigh Up'!$B$4=\"\",\"\",'Weigh Up'!$B$4)","v":"HMACP MIXTURE DESIGN : WEIGH UP SHEET"},{"$f":"IF('Weigh Up'!$B$45=\"\",\"\",'Weigh Up'!$B$45)","v":"CUMULATIVE"},{"$f":"IF('Weigh Up'!$C$30=\"\",\"\",'Weigh Up'!$C$30)","v":"Passing"},{"$f":"IF('Weigh Up'!$C$50=\"\",\"\",'Weigh Up'!$C$50)","v":"No. 4"},{"$f":"IF('Weigh Up'!$C$29=\"\",\"\",'Weigh Up'!$C$29)","v":"Sieve Size:"},{"$f":"IF('Weigh Up'!$D$30=\"\",\"\",'Weigh Up'!$D$30)","v":"Retained"},{"$f":"'Weigh Up'!$D$50","v":"No. 8"},{"$f":"'Weigh Up'!$Q$23","v":"Bin No.7 "}]
[801,{"$f":"IF('Weigh Up'!$Y$50=\"\",\"\",'Weigh Up'!$Y$50)","v":0},{"$f":"IF('Weigh Up'!$B$4=\"\",\"\",'Weigh Up'!$B$4)","v":"HMACP MIXTURE DESIGN : WEIGH UP SHEET"},{"$f":"IF('Weigh Up'!$B$45=\"\",\"\",'Weigh Up'!$B$45)","v":"CUMULATIVE"},{"$f":"IF('Weigh Up'!$C$30=\"\",\"\",'Weigh Up'!$C$30)","v":"Passing"},{"$f":"IF('Weigh Up'!$C$50=\"\",\"\",'Weigh Up'!$C$50)","v":"No. 4"},{"$f":"IF('Weigh Up'!$C$29=\"\",\"\",'Weigh Up'!$C$29)","v":"Sieve Size:"},{"$f":"IF('Weigh Up'!$D$30=\"\",\"\",'Weigh Up'!$D$30)","v":"Retained"},{"$f":"'Weigh Up'!$D$50","v":"No. 8"},{"$f":"'Weigh Up'!$Y$26","v":"Total Weights"}]
[802,{"$f":"IF('Weigh Up'!$E$51=\"\",\"\",'Weigh Up'!$E$51)","v":""},{"$f":"IF('Weigh Up'!$B$4=\"\",\"\",'Weigh Up'!$B$4)","v":"HMACP MIXTURE DESIGN : WEIGH UP SHEET"},{"$f":"IF('Weigh Up'!$B$45=\"\",\"\",'Weigh Up'!$B$45)","v":"CUMULATIVE"},{"$f":"IF('Weigh Up'!$C$30=\"\",\"\",'Weigh Up'!$C$30)","v":"Passing"},{"$f":"IF('Weigh Up'!$C$51=\"\",\"\",'Weigh Up'!$C$51)","v":"No. 8"},{"$f":"IF('Weigh Up'!$C$29=\"\",\"\",'Weigh Up'!$C$29)","v":"Sieve Size:"},{"$f":"IF('Weigh Up'!$D$30=\"\",\"\",'Weigh Up'!$D$30)","v":"Retained"},{"$f":"'Weigh Up'!$D$51","v":"No. 16"},{"$f":"'Weigh Up'!$E$23","v":"Bin No.1"}]
[803,{"$f":"IF('Weigh Up'!$G$51=\"\",\"\",'Weigh Up'!$G$51)","v":""},{"$f":"IF('Weigh Up'!$B$4=\"\",\"\",'Weigh Up'!$B$4)","v":"HMACP MIXTURE DESIGN : WEIGH UP SHEET"},{"$f":"IF('Weigh Up'!$B$45=\"\",\"\",'Weigh Up'!$B$45)","v":"CUMULATIVE"},{"$f":"IF('Weigh Up'!$C$30=\"\",\"\",'Weigh Up'!$C$30)","v":"Passing"},{"$f":"IF('Weigh Up'!$C$51=\"\",\"\",'Weigh Up'!$C$51)","v":"No. 8"},{"$f":"IF('Weigh Up'!$C$29=\"\",\"\",'Weigh Up'!$C$29)","v":"Sieve Size:"},{"$f":"IF('Weigh Up'!$D$30=\"\",\"\",'Weigh Up'!$D$30)","v":"Retained"},{"$f":"'Weigh Up'!$D$51","v":"No. 16"},{"$f":"'Weigh Up'!$G$23","v":"Bin No.2"}]
[804,{"$f":"IF('Weigh Up'!$I$51=\"\",\"\",'Weigh Up'!$I$51)","v":""},{"$f":"IF('Weigh Up'!$B$4=\"\",\"\",'Weigh Up'!$B$4)","v":"HMACP MIXTURE DESIGN : WEIGH UP SHEET"},{"$f":"IF('Weigh Up'!$B$45=\"\",\"\",'Weigh Up'!$B$45)","v":"CUMULATIVE"},{"$f":"IF('Weigh Up'!$C$30=\"\",\"\",'Weigh Up'!$C$30)","v":"Passing"},{"$f":"IF('Weigh Up'!$C$51=\"\",\"\",'Weigh Up'!$C$51)","v":"No. 8"},{"$f":"IF('Weigh Up'!$C$29=\"\",\"\",'Weigh Up'!$C$29)","v":"Sieve Size:"},{"$f":"IF('Weigh Up'!$D$30=\"\",\"\",'Weigh Up'!$D$30)","v":"Retained"},{"$f":"'Weigh Up'!$D$51","v":"No. 16"},{"$f":"'Weigh Up'!$I$23","v":"Bin No.3"}]
[805,{"$f":"IF('Weigh Up'!$K$51=\"\",\"\",'Weigh Up'!$K$51)","v":""},{"$f":"IF('Weigh Up'!$B$4=\"\",\"\",'Weigh Up'!$B$4)","v":"HMACP MIXTURE DESIGN : WEIGH UP SHEET"},{"$f":"IF('Weigh Up'!$B$45=\"\",\"\",'Weigh Up'!$B$45)","v":"CUMULATIVE"},{"$f":"IF('Weigh Up'!$C$30=\"\",\"\",'Weigh Up'!$C$30)","v":"Passing"},{"$f":"IF('Weigh Up'!$C$51=\"\",\"\",'Weigh Up'!$C$51)","v":"No. 8"},{"$f":"IF('Weigh Up'!$C$29=\"\",\"\",'Weigh Up'!$C$29)","v":"Sieve Size:"},{"$f":"IF('Weigh Up'!$D$30=\"\",\"\",'Weigh Up'!$D$30)","v":"Retained"},{"$f":"'Weigh Up'!$D$51","v":"No. 16"},{"$f":"'Weigh Up'!$K$23","v":"Bin No.4"}]
[806,{"$f":"IF('Weigh Up'!$M$51=\"\",\"\",'Weigh Up'!$M$51)","v":""},{"$f":"IF('Weigh Up'!$B$4=\"\",\"\",'Weigh Up'!$B$4)","v":"HMACP MIXTURE DESIGN : WEIGH UP SHEET"},{"$f":"IF('Weigh Up'!$B$45=\"\",\"\",'Weigh Up'!$B$45)","v":"CUMULATIVE"},{"$f":"IF('Weigh Up'!$C$30=\"\",\"\",'Weigh Up'!$C$30)","v":"Passing"},{"$f":"IF('Weigh Up'!$C$51=\"\",\"\",'Weigh Up'!$C$51)","v":"No. 8"},{"$f":"IF('Weigh Up'!$C$29=\"\",\"\",'Weigh Up'!$C$29)","v":"Sieve Size:"},{"$f":"IF('Weigh Up'!$D$30=\"\",\"\",'Weigh Up'!$D$30)","v":"Retained"},{"$f":"'Weigh Up'!$D$51","v":"No. 16"},{"$f":"'Weigh Up'!$M$23","v":"Bin No.5"}]
[807,{"$f":"IF('Weigh Up'!$O$51=\"\",\"\",'Weigh Up'!$O$51)","v":""},{"$f":"IF('Weigh Up'!$B$4=\"\",\"\",'Weigh Up'!$B$4)","v":"HMACP MIXTURE DESIGN : WEIGH UP SHEET"},{"$f":"IF('Weigh Up'!$B$45=\"\",\"\",'Weigh Up'!$B$45)","v":"CUMULATIVE"},{"$f":"IF('Weigh Up'!$C$30=\"\",\"\",'Weigh Up'!$C$30)","v":"Passing"},{"$f":"IF('Weigh Up'!$C$51=\"\",\"\",'Weigh Up'!$C$51)","v":"No. 8"},{"$f":"IF('Weigh Up'!$C$29=\"\",\"\",'Weigh Up'!$C$29)","v":"Sieve Size:"},{"$f":"IF('Weigh Up'!$D$30=\"\",\"\",'Weigh Up'!$D$30)","v":"Retained"},{"$f":"'Weigh Up'!$D$51","v":"No. 16"},{"$f":"'Weigh Up'!$O$23","v":"Bin No.6 "}]
[808,{"$f":"IF('Weigh Up'!$Q$51=\"\",\"\",'Weigh Up'!$Q$51)","v":""},{"$f":"IF('Weigh Up'!$B$4=\"\",\"\",'Weigh Up'!$B$4)","v":"HMACP MIXTURE DESIGN : WEIGH UP SHEET"},{"$f":"IF('Weigh Up'!$B$45=\"\",\"\",'Weigh Up'!$B$45)","v":"CUMULATIVE"},{"$f":"IF('Weigh Up'!$C$30=\"\",\"\",'Weigh Up'!$C$30)","v":"Passing"},{"$f":"IF('Weigh Up'!$C$51=\"\",\"\",'Weigh Up'!$C$51)","v":"No. 8"},{"$f":"IF('Weigh Up'!$C$29=\"\",\"\",'Weigh Up'!$C$29)","v":"Sieve Size:"},{"$f":"IF('Weigh Up'!$D$30=\"\",\"\",'Weigh Up'!$D$30)","v":"Retained"},{"$f":"'Weigh Up'!$D$51","v":"No. 16"},{"$f":"'Weigh Up'!$Q$23","v":"Bin No.7 "}]
[809,{"$f":"IF('Weigh Up'!$Y$51=\"\",\"\",'Weigh Up'!$Y$51)","v":0},{"$f":"IF('Weigh Up'!$B$4=\"\",\"\",'Weigh Up'!$B$4)","v":"HMACP MIXTURE DESIGN : WEIGH UP SHEET"},{"$f":"IF('Weigh Up'!$B$45=\"\",\"\",'Weigh Up'!$B$45)","v":"CUMULATIVE"},{"$f":"IF('Weigh Up'!$C$30=\"\",\"\",'Weigh Up'!$C$30)","v":"Passing"},{"$f":"IF('Weigh Up'!$C$51=\"\",\"\",'Weigh Up'!$C$51)","v":"No. 8"},{"$f":"IF('Weigh Up'!$C$29=\"\",\"\",'Weigh Up'!$C$29)","v":"Sieve Size:"},{"$f":"IF('Weigh Up'!$D$30=\"\",\"\",'Weigh Up'!$D$30)","v":"Retained"},{"$f":"'Weigh Up'!$D$51","v":"No. 16"},{"$f":"'Weigh Up'!$Y$26","v":"Total Weights"}]
[810,{"$f":"IF('Weigh Up'!$E$52=\"\",\"\",'Weigh Up'!$E$52)","v":""},{"$f":"IF('Weigh Up'!$B$4=\"\",\"\",'Weigh Up'!$B$4)","v":"HMACP MIXTURE DESIGN : WEIGH UP SHEET"},{"$f":"IF('Weigh Up'!$B$45=\"\",\"\",'Weigh Up'!$B$45)","v":"CUMULATIVE"},{"$f":"IF('Weigh Up'!$C$30=\"\",\"\",'Weigh Up'!$C$30)","v":"Passing"},{"$f":"IF('Weigh Up'!$C$52=\"\",\"\",'Weigh Up'!$C$52)","v":"No. 16"},{"$f":"IF('Weigh Up'!$C$29=\"\",\"\",'Weigh Up'!$C$29)","v":"Sieve Size:"},{"$f":"IF('Weigh Up'!$D$30=\"\",\"\",'Weigh Up'!$D$30)","v":"Retained"},{"$f":"'Weigh Up'!$D$52","v":"No. 30"},{"$f":"'Weigh Up'!$E$23","v":"Bin No.1"}]
[811,{"$f":"IF('Weigh Up'!$G$52=\"\",\"\",'Weigh Up'!$G$52)","v":""},{"$f":"IF('Weigh Up'!$B$4=\"\",\"\",'Weigh Up'!$B$4)","v":"HMACP MIXTURE DESIGN : WEIGH UP SHEET"},{"$f":"IF('Weigh Up'!$B$45=\"\",\"\",'Weigh Up'!$B$45)","v":"CUMULATIVE"},{"$f":"IF('Weigh Up'!$C$30=\"\",\"\",'Weigh Up'!$C$30)","v":"Passing"},{"$f":"IF('Weigh Up'!$C$52=\"\",\"\",'Weigh Up'!$C$52)","v":"No. 16"},{"$f":"IF('Weigh Up'!$C$29=\"\",\"\",'Weigh Up'!$C$29)","v":"Sieve Size:"},{"$f":"IF('Weigh Up'!$D$30=\"\",\"\",'Weigh Up'!$D$30)","v":"Retained"},{"$f":"'Weigh Up'!$D$52","v":"No. 30"},{"$f":"'Weigh Up'!$G$23","v":"Bin No.2"}]
[812,{"$f":"IF('Weigh Up'!$I$52=\"\",\"\",'Weigh Up'!$I$52)","v":""},{"$f":"IF('Weigh Up'!$B$4=\"\",\"\",'Weigh Up'!$B$4)","v":"HMACP MIXTURE DESIGN : WEIGH UP SHEET"},{"$f":"IF('Weigh Up'!$B$45=\"\",\"\",'Weigh Up'!$B$45)","v":"CUMULATIVE"},{"$f":"IF('Weigh Up'!$C$30=\"\",\"\",'Weigh Up'!$C$30)","v":"Passing"},{"$f":"IF('Weigh Up'!$C$52=\"\",\"\",'Weigh Up'!$C$52)","v":"No. 16"},{"$f":"IF('Weigh Up'!$C$29=\"\",\"\",'Weigh Up'!$C$29)","v":"Sieve Size:"},{"$f":"IF('Weigh Up'!$D$30=\"\",\"\",'Weigh Up'!$D$30)","v":"Retained"},{"$f":"'Weigh Up'!$D$52","v":"No. 30"},{"$f":"'Weigh Up'!$I$23","v":"Bin No.3"}]
[813,{"$f":"IF('Weigh Up'!$K$52=\"\",\"\",'Weigh Up'!$K$52)","v":""},{"$f":"IF('Weigh Up'!$B$4=\"\",\"\",'Weigh Up'!$B$4)","v":"HMACP MIXTURE DESIGN : WEIGH UP SHEET"},{"$f":"IF('Weigh Up'!$B$45=\"\",\"\",'Weigh Up'!$B$45)","v":"CUMULATIVE"},{"$f":"IF('Weigh Up'!$C$30=\"\",\"\",'Weigh Up'!$C$30)","v":"Passing"},{"$f":"IF('Weigh Up'!$C$52=\"\",\"\",'Weigh Up'!$C$52)","v":"No. 16"},{"$f":"IF('Weigh Up'!$C$29=\"\",\"\",'Weigh Up'!$C$29)","v":"Sieve Size:"},{"$f":"IF('Weigh Up'!$D$30=\"\",\"\",'Weigh Up'!$D$30)","v":"Retained"},{"$f":"'Weigh Up'!$D$52","v":"No. 30"},{"$f":"'Weigh Up'!$K$23","v":"Bin No.4"}]
[814,{"$f":"IF('Weigh Up'!$M$52=\"\",\"\",'Weigh Up'!$M$52)","v":""},{"$f":"IF('Weigh Up'!$B$4=\"\",\"\",'Weigh Up'!$B$4)","v":"HMACP MIXTURE DESIGN : WEIGH UP SHEET"},{"$f":"IF('Weigh Up'!$B$45=\"\",\"\",'Weigh Up'!$B$45)","v":"CUMULATIVE"},{"$f":"IF('Weigh Up'!$C$30=\"\",\"\",'Weigh Up'!$C$30)","v":"Passing"},{"$f":"IF('Weigh Up'!$C$52=\"\",\"\",'Weigh Up'!$C$52)","v":"No. 16"},{"$f":"IF('Weigh Up'!$C$29=\"\",\"\",'Weigh Up'!$C$29)","v":"Sieve Size:"},{"$f":"IF('Weigh Up'!$D$30=\"\",\"\",'Weigh Up'!$D$30)","v":"Retained"},{"$f":"'Weigh Up'!$D$52","v":"No. 30"},{"$f":"'Weigh Up'!$M$23","v":"Bin No.5"}]
[815,{"$f":"IF('Weigh Up'!$O$52=\"\",\"\",'Weigh Up'!$O$52)","v":""},{"$f":"IF('Weigh Up'!$B$4=\"\",\"\",'Weigh Up'!$B$4)","v":"HMACP MIXTURE DESIGN : WEIGH UP SHEET"},{"$f":"IF('Weigh Up'!$B$45=\"\",\"\",'Weigh Up'!$B$45)","v":"CUMULATIVE"},{"$f":"IF('Weigh Up'!$C$30=\"\",\"\",'Weigh Up'!$C$30)","v":"Passing"},{"$f":"IF('Weigh Up'!$C$52=\"\",\"\",'Weigh Up'!$C$52)","v":"No. 16"},{"$f":"IF('Weigh Up'!$C$29=\"\",\"\",'Weigh Up'!$C$29)","v":"Sieve Size:"},{"$f":"IF('Weigh Up'!$D$30=\"\",\"\",'Weigh Up'!$D$30)","v":"Retained"},{"$f":"'Weigh Up'!$D$52","v":"No. 30"},{"$f":"'Weigh Up'!$O$23","v":"Bin No.6 "}]
[816,{"$f":"IF('Weigh Up'!$Q$52=\"\",\"\",'Weigh Up'!$Q$52)","v":""},{"$f":"IF('Weigh Up'!$B$4=\"\",\"\",'Weigh Up'!$B$4)","v":"HMACP MIXTURE DESIGN : WEIGH UP SHEET"},{"$f":"IF('Weigh Up'!$B$45=\"\",\"\",'Weigh Up'!$B$45)","v":"CUMULATIVE"},{"$f":"IF('Weigh Up'!$C$30=\"\",\"\",'Weigh Up'!$C$30)","v":"Passing"},{"$f":"IF('Weigh Up'!$C$52=\"\",\"\",'Weigh Up'!$C$52)","v":"No. 16"},{"$f":"IF('Weigh Up'!$C$29=\"\",\"\",'Weigh Up'!$C$29)","v":"Sieve Size:"},{"$f":"IF('Weigh Up'!$D$30=\"\",\"\",'Weigh Up'!$D$30)","v":"Retained"},{"$f":"'Weigh Up'!$D$52","v":"No. 30"},{"$f":"'Weigh Up'!$Q$23","v":"Bin No.7 "}]
[817,{"$f":"IF('Weigh Up'!$Y$52=\"\",\"\",'Weigh Up'!$Y$52)","v":0},{"$f":"IF('Weigh Up'!$B$4=\"\",\"\",'Weigh Up'!$B$4)","v":"HMACP MIXTURE DESIGN : WEIGH UP SHEET"},{"$f":"IF('Weigh Up'!$B$45=\"\",\"\",'Weigh Up'!$B$45)","v":"CUMULATIVE"},{"$f":"IF('Weigh Up'!$C$30=\"\",\"\",'Weigh Up'!$C$30)","v":"Passing"},{"$f":"IF('Weigh Up'!$C$52=\"\",\"\",'Weigh Up'!$C$52)","v":"No. 16"},{"$f":"IF('Weigh Up'!$C$29=\"\",\"\",'Weigh Up'!$C$29)","v":"Sieve Size:"},{"$f":"IF('Weigh Up'!$D$30=\"\",\"\",'Weigh Up'!$D$30)","v":"Retained"},{"$f":"'Weigh Up'!$D$52","v":"No. 30"},{"$f":"'Weigh Up'!$Y$26","v":"Total Weights"}]
[818,{"$f":"IF('Weigh Up'!$E$53=\"\",\"\",'Weigh Up'!$E$53)","v":""},{"$f":"IF('Weigh Up'!$B$4=\"\",\"\",'Weigh Up'!$B$4)","v":"HMACP MIXTURE DESIGN : WEIGH UP SHEET"},{"$f":"IF('Weigh Up'!$B$45=\"\",\"\",'Weigh Up'!$B$45)","v":"CUMULATIVE"},{"$f":"IF('Weigh Up'!$C$30=\"\",\"\",'Weigh Up'!$C$30)","v":"Passing"},{"$f":"IF('Weigh Up'!$C$53=\"\",\"\",'Weigh Up'!$C$53)","v":"No. 30"},{"$f":"IF('Weigh Up'!$C$29=\"\",\"\",'Weigh Up'!$C$29)","v":"Sieve Size:"},{"$f":"IF('Weigh Up'!$D$30=\"\",\"\",'Weigh Up'!$D$30)","v":"Retained"},{"$f":"'Weigh Up'!$D$53","v":"No. 50"},{"$f":"'Weigh Up'!$E$23","v":"Bin No.1"}]
[819,{"$f":"IF('Weigh Up'!$G$53=\"\",\"\",'Weigh Up'!$G$53)","v":""},{"$f":"IF('Weigh Up'!$B$4=\"\",\"\",'Weigh Up'!$B$4)","v":"HMACP MIXTURE DESIGN : WEIGH UP SHEET"},{"$f":"IF('Weigh Up'!$B$45=\"\",\"\",'Weigh Up'!$B$45)","v":"CUMULATIVE"},{"$f":"IF('Weigh Up'!$C$30=\"\",\"\",'Weigh Up'!$C$30)","v":"Passing"},{"$f":"IF('Weigh Up'!$C$53=\"\",\"\",'Weigh Up'!$C$53)","v":"No. 30"},{"$f":"IF('Weigh Up'!$C$29=\"\",\"\",'Weigh Up'!$C$29)","v":"Sieve Size:"},{"$f":"IF('Weigh Up'!$D$30=\"\",\"\",'Weigh Up'!$D$30)","v":"Retained"},{"$f":"'Weigh Up'!$D$53","v":"No. 50"},{"$f":"'Weigh Up'!$G$23","v":"Bin No.2"}]
[820,{"$f":"IF('Weigh Up'!$I$53=\"\",\"\",'Weigh Up'!$I$53)","v":""},{"$f":"IF('Weigh Up'!$B$4=\"\",\"\",'Weigh Up'!$B$4)","v":"HMACP MIXTURE DESIGN : WEIGH UP SHEET"},{"$f":"IF('Weigh Up'!$B$45=\"\",\"\",'Weigh Up'!$B$45)","v":"CUMULATIVE"},{"$f":"IF('Weigh Up'!$C$30=\"\",\"\",'Weigh Up'!$C$30)","v":"Passing"},{"$f":"IF('Weigh Up'!$C$53=\"\",\"\",'Weigh Up'!$C$53)","v":"No. 30"},{"$f":"IF('Weigh Up'!$C$29=\"\",\"\",'Weigh Up'!$C$29)","v":"Sieve Size:"},{"$f":"IF('Weigh Up'!$D$30=\"\",\"\",'Weigh Up'!$D$30)","v":"Retained"},{"$f":"'Weigh Up'!$D$53","v":"No. 50"},{"$f":"'Weigh Up'!$I$23","v":"Bin No.3"}]
[821,{"$f":"IF('Weigh Up'!$K$53=\"\",\"\",'Weigh Up'!$K$53)","v":""},{"$f":"IF('Weigh Up'!$B$4=\"\",\"\",'Weigh Up'!$B$4)","v":"HMACP MIXTURE DESIGN : WEIGH UP SHEET"},{"$f":"IF('Weigh Up'!$B$45=\"\",\"\",'Weigh Up'!$B$45)","v":"CUMULATIVE"},{"$f":"IF('Weigh Up'!$C$30=\"\",\"\",'Weigh Up'!$C$30)","v":"Passing"},{"$f":"IF('Weigh Up'!$C$53=\"\",\"\",'Weigh Up'!$C$53)","v":"No. 30"},{"$f":"IF('Weigh Up'!$C$29=\"\",\"\",'Weigh Up'!$C$29)","v":"Sieve Size:"},{"$f":"IF('Weigh Up'!$D$30=\"\",\"\",'Weigh Up'!$D$30)","v":"Retained"},{"$f":"'Weigh Up'!$D$53","v":"No. 50"},{"$f":"'Weigh Up'!$K$23","v":"Bin No.4"}]
[822,{"$f":"IF('Weigh Up'!$M$53=\"\",\"\",'Weigh Up'!$M$53)","v":""},{"$f":"IF('Weigh Up'!$B$4=\"\",\"\",'Weigh Up'!$B$4)","v":"HMACP MIXTURE DESIGN : WEIGH UP SHEET"},{"$f":"IF('Weigh Up'!$B$45=\"\",\"\",'Weigh Up'!$B$45)","v":"CUMULATIVE"},{"$f":"IF('Weigh Up'!$C$30=\"\",\"\",'Weigh Up'!$C$30)","v":"Passing"},{"$f":"IF('Weigh Up'!$C$53=\"\",\"\",'Weigh Up'!$C$53)","v":"No. 30"},{"$f":"IF('Weigh Up'!$C$29=\"\",\"\",'Weigh Up'!$C$29)","v":"Sieve Size:"},{"$f":"IF('Weigh Up'!$D$30=\"\",\"\",'Weigh Up'!$D$30)","v":"Retained"},{"$f":"'Weigh Up'!$D$53","v":"No. 50"},{"$f":"'Weigh Up'!$M$23","v":"Bin No.5"}]
[823,{"$f":"IF('Weigh Up'!$O$53=\"\",\"\",'Weigh Up'!$O$53)","v":""},{"$f":"IF('Weigh Up'!$B$4=\"\",\"\",'Weigh Up'!$B$4)","v":"HMACP MIXTURE DESIGN : WEIGH UP SHEET"},{"$f":"IF('Weigh Up'!$B$45=\"\",\"\",'Weigh Up'!$B$45)","v":"CUMULATIVE"},{"$f":"IF('Weigh Up'!$C$30=\"\",\"\",'Weigh Up'!$C$30)","v":"Passing"},{"$f":"IF('Weigh Up'!$C$53=\"\",\"\",'Weigh Up'!$C$53)","v":"No. 30"},{"$f":"IF('Weigh Up'!$C$29=\"\",\"\",'Weigh Up'!$C$29)","v":"Sieve Size:"},{"$f":"IF('Weigh Up'!$D$30=\"\",\"\",'Weigh Up'!$D$30)","v":"Retained"},{"$f":"'Weigh Up'!$D$53","v":"No. 50"},{"$f":"'Weigh Up'!$O$23","v":"Bin No.6 "}]
[824,{"$f":"IF('Weigh Up'!$Q$53=\"\",\"\",'Weigh Up'!$Q$53)","v":""},{"$f":"IF('Weigh Up'!$B$4=\"\",\"\",'Weigh Up'!$B$4)","v":"HMACP MIXTURE DESIGN : WEIGH UP SHEET"},{"$f":"IF('Weigh Up'!$B$45=\"\",\"\",'Weigh Up'!$B$45)","v":"CUMULATIVE"},{"$f":"IF('Weigh Up'!$C$30=\"\",\"\",'Weigh Up'!$C$30)","v":"Passing"},{"$f":"IF('Weigh Up'!$C$53=\"\",\"\",'Weigh Up'!$C$53)","v":"No. 30"},{"$f":"IF('Weigh Up'!$C$29=\"\",\"\",'Weigh Up'!$C$29)","v":"Sieve Size:"},{"$f":"IF('Weigh Up'!$D$30=\"\",\"\",'Weigh Up'!$D$30)","v":"Retained"},{"$f":"'Weigh Up'!$D$53","v":"No. 50"},{"$f":"'Weigh Up'!$Q$23","v":"Bin No.7 "}]
[825,{"$f":"IF('Weigh Up'!$Y$53=\"\",\"\",'Weigh Up'!$Y$53)","v":0},{"$f":"IF('Weigh Up'!$B$4=\"\",\"\",'Weigh Up'!$B$4)","v":"HMACP MIXTURE DESIGN : WEIGH UP SHEET"},{"$f":"IF('Weigh Up'!$B$45=\"\",\"\",'Weigh Up'!$B$45)","v":"CUMULATIVE"},{"$f":"IF('Weigh Up'!$C$30=\"\",\"\",'Weigh Up'!$C$30)","v":"Passing"},{"$f":"IF('Weigh Up'!$C$53=\"\",\"\",'Weigh Up'!$C$53)","v":"No. 30"},{"$f":"IF('Weigh Up'!$C$29=\"\",\"\",'Weigh Up'!$C$29)","v":"Sieve Size:"},{"$f":"IF('Weigh Up'!$D$30=\"\",\"\",'Weigh Up'!$D$30)","v":"Retained"},{"$f":"'Weigh Up'!$D$53","v":"No. 50"},{"$f":"'Weigh Up'!$Y$26","v":"Total Weights"}]
[826,{"$f":"IF('Weigh Up'!$E$54=\"\",\"\",'Weigh Up'!$E$54)","v":""},{"$f":"IF('Weigh Up'!$B$4=\"\",\"\",'Weigh Up'!$B$4)","v":"HMACP MIXTURE DESIGN : WEIGH UP SHEET"},{"$f":"IF('Weigh Up'!$B$45=\"\",\"\",'Weigh Up'!$B$45)","v":"CUMULATIVE"},{"$f":"IF('Weigh Up'!$C$30=\"\",\"\",'Weigh Up'!$C$30)","v":"Passing"},{"$f":"IF('Weigh Up'!$C$54=\"\",\"\",'Weigh Up'!$C$54)","v":"No. 50"},{"$f":"IF('Weigh Up'!$C$29=\"\",\"\",'Weigh Up'!$C$29)","v":"Sieve Size:"},{"$f":"IF('Weigh Up'!$D$30=\"\",\"\",'Weigh Up'!$D$30)","v":"Retained"},{"$f":"'Weigh Up'!$D$54","v":"No. 200"},{"$f":"'Weigh Up'!$E$23","v":"Bin No.1"}]
[827,{"$f":"IF('Weigh Up'!$G$54=\"\",\"\",'Weigh Up'!$G$54)","v":""},{"$f":"IF('Weigh Up'!$B$4=\"\",\"\",'Weigh Up'!$B$4)","v":"HMACP MIXTURE DESIGN : WEIGH UP SHEET"},{"$f":"IF('Weigh Up'!$B$45=\"\",\"\",'Weigh Up'!$B$45)","v":"CUMULATIVE"},{"$f":"IF('Weigh Up'!$C$30=\"\",\"\",'Weigh Up'!$C$30)","v":"Passing"},{"$f":"IF('Weigh Up'!$C$54=\"\",\"\",'Weigh Up'!$C$54)","v":"No. 50"},{"$f":"IF('Weigh Up'!$C$29=\"\",\"\",'Weigh Up'!$C$29)","v":"Sieve Size:"},{"$f":"IF('Weigh Up'!$D$30=\"\",\"\",'Weigh Up'!$D$30)","v":"Retained"},{"$f":"'Weigh Up'!$D$54","v":"No. 200"},{"$f":"'Weigh Up'!$G$23","v":"Bin No.2"}]
[828,{"$f":"IF('Weigh Up'!$I$54=\"\",\"\",'Weigh Up'!$I$54)","v":""},{"$f":"IF('Weigh Up'!$B$4=\"\",\"\",'Weigh Up'!$B$4)","v":"HMACP MIXTURE DESIGN : WEIGH UP SHEET"},{"$f":"IF('Weigh Up'!$B$45=\"\",\"\",'Weigh Up'!$B$45)","v":"CUMULATIVE"},{"$f":"IF('Weigh Up'!$C$30=\"\",\"\",'Weigh Up'!$C$30)","v":"Passing"},{"$f":"IF('Weigh Up'!$C$54=\"\",\"\",'Weigh Up'!$C$54)","v":"No. 50"},{"$f":"IF('Weigh Up'!$C$29=\"\",\"\",'Weigh Up'!$C$29)","v":"Sieve Size:"},{"$f":"IF('Weigh Up'!$D$30=\"\",\"\",'Weigh Up'!$D$30)","v":"Retained"},{"$f":"'Weigh Up'!$D$54","v":"No. 200"},{"$f":"'Weigh Up'!$I$23","v":"Bin No.3"}]
[829,{"$f":"IF('Weigh Up'!$K$54=\"\",\"\",'Weigh Up'!$K$54)","v":""},{"$f":"IF('Weigh Up'!$B$4=\"\",\"\",'Weigh Up'!$B$4)","v":"HMACP MIXTURE DESIGN : WEIGH UP SHEET"},{"$f":"IF('Weigh Up'!$B$45=\"\",\"\",'Weigh Up'!$B$45)","v":"CUMULATIVE"},{"$f":"IF('Weigh Up'!$C$30=\"\",\"\",'Weigh Up'!$C$30)","v":"Passing"},{"$f":"IF('Weigh Up'!$C$54=\"\",\"\",'Weigh Up'!$C$54)","v":"No. 50"},{"$f":"IF('Weigh Up'!$C$29=\"\",\"\",'Weigh Up'!$C$29)","v":"Sieve Size:"},{"$f":"IF('Weigh Up'!$D$30=\"\",\"\",'Weigh Up'!$D$30)","v":"Retained"},{"$f":"'Weigh Up'!$D$54","v":"No. 200"},{"$f":"'Weigh Up'!$K$23","v":"Bin No.4"}]
[830,{"$f":"IF('Weigh Up'!$M$54=\"\",\"\",'Weigh Up'!$M$54)","v":""},{"$f":"IF('Weigh Up'!$B$4=\"\",\"\",'Weigh Up'!$B$4)","v":"HMACP MIXTURE DESIGN : WEIGH UP SHEET"},{"$f":"IF('Weigh Up'!$B$45=\"\",\"\",'Weigh Up'!$B$45)","v":"CUMULATIVE"},{"$f":"IF('Weigh Up'!$C$30=\"\",\"\",'Weigh Up'!$C$30)","v":"Passing"},{"$f":"IF('Weigh Up'!$C$54=\"\",\"\",'Weigh Up'!$C$54)","v":"No. 50"},{"$f":"IF('Weigh Up'!$C$29=\"\",\"\",'Weigh Up'!$C$29)","v":"Sieve Size:"},{"$f":"IF('Weigh Up'!$D$30=\"\",\"\",'Weigh Up'!$D$30)","v":"Retained"},{"$f":"'Weigh Up'!$D$54","v":"No. 200"},{"$f":"'Weigh Up'!$M$23","v":"Bin No.5"}]
[831,{"$f":"IF('Weigh Up'!$O$54=\"\",\"\",'Weigh Up'!$O$54)","v":""},{"$f":"IF('Weigh Up'!$B$4=\"\",\"\",'Weigh Up'!$B$4)","v":"HMACP MIXTURE DESIGN : WEIGH UP SHEET"},{"$f":"IF('Weigh Up'!$B$45=\"\",\"\",'Weigh Up'!$B$45)","v":"CUMULATIVE"},{"$f":"IF('Weigh Up'!$C$30=\"\",\"\",'Weigh Up'!$C$30)","v":"Passing"},{"$f":"IF('Weigh Up'!$C$54=\"\",\"\",'Weigh Up'!$C$54)","v":"No. 50"},{"$f":"IF('Weigh Up'!$C$29=\"\",\"\",'Weigh Up'!$C$29)","v":"Sieve Size:"},{"$f":"IF('Weigh Up'!$D$30=\"\",\"\",'Weigh Up'!$D$30)","v":"Retained"},{"$f":"'Weigh Up'!$D$54","v":"No. 200"},{"$f":"'Weigh Up'!$O$23","v":"Bin No.6 "}]
[832,{"$f":"IF('Weigh Up'!$Q$54=\"\",\"\",'Weigh Up'!$Q$54)","v":""},{"$f":"IF('Weigh Up'!$B$4=\"\",\"\",'Weigh Up'!$B$4)","v":"HMACP MIXTURE DESIGN : WEIGH UP SHEET"},{"$f":"IF('Weigh Up'!$B$45=\"\",\"\",'Weigh Up'!$B$45)","v":"CUMULATIVE"},{"$f":"IF('Weigh Up'!$C$30=\"\",\"\",'Weigh Up'!$C$30)","v":"Passing"},{"$f":"IF('Weigh Up'!$C$54=\"\",\"\",'Weigh Up'!$C$54)","v":"No. 50"},{"$f":"IF('Weigh Up'!$C$29=\"\",\"\",'Weigh Up'!$C$29)","v":"Sieve Size:"},{"$f":"IF('Weigh Up'!$D$30=\"\",\"\",'Weigh Up'!$D$30)","v":"Retained"},{"$f":"'Weigh Up'!$D$54","v":"No. 200"},{"$f":"'Weigh Up'!$Q$23","v":"Bin No.7 "}]
[833,{"$f":"IF('Weigh Up'!$Y$54=\"\",\"\",'Weigh Up'!$Y$54)","v":0},{"$f":"IF('Weigh Up'!$B$4=\"\",\"\",'Weigh Up'!$B$4)","v":"HMACP MIXTURE DESIGN : WEIGH UP SHEET"},{"$f":"IF('Weigh Up'!$B$45=\"\",\"\",'Weigh Up'!$B$45)","v":"CUMULATIVE"},{"$f":"IF('Weigh Up'!$C$30=\"\",\"\",'Weigh Up'!$C$30)","v":"Passing"},{"$f":"IF('Weigh Up'!$C$54=\"\",\"\",'Weigh Up'!$C$54)","v":"No. 50"},{"$f":"IF('Weigh Up'!$C$29=\"\",\"\",'Weigh Up'!$C$29)","v":"Sieve Size:"},{"$f":"IF('Weigh Up'!$D$30=\"\",\"\",'Weigh Up'!$D$30)","v":"Retained"},{"$f":"'Weigh Up'!$D$54","v":"No. 200"},{"$f":"'Weigh Up'!$Y$26","v":"Total Weights"}]
[834,{"$f":"IF('Weigh Up'!$E$55=\"\",\"\",'Weigh Up'!$E$55)","v":""},{"$f":"IF('Weigh Up'!$B$4=\"\",\"\",'Weigh Up'!$B$4)","v":"HMACP MIXTURE DESIGN : WEIGH UP SHEET"},{"$f":"IF('Weigh Up'!$B$45=\"\",\"\",'Weigh Up'!$B$45)","v":"CUMULATIVE"},{"$f":"IF('Weigh Up'!$C$30=\"\",\"\",'Weigh Up'!$C$30)","v":"Passing"},{"$f":"IF('Weigh Up'!$C$55=\"\",\"\",'Weigh Up'!$C$55)","v":"No. 200"},{"$f":"IF('Weigh Up'!$C$29=\"\",\"\",'Weigh Up'!$C$29)","v":"Sieve Size:"},{"$f":"IF('Weigh Up'!$D$30=\"\",\"\",'Weigh Up'!$D$30)","v":"Retained"},{"$f":"'Weigh Up'!$D$55","v":"Pan"},{"$f":"'Weigh Up'!$E$23","v":"Bin No.1"}]
[835,{"$f":"IF('Weigh Up'!$G$55=\"\",\"\",'Weigh Up'!$G$55)","v":""},{"$f":"IF('Weigh Up'!$B$4=\"\",\"\",'Weigh Up'!$B$4)","v":"HMACP MIXTURE DESIGN : WEIGH UP SHEET"},{"$f":"IF('Weigh Up'!$B$45=\"\",\"\",'Weigh Up'!$B$45)","v":"CUMULATIVE"},{"$f":"IF('Weigh Up'!$C$30=\"\",\"\",'Weigh Up'!$C$30)","v":"Passing"},{"$f":"IF('Weigh Up'!$C$55=\"\",\"\",'Weigh Up'!$C$55)","v":"No. 200"},{"$f":"IF('Weigh Up'!$C$29=\"\",\"\",'Weigh Up'!$C$29)","v":"Sieve Size:"},{"$f":"IF('Weigh Up'!$D$30=\"\",\"\",'Weigh Up'!$D$30)","v":"Retained"},{"$f":"'Weigh Up'!$D$55","v":"Pan"},{"$f":"'Weigh Up'!$G$23","v":"Bin No.2"}]
[836,{"$f":"IF('Weigh Up'!$I$55=\"\",\"\",'Weigh Up'!$I$55)","v":""},{"$f":"IF('Weigh Up'!$B$4=\"\",\"\",'Weigh Up'!$B$4)","v":"HMACP MIXTURE DESIGN : WEIGH UP SHEET"},{"$f":"IF('Weigh Up'!$B$45=\"\",\"\",'Weigh Up'!$B$45)","v":"CUMULATIVE"},{"$f":"IF('Weigh Up'!$C$30=\"\",\"\",'Weigh Up'!$C$30)","v":"Passing"},{"$f":"IF('Weigh Up'!$C$55=\"\",\"\",'Weigh Up'!$C$55)","v":"No. 200"},{"$f":"IF('Weigh Up'!$C$29=\"\",\"\",'Weigh Up'!$C$29)","v":"Sieve Size:"},{"$f":"IF('Weigh Up'!$D$30=\"\",\"\",'Weigh Up'!$D$30)","v":"Retained"},{"$f":"'Weigh Up'!$D$55","v":"Pan"},{"$f":"'Weigh Up'!$I$23","v":"Bin No.3"}]
[837,{"$f":"IF('Weigh Up'!$K$55=\"\",\"\",'Weigh Up'!$K$55)","v":""},{"$f":"IF('Weigh Up'!$B$4=\"\",\"\",'Weigh Up'!$B$4)","v":"HMACP MIXTURE DESIGN : WEIGH UP SHEET"},{"$f":"IF('Weigh Up'!$B$45=\"\",\"\",'Weigh Up'!$B$45)","v":"CUMULATIVE"},{"$f":"IF('Weigh Up'!$C$30=\"\",\"\",'Weigh Up'!$C$30)","v":"Passing"},{"$f":"IF('Weigh Up'!$C$55=\"\",\"\",'Weigh Up'!$C$55)","v":"No. 200"},{"$f":"IF('Weigh Up'!$C$29=\"\",\"\",'Weigh Up'!$C$29)","v":"Sieve Size:"},{"$f":"IF('Weigh Up'!$D$30=\"\",\"\",'Weigh Up'!$D$30)","v":"Retained"},{"$f":"'Weigh Up'!$D$55","v":"Pan"},{"$f":"'Weigh Up'!$K$23","v":"Bin No.4"}]
[838,{"$f":"IF('Weigh Up'!$M$55=\"\",\"\",'Weigh Up'!$M$55)","v":""},{"$f":"IF('Weigh Up'!$B$4=\"\",\"\",'Weigh Up'!$B$4)","v":"HMACP MIXTURE DESIGN : WEIGH UP SHEET"},{"$f":"IF('Weigh Up'!$B$45=\"\",\"\",'Weigh Up'!$B$45)","v":"CUMULATIVE"},{"$f":"IF('Weigh Up'!$C$30=\"\",\"\",'Weigh Up'!$C$30)","v":"Passing"},{"$f":"IF('Weigh Up'!$C$55=\"\",\"\",'Weigh Up'!$C$55)","v":"No. 200"},{"$f":"IF('Weigh Up'!$C$29=\"\",\"\",'Weigh Up'!$C$29)","v":"Sieve Size:"},{"$f":"IF('Weigh Up'!$D$30=\"\",\"\",'Weigh Up'!$D$30)","v":"Retained"},{"$f":"'Weigh Up'!$D$55","v":"Pan"},{"$f":"'Weigh Up'!$M$23","v":"Bin No.5"}]
[839,{"$f":"IF('Weigh Up'!$O$55=\"\",\"\",'Weigh Up'!$O$55)","v":""},{"$f":"IF('Weigh Up'!$B$4=\"\",\"\",'Weigh Up'!$B$4)","v":"HMACP MIXTURE DESIGN : WEIGH UP SHEET"},{"$f":"IF('Weigh Up'!$B$45=\"\",\"\",'Weigh Up'!$B$45)","v":"CUMULATIVE"},{"$f":"IF('Weigh Up'!$C$30=\"\",\"\",'Weigh Up'!$C$30)","v":"Passing"},{"$f":"IF('Weigh Up'!$C$55=\"\",\"\",'Weigh Up'!$C$55)","v":"No. 200"},{"$f":"IF('Weigh Up'!$C$29=\"\",\"\",'Weigh Up'!$C$29)","v":"Sieve Size:"},{"$f":"IF('Weigh Up'!$D$30=\"\",\"\",'Weigh Up'!$D$30)","v":"Retained"},{"$f":"'Weigh Up'!$D$55","v":"Pan"},{"$f":"'Weigh Up'!$O$23","v":"Bin No.6 "}]
[840,{"$f":"IF('Weigh Up'!$Q$55=\"\",\"\",'Weigh Up'!$Q$55)","v":""},{"$f":"IF('Weigh Up'!$B$4=\"\",\"\",'Weigh Up'!$B$4)","v":"HMACP MIXTURE DESIGN : WEIGH UP SHEET"},{"$f":"IF('Weigh Up'!$B$45=\"\",\"\",'Weigh Up'!$B$45)","v":"CUMULATIVE"},{"$f":"IF('Weigh Up'!$C$30=\"\",\"\",'Weigh Up'!$C$30)","v":"Passing"},{"$f":"IF('Weigh Up'!$C$55=\"\",\"\",'Weigh Up'!$C$55)","v":"No. 200"},{"$f":"IF('Weigh Up'!$C$29=\"\",\"\",'Weigh Up'!$C$29)","v":"Sieve Size:"},{"$f":"IF('Weigh Up'!$D$30=\"\",\"\",'Weigh Up'!$D$30)","v":"Retained"},{"$f":"'Weigh Up'!$D$55","v":"Pan"},{"$f":"'Weigh Up'!$Q$23","v":"Bin No.7 "}]
[841,{"$f":"IF('Weigh Up'!$Y$55=\"\",\"\",'Weigh Up'!$Y$55)","v":0},{"$f":"IF('Weigh Up'!$B$4=\"\",\"\",'Weigh Up'!$B$4)","v":"HMACP MIXTURE DESIGN : WEIGH UP SHEET"},{"$f":"IF('Weigh Up'!$B$45=\"\",\"\",'Weigh Up'!$B$45)","v":"CUMULATIVE"},{"$f":"IF('Weigh Up'!$C$30=\"\",\"\",'Weigh Up'!$C$30)","v":"Passing"},{"$f":"IF('Weigh Up'!$C$55=\"\",\"\",'Weigh Up'!$C$55)","v":"No. 200"},{"$f":"IF('Weigh Up'!$C$29=\"\",\"\",'Weigh Up'!$C$29)","v":"Sieve Size:"},{"$f":"IF('Weigh Up'!$D$30=\"\",\"\",'Weigh Up'!$D$30)","v":"Retained"},{"$f":"'Weigh Up'!$D$55","v":"Pan"},{"$f":"'Weigh Up'!$Y$26","v":"Total Weights"}]
[842,{"$f":"IF('Weigh Up'!$B$58=\"\",\"\",'Weigh Up'!$B$58)","v":""},{"$f":"IF('Weigh Up'!$B$4=\"\",\"\",'Weigh Up'!$B$4)","v":"HMACP MIXTURE DESIGN : WEIGH UP SHEET"},{"$f":"IF('Weigh Up'!$B$57=\"\",\"\",'Weigh Up'!$B$57)","v":"Remarks:"}]
[843,{"$f":"IF('Bulk Gravity'!$D$27=\"\",\"\",'Bulk Gravity'!$D$27)","v":""},{"$f":"IF('Bulk Gravity'!$B$4=\"\",\"\",'Bulk Gravity'!$B$4)","v":"HMACP MIXTURE DESIGN : BULK GRAVITY"},{"$f":"IF('Bulk Gravity'!$D$19=\"\",\"\",'Bulk Gravity'!$D$19)","v":"Bin No.1"},{"$f":"IF('Bulk Gravity'!$D$25=\"\",\"\",'Bulk Gravity'!$D$25)","v":"Individual Ret., %"},{"$f":"IF('Bulk Gravity'!$B$26=\"\",\"\",'Bulk Gravity'!$B$26)","v":"Passing"},{"$f":"IF('Bulk Gravity'!$B$27=\"\",\"\",'Bulk Gravity'!$B$27)","v":""},{"$f":"IF('Bulk Gravity'!$B$25=\"\",\"\",'Bulk Gravity'!$B$25)","v":"Sieve Size:"},{"$f":"IF('Bulk Gravity'!$C$26=\"\",\"\",'Bulk Gravity'!$C$26)","v":"Retained"},{"$f":"'Bulk Gravity'!$C$27","v":"1\""}]
[844,{"$f":"IF('Bulk Gravity'!$E$27=\"\",\"\",'Bulk Gravity'!$E$27)","v":""},{"$f":"IF('Bulk Gravity'!$B$4=\"\",\"\",'Bulk Gravity'!$B$4)","v":"HMACP MIXTURE DESIGN : BULK GRAVITY"},{"$f":"IF('Bulk Gravity'!$D$19=\"\",\"\",'Bulk Gravity'!$D$19)","v":"Bin No.1"},{"$f":"IF('Bulk Gravity'!$E$25=\"\",\"\",'Bulk Gravity'!$E$25)","v":"Bulk SG"},{"$f":"IF('Bulk Gravity'!$B$26=\"\",\"\",'Bulk Gravity'!$B$26)","v":"Passing"},{"$f":"IF('Bulk Gravity'!$B$27=\"\",\"\",'Bulk Gravity'!$B$27)","v":""},{"$f":"IF('Bulk Gravity'!$B$25=\"\",\"\",'Bulk Gravity'!$B$25)","v":"Sieve Size:"},{"$f":"IF('Bulk Gravity'!$C$26=\"\",\"\",'Bulk Gravity'!$C$26)","v":"Retained"},{"$f":"'Bulk Gravity'!$C$27","v":"1\""}]
[845,{"$f":"IF('Bulk Gravity'!$D$28=\"\",\"\",'Bulk Gravity'!$D$28)","v":""},{"$f":"IF('Bulk Gravity'!$B$4=\"\",\"\",'Bulk Gravity'!$B$4)","v":"HMACP MIXTURE DESIGN : BULK GRAVITY"},{"$f":"IF('Bulk Gravity'!$D$19=\"\",\"\",'Bulk Gravity'!$D$19)","v":"Bin No.1"},{"$f":"IF('Bulk Gravity'!$D$25=\"\",\"\",'Bulk Gravity'!$D$25)","v":"Individual Ret., %"},{"$f":"IF('Bulk Gravity'!$B$26=\"\",\"\",'Bulk Gravity'!$B$26)","v":"Passing"},{"$f":"IF('Bulk Gravity'!$B$28=\"\",\"\",'Bulk Gravity'!$B$28)","v":"1\""},{"$f":"IF('Bulk Gravity'!$B$25=\"\",\"\",'Bulk Gravity'!$B$25)","v":"Sieve Size:"},{"$f":"IF('Bulk Gravity'!$C$26=\"\",\"\",'Bulk Gravity'!$C$26)","v":"Retained"},{"$f":"'Bulk Gravity'!$C$28","v":"3/4\""}]
[846,{"$f":"IF('Bulk Gravity'!$E$28=\"\",\"\",'Bulk Gravity'!$E$28)","v":""},{"$f":"IF('Bulk Gravity'!$B$4=\"\",\"\",'Bulk Gravity'!$B$4)","v":"HMACP MIXTURE DESIGN : BULK GRAVITY"},{"$f":"IF('Bulk Gravity'!$D$19=\"\",\"\",'Bulk Gravity'!$D$19)","v":"Bin No.1"},{"$f":"IF('Bulk Gravity'!$E$25=\"\",\"\",'Bulk Gravity'!$E$25)","v":"Bulk SG"},{"$f":"IF('Bulk Gravity'!$B$26=\"\",\"\",'Bulk Gravity'!$B$26)","v":"Passing"},{"$f":"IF('Bulk Gravity'!$B$28=\"\",\"\",'Bulk Gravity'!$B$28)","v":"1\""},{"$f":"IF('Bulk Gravity'!$B$25=\"\",\"\",'Bulk Gravity'!$B$25)","v":"Sieve Size:"},{"$f":"IF('Bulk Gravity'!$C$26=\"\",\"\",'Bulk Gravity'!$C$26)","v":"Retained"},{"$f":"'Bulk Gravity'!$C$28","v":"3/4\""}]
[847,{"$f":"IF('Bulk Gravity'!$D$29=\"\",\"\",'Bulk Gravity'!$D$29)","v":""},{"$f":"IF('Bulk Gravity'!$B$4=\"\",\"\",'Bulk Gravity'!$B$4)","v":"HMACP MIXTURE DESIGN : BULK GRAVITY"},{"$f":"IF('Bulk Gravity'!$D$19=\"\",\"\",'Bulk Gravity'!$D$19)","v":"Bin No.1"},{"$f":"IF('Bulk Gravity'!$D$25=\"\",\"\",'Bulk Gravity'!$D$25)","v":"Individual Ret., %"},{"$f":"IF('Bulk Gravity'!$B$26=\"\",\"\",'Bulk Gravity'!$B$26)","v":"Passing"},{"$f":"IF('Bulk Gravity'!$B$29=\"\",\"\",'Bulk Gravity'!$B$29)","v":"3/4\""},{"$f":"IF('Bulk Gravity'!$B$25=\"\",\"\",'Bulk Gravity'!$B$25)","v":"Sieve Size:"},{"$f":"IF('Bulk Gravity'!$C$26=\"\",\"\",'Bulk Gravity'!$C$26)","v":"Retained"},{"$f":"'Bulk Gravity'!$C$29","v":"1/2\""}]
[848,{"$f":"IF('Bulk Gravity'!$E$29=\"\",\"\",'Bulk Gravity'!$E$29)","v":""},{"$f":"IF('Bulk Gravity'!$B$4=\"\",\"\",'Bulk Gravity'!$B$4)","v":"HMACP MIXTURE DESIGN : BULK GRAVITY"},{"$f":"IF('Bulk Gravity'!$D$19=\"\",\"\",'Bulk Gravity'!$D$19)","v":"Bin No.1"},{"$f":"IF('Bulk Gravity'!$E$25=\"\",\"\",'Bulk Gravity'!$E$25)","v":"Bulk SG"},{"$f":"IF('Bulk Gravity'!$B$26=\"\",\"\",'Bulk Gravity'!$B$26)","v":"Passing"},{"$f":"IF('Bulk Gravity'!$B$29=\"\",\"\",'Bulk Gravity'!$B$29)","v":"3/4\""},{"$f":"IF('Bulk Gravity'!$B$25=\"\",\"\",'Bulk Gravity'!$B$25)","v":"Sieve Size:"},{"$f":"IF('Bulk Gravity'!$C$26=\"\",\"\",'Bulk Gravity'!$C$26)","v":"Retained"},{"$f":"'Bulk Gravity'!$C$29","v":"1/2\""}]
[849,{"$f":"IF('Bulk Gravity'!$D$30=\"\",\"\",'Bulk Gravity'!$D$30)","v":""},{"$f":"IF('Bulk Gravity'!$B$4=\"\",\"\",'Bulk Gravity'!$B$4)","v":"HMACP MIXTURE DESIGN : BULK GRAVITY"},{"$f":"IF('Bulk Gravity'!$D$19=\"\",\"\",'Bulk Gravity'!$D$19)","v":"Bin No.1"},{"$f":"IF('Bulk Gravity'!$D$25=\"\",\"\",'Bulk Gravity'!$D$25)","v":"Individual Ret., %"},{"$f":"IF('Bulk Gravity'!$B$26=\"\",\"\",'Bulk Gravity'!$B$26)","v":"Passing"},{"$f":"IF('Bulk Gravity'!$B$30=\"\",\"\",'Bulk Gravity'!$B$30)","v":"1/2\""},{"$f":"IF('Bulk Gravity'!$B$25=\"\",\"\",'Bulk Gravity'!$B$25)","v":"Sieve Size:"},{"$f":"IF('Bulk Gravity'!$C$26=\"\",\"\",'Bulk Gravity'!$C$26)","v":"Retained"},{"$f":"'Bulk Gravity'!$C$30","v":"3/8\""}]
[850,{"$f":"IF('Bulk Gravity'!$E$30=\"\",\"\",'Bulk Gravity'!$E$30)","v":""},{"$f":"IF('Bulk Gravity'!$B$4=\"\",\"\",'Bulk Gravity'!$B$4)","v":"HMACP MIXTURE DESIGN : BULK GRAVITY"},{"$f":"IF('Bulk Gravity'!$D$19=\"\",\"\",'Bulk Gravity'!$D$19)","v":"Bin No.1"},{"$f":"IF('Bulk Gravity'!$E$25=\"\",\"\",'Bulk Gravity'!$E$25)","v":"Bulk SG"},{"$f":"IF('Bulk Gravity'!$B$26=\"\",\"\",'Bulk Gravity'!$B$26)","v":"Passing"},{"$f":"IF('Bulk Gravity'!$B$30=\"\",\"\",'Bulk Gravity'!$B$30)","v":"1/2\""},{"$f":"IF('Bulk Gravity'!$B$25=\"\",\"\",'Bulk Gravity'!$B$25)","v":"Sieve Size:"},{"$f":"IF('Bulk Gravity'!$C$26=\"\",\"\",'Bulk Gravity'!$C$26)","v":"Retained"},{"$f":"'Bulk Gravity'!$C$30","v":"3/8\""}]
[851,{"$f":"IF('Bulk Gravity'!$D$31=\"\",\"\",'Bulk Gravity'!$D$31)","v":""},{"$f":"IF('Bulk Gravity'!$B$4=\"\",\"\",'Bulk Gravity'!$B$4)","v":"HMACP MIXTURE DESIGN : BULK GRAVITY"},{"$f":"IF('Bulk Gravity'!$D$19=\"\",\"\",'Bulk Gravity'!$D$19)","v":"Bin No.1"},{"$f":"IF('Bulk Gravity'!$D$25=\"\",\"\",'Bulk Gravity'!$D$25)","v":"Individual Ret., %"},{"$f":"IF('Bulk Gravity'!$B$26=\"\",\"\",'Bulk Gravity'!$B$26)","v":"Passing"},{"$f":"IF('Bulk Gravity'!$B$31=\"\",\"\",'Bulk Gravity'!$B$31)","v":"3/8\""},{"$f":"IF('Bulk Gravity'!$B$25=\"\",\"\",'Bulk Gravity'!$B$25)","v":"Sieve Size:"},{"$f":"IF('Bulk Gravity'!$C$26=\"\",\"\",'Bulk Gravity'!$C$26)","v":"Retained"},{"$f":"'Bulk Gravity'!$C$31","v":"No. 4"}]
[852,{"$f":"IF('Bulk Gravity'!$E$31=\"\",\"\",'Bulk Gravity'!$E$31)","v":""},{"$f":"IF('Bulk Gravity'!$B$4=\"\",\"\",'Bulk Gravity'!$B$4)","v":"HMACP MIXTURE DESIGN : BULK GRAVITY"},{"$f":"IF('Bulk Gravity'!$D$19=\"\",\"\",'Bulk Gravity'!$D$19)","v":"Bin No.1"},{"$f":"IF('Bulk Gravity'!$E$25=\"\",\"\",'Bulk Gravity'!$E$25)","v":"Bulk SG"},{"$f":"IF('Bulk Gravity'!$B$26=\"\",\"\",'Bulk Gravity'!$B$26)","v":"Passing"},{"$f":"IF('Bulk Gravity'!$B$31=\"\",\"\",'Bulk Gravity'!$B$31)","v":"3/8\""},{"$f":"IF('Bulk Gravity'!$B$25=\"\",\"\",'Bulk Gravity'!$B$25)","v":"Sieve Size:"},{"$f":"IF('Bulk Gravity'!$C$26=\"\",\"\",'Bulk Gravity'!$C$26)","v":"Retained"},{"$f":"'Bulk Gravity'!$C$31","v":"No. 4"}]
[853,{"$f":"IF('Bulk Gravity'!$D$32=\"\",\"\",'Bulk Gravity'!$D$32)","v":""},{"$f":"IF('Bulk Gravity'!$B$4=\"\",\"\",'Bulk Gravity'!$B$4)","v":"HMACP MIXTURE DESIGN : BULK GRAVITY"},{"$f":"IF('Bulk Gravity'!$D$19=\"\",\"\",'Bulk Gravity'!$D$19)","v":"Bin No.1"},{"$f":"IF('Bulk Gravity'!$D$25=\"\",\"\",'Bulk Gravity'!$D$25)","v":"Individual Ret., %"},{"$f":"IF('Bulk Gravity'!$B$26=\"\",\"\",'Bulk Gravity'!$B$26)","v":"Passing"},{"$f":"IF('Bulk Gravity'!$B$32=\"\",\"\",'Bulk Gravity'!$B$32)","v":"No. 4"},{"$f":"IF('Bulk Gravity'!$B$25=\"\",\"\",'Bulk Gravity'!$B$25)","v":"Sieve Size:"},{"$f":"IF('Bulk Gravity'!$C$26=\"\",\"\",'Bulk Gravity'!$C$26)","v":"Retained"},{"$f":"'Bulk Gravity'!$C$32","v":"No. 8"}]
[854,{"$f":"IF('Bulk Gravity'!$E$32=\"\",\"\",'Bulk Gravity'!$E$32)","v":""},{"$f":"IF('Bulk Gravity'!$B$4=\"\",\"\",'Bulk Gravity'!$B$4)","v":"HMACP MIXTURE DESIGN : BULK GRAVITY"},{"$f":"IF('Bulk Gravity'!$D$19=\"\",\"\",'Bulk Gravity'!$D$19)","v":"Bin No.1"},{"$f":"IF('Bulk Gravity'!$E$25=\"\",\"\",'Bulk Gravity'!$E$25)","v":"Bulk SG"},{"$f":"IF('Bulk Gravity'!$B$26=\"\",\"\",'Bulk Gravity'!$B$26)","v":"Passing"},{"$f":"IF('Bulk Gravity'!$B$32=\"\",\"\",'Bulk Gravity'!$B$32)","v":"No. 4"},{"$f":"IF('Bulk Gravity'!$B$25=\"\",\"\",'Bulk Gravity'!$B$25)","v":"Sieve Size:"},{"$f":"IF('Bulk Gravity'!$C$26=\"\",\"\",'Bulk Gravity'!$C$26)","v":"Retained"},{"$f":"'Bulk Gravity'!$C$32","v":"No. 8"}]
[855,{"$f":"IF('Bulk Gravity'!$D$33=\"\",\"\",'Bulk Gravity'!$D$33)","v":""},{"$f":"IF('Bulk Gravity'!$B$4=\"\",\"\",'Bulk Gravity'!$B$4)","v":"HMACP MIXTURE DESIGN : BULK GRAVITY"},{"$f":"IF('Bulk Gravity'!$D$19=\"\",\"\",'Bulk Gravity'!$D$19)","v":"Bin No.1"},{"$f":"IF('Bulk Gravity'!$D$25=\"\",\"\",'Bulk Gravity'!$D$25)","v":"Individual Ret., %"},{"$f":"IF('Bulk Gravity'!$B$26=\"\",\"\",'Bulk Gravity'!$B$26)","v":"Passing"},{"$f":"IF('Bulk Gravity'!$B$33=\"\",\"\",'Bulk Gravity'!$B$33)","v":"No. 8"},{"$f":"IF('Bulk Gravity'!$B$25=\"\",\"\",'Bulk Gravity'!$B$25)","v":"Sieve Size:"},{"$f":"IF('Bulk Gravity'!$C$26=\"\",\"\",'Bulk Gravity'!$C$26)","v":"Retained"},{"$f":"'Bulk Gravity'!$C$33","v":"No. 16"}]
[856,{"$f":"IF('Bulk Gravity'!$E$33=\"\",\"\",'Bulk Gravity'!$E$33)","v":""},{"$f":"IF('Bulk Gravity'!$B$4=\"\",\"\",'Bulk Gravity'!$B$4)","v":"HMACP MIXTURE DESIGN : BULK GRAVITY"},{"$f":"IF('Bulk Gravity'!$D$19=\"\",\"\",'Bulk Gravity'!$D$19)","v":"Bin No.1"},{"$f":"IF('Bulk Gravity'!$E$25=\"\",\"\",'Bulk Gravity'!$E$25)","v":"Bulk SG"},{"$f":"IF('Bulk Gravity'!$B$26=\"\",\"\",'Bulk Gravity'!$B$26)","v":"Passing"},{"$f":"IF('Bulk Gravity'!$B$33=\"\",\"\",'Bulk Gravity'!$B$33)","v":"No. 8"},{"$f":"IF('Bulk Gravity'!$B$25=\"\",\"\",'Bulk Gravity'!$B$25)","v":"Sieve Size:"},{"$f":"IF('Bulk Gravity'!$C$26=\"\",\"\",'Bulk Gravity'!$C$26)","v":"Retained"},{"$f":"'Bulk Gravity'!$C$33","v":"No. 16"}]
[857,{"$f":"IF('Bulk Gravity'!$D$34=\"\",\"\",'Bulk Gravity'!$D$34)","v":""},{"$f":"IF('Bulk Gravity'!$B$4=\"\",\"\",'Bulk Gravity'!$B$4)","v":"HMACP MIXTURE DESIGN : BULK GRAVITY"},{"$f":"IF('Bulk Gravity'!$D$19=\"\",\"\",'Bulk Gravity'!$D$19)","v":"Bin No.1"},{"$f":"IF('Bulk Gravity'!$D$25=\"\",\"\",'Bulk Gravity'!$D$25)","v":"Individual Ret., %"},{"$f":"IF('Bulk Gravity'!$B$26=\"\",\"\",'Bulk Gravity'!$B$26)","v":"Passing"},{"$f":"IF('Bulk Gravity'!$B$34=\"\",\"\",'Bulk Gravity'!$B$34)","v":"No. 16"},{"$f":"IF('Bulk Gravity'!$B$25=\"\",\"\",'Bulk Gravity'!$B$25)","v":"Sieve Size:"},{"$f":"IF('Bulk Gravity'!$C$26=\"\",\"\",'Bulk Gravity'!$C$26)","v":"Retained"},{"$f":"'Bulk Gravity'!$C$34","v":"No. 30"}]
[858,{"$f":"IF('Bulk Gravity'!$E$34=\"\",\"\",'Bulk Gravity'!$E$34)","v":""},{"$f":"IF('Bulk Gravity'!$B$4=\"\",\"\",'Bulk Gravity'!$B$4)","v":"HMACP MIXTURE DESIGN : BULK GRAVITY"},{"$f":"IF('Bulk Gravity'!$D$19=\"\",\"\",'Bulk Gravity'!$D$19)","v":"Bin No.1"},{"$f":"IF('Bulk Gravity'!$E$25=\"\",\"\",'Bulk Gravity'!$E$25)","v":"Bulk SG"},{"$f":"IF('Bulk Gravity'!$B$26=\"\",\"\",'Bulk Gravity'!$B$26)","v":"Passing"},{"$f":"IF('Bulk Gravity'!$B$34=\"\",\"\",'Bulk Gravity'!$B$34)","v":"No. 16"},{"$f":"IF('Bulk Gravity'!$B$25=\"\",\"\",'Bulk Gravity'!$B$25)","v":"Sieve Size:"},{"$f":"IF('Bulk Gravity'!$C$26=\"\",\"\",'Bulk Gravity'!$C$26)","v":"Retained"},{"$f":"'Bulk Gravity'!$C$34","v":"No. 30"}]
[859,{"$f":"IF('Bulk Gravity'!$D$35=\"\",\"\",'Bulk Gravity'!$D$35)","v":""},{"$f":"IF('Bulk Gravity'!$B$4=\"\",\"\",'Bulk Gravity'!$B$4)","v":"HMACP MIXTURE DESIGN : BULK GRAVITY"},{"$f":"IF('Bulk Gravity'!$D$19=\"\",\"\",'Bulk Gravity'!$D$19)","v":"Bin No.1"},{"$f":"IF('Bulk Gravity'!$D$25=\"\",\"\",'Bulk Gravity'!$D$25)","v":"Individual Ret., %"},{"$f":"IF('Bulk Gravity'!$B$26=\"\",\"\",'Bulk Gravity'!$B$26)","v":"Passing"},{"$f":"IF('Bulk Gravity'!$B$35=\"\",\"\",'Bulk Gravity'!$B$35)","v":"No. 30"},{"$f":"IF('Bulk Gravity'!$B$25=\"\",\"\",'Bulk Gravity'!$B$25)","v":"Sieve Size:"},{"$f":"IF('Bulk Gravity'!$C$26=\"\",\"\",'Bulk Gravity'!$C$26)","v":"Retained"},{"$f":"'Bulk Gravity'!$C$35","v":"No. 50"}]
[860,{"$f":"IF('Bulk Gravity'!$E$35=\"\",\"\",'Bulk Gravity'!$E$35)","v":""},{"$f":"IF('Bulk Gravity'!$B$4=\"\",\"\",'Bulk Gravity'!$B$4)","v":"HMACP MIXTURE DESIGN : BULK GRAVITY"},{"$f":"IF('Bulk Gravity'!$D$19=\"\",\"\",'Bulk Gravity'!$D$19)","v":"Bin No.1"},{"$f":"IF('Bulk Gravity'!$E$25=\"\",\"\",'Bulk Gravity'!$E$25)","v":"Bulk SG"},{"$f":"IF('Bulk Gravity'!$B$26=\"\",\"\",'Bulk Gravity'!$B$26)","v":"Passing"},{"$f":"IF('Bulk Gravity'!$B$35=\"\",\"\",'Bulk Gravity'!$B$35)","v":"No. 30"},{"$f":"IF('Bulk Gravity'!$B$25=\"\",\"\",'Bulk Gravity'!$B$25)","v":"Sieve Size:"},{"$f":"IF('Bulk Gravity'!$C$26=\"\",\"\",'Bulk Gravity'!$C$26)","v":"Retained"},{"$f":"'Bulk Gravity'!$C$35","v":"No. 50"}]
[861,{"$f":"IF('Bulk Gravity'!$D$36=\"\",\"\",'Bulk Gravity'!$D$36)","v":""},{"$f":"IF('Bulk Gravity'!$B$4=\"\",\"\",'Bulk Gravity'!$B$4)","v":"HMACP MIXTURE DESIGN : BULK GRAVITY"},{"$f":"IF('Bulk Gravity'!$D$19=\"\",\"\",'Bulk Gravity'!$D$19)","v":"Bin No.1"},{"$f":"IF('Bulk Gravity'!$D$25=\"\",\"\",'Bulk Gravity'!$D$25)","v":"Individual Ret., %"},{"$f":"IF('Bulk Gravity'!$B$26=\"\",\"\",'Bulk Gravity'!$B$26)","v":"Passing"},{"$f":"IF('Bulk Gravity'!$B$36=\"\",\"\",'Bulk Gravity'!$B$36)","v":"No. 50"},{"$f":"IF('Bulk Gravity'!$B$25=\"\",\"\",'Bulk Gravity'!$B$25)","v":"Sieve Size:"},{"$f":"IF('Bulk Gravity'!$C$26=\"\",\"\",'Bulk Gravity'!$C$26)","v":"Retained"},{"$f":"'Bulk Gravity'!$C$36","v":"No. 200"}]
[862,{"$f":"IF('Bulk Gravity'!$E$36=\"\",\"\",'Bulk Gravity'!$E$36)","v":""},{"$f":"IF('Bulk Gravity'!$B$4=\"\",\"\",'Bulk Gravity'!$B$4)","v":"HMACP MIXTURE DESIGN : BULK GRAVITY"},{"$f":"IF('Bulk Gravity'!$D$19=\"\",\"\",'Bulk Gravity'!$D$19)","v":"Bin No.1"},{"$f":"IF('Bulk Gravity'!$E$25=\"\",\"\",'Bulk Gravity'!$E$25)","v":"Bulk SG"},{"$f":"IF('Bulk Gravity'!$B$26=\"\",\"\",'Bulk Gravity'!$B$26)","v":"Passing"},{"$f":"IF('Bulk Gravity'!$B$36=\"\",\"\",'Bulk Gravity'!$B$36)","v":"No. 50"},{"$f":"IF('Bulk Gravity'!$B$25=\"\",\"\",'Bulk Gravity'!$B$25)","v":"Sieve Size:"},{"$f":"IF('Bulk Gravity'!$C$26=\"\",\"\",'Bulk Gravity'!$C$26)","v":"Retained"},{"$f":"'Bulk Gravity'!$C$36","v":"No. 200"}]
[863,{"$f":"IF('Bulk Gravity'!$D$37=\"\",\"\",'Bulk Gravity'!$D$37)","v":""},{"$f":"IF('Bulk Gravity'!$B$4=\"\",\"\",'Bulk Gravity'!$B$4)","v":"HMACP MIXTURE DESIGN : BULK GRAVITY"},{"$f":"IF('Bulk Gravity'!$D$19=\"\",\"\",'Bulk Gravity'!$D$19)","v":"Bin No.1"},{"$f":"IF('Bulk Gravity'!$D$25=\"\",\"\",'Bulk Gravity'!$D$25)","v":"Individual Ret., %"},{"$f":"IF('Bulk Gravity'!$B$26=\"\",\"\",'Bulk Gravity'!$B$26)","v":"Passing"},{"$f":"IF('Bulk Gravity'!$B$37=\"\",\"\",'Bulk Gravity'!$B$37)","v":"No. 200"},{"$f":"IF('Bulk Gravity'!$B$25=\"\",\"\",'Bulk Gravity'!$B$25)","v":"Sieve Size:"},{"$f":"IF('Bulk Gravity'!$C$26=\"\",\"\",'Bulk Gravity'!$C$26)","v":"Retained"},{"$f":"'Bulk Gravity'!$C$37","v":"Pan"}]
[864,{"$f":"IF('Bulk Gravity'!$E$37=\"\",\"\",'Bulk Gravity'!$E$37)","v":""},{"$f":"IF('Bulk Gravity'!$B$4=\"\",\"\",'Bulk Gravity'!$B$4)","v":"HMACP MIXTURE DESIGN : BULK GRAVITY"},{"$f":"IF('Bulk Gravity'!$D$19=\"\",\"\",'Bulk Gravity'!$D$19)","v":"Bin No.1"},{"$f":"IF('Bulk Gravity'!$E$25=\"\",\"\",'Bulk Gravity'!$E$25)","v":"Bulk SG"},{"$f":"IF('Bulk Gravity'!$B$26=\"\",\"\",'Bulk Gravity'!$B$26)","v":"Passing"},{"$f":"IF('Bulk Gravity'!$B$37=\"\",\"\",'Bulk Gravity'!$B$37)","v":"No. 200"},{"$f":"IF('Bulk Gravity'!$B$25=\"\",\"\",'Bulk Gravity'!$B$25)","v":"Sieve Size:"},{"$f":"IF('Bulk Gravity'!$C$26=\"\",\"\",'Bulk Gravity'!$C$26)","v":"Retained"},{"$f":"'Bulk Gravity'!$C$37","v":"Pan"}]
[865,{"$f":"IF('Bulk Gravity'!$D$38=\"\",\"\",'Bulk Gravity'!$D$38)","v":""},{"$f":"IF('Bulk Gravity'!$B$4=\"\",\"\",'Bulk Gravity'!$B$4)","v":"HMACP MIXTURE DESIGN : BULK GRAVITY"},{"$f":"IF('Bulk Gravity'!$D$19=\"\",\"\",'Bulk Gravity'!$D$19)","v":"Bin No.1"},{"$f":"IF('Bulk Gravity'!$D$25=\"\",\"\",'Bulk Gravity'!$D$25)","v":"Individual Ret., %"},{"$f":"IF('Bulk Gravity'!$B$38=\"\",\"\",'Bulk Gravity'!$B$38)","v":"Totals"}]
[866,{"$f":"IF('Bulk Gravity'!$E$38=\"\",\"\",'Bulk Gravity'!$E$38)","v":""},{"$f":"IF('Bulk Gravity'!$B$4=\"\",\"\",'Bulk Gravity'!$B$4)","v":"HMACP MIXTURE DESIGN : BULK GRAVITY"},{"$f":"IF('Bulk Gravity'!$D$19=\"\",\"\",'Bulk Gravity'!$D$19)","v":"Bin No.1"},{"$f":"IF('Bulk Gravity'!$E$25=\"\",\"\",'Bulk Gravity'!$E$25)","v":"Bulk SG"},{"$f":"IF('Bulk Gravity'!$B$38=\"\",\"\",'Bulk Gravity'!$B$38)","v":"Totals"}]
[867,{"$f":"IF('Bulk Gravity'!$H$27=\"\",\"\",'Bulk Gravity'!$H$27)","v":""},{"$f":"IF('Bulk Gravity'!$B$4=\"\",\"\",'Bulk Gravity'!$B$4)","v":"HMACP MIXTURE DESIGN : BULK GRAVITY"},{"$f":"IF('Bulk Gravity'!$H$19=\"\",\"\",'Bulk Gravity'!$H$19)","v":"Bin No.2"},{"$f":"IF('Bulk Gravity'!$H$25=\"\",\"\",'Bulk Gravity'!$H$25)","v":"Individual Ret., %"},{"$f":"IF('Bulk Gravity'!$B$26=\"\",\"\",'Bulk Gravity'!$B$26)","v":"Passing"},{"$f":"IF('Bulk Gravity'!$B$27=\"\",\"\",'Bulk Gravity'!$B$27)","v":""},{"$f":"IF('Bulk Gravity'!$B$25=\"\",\"\",'Bulk Gravity'!$B$25)","v":"Sieve Size:"},{"$f":"IF('Bulk Gravity'!$C$26=\"\",\"\",'Bulk Gravity'!$C$26)","v":"Retained"},{"$f":"'Bulk Gravity'!$C$27","v":"1\""}]
[868,{"$f":"IF('Bulk Gravity'!$I$27=\"\",\"\",'Bulk Gravity'!$I$27)","v":""},{"$f":"IF('Bulk Gravity'!$B$4=\"\",\"\",'Bulk Gravity'!$B$4)","v":"HMACP MIXTURE DESIGN : BULK GRAVITY"},{"$f":"IF('Bulk Gravity'!$H$19=\"\",\"\",'Bulk Gravity'!$H$19)","v":"Bin No.2"},{"$f":"IF('Bulk Gravity'!$I$25=\"\",\"\",'Bulk Gravity'!$I$25)","v":"Bulk SG"},{"$f":"IF('Bulk Gravity'!$B$26=\"\",\"\",'Bulk Gravity'!$B$26)","v":"Passing"},{"$f":"IF('Bulk Gravity'!$B$27=\"\",\"\",'Bulk Gravity'!$B$27)","v":""},{"$f":"IF('Bulk Gravity'!$B$25=\"\",\"\",'Bulk Gravity'!$B$25)","v":"Sieve Size:"},{"$f":"IF('Bulk Gravity'!$C$26=\"\",\"\",'Bulk Gravity'!$C$26)","v":"Retained"},{"$f":"'Bulk Gravity'!$C$27","v":"1\""}]
[869,{"$f":"IF('Bulk Gravity'!$H$28=\"\",\"\",'Bulk Gravity'!$H$28)","v":""},{"$f":"IF('Bulk Gravity'!$B$4=\"\",\"\",'Bulk Gravity'!$B$4)","v":"HMACP MIXTURE DESIGN : BULK GRAVITY"},{"$f":"IF('Bulk Gravity'!$H$19=\"\",\"\",'Bulk Gravity'!$H$19)","v":"Bin No.2"},{"$f":"IF('Bulk Gravity'!$H$25=\"\",\"\",'Bulk Gravity'!$H$25)","v":"Individual Ret., %"},{"$f":"IF('Bulk Gravity'!$B$26=\"\",\"\",'Bulk Gravity'!$B$26)","v":"Passing"},{"$f":"IF('Bulk Gravity'!$B$28=\"\",\"\",'Bulk Gravity'!$B$28)","v":"1\""},{"$f":"IF('Bulk Gravity'!$B$25=\"\",\"\",'Bulk Gravity'!$B$25)","v":"Sieve Size:"},{"$f":"IF('Bulk Gravity'!$C$26=\"\",\"\",'Bulk Gravity'!$C$26)","v":"Retained"},{"$f":"'Bulk Gravity'!$C$28","v":"3/4\""}]
[870,{"$f":"IF('Bulk Gravity'!$I$28=\"\",\"\",'Bulk Gravity'!$I$28)","v":""},{"$f":"IF('Bulk Gravity'!$B$4=\"\",\"\",'Bulk Gravity'!$B$4)","v":"HMACP MIXTURE DESIGN : BULK GRAVITY"},{"$f":"IF('Bulk Gravity'!$H$19=\"\",\"\",'Bulk Gravity'!$H$19)","v":"Bin No.2"},{"$f":"IF('Bulk Gravity'!$I$25=\"\",\"\",'Bulk Gravity'!$I$25)","v":"Bulk SG"},{"$f":"IF('Bulk Gravity'!$B$26=\"\",\"\",'Bulk Gravity'!$B$26)","v":"Passing"},{"$f":"IF('Bulk Gravity'!$B$28=\"\",\"\",'Bulk Gravity'!$B$28)","v":"1\""},{"$f":"IF('Bulk Gravity'!$B$25=\"\",\"\",'Bulk Gravity'!$B$25)","v":"Sieve Size:"},{"$f":"IF('Bulk Gravity'!$C$26=\"\",\"\",'Bulk Gravity'!$C$26)","v":"Retained"},{"$f":"'Bulk Gravity'!$C$28","v":"3/4\""}]
[871,{"$f":"IF('Bulk Gravity'!$H$29=\"\",\"\",'Bulk Gravity'!$H$29)","v":""},{"$f":"IF('Bulk Gravity'!$B$4=\"\",\"\",'Bulk Gravity'!$B$4)","v":"HMACP MIXTURE DESIGN : BULK GRAVITY"},{"$f":"IF('Bulk Gravity'!$H$19=\"\",\"\",'Bulk Gravity'!$H$19)","v":"Bin No.2"},{"$f":"IF('Bulk Gravity'!$H$25=\"\",\"\",'Bulk Gravity'!$H$25)","v":"Individual Ret., %"},{"$f":"IF('Bulk Gravity'!$B$26=\"\",\"\",'Bulk Gravity'!$B$26)","v":"Passing"},{"$f":"IF('Bulk Gravity'!$B$29=\"\",\"\",'Bulk Gravity'!$B$29)","v":"3/4\""},{"$f":"IF('Bulk Gravity'!$B$25=\"\",\"\",'Bulk Gravity'!$B$25)","v":"Sieve Size:"},{"$f":"IF('Bulk Gravity'!$C$26=\"\",\"\",'Bulk Gravity'!$C$26)","v":"Retained"},{"$f":"'Bulk Gravity'!$C$29","v":"1/2\""}]
[872,{"$f":"IF('Bulk Gravity'!$I$29=\"\",\"\",'Bulk Gravity'!$I$29)","v":""},{"$f":"IF('Bulk Gravity'!$B$4=\"\",\"\",'Bulk Gravity'!$B$4)","v":"HMACP MIXTURE DESIGN : BULK GRAVITY"},{"$f":"IF('Bulk Gravity'!$H$19=\"\",\"\",'Bulk Gravity'!$H$19)","v":"Bin No.2"},{"$f":"IF('Bulk Gravity'!$I$25=\"\",\"\",'Bulk Gravity'!$I$25)","v":"Bulk SG"},{"$f":"IF('Bulk Gravity'!$B$26=\"\",\"\",'Bulk Gravity'!$B$26)","v":"Passing"},{"$f":"IF('Bulk Gravity'!$B$29=\"\",\"\",'Bulk Gravity'!$B$29)","v":"3/4\""},{"$f":"IF('Bulk Gravity'!$B$25=\"\",\"\",'Bulk Gravity'!$B$25)","v":"Sieve Size:"},{"$f":"IF('Bulk Gravity'!$C$26=\"\",\"\",'Bulk Gravity'!$C$26)","v":"Retained"},{"$f":"'Bulk Gravity'!$C$29","v":"1/2\""}]
[873,{"$f":"IF('Bulk Gravity'!$H$30=\"\",\"\",'Bulk Gravity'!$H$30)","v":""},{"$f":"IF('Bulk Gravity'!$B$4=\"\",\"\",'Bulk Gravity'!$B$4)","v":"HMACP MIXTURE DESIGN : BULK GRAVITY"},{"$f":"IF('Bulk Gravity'!$H$19=\"\",\"\",'Bulk Gravity'!$H$19)","v":"Bin No.2"},{"$f":"IF('Bulk Gravity'!$H$25=\"\",\"\",'Bulk Gravity'!$H$25)","v":"Individual Ret., %"},{"$f":"IF('Bulk Gravity'!$B$26=\"\",\"\",'Bulk Gravity'!$B$26)","v":"Passing"},{"$f":"IF('Bulk Gravity'!$B$30=\"\",\"\",'Bulk Gravity'!$B$30)","v":"1/2\""},{"$f":"IF('Bulk Gravity'!$B$25=\"\",\"\",'Bulk Gravity'!$B$25)","v":"Sieve Size:"},{"$f":"IF('Bulk Gravity'!$C$26=\"\",\"\",'Bulk Gravity'!$C$26)","v":"Retained"},{"$f":"'Bulk Gravity'!$C$30","v":"3/8\""}]
[874,{"$f":"IF('Bulk Gravity'!$I$30=\"\",\"\",'Bulk Gravity'!$I$30)","v":""},{"$f":"IF('Bulk Gravity'!$B$4=\"\",\"\",'Bulk Gravity'!$B$4)","v":"HMACP MIXTURE DESIGN : BULK GRAVITY"},{"$f":"IF('Bulk Gravity'!$H$19=\"\",\"\",'Bulk Gravity'!$H$19)","v":"Bin No.2"},{"$f":"IF('Bulk Gravity'!$I$25=\"\",\"\",'Bulk Gravity'!$I$25)","v":"Bulk SG"},{"$f":"IF('Bulk Gravity'!$B$26=\"\",\"\",'Bulk Gravity'!$B$26)","v":"Passing"},{"$f":"IF('Bulk Gravity'!$B$30=\"\",\"\",'Bulk Gravity'!$B$30)","v":"1/2\""},{"$f":"IF('Bulk Gravity'!$B$25=\"\",\"\",'Bulk Gravity'!$B$25)","v":"Sieve Size:"},{"$f":"IF('Bulk Gravity'!$C$26=\"\",\"\",'Bulk Gravity'!$C$26)","v":"Retained"},{"$f":"'Bulk Gravity'!$C$30","v":"3/8\""}]
[875,{"$f":"IF('Bulk Gravity'!$H$31=\"\",\"\",'Bulk Gravity'!$H$31)","v":""},{"$f":"IF('Bulk Gravity'!$B$4=\"\",\"\",'Bulk Gravity'!$B$4)","v":"HMACP MIXTURE DESIGN : BULK GRAVITY"},{"$f":"IF('Bulk Gravity'!$H$19=\"\",\"\",'Bulk Gravity'!$H$19)","v":"Bin No.2"},{"$f":"IF('Bulk Gravity'!$H$25=\"\",\"\",'Bulk Gravity'!$H$25)","v":"Individual Ret., %"},{"$f":"IF('Bulk Gravity'!$B$26=\"\",\"\",'Bulk Gravity'!$B$26)","v":"Passing"},{"$f":"IF('Bulk Gravity'!$B$31=\"\",\"\",'Bulk Gravity'!$B$31)","v":"3/8\""},{"$f":"IF('Bulk Gravity'!$B$25=\"\",\"\",'Bulk Gravity'!$B$25)","v":"Sieve Size:"},{"$f":"IF('Bulk Gravity'!$C$26=\"\",\"\",'Bulk Gravity'!$C$26)","v":"Retained"},{"$f":"'Bulk Gravity'!$C$31","v":"No. 4"}]
[876,{"$f":"IF('Bulk Gravity'!$I$31=\"\",\"\",'Bulk Gravity'!$I$31)","v":""},{"$f":"IF('Bulk Gravity'!$B$4=\"\",\"\",'Bulk Gravity'!$B$4)","v":"HMACP MIXTURE DESIGN : BULK GRAVITY"},{"$f":"IF('Bulk Gravity'!$H$19=\"\",\"\",'Bulk Gravity'!$H$19)","v":"Bin No.2"},{"$f":"IF('Bulk Gravity'!$I$25=\"\",\"\",'Bulk Gravity'!$I$25)","v":"Bulk SG"},{"$f":"IF('Bulk Gravity'!$B$26=\"\",\"\",'Bulk Gravity'!$B$26)","v":"Passing"},{"$f":"IF('Bulk Gravity'!$B$31=\"\",\"\",'Bulk Gravity'!$B$31)","v":"3/8\""},{"$f":"IF('Bulk Gravity'!$B$25=\"\",\"\",'Bulk Gravity'!$B$25)","v":"Sieve Size:"},{"$f":"IF('Bulk Gravity'!$C$26=\"\",\"\",'Bulk Gravity'!$C$26)","v":"Retained"},{"$f":"'Bulk Gravity'!$C$31","v":"No. 4"}]
[877,{"$f":"IF('Bulk Gravity'!$H$32=\"\",\"\",'Bulk Gravity'!$H$32)","v":""},{"$f":"IF('Bulk Gravity'!$B$4=\"\",\"\",'Bulk Gravity'!$B$4)","v":"HMACP MIXTURE DESIGN : BULK GRAVITY"},{"$f":"IF('Bulk Gravity'!$H$19=\"\",\"\",'Bulk Gravity'!$H$19)","v":"Bin No.2"},{"$f":"IF('Bulk Gravity'!$H$25=\"\",\"\",'Bulk Gravity'!$H$25)","v":"Individual Ret., %"},{"$f":"IF('Bulk Gravity'!$B$26=\"\",\"\",'Bulk Gravity'!$B$26)","v":"Passing"},{"$f":"IF('Bulk Gravity'!$B$32=\"\",\"\",'Bulk Gravity'!$B$32)","v":"No. 4"},{"$f":"IF('Bulk Gravity'!$B$25=\"\",\"\",'Bulk Gravity'!$B$25)","v":"Sieve Size:"},{"$f":"IF('Bulk Gravity'!$C$26=\"\",\"\",'Bulk Gravity'!$C$26)","v":"Retained"},{"$f":"'Bulk Gravity'!$C$32","v":"No. 8"}]
[878,{"$f":"IF('Bulk Gravity'!$I$32=\"\",\"\",'Bulk Gravity'!$I$32)","v":""},{"$f":"IF('Bulk Gravity'!$B$4=\"\",\"\",'Bulk Gravity'!$B$4)","v":"HMACP MIXTURE DESIGN : BULK GRAVITY"},{"$f":"IF('Bulk Gravity'!$H$19=\"\",\"\",'Bulk Gravity'!$H$19)","v":"Bin No.2"},{"$f":"IF('Bulk Gravity'!$I$25=\"\",\"\",'Bulk Gravity'!$I$25)","v":"Bulk SG"},{"$f":"IF('Bulk Gravity'!$B$26=\"\",\"\",'Bulk Gravity'!$B$26)","v":"Passing"},{"$f":"IF('Bulk Gravity'!$B$32=\"\",\"\",'Bulk Gravity'!$B$32)","v":"No. 4"},{"$f":"IF('Bulk Gravity'!$B$25=\"\",\"\",'Bulk Gravity'!$B$25)","v":"Sieve Size:"},{"$f":"IF('Bulk Gravity'!$C$26=\"\",\"\",'Bulk Gravity'!$C$26)","v":"Retained"},{"$f":"'Bulk Gravity'!$C$32","v":"No. 8"}]
[879,{"$f":"IF('Bulk Gravity'!$H$33=\"\",\"\",'Bulk Gravity'!$H$33)","v":""},{"$f":"IF('Bulk Gravity'!$B$4=\"\",\"\",'Bulk Gravity'!$B$4)","v":"HMACP MIXTURE DESIGN : BULK GRAVITY"},{"$f":"IF('Bulk Gravity'!$H$19=\"\",\"\",'Bulk Gravity'!$H$19)","v":"Bin No.2"},{"$f":"IF('Bulk Gravity'!$H$25=\"\",\"\",'Bulk Gravity'!$H$25)","v":"Individual Ret., %"},{"$f":"IF('Bulk Gravity'!$B$26=\"\",\"\",'Bulk Gravity'!$B$26)","v":"Passing"},{"$f":"IF('Bulk Gravity'!$B$33=\"\",\"\",'Bulk Gravity'!$B$33)","v":"No. 8"},{"$f":"IF('Bulk Gravity'!$B$25=\"\",\"\",'Bulk Gravity'!$B$25)","v":"Sieve Size:"},{"$f":"IF('Bulk Gravity'!$C$26=\"\",\"\",'Bulk Gravity'!$C$26)","v":"Retained"},{"$f":"'Bulk Gravity'!$C$33","v":"No. 16"}]
[880,{"$f":"IF('Bulk Gravity'!$I$33=\"\",\"\",'Bulk Gravity'!$I$33)","v":""},{"$f":"IF('Bulk Gravity'!$B$4=\"\",\"\",'Bulk Gravity'!$B$4)","v":"HMACP MIXTURE DESIGN : BULK GRAVITY"},{"$f":"IF('Bulk Gravity'!$H$19=\"\",\"\",'Bulk Gravity'!$H$19)","v":"Bin No.2"},{"$f":"IF('Bulk Gravity'!$I$25=\"\",\"\",'Bulk Gravity'!$I$25)","v":"Bulk SG"},{"$f":"IF('Bulk Gravity'!$B$26=\"\",\"\",'Bulk Gravity'!$B$26)","v":"Passing"},{"$f":"IF('Bulk Gravity'!$B$33=\"\",\"\",'Bulk Gravity'!$B$33)","v":"No. 8"},{"$f":"IF('Bulk Gravity'!$B$25=\"\",\"\",'Bulk Gravity'!$B$25)","v":"Sieve Size:"},{"$f":"IF('Bulk Gravity'!$C$26=\"\",\"\",'Bulk Gravity'!$C$26)","v":"Retained"},{"$f":"'Bulk Gravity'!$C$33","v":"No. 16"}]
[881,{"$f":"IF('Bulk Gravity'!$H$34=\"\",\"\",'Bulk Gravity'!$H$34)","v":""},{"$f":"IF('Bulk Gravity'!$B$4=\"\",\"\",'Bulk Gravity'!$B$4)","v":"HMACP MIXTURE DESIGN : BULK GRAVITY"},{"$f":"IF('Bulk Gravity'!$H$19=\"\",\"\",'Bulk Gravity'!$H$19)","v":"Bin No.2"},{"$f":"IF('Bulk Gravity'!$H$25=\"\",\"\",'Bulk Gravity'!$H$25)","v":"Individual Ret., %"},{"$f":"IF('Bulk Gravity'!$B$26=\"\",\"\",'Bulk Gravity'!$B$26)","v":"Passing"},{"$f":"IF('Bulk Gravity'!$B$34=\"\",\"\",'Bulk Gravity'!$B$34)","v":"No. 16"},{"$f":"IF('Bulk Gravity'!$B$25=\"\",\"\",'Bulk Gravity'!$B$25)","v":"Sieve Size:"},{"$f":"IF('Bulk Gravity'!$C$26=\"\",\"\",'Bulk Gravity'!$C$26)","v":"Retained"},{"$f":"'Bulk Gravity'!$C$34","v":"No. 30"}]
[882,{"$f":"IF('Bulk Gravity'!$I$34=\"\",\"\",'Bulk Gravity'!$I$34)","v":""},{"$f":"IF('Bulk Gravity'!$B$4=\"\",\"\",'Bulk Gravity'!$B$4)","v":"HMACP MIXTURE DESIGN : BULK GRAVITY"},{"$f":"IF('Bulk Gravity'!$H$19=\"\",\"\",'Bulk Gravity'!$H$19)","v":"Bin No.2"},{"$f":"IF('Bulk Gravity'!$I$25=\"\",\"\",'Bulk Gravity'!$I$25)","v":"Bulk SG"},{"$f":"IF('Bulk Gravity'!$B$26=\"\",\"\",'Bulk Gravity'!$B$26)","v":"Passing"},{"$f":"IF('Bulk Gravity'!$B$34=\"\",\"\",'Bulk Gravity'!$B$34)","v":"No. 16"},{"$f":"IF('Bulk Gravity'!$B$25=\"\",\"\",'Bulk Gravity'!$B$25)","v":"Sieve Size:"},{"$f":"IF('Bulk Gravity'!$C$26=\"\",\"\",'Bulk Gravity'!$C$26)","v":"Retained"},{"$f":"'Bulk Gravity'!$C$34","v":"No. 30"}]
[883,{"$f":"IF('Bulk Gravity'!$H$35=\"\",\"\",'Bulk Gravity'!$H$35)","v":""},{"$f":"IF('Bulk Gravity'!$B$4=\"\",\"\",'Bulk Gravity'!$B$4)","v":"HMACP MIXTURE DESIGN : BULK GRAVITY"},{"$f":"IF('Bulk Gravity'!$H$19=\"\",\"\",'Bulk Gravity'!$H$19)","v":"Bin No.2"},{"$f":"IF('Bulk Gravity'!$H$25=\"\",\"\",'Bulk Gravity'!$H$25)","v":"Individual Ret., %"},{"$f":"IF('Bulk Gravity'!$B$26=\"\",\"\",'Bulk Gravity'!$B$26)","v":"Passing"},{"$f":"IF('Bulk Gravity'!$B$35=\"\",\"\",'Bulk Gravity'!$B$35)","v":"No. 30"},{"$f":"IF('Bulk Gravity'!$B$25=\"\",\"\",'Bulk Gravity'!$B$25)","v":"Sieve Size:"},{"$f":"IF('Bulk Gravity'!$C$26=\"\",\"\",'Bulk Gravity'!$C$26)","v":"Retained"},{"$f":"'Bulk Gravity'!$C$35","v":"No. 50"}]
[884,{"$f":"IF('Bulk Gravity'!$I$35=\"\",\"\",'Bulk Gravity'!$I$35)","v":""},{"$f":"IF('Bulk Gravity'!$B$4=\"\",\"\",'Bulk Gravity'!$B$4)","v":"HMACP MIXTURE DESIGN : BULK GRAVITY"},{"$f":"IF('Bulk Gravity'!$H$19=\"\",\"\",'Bulk Gravity'!$H$19)","v":"Bin No.2"},{"$f":"IF('Bulk Gravity'!$I$25=\"\",\"\",'Bulk Gravity'!$I$25)","v":"Bulk SG"},{"$f":"IF('Bulk Gravity'!$B$26=\"\",\"\",'Bulk Gravity'!$B$26)","v":"Passing"},{"$f":"IF('Bulk Gravity'!$B$35=\"\",\"\",'Bulk Gravity'!$B$35)","v":"No. 30"},{"$f":"IF('Bulk Gravity'!$B$25=\"\",\"\",'Bulk Gravity'!$B$25)","v":"Sieve Size:"},{"$f":"IF('Bulk Gravity'!$C$26=\"\",\"\",'Bulk Gravity'!$C$26)","v":"Retained"},{"$f":"'Bulk Gravity'!$C$35","v":"No. 50"}]
[885,{"$f":"IF('Bulk Gravity'!$H$36=\"\",\"\",'Bulk Gravity'!$H$36)","v":""},{"$f":"IF('Bulk Gravity'!$B$4=\"\",\"\",'Bulk Gravity'!$B$4)","v":"HMACP MIXTURE DESIGN : BULK GRAVITY"},{"$f":"IF('Bulk Gravity'!$H$19=\"\",\"\",'Bulk Gravity'!$H$19)","v":"Bin No.2"},{"$f":"IF('Bulk Gravity'!$H$25=\"\",\"\",'Bulk Gravity'!$H$25)","v":"Individual Ret., %"},{"$f":"IF('Bulk Gravity'!$B$26=\"\",\"\",'Bulk Gravity'!$B$26)","v":"Passing"},{"$f":"IF('Bulk Gravity'!$B$36=\"\",\"\",'Bulk Gravity'!$B$36)","v":"No. 50"},{"$f":"IF('Bulk Gravity'!$B$25=\"\",\"\",'Bulk Gravity'!$B$25)","v":"Sieve Size:"},{"$f":"IF('Bulk Gravity'!$C$26=\"\",\"\",'Bulk Gravity'!$C$26)","v":"Retained"},{"$f":"'Bulk Gravity'!$C$36","v":"No. 200"}]
[886,{"$f":"IF('Bulk Gravity'!$I$36=\"\",\"\",'Bulk Gravity'!$I$36)","v":""},{"$f":"IF('Bulk Gravity'!$B$4=\"\",\"\",'Bulk Gravity'!$B$4)","v":"HMACP MIXTURE DESIGN : BULK GRAVITY"},{"$f":"IF('Bulk Gravity'!$H$19=\"\",\"\",'Bulk Gravity'!$H$19)","v":"Bin No.2"},{"$f":"IF('Bulk Gravity'!$I$25=\"\",\"\",'Bulk Gravity'!$I$25)","v":"Bulk SG"},{"$f":"IF('Bulk Gravity'!$B$26=\"\",\"\",'Bulk Gravity'!$B$26)","v":"Passing"},{"$f":"IF('Bulk Gravity'!$B$36=\"\",\"\",'Bulk Gravity'!$B$36)","v":"No. 50"},{"$f":"IF('Bulk Gravity'!$B$25=\"\",\"\",'Bulk Gravity'!$B$25)","v":"Sieve Size:"},{"$f":"IF('Bulk Gravity'!$C$26=\"\",\"\",'Bulk Gravity'!$C$26)","v":"Retained"},{"$f":"'Bulk Gravity'!$C$36","v":"No. 200"}]
[887,{"$f":"IF('Bulk Gravity'!$H$37=\"\",\"\",'Bulk Gravity'!$H$37)","v":""},{"$f":"IF('Bulk Gravity'!$B$4=\"\",\"\",'Bulk Gravity'!$B$4)","v":"HMACP MIXTURE DESIGN : BULK GRAVITY"},{"$f":"IF('Bulk Gravity'!$H$19=\"\",\"\",'Bulk Gravity'!$H$19)","v":"Bin No.2"},{"$f":"IF('Bulk Gravity'!$H$25=\"\",\"\",'Bulk Gravity'!$H$25)","v":"Individual Ret., %"},{"$f":"IF('Bulk Gravity'!$B$26=\"\",\"\",'Bulk Gravity'!$B$26)","v":"Passing"},{"$f":"IF('Bulk Gravity'!$B$37=\"\",\"\",'Bulk Gravity'!$B$37)","v":"No. 200"},{"$f":"IF('Bulk Gravity'!$B$25=\"\",\"\",'Bulk Gravity'!$B$25)","v":"Sieve Size:"},{"$f":"IF('Bulk Gravity'!$C$26=\"\",\"\",'Bulk Gravity'!$C$26)","v":"Retained"},{"$f":"'Bulk Gravity'!$C$37","v":"Pan"}]
[888,{"$f":"IF('Bulk Gravity'!$I$37=\"\",\"\",'Bulk Gravity'!$I$37)","v":""},{"$f":"IF('Bulk Gravity'!$B$4=\"\",\"\",'Bulk Gravity'!$B$4)","v":"HMACP MIXTURE DESIGN : BULK GRAVITY"},{"$f":"IF('Bulk Gravity'!$H$19=\"\",\"\",'Bulk Gravity'!$H$19)","v":"Bin No.2"},{"$f":"IF('Bulk Gravity'!$I$25=\"\",\"\",'Bulk Gravity'!$I$25)","v":"Bulk SG"},{"$f":"IF('Bulk Gravity'!$B$26=\"\",\"\",'Bulk Gravity'!$B$26)","v":"Passing"},{"$f":"IF('Bulk Gravity'!$B$37=\"\",\"\",'Bulk Gravity'!$B$37)","v":"No. 200"},{"$f":"IF('Bulk Gravity'!$B$25=\"\",\"\",'Bulk Gravity'!$B$25)","v":"Sieve Size:"},{"$f":"IF('Bulk Gravity'!$C$26=\"\",\"\",'Bulk Gravity'!$C$26)","v":"Retained"},{"$f":"'Bulk Gravity'!$C$37","v":"Pan"}]
[889,{"$f":"IF('Bulk Gravity'!$H$38=\"\",\"\",'Bulk Gravity'!$H$38)","v":""},{"$f":"IF('Bulk Gravity'!$B$4=\"\",\"\",'Bulk Gravity'!$B$4)","v":"HMACP MIXTURE DESIGN : BULK GRAVITY"},{"$f":"IF('Bulk Gravity'!$H$19=\"\",\"\",'Bulk Gravity'!$H$19)","v":"Bin No.2"},{"$f":"IF('Bulk Gravity'!$H$25=\"\",\"\",'Bulk Gravity'!$H$25)","v":"Individual Ret., %"},{"$f":"IF('Bulk Gravity'!$B$38=\"\",\"\",'Bulk Gravity'!$B$38)","v":"Totals"}]
[890,{"$f":"IF('Bulk Gravity'!$I$38=\"\",\"\",'Bulk Gravity'!$I$38)","v":""},{"$f":"IF('Bulk Gravity'!$B$4=\"\",\"\",'Bulk Gravity'!$B$4)","v":"HMACP MIXTURE DESIGN : BULK GRAVITY"},{"$f":"IF('Bulk Gravity'!$H$19=\"\",\"\",'Bulk Gravity'!$H$19)","v":"Bin No.2"},{"$f":"IF('Bulk Gravity'!$I$25=\"\",\"\",'Bulk Gravity'!$I$25)","v":"Bulk SG"},{"$f":"IF('Bulk Gravity'!$B$38=\"\",\"\",'Bulk Gravity'!$B$38)","v":"Totals"}]
[891,{"$f":"IF('Bulk Gravity'!$L$27=\"\",\"\",'Bulk Gravity'!$L$27)","v":""},{"$f":"IF('Bulk Gravity'!$B$4=\"\",\"\",'Bulk Gravity'!$B$4)","v":"HMACP MIXTURE DESIGN : BULK GRAVITY"},{"$f":"IF('Bulk Gravity'!$L$19=\"\",\"\",'Bulk Gravity'!$L$19)","v":"Bin No.3"},{"$f":"IF('Bulk Gravity'!$L$25=\"\",\"\",'Bulk Gravity'!$L$25)","v":"Individual Ret., %"},{"$f":"IF('Bulk Gravity'!$B$26=\"\",\"\",'Bulk Gravity'!$B$26)","v":"Passing"},{"$f":"IF('Bulk Gravity'!$B$27=\"\",\"\",'Bulk Gravity'!$B$27)","v":""},{"$f":"IF('Bulk Gravity'!$B$25=\"\",\"\",'Bulk Gravity'!$B$25)","v":"Sieve Size:"},{"$f":"IF('Bulk Gravity'!$C$26=\"\",\"\",'Bulk Gravity'!$C$26)","v":"Retained"},{"$f":"'Bulk Gravity'!$C$27","v":"1\""}]
[892,{"$f":"IF('Bulk Gravity'!$M$27=\"\",\"\",'Bulk Gravity'!$M$27)","v":""},{"$f":"IF('Bulk Gravity'!$B$4=\"\",\"\",'Bulk Gravity'!$B$4)","v":"HMACP MIXTURE DESIGN : BULK GRAVITY"},{"$f":"IF('Bulk Gravity'!$L$19=\"\",\"\",'Bulk Gravity'!$L$19)","v":"Bin No.3"},{"$f":"IF('Bulk Gravity'!$M$25=\"\",\"\",'Bulk Gravity'!$M$25)","v":"Bulk SG"},{"$f":"IF('Bulk Gravity'!$B$26=\"\",\"\",'Bulk Gravity'!$B$26)","v":"Passing"},{"$f":"IF('Bulk Gravity'!$B$27=\"\",\"\",'Bulk Gravity'!$B$27)","v":""},{"$f":"IF('Bulk Gravity'!$B$25=\"\",\"\",'Bulk Gravity'!$B$25)","v":"Sieve Size:"},{"$f":"IF('Bulk Gravity'!$C$26=\"\",\"\",'Bulk Gravity'!$C$26)","v":"Retained"},{"$f":"'Bulk Gravity'!$C$27","v":"1\""}]
[893,{"$f":"IF('Bulk Gravity'!$L$28=\"\",\"\",'Bulk Gravity'!$L$28)","v":""},{"$f":"IF('Bulk Gravity'!$B$4=\"\",\"\",'Bulk Gravity'!$B$4)","v":"HMACP MIXTURE DESIGN : BULK GRAVITY"},{"$f":"IF('Bulk Gravity'!$L$19=\"\",\"\",'Bulk Gravity'!$L$19)","v":"Bin No.3"},{"$f":"IF('Bulk Gravity'!$L$25=\"\",\"\",'Bulk Gravity'!$L$25)","v":"Individual Ret., %"},{"$f":"IF('Bulk Gravity'!$B$26=\"\",\"\",'Bulk Gravity'!$B$26)","v":"Passing"},{"$f":"IF('Bulk Gravity'!$B$28=\"\",\"\",'Bulk Gravity'!$B$28)","v":"1\""},{"$f":"IF('Bulk Gravity'!$B$25=\"\",\"\",'Bulk Gravity'!$B$25)","v":"Sieve Size:"},{"$f":"IF('Bulk Gravity'!$C$26=\"\",\"\",'Bulk Gravity'!$C$26)","v":"Retained"},{"$f":"'Bulk Gravity'!$C$28","v":"3/4\""}]
[894,{"$f":"IF('Bulk Gravity'!$M$28=\"\",\"\",'Bulk Gravity'!$M$28)","v":""},{"$f":"IF('Bulk Gravity'!$B$4=\"\",\"\",'Bulk Gravity'!$B$4)","v":"HMACP MIXTURE DESIGN : BULK GRAVITY"},{"$f":"IF('Bulk Gravity'!$L$19=\"\",\"\",'Bulk Gravity'!$L$19)","v":"Bin No.3"},{"$f":"IF('Bulk Gravity'!$M$25=\"\",\"\",'Bulk Gravity'!$M$25)","v":"Bulk SG"},{"$f":"IF('Bulk Gravity'!$B$26=\"\",\"\",'Bulk Gravity'!$B$26)","v":"Passing"},{"$f":"IF('Bulk Gravity'!$B$28=\"\",\"\",'Bulk Gravity'!$B$28)","v":"1\""},{"$f":"IF('Bulk Gravity'!$B$25=\"\",\"\",'Bulk Gravity'!$B$25)","v":"Sieve Size:"},{"$f":"IF('Bulk Gravity'!$C$26=\"\",\"\",'Bulk Gravity'!$C$26)","v":"Retained"},{"$f":"'Bulk Gravity'!$C$28","v":"3/4\""}]
[895,{"$f":"IF('Bulk Gravity'!$L$29=\"\",\"\",'Bulk Gravity'!$L$29)","v":""},{"$f":"IF('Bulk Gravity'!$B$4=\"\",\"\",'Bulk Gravity'!$B$4)","v":"HMACP MIXTURE DESIGN : BULK GRAVITY"},{"$f":"IF('Bulk Gravity'!$L$19=\"\",\"\",'Bulk Gravity'!$L$19)","v":"Bin No.3"},{"$f":"IF('Bulk Gravity'!$L$25=\"\",\"\",'Bulk Gravity'!$L$25)","v":"Individual Ret., %"},{"$f":"IF('Bulk Gravity'!$B$26=\"\",\"\",'Bulk Gravity'!$B$26)","v":"Passing"},{"$f":"IF('Bulk Gravity'!$B$29=\"\",\"\",'Bulk Gravity'!$B$29)","v":"3/4\""},{"$f":"IF('Bulk Gravity'!$B$25=\"\",\"\",'Bulk Gravity'!$B$25)","v":"Sieve Size:"},{"$f":"IF('Bulk Gravity'!$C$26=\"\",\"\",'Bulk Gravity'!$C$26)","v":"Retained"},{"$f":"'Bulk Gravity'!$C$29","v":"1/2\""}]
[896,{"$f":"IF('Bulk Gravity'!$M$29=\"\",\"\",'Bulk Gravity'!$M$29)","v":""},{"$f":"IF('Bulk Gravity'!$B$4=\"\",\"\",'Bulk Gravity'!$B$4)","v":"HMACP MIXTURE DESIGN : BULK GRAVITY"},{"$f":"IF('Bulk Gravity'!$L$19=\"\",\"\",'Bulk Gravity'!$L$19)","v":"Bin No.3"},{"$f":"IF('Bulk Gravity'!$M$25=\"\",\"\",'Bulk Gravity'!$M$25)","v":"Bulk SG"},{"$f":"IF('Bulk Gravity'!$B$26=\"\",\"\",'Bulk Gravity'!$B$26)","v":"Passing"},{"$f":"IF('Bulk Gravity'!$B$29=\"\",\"\",'Bulk Gravity'!$B$29)","v":"3/4\""},{"$f":"IF('Bulk Gravity'!$B$25=\"\",\"\",'Bulk Gravity'!$B$25)","v":"Sieve Size:"},{"$f":"IF('Bulk Gravity'!$C$26=\"\",\"\",'Bulk Gravity'!$C$26)","v":"Retained"},{"$f":"'Bulk Gravity'!$C$29","v":"1/2\""}]
[897,{"$f":"IF('Bulk Gravity'!$L$30=\"\",\"\",'Bulk Gravity'!$L$30)","v":""},{"$f":"IF('Bulk Gravity'!$B$4=\"\",\"\",'Bulk Gravity'!$B$4)","v":"HMACP MIXTURE DESIGN : BULK GRAVITY"},{"$f":"IF('Bulk Gravity'!$L$19=\"\",\"\",'Bulk Gravity'!$L$19)","v":"Bin No.3"},{"$f":"IF('Bulk Gravity'!$L$25=\"\",\"\",'Bulk Gravity'!$L$25)","v":"Individual Ret., %"},{"$f":"IF('Bulk Gravity'!$B$26=\"\",\"\",'Bulk Gravity'!$B$26)","v":"Passing"},{"$f":"IF('Bulk Gravity'!$B$30=\"\",\"\",'Bulk Gravity'!$B$30)","v":"1/2\""},{"$f":"IF('Bulk Gravity'!$B$25=\"\",\"\",'Bulk Gravity'!$B$25)","v":"Sieve Size:"},{"$f":"IF('Bulk Gravity'!$C$26=\"\",\"\",'Bulk Gravity'!$C$26)","v":"Retained"},{"$f":"'Bulk Gravity'!$C$30","v":"3/8\""}]
[898,{"$f":"IF('Bulk Gravity'!$M$30=\"\",\"\",'Bulk Gravity'!$M$30)","v":""},{"$f":"IF('Bulk Gravity'!$B$4=\"\",\"\",'Bulk Gravity'!$B$4)","v":"HMACP MIXTURE DESIGN : BULK GRAVITY"},{"$f":"IF('Bulk Gravity'!$L$19=\"\",\"\",'Bulk Gravity'!$L$19)","v":"Bin No.3"},{"$f":"IF('Bulk Gravity'!$M$25=\"\",\"\",'Bulk Gravity'!$M$25)","v":"Bulk SG"},{"$f":"IF('Bulk Gravity'!$B$26=\"\",\"\",'Bulk Gravity'!$B$26)","v":"Passing"},{"$f":"IF('Bulk Gravity'!$B$30=\"\",\"\",'Bulk Gravity'!$B$30)","v":"1/2\""},{"$f":"IF('Bulk Gravity'!$B$25=\"\",\"\",'Bulk Gravity'!$B$25)","v":"Sieve Size:"},{"$f":"IF('Bulk Gravity'!$C$26=\"\",\"\",'Bulk Gravity'!$C$26)","v":"Retained"},{"$f":"'Bulk Gravity'!$C$30","v":"3/8\""}]
[899,{"$f":"IF('Bulk Gravity'!$L$31=\"\",\"\",'Bulk Gravity'!$L$31)","v":""},{"$f":"IF('Bulk Gravity'!$B$4=\"\",\"\",'Bulk Gravity'!$B$4)","v":"HMACP MIXTURE DESIGN : BULK GRAVITY"},{"$f":"IF('Bulk Gravity'!$L$19=\"\",\"\",'Bulk Gravity'!$L$19)","v":"Bin No.3"},{"$f":"IF('Bulk Gravity'!$L$25=\"\",\"\",'Bulk Gravity'!$L$25)","v":"Individual Ret., %"},{"$f":"IF('Bulk Gravity'!$B$26=\"\",\"\",'Bulk Gravity'!$B$26)","v":"Passing"},{"$f":"IF('Bulk Gravity'!$B$31=\"\",\"\",'Bulk Gravity'!$B$31)","v":"3/8\""},{"$f":"IF('Bulk Gravity'!$B$25=\"\",\"\",'Bulk Gravity'!$B$25)","v":"Sieve Size:"},{"$f":"IF('Bulk Gravity'!$C$26=\"\",\"\",'Bulk Gravity'!$C$26)","v":"Retained"},{"$f":"'Bulk Gravity'!$C$31","v":"No. 4"}]
[900,{"$f":"IF('Bulk Gravity'!$M$31=\"\",\"\",'Bulk Gravity'!$M$31)","v":""},{"$f":"IF('Bulk Gravity'!$B$4=\"\",\"\",'Bulk Gravity'!$B$4)","v":"HMACP MIXTURE DESIGN : BULK GRAVITY"},{"$f":"IF('Bulk Gravity'!$L$19=\"\",\"\",'Bulk Gravity'!$L$19)","v":"Bin No.3"},{"$f":"IF('Bulk Gravity'!$M$25=\"\",\"\",'Bulk Gravity'!$M$25)","v":"Bulk SG"},{"$f":"IF('Bulk Gravity'!$B$26=\"\",\"\",'Bulk Gravity'!$B$26)","v":"Passing"},{"$f":"IF('Bulk Gravity'!$B$31=\"\",\"\",'Bulk Gravity'!$B$31)","v":"3/8\""},{"$f":"IF('Bulk Gravity'!$B$25=\"\",\"\",'Bulk Gravity'!$B$25)","v":"Sieve Size:"},{"$f":"IF('Bulk Gravity'!$C$26=\"\",\"\",'Bulk Gravity'!$C$26)","v":"Retained"},{"$f":"'Bulk Gravity'!$C$31","v":"No. 4"}]
[901,{"$f":"IF('Bulk Gravity'!$L$32=\"\",\"\",'Bulk Gravity'!$L$32)","v":""},{"$f":"IF('Bulk Gravity'!$B$4=\"\",\"\",'Bulk Gravity'!$B$4)","v":"HMACP MIXTURE DESIGN : BULK GRAVITY"},{"$f":"IF('Bulk Gravity'!$L$19=\"\",\"\",'Bulk Gravity'!$L$19)","v":"Bin No.3"},{"$f":"IF('Bulk Gravity'!$L$25=\"\",\"\",'Bulk Gravity'!$L$25)","v":"Individual Ret., %"},{"$f":"IF('Bulk Gravity'!$B$26=\"\",\"\",'Bulk Gravity'!$B$26)","v":"Passing"},{"$f":"IF('Bulk Gravity'!$B$32=\"\",\"\",'Bulk Gravity'!$B$32)","v":"No. 4"},{"$f":"IF('Bulk Gravity'!$B$25=\"\",\"\",'Bulk Gravity'!$B$25)","v":"Sieve Size:"},{"$f":"IF('Bulk Gravity'!$C$26=\"\",\"\",'Bulk Gravity'!$C$26)","v":"Retained"},{"$f":"'Bulk Gravity'!$C$32","v":"No. 8"}]
[902,{"$f":"IF('Bulk Gravity'!$M$32=\"\",\"\",'Bulk Gravity'!$M$32)","v":""},{"$f":"IF('Bulk Gravity'!$B$4=\"\",\"\",'Bulk Gravity'!$B$4)","v":"HMACP MIXTURE DESIGN : BULK GRAVITY"},{"$f":"IF('Bulk Gravity'!$L$19=\"\",\"\",'Bulk Gravity'!$L$19)","v":"Bin No.3"},{"$f":"IF('Bulk Gravity'!$M$25=\"\",\"\",'Bulk Gravity'!$M$25)","v":"Bulk SG"},{"$f":"IF('Bulk Gravity'!$B$26=\"\",\"\",'Bulk Gravity'!$B$26)","v":"Passing"},{"$f":"IF('Bulk Gravity'!$B$32=\"\",\"\",'Bulk Gravity'!$B$32)","v":"No. 4"},{"$f":"IF('Bulk Gravity'!$B$25=\"\",\"\",'Bulk Gravity'!$B$25)","v":"Sieve Size:"},{"$f":"IF('Bulk Gravity'!$C$26=\"\",\"\",'Bulk Gravity'!$C$26)","v":"Retained"},{"$f":"'Bulk Gravity'!$C$32","v":"No. 8"}]
[903,{"$f":"IF('Bulk Gravity'!$L$33=\"\",\"\",'Bulk Gravity'!$L$33)","v":""},{"$f":"IF('Bulk Gravity'!$B$4=\"\",\"\",'Bulk Gravity'!$B$4)","v":"HMACP MIXTURE DESIGN : BULK GRAVITY"},{"$f":"IF('Bulk Gravity'!$L$19=\"\",\"\",'Bulk Gravity'!$L$19)","v":"Bin No.3"},{"$f":"IF('Bulk Gravity'!$L$25=\"\",\"\",'Bulk Gravity'!$L$25)","v":"Individual Ret., %"},{"$f":"IF('Bulk Gravity'!$B$26=\"\",\"\",'Bulk Gravity'!$B$26)","v":"Passing"},{"$f":"IF('Bulk Gravity'!$B$33=\"\",\"\",'Bulk Gravity'!$B$33)","v":"No. 8"},{"$f":"IF('Bulk Gravity'!$B$25=\"\",\"\",'Bulk Gravity'!$B$25)","v":"Sieve Size:"},{"$f":"IF('Bulk Gravity'!$C$26=\"\",\"\",'Bulk Gravity'!$C$26)","v":"Retained"},{"$f":"'Bulk Gravity'!$C$33","v":"No. 16"}]
[904,{"$f":"IF('Bulk Gravity'!$M$33=\"\",\"\",'Bulk Gravity'!$M$33)","v":""},{"$f":"IF('Bulk Gravity'!$B$4=\"\",\"\",'Bulk Gravity'!$B$4)","v":"HMACP MIXTURE DESIGN : BULK GRAVITY"},{"$f":"IF('Bulk Gravity'!$L$19=\"\",\"\",'Bulk Gravity'!$L$19)","v":"Bin No.3"},{"$f":"IF('Bulk Gravity'!$M$25=\"\",\"\",'Bulk Gravity'!$M$25)","v":"Bulk SG"},{"$f":"IF('Bulk Gravity'!$B$26=\"\",\"\",'Bulk Gravity'!$B$26)","v":"Passing"},{"$f":"IF('Bulk Gravity'!$B$33=\"\",\"\",'Bulk Gravity'!$B$33)","v":"No. 8"},{"$f":"IF('Bulk Gravity'!$B$25=\"\",\"\",'Bulk Gravity'!$B$25)","v":"Sieve Size:"},{"$f":"IF('Bulk Gravity'!$C$26=\"\",\"\",'Bulk Gravity'!$C$26)","v":"Retained"},{"$f":"'Bulk Gravity'!$C$33","v":"No. 16"}]
[905,{"$f":"IF('Bulk Gravity'!$L$34=\"\",\"\",'Bulk Gravity'!$L$34)","v":""},{"$f":"IF('Bulk Gravity'!$B$4=\"\",\"\",'Bulk Gravity'!$B$4)","v":"HMACP MIXTURE DESIGN : BULK GRAVITY"},{"$f":"IF('Bulk Gravity'!$L$19=\"\",\"\",'Bulk Gravity'!$L$19)","v":"Bin No.3"},{"$f":"IF('Bulk Gravity'!$L$25=\"\",\"\",'Bulk Gravity'!$L$25)","v":"Individual Ret., %"},{"$f":"IF('Bulk Gravity'!$B$26=\"\",\"\",'Bulk Gravity'!$B$26)","v":"Passing"},{"$f":"IF('Bulk Gravity'!$B$34=\"\",\"\",'Bulk Gravity'!$B$34)","v":"No. 16"},{"$f":"IF('Bulk Gravity'!$B$25=\"\",\"\",'Bulk Gravity'!$B$25)","v":"Sieve Size:"},{"$f":"IF('Bulk Gravity'!$C$26=\"\",\"\",'Bulk Gravity'!$C$26)","v":"Retained"},{"$f":"'Bulk Gravity'!$C$34","v":"No. 30"}]
[906,{"$f":"IF('Bulk Gravity'!$M$34=\"\",\"\",'Bulk Gravity'!$M$34)","v":""},{"$f":"IF('Bulk Gravity'!$B$4=\"\",\"\",'Bulk Gravity'!$B$4)","v":"HMACP MIXTURE DESIGN : BULK GRAVITY"},{"$f":"IF('Bulk Gravity'!$L$19=\"\",\"\",'Bulk Gravity'!$L$19)","v":"Bin No.3"},{"$f":"IF('Bulk Gravity'!$M$25=\"\",\"\",'Bulk Gravity'!$M$25)","v":"Bulk SG"},{"$f":"IF('Bulk Gravity'!$B$26=\"\",\"\",'Bulk Gravity'!$B$26)","v":"Passing"},{"$f":"IF('Bulk Gravity'!$B$34=\"\",\"\",'Bulk Gravity'!$B$34)","v":"No. 16"},{"$f":"IF('Bulk Gravity'!$B$25=\"\",\"\",'Bulk Gravity'!$B$25)","v":"Sieve Size:"},{"$f":"IF('Bulk Gravity'!$C$26=\"\",\"\",'Bulk Gravity'!$C$26)","v":"Retained"},{"$f":"'Bulk Gravity'!$C$34","v":"No. 30"}]
[907,{"$f":"IF('Bulk Gravity'!$L$35=\"\",\"\",'Bulk Gravity'!$L$35)","v":""},{"$f":"IF('Bulk Gravity'!$B$4=\"\",\"\",'Bulk Gravity'!$B$4)","v":"HMACP MIXTURE DESIGN : BULK GRAVITY"},{"$f":"IF('Bulk Gravity'!$L$19=\"\",\"\",'Bulk Gravity'!$L$19)","v":"Bin No.3"},{"$f":"IF('Bulk Gravity'!$L$25=\"\",\"\",'Bulk Gravity'!$L$25)","v":"Individual Ret., %"},{"$f":"IF('Bulk Gravity'!$B$26=\"\",\"\",'Bulk Gravity'!$B$26)","v":"Passing"},{"$f":"IF('Bulk Gravity'!$B$35=\"\",\"\",'Bulk Gravity'!$B$35)","v":"No. 30"},{"$f":"IF('Bulk Gravity'!$B$25=\"\",\"\",'Bulk Gravity'!$B$25)","v":"Sieve Size:"},{"$f":"IF('Bulk Gravity'!$C$26=\"\",\"\",'Bulk Gravity'!$C$26)","v":"Retained"},{"$f":"'Bulk Gravity'!$C$35","v":"No. 50"}]
[908,{"$f":"IF('Bulk Gravity'!$M$35=\"\",\"\",'Bulk Gravity'!$M$35)","v":""},{"$f":"IF('Bulk Gravity'!$B$4=\"\",\"\",'Bulk Gravity'!$B$4)","v":"HMACP MIXTURE DESIGN : BULK GRAVITY"},{"$f":"IF('Bulk Gravity'!$L$19=\"\",\"\",'Bulk Gravity'!$L$19)","v":"Bin No.3"},{"$f":"IF('Bulk Gravity'!$M$25=\"\",\"\",'Bulk Gravity'!$M$25)","v":"Bulk SG"},{"$f":"IF('Bulk Gravity'!$B$26=\"\",\"\",'Bulk Gravity'!$B$26)","v":"Passing"},{"$f":"IF('Bulk Gravity'!$B$35=\"\",\"\",'Bulk Gravity'!$B$35)","v":"No. 30"},{"$f":"IF('Bulk Gravity'!$B$25=\"\",\"\",'Bulk Gravity'!$B$25)","v":"Sieve Size:"},{"$f":"IF('Bulk Gravity'!$C$26=\"\",\"\",'Bulk Gravity'!$C$26)","v":"Retained"},{"$f":"'Bulk Gravity'!$C$35","v":"No. 50"}]
[909,{"$f":"IF('Bulk Gravity'!$L$36=\"\",\"\",'Bulk Gravity'!$L$36)","v":""},{"$f":"IF('Bulk Gravity'!$B$4=\"\",\"\",'Bulk Gravity'!$B$4)","v":"HMACP MIXTURE DESIGN : BULK GRAVITY"},{"$f":"IF('Bulk Gravity'!$L$19=\"\",\"\",'Bulk Gravity'!$L$19)","v":"Bin No.3"},{"$f":"IF('Bulk Gravity'!$L$25=\"\",\"\",'Bulk Gravity'!$L$25)","v":"Individual Ret., %"},{"$f":"IF('Bulk Gravity'!$B$26=\"\",\"\",'Bulk Gravity'!$B$26)","v":"Passing"},{"$f":"IF('Bulk Gravity'!$B$36=\"\",\"\",'Bulk Gravity'!$B$36)","v":"No. 50"},{"$f":"IF('Bulk Gravity'!$B$25=\"\",\"\",'Bulk Gravity'!$B$25)","v":"Sieve Size:"},{"$f":"IF('Bulk Gravity'!$C$26=\"\",\"\",'Bulk Gravity'!$C$26)","v":"Retained"},{"$f":"'Bulk Gravity'!$C$36","v":"No. 200"}]
[910,{"$f":"IF('Bulk Gravity'!$M$36=\"\",\"\",'Bulk Gravity'!$M$36)","v":""},{"$f":"IF('Bulk Gravity'!$B$4=\"\",\"\",'Bulk Gravity'!$B$4)","v":"HMACP MIXTURE DESIGN : BULK GRAVITY"},{"$f":"IF('Bulk Gravity'!$L$19=\"\",\"\",'Bulk Gravity'!$L$19)","v":"Bin No.3"},{"$f":"IF('Bulk Gravity'!$M$25=\"\",\"\",'Bulk Gravity'!$M$25)","v":"Bulk SG"},{"$f":"IF('Bulk Gravity'!$B$26=\"\",\"\",'Bulk Gravity'!$B$26)","v":"Passing"},{"$f":"IF('Bulk Gravity'!$B$36=\"\",\"\",'Bulk Gravity'!$B$36)","v":"No. 50"},{"$f":"IF('Bulk Gravity'!$B$25=\"\",\"\",'Bulk Gravity'!$B$25)","v":"Sieve Size:"},{"$f":"IF('Bulk Gravity'!$C$26=\"\",\"\",'Bulk Gravity'!$C$26)","v":"Retained"},{"$f":"'Bulk Gravity'!$C$36","v":"No. 200"}]
[911,{"$f":"IF('Bulk Gravity'!$L$37=\"\",\"\",'Bulk Gravity'!$L$37)","v":""},{"$f":"IF('Bulk Gravity'!$B$4=\"\",\"\",'Bulk Gravity'!$B$4)","v":"HMACP MIXTURE DESIGN : BULK GRAVITY"},{"$f":"IF('Bulk Gravity'!$L$19=\"\",\"\",'Bulk Gravity'!$L$19)","v":"Bin No.3"},{"$f":"IF('Bulk Gravity'!$L$25=\"\",\"\",'Bulk Gravity'!$L$25)","v":"Individual Ret., %"},{"$f":"IF('Bulk Gravity'!$B$26=\"\",\"\",'Bulk Gravity'!$B$26)","v":"Passing"},{"$f":"IF('Bulk Gravity'!$B$37=\"\",\"\",'Bulk Gravity'!$B$37)","v":"No. 200"},{"$f":"IF('Bulk Gravity'!$B$25=\"\",\"\",'Bulk Gravity'!$B$25)","v":"Sieve Size:"},{"$f":"IF('Bulk Gravity'!$C$26=\"\",\"\",'Bulk Gravity'!$C$26)","v":"Retained"},{"$f":"'Bulk Gravity'!$C$37","v":"Pan"}]
[912,{"$f":"IF('Bulk Gravity'!$M$37=\"\",\"\",'Bulk Gravity'!$M$37)","v":""},{"$f":"IF('Bulk Gravity'!$B$4=\"\",\"\",'Bulk Gravity'!$B$4)","v":"HMACP MIXTURE DESIGN : BULK GRAVITY"},{"$f":"IF('Bulk Gravity'!$L$19=\"\",\"\",'Bulk Gravity'!$L$19)","v":"Bin No.3"},{"$f":"IF('Bulk Gravity'!$M$25=\"\",\"\",'Bulk Gravity'!$M$25)","v":"Bulk SG"},{"$f":"IF('Bulk Gravity'!$B$26=\"\",\"\",'Bulk Gravity'!$B$26)","v":"Passing"},{"$f":"IF('Bulk Gravity'!$B$37=\"\",\"\",'Bulk Gravity'!$B$37)","v":"No. 200"},{"$f":"IF('Bulk Gravity'!$B$25=\"\",\"\",'Bulk Gravity'!$B$25)","v":"Sieve Size:"},{"$f":"IF('Bulk Gravity'!$C$26=\"\",\"\",'Bulk Gravity'!$C$26)","v":"Retained"},{"$f":"'Bulk Gravity'!$C$37","v":"Pan"}]
[913,{"$f":"IF('Bulk Gravity'!$L$38=\"\",\"\",'Bulk Gravity'!$L$38)","v":""},{"$f":"IF('Bulk Gravity'!$B$4=\"\",\"\",'Bulk Gravity'!$B$4)","v":"HMACP MIXTURE DESIGN : BULK GRAVITY"},{"$f":"IF('Bulk Gravity'!$L$19=\"\",\"\",'Bulk Gravity'!$L$19)","v":"Bin No.3"},{"$f":"IF('Bulk Gravity'!$L$25=\"\",\"\",'Bulk Gravity'!$L$25)","v":"Individual Ret., %"},{"$f":"IF('Bulk Gravity'!$B$38=\"\",\"\",'Bulk Gravity'!$B$38)","v":"Totals"}]
[914,{"$f":"IF('Bulk Gravity'!$M$38=\"\",\"\",'Bulk Gravity'!$M$38)","v":""},{"$f":"IF('Bulk Gravity'!$B$4=\"\",\"\",'Bulk Gravity'!$B$4)","v":"HMACP MIXTURE DESIGN : BULK GRAVITY"},{"$f":"IF('Bulk Gravity'!$L$19=\"\",\"\",'Bulk Gravity'!$L$19)","v":"Bin No.3"},{"$f":"IF('Bulk Gravity'!$M$25=\"\",\"\",'Bulk Gravity'!$M$25)","v":"Bulk SG"},{"$f":"IF('Bulk Gravity'!$B$38=\"\",\"\",'Bulk Gravity'!$B$38)","v":"Totals"}]
[915,{"$f":"IF('Bulk Gravity'!$P$27=\"\",\"\",'Bulk Gravity'!$P$27)","v":""},{"$f":"IF('Bulk Gravity'!$B$4=\"\",\"\",'Bulk Gravity'!$B$4)","v":"HMACP MIXTURE DESIGN : BULK GRAVITY"},{"$f":"IF('Bulk Gravity'!$P$19=\"\",\"\",'Bulk Gravity'!$P$19)","v":"Bin No.4"},{"$f":"IF('Bulk Gravity'!$P$25=\"\",\"\",'Bulk Gravity'!$P$25)","v":"Individual Ret., %"},{"$f":"IF('Bulk Gravity'!$B$26=\"\",\"\",'Bulk Gravity'!$B$26)","v":"Passing"},{"$f":"IF('Bulk Gravity'!$B$27=\"\",\"\",'Bulk Gravity'!$B$27)","v":""},{"$f":"IF('Bulk Gravity'!$B$25=\"\",\"\",'Bulk Gravity'!$B$25)","v":"Sieve Size:"},{"$f":"IF('Bulk Gravity'!$C$26=\"\",\"\",'Bulk Gravity'!$C$26)","v":"Retained"},{"$f":"'Bulk Gravity'!$C$27","v":"1\""}]
[916,{"$f":"IF('Bulk Gravity'!$Q$27=\"\",\"\",'Bulk Gravity'!$Q$27)","v":""},{"$f":"IF('Bulk Gravity'!$B$4=\"\",\"\",'Bulk Gravity'!$B$4)","v":"HMACP MIXTURE DESIGN : BULK GRAVITY"},{"$f":"IF('Bulk Gravity'!$P$19=\"\",\"\",'Bulk Gravity'!$P$19)","v":"Bin No.4"},{"$f":"IF('Bulk Gravity'!$Q$25=\"\",\"\",'Bulk Gravity'!$Q$25)","v":"Bulk SG"},{"$f":"IF('Bulk Gravity'!$B$26=\"\",\"\",'Bulk Gravity'!$B$26)","v":"Passing"},{"$f":"IF('Bulk Gravity'!$B$27=\"\",\"\",'Bulk Gravity'!$B$27)","v":""},{"$f":"IF('Bulk Gravity'!$B$25=\"\",\"\",'Bulk Gravity'!$B$25)","v":"Sieve Size:"},{"$f":"IF('Bulk Gravity'!$C$26=\"\",\"\",'Bulk Gravity'!$C$26)","v":"Retained"},{"$f":"'Bulk Gravity'!$C$27","v":"1\""}]
[917,{"$f":"IF('Bulk Gravity'!$P$28=\"\",\"\",'Bulk Gravity'!$P$28)","v":""},{"$f":"IF('Bulk Gravity'!$B$4=\"\",\"\",'Bulk Gravity'!$B$4)","v":"HMACP MIXTURE DESIGN : BULK GRAVITY"},{"$f":"IF('Bulk Gravity'!$P$19=\"\",\"\",'Bulk Gravity'!$P$19)","v":"Bin No.4"},{"$f":"IF('Bulk Gravity'!$P$25=\"\",\"\",'Bulk Gravity'!$P$25)","v":"Individual Ret., %"},{"$f":"IF('Bulk Gravity'!$B$26=\"\",\"\",'Bulk Gravity'!$B$26)","v":"Passing"},{"$f":"IF('Bulk Gravity'!$B$28=\"\",\"\",'Bulk Gravity'!$B$28)","v":"1\""},{"$f":"IF('Bulk Gravity'!$B$25=\"\",\"\",'Bulk Gravity'!$B$25)","v":"Sieve Size:"},{"$f":"IF('Bulk Gravity'!$C$26=\"\",\"\",'Bulk Gravity'!$C$26)","v":"Retained"},{"$f":"'Bulk Gravity'!$C$28","v":"3/4\""}]
[918,{"$f":"IF('Bulk Gravity'!$Q$28=\"\",\"\",'Bulk Gravity'!$Q$28)","v":""},{"$f":"IF('Bulk Gravity'!$B$4=\"\",\"\",'Bulk Gravity'!$B$4)","v":"HMACP MIXTURE DESIGN : BULK GRAVITY"},{"$f":"IF('Bulk Gravity'!$P$19=\"\",\"\",'Bulk Gravity'!$P$19)","v":"Bin No.4"},{"$f":"IF('Bulk Gravity'!$Q$25=\"\",\"\",'Bulk Gravity'!$Q$25)","v":"Bulk SG"},{"$f":"IF('Bulk Gravity'!$B$26=\"\",\"\",'Bulk Gravity'!$B$26)","v":"Passing"},{"$f":"IF('Bulk Gravity'!$B$28=\"\",\"\",'Bulk Gravity'!$B$28)","v":"1\""},{"$f":"IF('Bulk Gravity'!$B$25=\"\",\"\",'Bulk Gravity'!$B$25)","v":"Sieve Size:"},{"$f":"IF('Bulk Gravity'!$C$26=\"\",\"\",'Bulk Gravity'!$C$26)","v":"Retained"},{"$f":"'Bulk Gravity'!$C$28","v":"3/4\""}]
[919,{"$f":"IF('Bulk Gravity'!$P$29=\"\",\"\",'Bulk Gravity'!$P$29)","v":""},{"$f":"IF('Bulk Gravity'!$B$4=\"\",\"\",'Bulk Gravity'!$B$4)","v":"HMACP MIXTURE DESIGN : BULK GRAVITY"},{"$f":"IF('Bulk Gravity'!$P$19=\"\",\"\",'Bulk Gravity'!$P$19)","v":"Bin No.4"},{"$f":"IF('Bulk Gravity'!$P$25=\"\",\"\",'Bulk Gravity'!$P$25)","v":"Individual Ret., %"},{"$f":"IF('Bulk Gravity'!$B$26=\"\",\"\",'Bulk Gravity'!$B$26)","v":"Passing"},{"$f":"IF('Bulk Gravity'!$B$29=\"\",\"\",'Bulk Gravity'!$B$29)","v":"3/4\""},{"$f":"IF('Bulk Gravity'!$B$25=\"\",\"\",'Bulk Gravity'!$B$25)","v":"Sieve Size:"},{"$f":"IF('Bulk Gravity'!$C$26=\"\",\"\",'Bulk Gravity'!$C$26)","v":"Retained"},{"$f":"'Bulk Gravity'!$C$29","v":"1/2\""}]
[920,{"$f":"IF('Bulk Gravity'!$Q$29=\"\",\"\",'Bulk Gravity'!$Q$29)","v":""},{"$f":"IF('Bulk Gravity'!$B$4=\"\",\"\",'Bulk Gravity'!$B$4)","v":"HMACP MIXTURE DESIGN : BULK GRAVITY"},{"$f":"IF('Bulk Gravity'!$P$19=\"\",\"\",'Bulk Gravity'!$P$19)","v":"Bin No.4"},{"$f":"IF('Bulk Gravity'!$Q$25=\"\",\"\",'Bulk Gravity'!$Q$25)","v":"Bulk SG"},{"$f":"IF('Bulk Gravity'!$B$26=\"\",\"\",'Bulk Gravity'!$B$26)","v":"Passing"},{"$f":"IF('Bulk Gravity'!$B$29=\"\",\"\",'Bulk Gravity'!$B$29)","v":"3/4\""},{"$f":"IF('Bulk Gravity'!$B$25=\"\",\"\",'Bulk Gravity'!$B$25)","v":"Sieve Size:"},{"$f":"IF('Bulk Gravity'!$C$26=\"\",\"\",'Bulk Gravity'!$C$26)","v":"Retained"},{"$f":"'Bulk Gravity'!$C$29","v":"1/2\""}]
[921,{"$f":"IF('Bulk Gravity'!$P$30=\"\",\"\",'Bulk Gravity'!$P$30)","v":""},{"$f":"IF('Bulk Gravity'!$B$4=\"\",\"\",'Bulk Gravity'!$B$4)","v":"HMACP MIXTURE DESIGN : BULK GRAVITY"},{"$f":"IF('Bulk Gravity'!$P$19=\"\",\"\",'Bulk Gravity'!$P$19)","v":"Bin No.4"},{"$f":"IF('Bulk Gravity'!$P$25=\"\",\"\",'Bulk Gravity'!$P$25)","v":"Individual Ret., %"},{"$f":"IF('Bulk Gravity'!$B$26=\"\",\"\",'Bulk Gravity'!$B$26)","v":"Passing"},{"$f":"IF('Bulk Gravity'!$B$30=\"\",\"\",'Bulk Gravity'!$B$30)","v":"1/2\""},{"$f":"IF('Bulk Gravity'!$B$25=\"\",\"\",'Bulk Gravity'!$B$25)","v":"Sieve Size:"},{"$f":"IF('Bulk Gravity'!$C$26=\"\",\"\",'Bulk Gravity'!$C$26)","v":"Retained"},{"$f":"'Bulk Gravity'!$C$30","v":"3/8\""}]
[922,{"$f":"IF('Bulk Gravity'!$Q$30=\"\",\"\",'Bulk Gravity'!$Q$30)","v":""},{"$f":"IF('Bulk Gravity'!$B$4=\"\",\"\",'Bulk Gravity'!$B$4)","v":"HMACP MIXTURE DESIGN : BULK GRAVITY"},{"$f":"IF('Bulk Gravity'!$P$19=\"\",\"\",'Bulk Gravity'!$P$19)","v":"Bin No.4"},{"$f":"IF('Bulk Gravity'!$Q$25=\"\",\"\",'Bulk Gravity'!$Q$25)","v":"Bulk SG"},{"$f":"IF('Bulk Gravity'!$B$26=\"\",\"\",'Bulk Gravity'!$B$26)","v":"Passing"},{"$f":"IF('Bulk Gravity'!$B$30=\"\",\"\",'Bulk Gravity'!$B$30)","v":"1/2\""},{"$f":"IF('Bulk Gravity'!$B$25=\"\",\"\",'Bulk Gravity'!$B$25)","v":"Sieve Size:"},{"$f":"IF('Bulk Gravity'!$C$26=\"\",\"\",'Bulk Gravity'!$C$26)","v":"Retained"},{"$f":"'Bulk Gravity'!$C$30","v":"3/8\""}]
[923,{"$f":"IF('Bulk Gravity'!$P$31=\"\",\"\",'Bulk Gravity'!$P$31)","v":""},{"$f":"IF('Bulk Gravity'!$B$4=\"\",\"\",'Bulk Gravity'!$B$4)","v":"HMACP MIXTURE DESIGN : BULK GRAVITY"},{"$f":"IF('Bulk Gravity'!$P$19=\"\",\"\",'Bulk Gravity'!$P$19)","v":"Bin No.4"},{"$f":"IF('Bulk Gravity'!$P$25=\"\",\"\",'Bulk Gravity'!$P$25)","v":"Individual Ret., %"},{"$f":"IF('Bulk Gravity'!$B$26=\"\",\"\",'Bulk Gravity'!$B$26)","v":"Passing"},{"$f":"IF('Bulk Gravity'!$B$31=\"\",\"\",'Bulk Gravity'!$B$31)","v":"3/8\""},{"$f":"IF('Bulk Gravity'!$B$25=\"\",\"\",'Bulk Gravity'!$B$25)","v":"Sieve Size:"},{"$f":"IF('Bulk Gravity'!$C$26=\"\",\"\",'Bulk Gravity'!$C$26)","v":"Retained"},{"$f":"'Bulk Gravity'!$C$31","v":"No. 4"}]
[924,{"$f":"IF('Bulk Gravity'!$Q$31=\"\",\"\",'Bulk Gravity'!$Q$31)","v":""},{"$f":"IF('Bulk Gravity'!$B$4=\"\",\"\",'Bulk Gravity'!$B$4)","v":"HMACP MIXTURE DESIGN : BULK GRAVITY"},{"$f":"IF('Bulk Gravity'!$P$19=\"\",\"\",'Bulk Gravity'!$P$19)","v":"Bin No.4"},{"$f":"IF('Bulk Gravity'!$Q$25=\"\",\"\",'Bulk Gravity'!$Q$25)","v":"Bulk SG"},{"$f":"IF('Bulk Gravity'!$B$26=\"\",\"\",'Bulk Gravity'!$B$26)","v":"Passing"},{"$f":"IF('Bulk Gravity'!$B$31=\"\",\"\",'Bulk Gravity'!$B$31)","v":"3/8\""},{"$f":"IF('Bulk Gravity'!$B$25=\"\",\"\",'Bulk Gravity'!$B$25)","v":"Sieve Size:"},{"$f":"IF('Bulk Gravity'!$C$26=\"\",\"\",'Bulk Gravity'!$C$26)","v":"Retained"},{"$f":"'Bulk Gravity'!$C$31","v":"No. 4"}]
[925,{"$f":"IF('Bulk Gravity'!$P$32=\"\",\"\",'Bulk Gravity'!$P$32)","v":""},{"$f":"IF('Bulk Gravity'!$B$4=\"\",\"\",'Bulk Gravity'!$B$4)","v":"HMACP MIXTURE DESIGN : BULK GRAVITY"},{"$f":"IF('Bulk Gravity'!$P$19=\"\",\"\",'Bulk Gravity'!$P$19)","v":"Bin No.4"},{"$f":"IF('Bulk Gravity'!$P$25=\"\",\"\",'Bulk Gravity'!$P$25)","v":"Individual Ret., %"},{"$f":"IF('Bulk Gravity'!$B$26=\"\",\"\",'Bulk Gravity'!$B$26)","v":"Passing"},{"$f":"IF('Bulk Gravity'!$B$32=\"\",\"\",'Bulk Gravity'!$B$32)","v":"No. 4"},{"$f":"IF('Bulk Gravity'!$B$25=\"\",\"\",'Bulk Gravity'!$B$25)","v":"Sieve Size:"},{"$f":"IF('Bulk Gravity'!$C$26=\"\",\"\",'Bulk Gravity'!$C$26)","v":"Retained"},{"$f":"'Bulk Gravity'!$C$32","v":"No. 8"}]
[926,{"$f":"IF('Bulk Gravity'!$Q$32=\"\",\"\",'Bulk Gravity'!$Q$32)","v":""},{"$f":"IF('Bulk Gravity'!$B$4=\"\",\"\",'Bulk Gravity'!$B$4)","v":"HMACP MIXTURE DESIGN : BULK GRAVITY"},{"$f":"IF('Bulk Gravity'!$P$19=\"\",\"\",'Bulk Gravity'!$P$19)","v":"Bin No.4"},{"$f":"IF('Bulk Gravity'!$Q$25=\"\",\"\",'Bulk Gravity'!$Q$25)","v":"Bulk SG"},{"$f":"IF('Bulk Gravity'!$B$26=\"\",\"\",'Bulk Gravity'!$B$26)","v":"Passing"},{"$f":"IF('Bulk Gravity'!$B$32=\"\",\"\",'Bulk Gravity'!$B$32)","v":"No. 4"},{"$f":"IF('Bulk Gravity'!$B$25=\"\",\"\",'Bulk Gravity'!$B$25)","v":"Sieve Size:"},{"$f":"IF('Bulk Gravity'!$C$26=\"\",\"\",'Bulk Gravity'!$C$26)","v":"Retained"},{"$f":"'Bulk Gravity'!$C$32","v":"No. 8"}]
[927,{"$f":"IF('Bulk Gravity'!$P$33=\"\",\"\",'Bulk Gravity'!$P$33)","v":""},{"$f":"IF('Bulk Gravity'!$B$4=\"\",\"\",'Bulk Gravity'!$B$4)","v":"HMACP MIXTURE DESIGN : BULK GRAVITY"},{"$f":"IF('Bulk Gravity'!$P$19=\"\",\"\",'Bulk Gravity'!$P$19)","v":"Bin No.4"},{"$f":"IF('Bulk Gravity'!$P$25=\"\",\"\",'Bulk Gravity'!$P$25)","v":"Individual Ret., %"},{"$f":"IF('Bulk Gravity'!$B$26=\"\",\"\",'Bulk Gravity'!$B$26)","v":"Passing"},{"$f":"IF('Bulk Gravity'!$B$33=\"\",\"\",'Bulk Gravity'!$B$33)","v":"No. 8"},{"$f":"IF('Bulk Gravity'!$B$25=\"\",\"\",'Bulk Gravity'!$B$25)","v":"Sieve Size:"},{"$f":"IF('Bulk Gravity'!$C$26=\"\",\"\",'Bulk Gravity'!$C$26)","v":"Retained"},{"$f":"'Bulk Gravity'!$C$33","v":"No. 16"}]
[928,{"$f":"IF('Bulk Gravity'!$Q$33=\"\",\"\",'Bulk Gravity'!$Q$33)","v":""},{"$f":"IF('Bulk Gravity'!$B$4=\"\",\"\",'Bulk Gravity'!$B$4)","v":"HMACP MIXTURE DESIGN : BULK GRAVITY"},{"$f":"IF('Bulk Gravity'!$P$19=\"\",\"\",'Bulk Gravity'!$P$19)","v":"Bin No.4"},{"$f":"IF('Bulk Gravity'!$Q$25=\"\",\"\",'Bulk Gravity'!$Q$25)","v":"Bulk SG"},{"$f":"IF('Bulk Gravity'!$B$26=\"\",\"\",'Bulk Gravity'!$B$26)","v":"Passing"},{"$f":"IF('Bulk Gravity'!$B$33=\"\",\"\",'Bulk Gravity'!$B$33)","v":"No. 8"},{"$f":"IF('Bulk Gravity'!$B$25=\"\",\"\",'Bulk Gravity'!$B$25)","v":"Sieve Size:"},{"$f":"IF('Bulk Gravity'!$C$26=\"\",\"\",'Bulk Gravity'!$C$26)","v":"Retained"},{"$f":"'Bulk Gravity'!$C$33","v":"No. 16"}]
[929,{"$f":"IF('Bulk Gravity'!$P$34=\"\",\"\",'Bulk Gravity'!$P$34)","v":""},{"$f":"IF('Bulk Gravity'!$B$4=\"\",\"\",'Bulk Gravity'!$B$4)","v":"HMACP MIXTURE DESIGN : BULK GRAVITY"},{"$f":"IF('Bulk Gravity'!$P$19=\"\",\"\",'Bulk Gravity'!$P$19)","v":"Bin No.4"},{"$f":"IF('Bulk Gravity'!$P$25=\"\",\"\",'Bulk Gravity'!$P$25)","v":"Individual Ret., %"},{"$f":"IF('Bulk Gravity'!$B$26=\"\",\"\",'Bulk Gravity'!$B$26)","v":"Passing"},{"$f":"IF('Bulk Gravity'!$B$34=\"\",\"\",'Bulk Gravity'!$B$34)","v":"No. 16"},{"$f":"IF('Bulk Gravity'!$B$25=\"\",\"\",'Bulk Gravity'!$B$25)","v":"Sieve Size:"},{"$f":"IF('Bulk Gravity'!$C$26=\"\",\"\",'Bulk Gravity'!$C$26)","v":"Retained"},{"$f":"'Bulk Gravity'!$C$34","v":"No. 30"}]
[930,{"$f":"IF('Bulk Gravity'!$Q$34=\"\",\"\",'Bulk Gravity'!$Q$34)","v":""},{"$f":"IF('Bulk Gravity'!$B$4=\"\",\"\",'Bulk Gravity'!$B$4)","v":"HMACP MIXTURE DESIGN : BULK GRAVITY"},{"$f":"IF('Bulk Gravity'!$P$19=\"\",\"\",'Bulk Gravity'!$P$19)","v":"Bin No.4"},{"$f":"IF('Bulk Gravity'!$Q$25=\"\",\"\",'Bulk Gravity'!$Q$25)","v":"Bulk SG"},{"$f":"IF('Bulk Gravity'!$B$26=\"\",\"\",'Bulk Gravity'!$B$26)","v":"Passing"},{"$f":"IF('Bulk Gravity'!$B$34=\"\",\"\",'Bulk Gravity'!$B$34)","v":"No. 16"},{"$f":"IF('Bulk Gravity'!$B$25=\"\",\"\",'Bulk Gravity'!$B$25)","v":"Sieve Size:"},{"$f":"IF('Bulk Gravity'!$C$26=\"\",\"\",'Bulk Gravity'!$C$26)","v":"Retained"},{"$f":"'Bulk Gravity'!$C$34","v":"No. 30"}]
[931,{"$f":"IF('Bulk Gravity'!$P$35=\"\",\"\",'Bulk Gravity'!$P$35)","v":""},{"$f":"IF('Bulk Gravity'!$B$4=\"\",\"\",'Bulk Gravity'!$B$4)","v":"HMACP MIXTURE DESIGN : BULK GRAVITY"},{"$f":"IF('Bulk Gravity'!$P$19=\"\",\"\",'Bulk Gravity'!$P$19)","v":"Bin No.4"},{"$f":"IF('Bulk Gravity'!$P$25=\"\",\"\",'Bulk Gravity'!$P$25)","v":"Individual Ret., %"},{"$f":"IF('Bulk Gravity'!$B$26=\"\",\"\",'Bulk Gravity'!$B$26)","v":"Passing"},{"$f":"IF('Bulk Gravity'!$B$35=\"\",\"\",'Bulk Gravity'!$B$35)","v":"No. 30"},{"$f":"IF('Bulk Gravity'!$B$25=\"\",\"\",'Bulk Gravity'!$B$25)","v":"Sieve Size:"},{"$f":"IF('Bulk Gravity'!$C$26=\"\",\"\",'Bulk Gravity'!$C$26)","v":"Retained"},{"$f":"'Bulk Gravity'!$C$35","v":"No. 50"}]
[932,{"$f":"IF('Bulk Gravity'!$Q$35=\"\",\"\",'Bulk Gravity'!$Q$35)","v":""},{"$f":"IF('Bulk Gravity'!$B$4=\"\",\"\",'Bulk Gravity'!$B$4)","v":"HMACP MIXTURE DESIGN : BULK GRAVITY"},{"$f":"IF('Bulk Gravity'!$P$19=\"\",\"\",'Bulk Gravity'!$P$19)","v":"Bin No.4"},{"$f":"IF('Bulk Gravity'!$Q$25=\"\",\"\",'Bulk Gravity'!$Q$25)","v":"Bulk SG"},{"$f":"IF('Bulk Gravity'!$B$26=\"\",\"\",'Bulk Gravity'!$B$26)","v":"Passing"},{"$f":"IF('Bulk Gravity'!$B$35=\"\",\"\",'Bulk Gravity'!$B$35)","v":"No. 30"},{"$f":"IF('Bulk Gravity'!$B$25=\"\",\"\",'Bulk Gravity'!$B$25)","v":"Sieve Size:"},{"$f":"IF('Bulk Gravity'!$C$26=\"\",\"\",'Bulk Gravity'!$C$26)","v":"Retained"},{"$f":"'Bulk Gravity'!$C$35","v":"No. 50"}]
[933,{"$f":"IF('Bulk Gravity'!$P$36=\"\",\"\",'Bulk Gravity'!$P$36)","v":""},{"$f":"IF('Bulk Gravity'!$B$4=\"\",\"\",'Bulk Gravity'!$B$4)","v":"HMACP MIXTURE DESIGN : BULK GRAVITY"},{"$f":"IF('Bulk Gravity'!$P$19=\"\",\"\",'Bulk Gravity'!$P$19)","v":"Bin No.4"},{"$f":"IF('Bulk Gravity'!$P$25=\"\",\"\",'Bulk Gravity'!$P$25)","v":"Individual Ret., %"},{"$f":"IF('Bulk Gravity'!$B$26=\"\",\"\",'Bulk Gravity'!$B$26)","v":"Passing"},{"$f":"IF('Bulk Gravity'!$B$36=\"\",\"\",'Bulk Gravity'!$B$36)","v":"No. 50"},{"$f":"IF('Bulk Gravity'!$B$25=\"\",\"\",'Bulk Gravity'!$B$25)","v":"Sieve Size:"},{"$f":"IF('Bulk Gravity'!$C$26=\"\",\"\",'Bulk Gravity'!$C$26)","v":"Retained"},{"$f":"'Bulk Gravity'!$C$36","v":"No. 200"}]
[934,{"$f":"IF('Bulk Gravity'!$Q$36=\"\",\"\",'Bulk Gravity'!$Q$36)","v":""},{"$f":"IF('Bulk Gravity'!$B$4=\"\",\"\",'Bulk Gravity'!$B$4)","v":"HMACP MIXTURE DESIGN : BULK GRAVITY"},{"$f":"IF('Bulk Gravity'!$P$19=\"\",\"\",'Bulk Gravity'!$P$19)","v":"Bin No.4"},{"$f":"IF('Bulk Gravity'!$Q$25=\"\",\"\",'Bulk Gravity'!$Q$25)","v":"Bulk SG"},{"$f":"IF('Bulk Gravity'!$B$26=\"\",\"\",'Bulk Gravity'!$B$26)","v":"Passing"},{"$f":"IF('Bulk Gravity'!$B$36=\"\",\"\",'Bulk Gravity'!$B$36)","v":"No. 50"},{"$f":"IF('Bulk Gravity'!$B$25=\"\",\"\",'Bulk Gravity'!$B$25)","v":"Sieve Size:"},{"$f":"IF('Bulk Gravity'!$C$26=\"\",\"\",'Bulk Gravity'!$C$26)","v":"Retained"},{"$f":"'Bulk Gravity'!$C$36","v":"No. 200"}]
[935,{"$f":"IF('Bulk Gravity'!$P$37=\"\",\"\",'Bulk Gravity'!$P$37)","v":""},{"$f":"IF('Bulk Gravity'!$B$4=\"\",\"\",'Bulk Gravity'!$B$4)","v":"HMACP MIXTURE DESIGN : BULK GRAVITY"},{"$f":"IF('Bulk Gravity'!$P$19=\"\",\"\",'Bulk Gravity'!$P$19)","v":"Bin No.4"},{"$f":"IF('Bulk Gravity'!$P$25=\"\",\"\",'Bulk Gravity'!$P$25)","v":"Individual Ret., %"},{"$f":"IF('Bulk Gravity'!$B$26=\"\",\"\",'Bulk Gravity'!$B$26)","v":"Passing"},{"$f":"IF('Bulk Gravity'!$B$37=\"\",\"\",'Bulk Gravity'!$B$37)","v":"No. 200"},{"$f":"IF('Bulk Gravity'!$B$25=\"\",\"\",'Bulk Gravity'!$B$25)","v":"Sieve Size:"},{"$f":"IF('Bulk Gravity'!$C$26=\"\",\"\",'Bulk Gravity'!$C$26)","v":"Retained"},{"$f":"'Bulk Gravity'!$C$37","v":"Pan"}]
[936,{"$f":"IF('Bulk Gravity'!$Q$37=\"\",\"\",'Bulk Gravity'!$Q$37)","v":""},{"$f":"IF('Bulk Gravity'!$B$4=\"\",\"\",'Bulk Gravity'!$B$4)","v":"HMACP MIXTURE DESIGN : BULK GRAVITY"},{"$f":"IF('Bulk Gravity'!$P$19=\"\",\"\",'Bulk Gravity'!$P$19)","v":"Bin No.4"},{"$f":"IF('Bulk Gravity'!$Q$25=\"\",\"\",'Bulk Gravity'!$Q$25)","v":"Bulk SG"},{"$f":"IF('Bulk Gravity'!$B$26=\"\",\"\",'Bulk Gravity'!$B$26)","v":"Passing"},{"$f":"IF('Bulk Gravity'!$B$37=\"\",\"\",'Bulk Gravity'!$B$37)","v":"No. 200"},{"$f":"IF('Bulk Gravity'!$B$25=\"\",\"\",'Bulk Gravity'!$B$25)","v":"Sieve Size:"},{"$f":"IF('Bulk Gravity'!$C$26=\"\",\"\",'Bulk Gravity'!$C$26)","v":"Retained"},{"$f":"'Bulk Gravity'!$C$37","v":"Pan"}]
[937,{"$f":"IF('Bulk Gravity'!$P$38=\"\",\"\",'Bulk Gravity'!$P$38)","v":""},{"$f":"IF('Bulk Gravity'!$B$4=\"\",\"\",'Bulk Gravity'!$B$4)","v":"HMACP MIXTURE DESIGN : BULK GRAVITY"},{"$f":"IF('Bulk Gravity'!$P$19=\"\",\"\",'Bulk Gravity'!$P$19)","v":"Bin No.4"},{"$f":"IF('Bulk Gravity'!$P$25=\"\",\"\",'Bulk Gravity'!$P$25)","v":"Individual Ret., %"},{"$f":"IF('Bulk Gravity'!$B$38=\"\",\"\",'Bulk Gravity'!$B$38)","v":"Totals"}]
[938,{"$f":"IF('Bulk Gravity'!$Q$38=\"\",\"\",'Bulk Gravity'!$Q$38)","v":""},{"$f":"IF('Bulk Gravity'!$B$4=\"\",\"\",'Bulk Gravity'!$B$4)","v":"HMACP MIXTURE DESIGN : BULK GRAVITY"},{"$f":"IF('Bulk Gravity'!$P$19=\"\",\"\",'Bulk Gravity'!$P$19)","v":"Bin No.4"},{"$f":"IF('Bulk Gravity'!$Q$25=\"\",\"\",'Bulk Gravity'!$Q$25)","v":"Bulk SG"},{"$f":"IF('Bulk Gravity'!$B$38=\"\",\"\",'Bulk Gravity'!$B$38)","v":"Totals"}]
[939,{"$f":"IF('Bulk Gravity'!$T$27=\"\",\"\",'Bulk Gravity'!$T$27)","v":""},{"$f":"IF('Bulk Gravity'!$B$4=\"\",\"\",'Bulk Gravity'!$B$4)","v":"HMACP MIXTURE DESIGN : BULK GRAVITY"},{"$f":"IF('Bulk Gravity'!$T$19=\"\",\"\",'Bulk Gravity'!$T$19)","v":"Bin No.5"},{"$f":"IF('Bulk Gravity'!$T$25=\"\",\"\",'Bulk Gravity'!$T$25)","v":"Individual Ret., %"},{"$f":"IF('Bulk Gravity'!$B$26=\"\",\"\",'Bulk Gravity'!$B$26)","v":"Passing"},{"$f":"IF('Bulk Gravity'!$B$27=\"\",\"\",'Bulk Gravity'!$B$27)","v":""},{"$f":"IF('Bulk Gravity'!$B$25=\"\",\"\",'Bulk Gravity'!$B$25)","v":"Sieve Size:"},{"$f":"IF('Bulk Gravity'!$C$26=\"\",\"\",'Bulk Gravity'!$C$26)","v":"Retained"},{"$f":"'Bulk Gravity'!$C$27","v":"1\""}]
[940,{"$f":"IF('Bulk Gravity'!$U$27=\"\",\"\",'Bulk Gravity'!$U$27)","v":""},{"$f":"IF('Bulk Gravity'!$B$4=\"\",\"\",'Bulk Gravity'!$B$4)","v":"HMACP MIXTURE DESIGN : BULK GRAVITY"},{"$f":"IF('Bulk Gravity'!$T$19=\"\",\"\",'Bulk Gravity'!$T$19)","v":"Bin No.5"},{"$f":"IF('Bulk Gravity'!$U$25=\"\",\"\",'Bulk Gravity'!$U$25)","v":"Bulk SG"},{"$f":"IF('Bulk Gravity'!$B$26=\"\",\"\",'Bulk Gravity'!$B$26)","v":"Passing"},{"$f":"IF('Bulk Gravity'!$B$27=\"\",\"\",'Bulk Gravity'!$B$27)","v":""},{"$f":"IF('Bulk Gravity'!$B$25=\"\",\"\",'Bulk Gravity'!$B$25)","v":"Sieve Size:"},{"$f":"IF('Bulk Gravity'!$C$26=\"\",\"\",'Bulk Gravity'!$C$26)","v":"Retained"},{"$f":"'Bulk Gravity'!$C$27","v":"1\""}]
[941,{"$f":"IF('Bulk Gravity'!$T$28=\"\",\"\",'Bulk Gravity'!$T$28)","v":""},{"$f":"IF('Bulk Gravity'!$B$4=\"\",\"\",'Bulk Gravity'!$B$4)","v":"HMACP MIXTURE DESIGN : BULK GRAVITY"},{"$f":"IF('Bulk Gravity'!$T$19=\"\",\"\",'Bulk Gravity'!$T$19)","v":"Bin No.5"},{"$f":"IF('Bulk Gravity'!$T$25=\"\",\"\",'Bulk Gravity'!$T$25)","v":"Individual Ret., %"},{"$f":"IF('Bulk Gravity'!$B$26=\"\",\"\",'Bulk Gravity'!$B$26)","v":"Passing"},{"$f":"IF('Bulk Gravity'!$B$28=\"\",\"\",'Bulk Gravity'!$B$28)","v":"1\""},{"$f":"IF('Bulk Gravity'!$B$25=\"\",\"\",'Bulk Gravity'!$B$25)","v":"Sieve Size:"},{"$f":"IF('Bulk Gravity'!$C$26=\"\",\"\",'Bulk Gravity'!$C$26)","v":"Retained"},{"$f":"'Bulk Gravity'!$C$28","v":"3/4\""}]
[942,{"$f":"IF('Bulk Gravity'!$U$28=\"\",\"\",'Bulk Gravity'!$U$28)","v":""},{"$f":"IF('Bulk Gravity'!$B$4=\"\",\"\",'Bulk Gravity'!$B$4)","v":"HMACP MIXTURE DESIGN : BULK GRAVITY"},{"$f":"IF('Bulk Gravity'!$T$19=\"\",\"\",'Bulk Gravity'!$T$19)","v":"Bin No.5"},{"$f":"IF('Bulk Gravity'!$U$25=\"\",\"\",'Bulk Gravity'!$U$25)","v":"Bulk SG"},{"$f":"IF('Bulk Gravity'!$B$26=\"\",\"\",'Bulk Gravity'!$B$26)","v":"Passing"},{"$f":"IF('Bulk Gravity'!$B$28=\"\",\"\",'Bulk Gravity'!$B$28)","v":"1\""},{"$f":"IF('Bulk Gravity'!$B$25=\"\",\"\",'Bulk Gravity'!$B$25)","v":"Sieve Size:"},{"$f":"IF('Bulk Gravity'!$C$26=\"\",\"\",'Bulk Gravity'!$C$26)","v":"Retained"},{"$f":"'Bulk Gravity'!$C$28","v":"3/4\""}]
[943,{"$f":"IF('Bulk Gravity'!$T$29=\"\",\"\",'Bulk Gravity'!$T$29)","v":""},{"$f":"IF('Bulk Gravity'!$B$4=\"\",\"\",'Bulk Gravity'!$B$4)","v":"HMACP MIXTURE DESIGN : BULK GRAVITY"},{"$f":"IF('Bulk Gravity'!$T$19=\"\",\"\",'Bulk Gravity'!$T$19)","v":"Bin No.5"},{"$f":"IF('Bulk Gravity'!$T$25=\"\",\"\",'Bulk Gravity'!$T$25)","v":"Individual Ret., %"},{"$f":"IF('Bulk Gravity'!$B$26=\"\",\"\",'Bulk Gravity'!$B$26)","v":"Passing"},{"$f":"IF('Bulk Gravity'!$B$29=\"\",\"\",'Bulk Gravity'!$B$29)","v":"3/4\""},{"$f":"IF('Bulk Gravity'!$B$25=\"\",\"\",'Bulk Gravity'!$B$25)","v":"Sieve Size:"},{"$f":"IF('Bulk Gravity'!$C$26=\"\",\"\",'Bulk Gravity'!$C$26)","v":"Retained"},{"$f":"'Bulk Gravity'!$C$29","v":"1/2\""}]
[944,{"$f":"IF('Bulk Gravity'!$U$29=\"\",\"\",'Bulk Gravity'!$U$29)","v":""},{"$f":"IF('Bulk Gravity'!$B$4=\"\",\"\",'Bulk Gravity'!$B$4)","v":"HMACP MIXTURE DESIGN : BULK GRAVITY"},{"$f":"IF('Bulk Gravity'!$T$19=\"\",\"\",'Bulk Gravity'!$T$19)","v":"Bin No.5"},{"$f":"IF('Bulk Gravity'!$U$25=\"\",\"\",'Bulk Gravity'!$U$25)","v":"Bulk SG"},{"$f":"IF('Bulk Gravity'!$B$26=\"\",\"\",'Bulk Gravity'!$B$26)","v":"Passing"},{"$f":"IF('Bulk Gravity'!$B$29=\"\",\"\",'Bulk Gravity'!$B$29)","v":"3/4\""},{"$f":"IF('Bulk Gravity'!$B$25=\"\",\"\",'Bulk Gravity'!$B$25)","v":"Sieve Size:"},{"$f":"IF('Bulk Gravity'!$C$26=\"\",\"\",'Bulk Gravity'!$C$26)","v":"Retained"},{"$f":"'Bulk Gravity'!$C$29","v":"1/2\""}]
[945,{"$f":"IF('Bulk Gravity'!$T$30=\"\",\"\",'Bulk Gravity'!$T$30)","v":""},{"$f":"IF('Bulk Gravity'!$B$4=\"\",\"\",'Bulk Gravity'!$B$4)","v":"HMACP MIXTURE DESIGN : BULK GRAVITY"},{"$f":"IF('Bulk Gravity'!$T$19=\"\",\"\",'Bulk Gravity'!$T$19)","v":"Bin No.5"},{"$f":"IF('Bulk Gravity'!$T$25=\"\",\"\",'Bulk Gravity'!$T$25)","v":"Individual Ret., %"},{"$f":"IF('Bulk Gravity'!$B$26=\"\",\"\",'Bulk Gravity'!$B$26)","v":"Passing"},{"$f":"IF('Bulk Gravity'!$B$30=\"\",\"\",'Bulk Gravity'!$B$30)","v":"1/2\""},{"$f":"IF('Bulk Gravity'!$B$25=\"\",\"\",'Bulk Gravity'!$B$25)","v":"Sieve Size:"},{"$f":"IF('Bulk Gravity'!$C$26=\"\",\"\",'Bulk Gravity'!$C$26)","v":"Retained"},{"$f":"'Bulk Gravity'!$C$30","v":"3/8\""}]
[946,{"$f":"IF('Bulk Gravity'!$U$30=\"\",\"\",'Bulk Gravity'!$U$30)","v":""},{"$f":"IF('Bulk Gravity'!$B$4=\"\",\"\",'Bulk Gravity'!$B$4)","v":"HMACP MIXTURE DESIGN : BULK GRAVITY"},{"$f":"IF('Bulk Gravity'!$T$19=\"\",\"\",'Bulk Gravity'!$T$19)","v":"Bin No.5"},{"$f":"IF('Bulk Gravity'!$U$25=\"\",\"\",'Bulk Gravity'!$U$25)","v":"Bulk SG"},{"$f":"IF('Bulk Gravity'!$B$26=\"\",\"\",'Bulk Gravity'!$B$26)","v":"Passing"},{"$f":"IF('Bulk Gravity'!$B$30=\"\",\"\",'Bulk Gravity'!$B$30)","v":"1/2\""},{"$f":"IF('Bulk Gravity'!$B$25=\"\",\"\",'Bulk Gravity'!$B$25)","v":"Sieve Size:"},{"$f":"IF('Bulk Gravity'!$C$26=\"\",\"\",'Bulk Gravity'!$C$26)","v":"Retained"},{"$f":"'Bulk Gravity'!$C$30","v":"3/8\""}]
[947,{"$f":"IF('Bulk Gravity'!$T$31=\"\",\"\",'Bulk Gravity'!$T$31)","v":""},{"$f":"IF('Bulk Gravity'!$B$4=\"\",\"\",'Bulk Gravity'!$B$4)","v":"HMACP MIXTURE DESIGN : BULK GRAVITY"},{"$f":"IF('Bulk Gravity'!$T$19=\"\",\"\",'Bulk Gravity'!$T$19)","v":"Bin No.5"},{"$f":"IF('Bulk Gravity'!$T$25=\"\",\"\",'Bulk Gravity'!$T$25)","v":"Individual Ret., %"},{"$f":"IF('Bulk Gravity'!$B$26=\"\",\"\",'Bulk Gravity'!$B$26)","v":"Passing"},{"$f":"IF('Bulk Gravity'!$B$31=\"\",\"\",'Bulk Gravity'!$B$31)","v":"3/8\""},{"$f":"IF('Bulk Gravity'!$B$25=\"\",\"\",'Bulk Gravity'!$B$25)","v":"Sieve Size:"},{"$f":"IF('Bulk Gravity'!$C$26=\"\",\"\",'Bulk Gravity'!$C$26)","v":"Retained"},{"$f":"'Bulk Gravity'!$C$31","v":"No. 4"}]
[948,{"$f":"IF('Bulk Gravity'!$U$31=\"\",\"\",'Bulk Gravity'!$U$31)","v":""},{"$f":"IF('Bulk Gravity'!$B$4=\"\",\"\",'Bulk Gravity'!$B$4)","v":"HMACP MIXTURE DESIGN : BULK GRAVITY"},{"$f":"IF('Bulk Gravity'!$T$19=\"\",\"\",'Bulk Gravity'!$T$19)","v":"Bin No.5"},{"$f":"IF('Bulk Gravity'!$U$25=\"\",\"\",'Bulk Gravity'!$U$25)","v":"Bulk SG"},{"$f":"IF('Bulk Gravity'!$B$26=\"\",\"\",'Bulk Gravity'!$B$26)","v":"Passing"},{"$f":"IF('Bulk Gravity'!$B$31=\"\",\"\",'Bulk Gravity'!$B$31)","v":"3/8\""},{"$f":"IF('Bulk Gravity'!$B$25=\"\",\"\",'Bulk Gravity'!$B$25)","v":"Sieve Size:"},{"$f":"IF('Bulk Gravity'!$C$26=\"\",\"\",'Bulk Gravity'!$C$26)","v":"Retained"},{"$f":"'Bulk Gravity'!$C$31","v":"No. 4"}]
[949,{"$f":"IF('Bulk Gravity'!$T$32=\"\",\"\",'Bulk Gravity'!$T$32)","v":""},{"$f":"IF('Bulk Gravity'!$B$4=\"\",\"\",'Bulk Gravity'!$B$4)","v":"HMACP MIXTURE DESIGN : BULK GRAVITY"},{"$f":"IF('Bulk Gravity'!$T$19=\"\",\"\",'Bulk Gravity'!$T$19)","v":"Bin No.5"},{"$f":"IF('Bulk Gravity'!$T$25=\"\",\"\",'Bulk Gravity'!$T$25)","v":"Individual Ret., %"},{"$f":"IF('Bulk Gravity'!$B$26=\"\",\"\",'Bulk Gravity'!$B$26)","v":"Passing"},{"$f":"IF('Bulk Gravity'!$B$32=\"\",\"\",'Bulk Gravity'!$B$32)","v":"No. 4"},{"$f":"IF('Bulk Gravity'!$B$25=\"\",\"\",'Bulk Gravity'!$B$25)","v":"Sieve Size:"},{"$f":"IF('Bulk Gravity'!$C$26=\"\",\"\",'Bulk Gravity'!$C$26)","v":"Retained"},{"$f":"'Bulk Gravity'!$C$32","v":"No. 8"}]
[950,{"$f":"IF('Bulk Gravity'!$U$32=\"\",\"\",'Bulk Gravity'!$U$32)","v":""},{"$f":"IF('Bulk Gravity'!$B$4=\"\",\"\",'Bulk Gravity'!$B$4)","v":"HMACP MIXTURE DESIGN : BULK GRAVITY"},{"$f":"IF('Bulk Gravity'!$T$19=\"\",\"\",'Bulk Gravity'!$T$19)","v":"Bin No.5"},{"$f":"IF('Bulk Gravity'!$U$25=\"\",\"\",'Bulk Gravity'!$U$25)","v":"Bulk SG"},{"$f":"IF('Bulk Gravity'!$B$26=\"\",\"\",'Bulk Gravity'!$B$26)","v":"Passing"},{"$f":"IF('Bulk Gravity'!$B$32=\"\",\"\",'Bulk Gravity'!$B$32)","v":"No. 4"},{"$f":"IF('Bulk Gravity'!$B$25=\"\",\"\",'Bulk Gravity'!$B$25)","v":"Sieve Size:"},{"$f":"IF('Bulk Gravity'!$C$26=\"\",\"\",'Bulk Gravity'!$C$26)","v":"Retained"},{"$f":"'Bulk Gravity'!$C$32","v":"No. 8"}]
[951,{"$f":"IF('Bulk Gravity'!$T$33=\"\",\"\",'Bulk Gravity'!$T$33)","v":""},{"$f":"IF('Bulk Gravity'!$B$4=\"\",\"\",'Bulk Gravity'!$B$4)","v":"HMACP MIXTURE DESIGN : BULK GRAVITY"},{"$f":"IF('Bulk Gravity'!$T$19=\"\",\"\",'Bulk Gravity'!$T$19)","v":"Bin No.5"},{"$f":"IF('Bulk Gravity'!$T$25=\"\",\"\",'Bulk Gravity'!$T$25)","v":"Individual Ret., %"},{"$f":"IF('Bulk Gravity'!$B$26=\"\",\"\",'Bulk Gravity'!$B$26)","v":"Passing"},{"$f":"IF('Bulk Gravity'!$B$33=\"\",\"\",'Bulk Gravity'!$B$33)","v":"No. 8"},{"$f":"IF('Bulk Gravity'!$B$25=\"\",\"\",'Bulk Gravity'!$B$25)","v":"Sieve Size:"},{"$f":"IF('Bulk Gravity'!$C$26=\"\",\"\",'Bulk Gravity'!$C$26)","v":"Retained"},{"$f":"'Bulk Gravity'!$C$33","v":"No. 16"}]
[952,{"$f":"IF('Bulk Gravity'!$U$33=\"\",\"\",'Bulk Gravity'!$U$33)","v":""},{"$f":"IF('Bulk Gravity'!$B$4=\"\",\"\",'Bulk Gravity'!$B$4)","v":"HMACP MIXTURE DESIGN : BULK GRAVITY"},{"$f":"IF('Bulk Gravity'!$T$19=\"\",\"\",'Bulk Gravity'!$T$19)","v":"Bin No.5"},{"$f":"IF('Bulk Gravity'!$U$25=\"\",\"\",'Bulk Gravity'!$U$25)","v":"Bulk SG"},{"$f":"IF('Bulk Gravity'!$B$26=\"\",\"\",'Bulk Gravity'!$B$26)","v":"Passing"},{"$f":"IF('Bulk Gravity'!$B$33=\"\",\"\",'Bulk Gravity'!$B$33)","v":"No. 8"},{"$f":"IF('Bulk Gravity'!$B$25=\"\",\"\",'Bulk Gravity'!$B$25)","v":"Sieve Size:"},{"$f":"IF('Bulk Gravity'!$C$26=\"\",\"\",'Bulk Gravity'!$C$26)","v":"Retained"},{"$f":"'Bulk Gravity'!$C$33","v":"No. 16"}]
[953,{"$f":"IF('Bulk Gravity'!$T$34=\"\",\"\",'Bulk Gravity'!$T$34)","v":""},{"$f":"IF('Bulk Gravity'!$B$4=\"\",\"\",'Bulk Gravity'!$B$4)","v":"HMACP MIXTURE DESIGN : BULK GRAVITY"},{"$f":"IF('Bulk Gravity'!$T$19=\"\",\"\",'Bulk Gravity'!$T$19)","v":"Bin No.5"},{"$f":"IF('Bulk Gravity'!$T$25=\"\",\"\",'Bulk Gravity'!$T$25)","v":"Individual Ret., %"},{"$f":"IF('Bulk Gravity'!$B$26=\"\",\"\",'Bulk Gravity'!$B$26)","v":"Passing"},{"$f":"IF('Bulk Gravity'!$B$34=\"\",\"\",'Bulk Gravity'!$B$34)","v":"No. 16"},{"$f":"IF('Bulk Gravity'!$B$25=\"\",\"\",'Bulk Gravity'!$B$25)","v":"Sieve Size:"},{"$f":"IF('Bulk Gravity'!$C$26=\"\",\"\",'Bulk Gravity'!$C$26)","v":"Retained"},{"$f":"'Bulk Gravity'!$C$34","v":"No. 30"}]
[954,{"$f":"IF('Bulk Gravity'!$U$34=\"\",\"\",'Bulk Gravity'!$U$34)","v":""},{"$f":"IF('Bulk Gravity'!$B$4=\"\",\"\",'Bulk Gravity'!$B$4)","v":"HMACP MIXTURE DESIGN : BULK GRAVITY"},{"$f":"IF('Bulk Gravity'!$T$19=\"\",\"\",'Bulk Gravity'!$T$19)","v":"Bin No.5"},{"$f":"IF('Bulk Gravity'!$U$25=\"\",\"\",'Bulk Gravity'!$U$25)","v":"Bulk SG"},{"$f":"IF('Bulk Gravity'!$B$26=\"\",\"\",'Bulk Gravity'!$B$26)","v":"Passing"},{"$f":"IF('Bulk Gravity'!$B$34=\"\",\"\",'Bulk Gravity'!$B$34)","v":"No. 16"},{"$f":"IF('Bulk Gravity'!$B$25=\"\",\"\",'Bulk Gravity'!$B$25)","v":"Sieve Size:"},{"$f":"IF('Bulk Gravity'!$C$26=\"\",\"\",'Bulk Gravity'!$C$26)","v":"Retained"},{"$f":"'Bulk Gravity'!$C$34","v":"No. 30"}]
[955,{"$f":"IF('Bulk Gravity'!$T$35=\"\",\"\",'Bulk Gravity'!$T$35)","v":""},{"$f":"IF('Bulk Gravity'!$B$4=\"\",\"\",'Bulk Gravity'!$B$4)","v":"HMACP MIXTURE DESIGN : BULK GRAVITY"},{"$f":"IF('Bulk Gravity'!$T$19=\"\",\"\",'Bulk Gravity'!$T$19)","v":"Bin No.5"},{"$f":"IF('Bulk Gravity'!$T$25=\"\",\"\",'Bulk Gravity'!$T$25)","v":"Individual Ret., %"},{"$f":"IF('Bulk Gravity'!$B$26=\"\",\"\",'Bulk Gravity'!$B$26)","v":"Passing"},{"$f":"IF('Bulk Gravity'!$B$35=\"\",\"\",'Bulk Gravity'!$B$35)","v":"No. 30"},{"$f":"IF('Bulk Gravity'!$B$25=\"\",\"\",'Bulk Gravity'!$B$25)","v":"Sieve Size:"},{"$f":"IF('Bulk Gravity'!$C$26=\"\",\"\",'Bulk Gravity'!$C$26)","v":"Retained"},{"$f":"'Bulk Gravity'!$C$35","v":"No. 50"}]
[956,{"$f":"IF('Bulk Gravity'!$U$35=\"\",\"\",'Bulk Gravity'!$U$35)","v":""},{"$f":"IF('Bulk Gravity'!$B$4=\"\",\"\",'Bulk Gravity'!$B$4)","v":"HMACP MIXTURE DESIGN : BULK GRAVITY"},{"$f":"IF('Bulk Gravity'!$T$19=\"\",\"\",'Bulk Gravity'!$T$19)","v":"Bin No.5"},{"$f":"IF('Bulk Gravity'!$U$25=\"\",\"\",'Bulk Gravity'!$U$25)","v":"Bulk SG"},{"$f":"IF('Bulk Gravity'!$B$26=\"\",\"\",'Bulk Gravity'!$B$26)","v":"Passing"},{"$f":"IF('Bulk Gravity'!$B$35=\"\",\"\",'Bulk Gravity'!$B$35)","v":"No. 30"},{"$f":"IF('Bulk Gravity'!$B$25=\"\",\"\",'Bulk Gravity'!$B$25)","v":"Sieve Size:"},{"$f":"IF('Bulk Gravity'!$C$26=\"\",\"\",'Bulk Gravity'!$C$26)","v":"Retained"},{"$f":"'Bulk Gravity'!$C$35","v":"No. 50"}]
[957,{"$f":"IF('Bulk Gravity'!$T$36=\"\",\"\",'Bulk Gravity'!$T$36)","v":""},{"$f":"IF('Bulk Gravity'!$B$4=\"\",\"\",'Bulk Gravity'!$B$4)","v":"HMACP MIXTURE DESIGN : BULK GRAVITY"},{"$f":"IF('Bulk Gravity'!$T$19=\"\",\"\",'Bulk Gravity'!$T$19)","v":"Bin No.5"},{"$f":"IF('Bulk Gravity'!$T$25=\"\",\"\",'Bulk Gravity'!$T$25)","v":"Individual Ret., %"},{"$f":"IF('Bulk Gravity'!$B$26=\"\",\"\",'Bulk Gravity'!$B$26)","v":"Passing"},{"$f":"IF('Bulk Gravity'!$B$36=\"\",\"\",'Bulk Gravity'!$B$36)","v":"No. 50"},{"$f":"IF('Bulk Gravity'!$B$25=\"\",\"\",'Bulk Gravity'!$B$25)","v":"Sieve Size:"},{"$f":"IF('Bulk Gravity'!$C$26=\"\",\"\",'Bulk Gravity'!$C$26)","v":"Retained"},{"$f":"'Bulk Gravity'!$C$36","v":"No. 200"}]
[958,{"$f":"IF('Bulk Gravity'!$U$36=\"\",\"\",'Bulk Gravity'!$U$36)","v":""},{"$f":"IF('Bulk Gravity'!$B$4=\"\",\"\",'Bulk Gravity'!$B$4)","v":"HMACP MIXTURE DESIGN : BULK GRAVITY"},{"$f":"IF('Bulk Gravity'!$T$19=\"\",\"\",'Bulk Gravity'!$T$19)","v":"Bin No.5"},{"$f":"IF('Bulk Gravity'!$U$25=\"\",\"\",'Bulk Gravity'!$U$25)","v":"Bulk SG"},{"$f":"IF('Bulk Gravity'!$B$26=\"\",\"\",'Bulk Gravity'!$B$26)","v":"Passing"},{"$f":"IF('Bulk Gravity'!$B$36=\"\",\"\",'Bulk Gravity'!$B$36)","v":"No. 50"},{"$f":"IF('Bulk Gravity'!$B$25=\"\",\"\",'Bulk Gravity'!$B$25)","v":"Sieve Size:"},{"$f":"IF('Bulk Gravity'!$C$26=\"\",\"\",'Bulk Gravity'!$C$26)","v":"Retained"},{"$f":"'Bulk Gravity'!$C$36","v":"No. 200"}]
[959,{"$f":"IF('Bulk Gravity'!$T$37=\"\",\"\",'Bulk Gravity'!$T$37)","v":""},{"$f":"IF('Bulk Gravity'!$B$4=\"\",\"\",'Bulk Gravity'!$B$4)","v":"HMACP MIXTURE DESIGN : BULK GRAVITY"},{"$f":"IF('Bulk Gravity'!$T$19=\"\",\"\",'Bulk Gravity'!$T$19)","v":"Bin No.5"},{"$f":"IF('Bulk Gravity'!$T$25=\"\",\"\",'Bulk Gravity'!$T$25)","v":"Individual Ret., %"},{"$f":"IF('Bulk Gravity'!$B$26=\"\",\"\",'Bulk Gravity'!$B$26)","v":"Passing"},{"$f":"IF('Bulk Gravity'!$B$37=\"\",\"\",'Bulk Gravity'!$B$37)","v":"No. 200"},{"$f":"IF('Bulk Gravity'!$B$25=\"\",\"\",'Bulk Gravity'!$B$25)","v":"Sieve Size:"},{"$f":"IF('Bulk Gravity'!$C$26=\"\",\"\",'Bulk Gravity'!$C$26)","v":"Retained"},{"$f":"'Bulk Gravity'!$C$37","v":"Pan"}]
[960,{"$f":"IF('Bulk Gravity'!$U$37=\"\",\"\",'Bulk Gravity'!$U$37)","v":""},{"$f":"IF('Bulk Gravity'!$B$4=\"\",\"\",'Bulk Gravity'!$B$4)","v":"HMACP MIXTURE DESIGN : BULK GRAVITY"},{"$f":"IF('Bulk Gravity'!$T$19=\"\",\"\",'Bulk Gravity'!$T$19)","v":"Bin No.5"},{"$f":"IF('Bulk Gravity'!$U$25=\"\",\"\",'Bulk Gravity'!$U$25)","v":"Bulk SG"},{"$f":"IF('Bulk Gravity'!$B$26=\"\",\"\",'Bulk Gravity'!$B$26)","v":"Passing"},{"$f":"IF('Bulk Gravity'!$B$37=\"\",\"\",'Bulk Gravity'!$B$37)","v":"No. 200"},{"$f":"IF('Bulk Gravity'!$B$25=\"\",\"\",'Bulk Gravity'!$B$25)","v":"Sieve Size:"},{"$f":"IF('Bulk Gravity'!$C$26=\"\",\"\",'Bulk Gravity'!$C$26)","v":"Retained"},{"$f":"'Bulk Gravity'!$C$37","v":"Pan"}]
[961,{"$f":"IF('Bulk Gravity'!$T$38=\"\",\"\",'Bulk Gravity'!$T$38)","v":""},{"$f":"IF('Bulk Gravity'!$B$4=\"\",\"\",'Bulk Gravity'!$B$4)","v":"HMACP MIXTURE DESIGN : BULK GRAVITY"},{"$f":"IF('Bulk Gravity'!$T$19=\"\",\"\",'Bulk Gravity'!$T$19)","v":"Bin No.5"},{"$f":"IF('Bulk Gravity'!$T$25=\"\",\"\",'Bulk Gravity'!$T$25)","v":"Individual Ret., %"},{"$f":"IF('Bulk Gravity'!$B$38=\"\",\"\",'Bulk Gravity'!$B$38)","v":"Totals"}]
[962,{"$f":"IF('Bulk Gravity'!$U$38=\"\",\"\",'Bulk Gravity'!$U$38)","v":""},{"$f":"IF('Bulk Gravity'!$B$4=\"\",\"\",'Bulk Gravity'!$B$4)","v":"HMACP MIXTURE DESIGN : BULK GRAVITY"},{"$f":"IF('Bulk Gravity'!$T$19=\"\",\"\",'Bulk Gravity'!$T$19)","v":"Bin No.5"},{"$f":"IF('Bulk Gravity'!$U$25=\"\",\"\",'Bulk Gravity'!$U$25)","v":"Bulk SG"},{"$f":"IF('Bulk Gravity'!$B$38=\"\",\"\",'Bulk Gravity'!$B$38)","v":"Totals"}]
[963,{"$f":"IF('Bulk Gravity'!$X$27=\"\",\"\",'Bulk Gravity'!$X$27)","v":""},{"$f":"IF('Bulk Gravity'!$B$4=\"\",\"\",'Bulk Gravity'!$B$4)","v":"HMACP MIXTURE DESIGN : BULK GRAVITY"},{"$f":"IF('Bulk Gravity'!$X$19=\"\",\"\",'Bulk Gravity'!$X$19)","v":"Bin No.6 "},{"$f":"IF('Bulk Gravity'!$X$25=\"\",\"\",'Bulk Gravity'!$X$25)","v":"Individual Ret., %"},{"$f":"IF('Bulk Gravity'!$B$26=\"\",\"\",'Bulk Gravity'!$B$26)","v":"Passing"},{"$f":"IF('Bulk Gravity'!$B$27=\"\",\"\",'Bulk Gravity'!$B$27)","v":""},{"$f":"IF('Bulk Gravity'!$B$25=\"\",\"\",'Bulk Gravity'!$B$25)","v":"Sieve Size:"},{"$f":"IF('Bulk Gravity'!$C$26=\"\",\"\",'Bulk Gravity'!$C$26)","v":"Retained"},{"$f":"'Bulk Gravity'!$C$27","v":"1\""}]
[964,{"$f":"IF('Bulk Gravity'!$Y$27=\"\",\"\",'Bulk Gravity'!$Y$27)","v":""},{"$f":"IF('Bulk Gravity'!$B$4=\"\",\"\",'Bulk Gravity'!$B$4)","v":"HMACP MIXTURE DESIGN : BULK GRAVITY"},{"$f":"IF('Bulk Gravity'!$X$19=\"\",\"\",'Bulk Gravity'!$X$19)","v":"Bin No.6 "},{"$f":"IF('Bulk Gravity'!$Y$25=\"\",\"\",'Bulk Gravity'!$Y$25)","v":"Bulk SG"},{"$f":"IF('Bulk Gravity'!$B$26=\"\",\"\",'Bulk Gravity'!$B$26)","v":"Passing"},{"$f":"IF('Bulk Gravity'!$B$27=\"\",\"\",'Bulk Gravity'!$B$27)","v":""},{"$f":"IF('Bulk Gravity'!$B$25=\"\",\"\",'Bulk Gravity'!$B$25)","v":"Sieve Size:"},{"$f":"IF('Bulk Gravity'!$C$26=\"\",\"\",'Bulk Gravity'!$C$26)","v":"Retained"},{"$f":"'Bulk Gravity'!$C$27","v":"1\""}]
[965,{"$f":"IF('Bulk Gravity'!$X$28=\"\",\"\",'Bulk Gravity'!$X$28)","v":""},{"$f":"IF('Bulk Gravity'!$B$4=\"\",\"\",'Bulk Gravity'!$B$4)","v":"HMACP MIXTURE DESIGN : BULK GRAVITY"},{"$f":"IF('Bulk Gravity'!$X$19=\"\",\"\",'Bulk Gravity'!$X$19)","v":"Bin No.6 "},{"$f":"IF('Bulk Gravity'!$X$25=\"\",\"\",'Bulk Gravity'!$X$25)","v":"Individual Ret., %"},{"$f":"IF('Bulk Gravity'!$B$26=\"\",\"\",'Bulk Gravity'!$B$26)","v":"Passing"},{"$f":"IF('Bulk Gravity'!$B$28=\"\",\"\",'Bulk Gravity'!$B$28)","v":"1\""},{"$f":"IF('Bulk Gravity'!$B$25=\"\",\"\",'Bulk Gravity'!$B$25)","v":"Sieve Size:"},{"$f":"IF('Bulk Gravity'!$C$26=\"\",\"\",'Bulk Gravity'!$C$26)","v":"Retained"},{"$f":"'Bulk Gravity'!$C$28","v":"3/4\""}]
[966,{"$f":"IF('Bulk Gravity'!$Y$28=\"\",\"\",'Bulk Gravity'!$Y$28)","v":""},{"$f":"IF('Bulk Gravity'!$B$4=\"\",\"\",'Bulk Gravity'!$B$4)","v":"HMACP MIXTURE DESIGN : BULK GRAVITY"},{"$f":"IF('Bulk Gravity'!$X$19=\"\",\"\",'Bulk Gravity'!$X$19)","v":"Bin No.6 "},{"$f":"IF('Bulk Gravity'!$Y$25=\"\",\"\",'Bulk Gravity'!$Y$25)","v":"Bulk SG"},{"$f":"IF('Bulk Gravity'!$B$26=\"\",\"\",'Bulk Gravity'!$B$26)","v":"Passing"},{"$f":"IF('Bulk Gravity'!$B$28=\"\",\"\",'Bulk Gravity'!$B$28)","v":"1\""},{"$f":"IF('Bulk Gravity'!$B$25=\"\",\"\",'Bulk Gravity'!$B$25)","v":"Sieve Size:"},{"$f":"IF('Bulk Gravity'!$C$26=\"\",\"\",'Bulk Gravity'!$C$26)","v":"Retained"},{"$f":"'Bulk Gravity'!$C$28","v":"3/4\""}]
[967,{"$f":"IF('Bulk Gravity'!$X$29=\"\",\"\",'Bulk Gravity'!$X$29)","v":""},{"$f":"IF('Bulk Gravity'!$B$4=\"\",\"\",'Bulk Gravity'!$B$4)","v":"HMACP MIXTURE DESIGN : BULK GRAVITY"},{"$f":"IF('Bulk Gravity'!$X$19=\"\",\"\",'Bulk Gravity'!$X$19)","v":"Bin No.6 "},{"$f":"IF('Bulk Gravity'!$X$25=\"\",\"\",'Bulk Gravity'!$X$25)","v":"Individual Ret., %"},{"$f":"IF('Bulk Gravity'!$B$26=\"\",\"\",'Bulk Gravity'!$B$26)","v":"Passing"},{"$f":"IF('Bulk Gravity'!$B$29=\"\",\"\",'Bulk Gravity'!$B$29)","v":"3/4\""},{"$f":"IF('Bulk Gravity'!$B$25=\"\",\"\",'Bulk Gravity'!$B$25)","v":"Sieve Size:"},{"$f":"IF('Bulk Gravity'!$C$26=\"\",\"\",'Bulk Gravity'!$C$26)","v":"Retained"},{"$f":"'Bulk Gravity'!$C$29","v":"1/2\""}]
[968,{"$f":"IF('Bulk Gravity'!$Y$29=\"\",\"\",'Bulk Gravity'!$Y$29)","v":""},{"$f":"IF('Bulk Gravity'!$B$4=\"\",\"\",'Bulk Gravity'!$B$4)","v":"HMACP MIXTURE DESIGN : BULK GRAVITY"},{"$f":"IF('Bulk Gravity'!$X$19=\"\",\"\",'Bulk Gravity'!$X$19)","v":"Bin No.6 "},{"$f":"IF('Bulk Gravity'!$Y$25=\"\",\"\",'Bulk Gravity'!$Y$25)","v":"Bulk SG"},{"$f":"IF('Bulk Gravity'!$B$26=\"\",\"\",'Bulk Gravity'!$B$26)","v":"Passing"},{"$f":"IF('Bulk Gravity'!$B$29=\"\",\"\",'Bulk Gravity'!$B$29)","v":"3/4\""},{"$f":"IF('Bulk Gravity'!$B$25=\"\",\"\",'Bulk Gravity'!$B$25)","v":"Sieve Size:"},{"$f":"IF('Bulk Gravity'!$C$26=\"\",\"\",'Bulk Gravity'!$C$26)","v":"Retained"},{"$f":"'Bulk Gravity'!$C$29","v":"1/2\""}]
[969,{"$f":"IF('Bulk Gravity'!$X$30=\"\",\"\",'Bulk Gravity'!$X$30)","v":""},{"$f":"IF('Bulk Gravity'!$B$4=\"\",\"\",'Bulk Gravity'!$B$4)","v":"HMACP MIXTURE DESIGN : BULK GRAVITY"},{"$f":"IF('Bulk Gravity'!$X$19=\"\",\"\",'Bulk Gravity'!$X$19)","v":"Bin No.6 "},{"$f":"IF('Bulk Gravity'!$X$25=\"\",\"\",'Bulk Gravity'!$X$25)","v":"Individual Ret., %"},{"$f":"IF('Bulk Gravity'!$B$26=\"\",\"\",'Bulk Gravity'!$B$26)","v":"Passing"},{"$f":"IF('Bulk Gravity'!$B$30=\"\",\"\",'Bulk Gravity'!$B$30)","v":"1/2\""},{"$f":"IF('Bulk Gravity'!$B$25=\"\",\"\",'Bulk Gravity'!$B$25)","v":"Sieve Size:"},{"$f":"IF('Bulk Gravity'!$C$26=\"\",\"\",'Bulk Gravity'!$C$26)","v":"Retained"},{"$f":"'Bulk Gravity'!$C$30","v":"3/8\""}]
[970,{"$f":"IF('Bulk Gravity'!$Y$30=\"\",\"\",'Bulk Gravity'!$Y$30)","v":""},{"$f":"IF('Bulk Gravity'!$B$4=\"\",\"\",'Bulk Gravity'!$B$4)","v":"HMACP MIXTURE DESIGN : BULK GRAVITY"},{"$f":"IF('Bulk Gravity'!$X$19=\"\",\"\",'Bulk Gravity'!$X$19)","v":"Bin No.6 "},{"$f":"IF('Bulk Gravity'!$Y$25=\"\",\"\",'Bulk Gravity'!$Y$25)","v":"Bulk SG"},{"$f":"IF('Bulk Gravity'!$B$26=\"\",\"\",'Bulk Gravity'!$B$26)","v":"Passing"},{"$f":"IF('Bulk Gravity'!$B$30=\"\",\"\",'Bulk Gravity'!$B$30)","v":"1/2\""},{"$f":"IF('Bulk Gravity'!$B$25=\"\",\"\",'Bulk Gravity'!$B$25)","v":"Sieve Size:"},{"$f":"IF('Bulk Gravity'!$C$26=\"\",\"\",'Bulk Gravity'!$C$26)","v":"Retained"},{"$f":"'Bulk Gravity'!$C$30","v":"3/8\""}]
[971,{"$f":"IF('Bulk Gravity'!$X$31=\"\",\"\",'Bulk Gravity'!$X$31)","v":""},{"$f":"IF('Bulk Gravity'!$B$4=\"\",\"\",'Bulk Gravity'!$B$4)","v":"HMACP MIXTURE DESIGN : BULK GRAVITY"},{"$f":"IF('Bulk Gravity'!$X$19=\"\",\"\",'Bulk Gravity'!$X$19)","v":"Bin No.6 "},{"$f":"IF('Bulk Gravity'!$X$25=\"\",\"\",'Bulk Gravity'!$X$25)","v":"Individual Ret., %"},{"$f":"IF('Bulk Gravity'!$B$26=\"\",\"\",'Bulk Gravity'!$B$26)","v":"Passing"},{"$f":"IF('Bulk Gravity'!$B$31=\"\",\"\",'Bulk Gravity'!$B$31)","v":"3/8\""},{"$f":"IF('Bulk Gravity'!$B$25=\"\",\"\",'Bulk Gravity'!$B$25)","v":"Sieve Size:"},{"$f":"IF('Bulk Gravity'!$C$26=\"\",\"\",'Bulk Gravity'!$C$26)","v":"Retained"},{"$f":"'Bulk Gravity'!$C$31","v":"No. 4"}]
[972,{"$f":"IF('Bulk Gravity'!$Y$31=\"\",\"\",'Bulk Gravity'!$Y$31)","v":""},{"$f":"IF('Bulk Gravity'!$B$4=\"\",\"\",'Bulk Gravity'!$B$4)","v":"HMACP MIXTURE DESIGN : BULK GRAVITY"},{"$f":"IF('Bulk Gravity'!$X$19=\"\",\"\",'Bulk Gravity'!$X$19)","v":"Bin No.6 "},{"$f":"IF('Bulk Gravity'!$Y$25=\"\",\"\",'Bulk Gravity'!$Y$25)","v":"Bulk SG"},{"$f":"IF('Bulk Gravity'!$B$26=\"\",\"\",'Bulk Gravity'!$B$26)","v":"Passing"},{"$f":"IF('Bulk Gravity'!$B$31=\"\",\"\",'Bulk Gravity'!$B$31)","v":"3/8\""},{"$f":"IF('Bulk Gravity'!$B$25=\"\",\"\",'Bulk Gravity'!$B$25)","v":"Sieve Size:"},{"$f":"IF('Bulk Gravity'!$C$26=\"\",\"\",'Bulk Gravity'!$C$26)","v":"Retained"},{"$f":"'Bulk Gravity'!$C$31","v":"No. 4"}]
[973,{"$f":"IF('Bulk Gravity'!$X$32=\"\",\"\",'Bulk Gravity'!$X$32)","v":""},{"$f":"IF('Bulk Gravity'!$B$4=\"\",\"\",'Bulk Gravity'!$B$4)","v":"HMACP MIXTURE DESIGN : BULK GRAVITY"},{"$f":"IF('Bulk Gravity'!$X$19=\"\",\"\",'Bulk Gravity'!$X$19)","v":"Bin No.6 "},{"$f":"IF('Bulk Gravity'!$X$25=\"\",\"\",'Bulk Gravity'!$X$25)","v":"Individual Ret., %"},{"$f":"IF('Bulk Gravity'!$B$26=\"\",\"\",'Bulk Gravity'!$B$26)","v":"Passing"},{"$f":"IF('Bulk Gravity'!$B$32=\"\",\"\",'Bulk Gravity'!$B$32)","v":"No. 4"},{"$f":"IF('Bulk Gravity'!$B$25=\"\",\"\",'Bulk Gravity'!$B$25)","v":"Sieve Size:"},{"$f":"IF('Bulk Gravity'!$C$26=\"\",\"\",'Bulk Gravity'!$C$26)","v":"Retained"},{"$f":"'Bulk Gravity'!$C$32","v":"No. 8"}]
[974,{"$f":"IF('Bulk Gravity'!$Y$32=\"\",\"\",'Bulk Gravity'!$Y$32)","v":""},{"$f":"IF('Bulk Gravity'!$B$4=\"\",\"\",'Bulk Gravity'!$B$4)","v":"HMACP MIXTURE DESIGN : BULK GRAVITY"},{"$f":"IF('Bulk Gravity'!$X$19=\"\",\"\",'Bulk Gravity'!$X$19)","v":"Bin No.6 "},{"$f":"IF('Bulk Gravity'!$Y$25=\"\",\"\",'Bulk Gravity'!$Y$25)","v":"Bulk SG"},{"$f":"IF('Bulk Gravity'!$B$26=\"\",\"\",'Bulk Gravity'!$B$26)","v":"Passing"},{"$f":"IF('Bulk Gravity'!$B$32=\"\",\"\",'Bulk Gravity'!$B$32)","v":"No. 4"},{"$f":"IF('Bulk Gravity'!$B$25=\"\",\"\",'Bulk Gravity'!$B$25)","v":"Sieve Size:"},{"$f":"IF('Bulk Gravity'!$C$26=\"\",\"\",'Bulk Gravity'!$C$26)","v":"Retained"},{"$f":"'Bulk Gravity'!$C$32","v":"No. 8"}]
[975,{"$f":"IF('Bulk Gravity'!$X$33=\"\",\"\",'Bulk Gravity'!$X$33)","v":""},{"$f":"IF('Bulk Gravity'!$B$4=\"\",\"\",'Bulk Gravity'!$B$4)","v":"HMACP MIXTURE DESIGN : BULK GRAVITY"},{"$f":"IF('Bulk Gravity'!$X$19=\"\",\"\",'Bulk Gravity'!$X$19)","v":"Bin No.6 "},{"$f":"IF('Bulk Gravity'!$X$25=\"\",\"\",'Bulk Gravity'!$X$25)","v":"Individual Ret., %"},{"$f":"IF('Bulk Gravity'!$B$26=\"\",\"\",'Bulk Gravity'!$B$26)","v":"Passing"},{"$f":"IF('Bulk Gravity'!$B$33=\"\",\"\",'Bulk Gravity'!$B$33)","v":"No. 8"},{"$f":"IF('Bulk Gravity'!$B$25=\"\",\"\",'Bulk Gravity'!$B$25)","v":"Sieve Size:"},{"$f":"IF('Bulk Gravity'!$C$26=\"\",\"\",'Bulk Gravity'!$C$26)","v":"Retained"},{"$f":"'Bulk Gravity'!$C$33","v":"No. 16"}]
[976,{"$f":"IF('Bulk Gravity'!$Y$33=\"\",\"\",'Bulk Gravity'!$Y$33)","v":""},{"$f":"IF('Bulk Gravity'!$B$4=\"\",\"\",'Bulk Gravity'!$B$4)","v":"HMACP MIXTURE DESIGN : BULK GRAVITY"},{"$f":"IF('Bulk Gravity'!$X$19=\"\",\"\",'Bulk Gravity'!$X$19)","v":"Bin No.6 "},{"$f":"IF('Bulk Gravity'!$Y$25=\"\",\"\",'Bulk Gravity'!$Y$25)","v":"Bulk SG"},{"$f":"IF('Bulk Gravity'!$B$26=\"\",\"\",'Bulk Gravity'!$B$26)","v":"Passing"},{"$f":"IF('Bulk Gravity'!$B$33=\"\",\"\",'Bulk Gravity'!$B$33)","v":"No. 8"},{"$f":"IF('Bulk Gravity'!$B$25=\"\",\"\",'Bulk Gravity'!$B$25)","v":"Sieve Size:"},{"$f":"IF('Bulk Gravity'!$C$26=\"\",\"\",'Bulk Gravity'!$C$26)","v":"Retained"},{"$f":"'Bulk Gravity'!$C$33","v":"No. 16"}]
[977,{"$f":"IF('Bulk Gravity'!$X$34=\"\",\"\",'Bulk Gravity'!$X$34)","v":""},{"$f":"IF('Bulk Gravity'!$B$4=\"\",\"\",'Bulk Gravity'!$B$4)","v":"HMACP MIXTURE DESIGN : BULK GRAVITY"},{"$f":"IF('Bulk Gravity'!$X$19=\"\",\"\",'Bulk Gravity'!$X$19)","v":"Bin No.6 "},{"$f":"IF('Bulk Gravity'!$X$25=\"\",\"\",'Bulk Gravity'!$X$25)","v":"Individual Ret., %"},{"$f":"IF('Bulk Gravity'!$B$26=\"\",\"\",'Bulk Gravity'!$B$26)","v":"Passing"},{"$f":"IF('Bulk Gravity'!$B$34=\"\",\"\",'Bulk Gravity'!$B$34)","v":"No. 16"},{"$f":"IF('Bulk Gravity'!$B$25=\"\",\"\",'Bulk Gravity'!$B$25)","v":"Sieve Size:"},{"$f":"IF('Bulk Gravity'!$C$26=\"\",\"\",'Bulk Gravity'!$C$26)","v":"Retained"},{"$f":"'Bulk Gravity'!$C$34","v":"No. 30"}]
[978,{"$f":"IF('Bulk Gravity'!$Y$34=\"\",\"\",'Bulk Gravity'!$Y$34)","v":""},{"$f":"IF('Bulk Gravity'!$B$4=\"\",\"\",'Bulk Gravity'!$B$4)","v":"HMACP MIXTURE DESIGN : BULK GRAVITY"},{"$f":"IF('Bulk Gravity'!$X$19=\"\",\"\",'Bulk Gravity'!$X$19)","v":"Bin No.6 "},{"$f":"IF('Bulk Gravity'!$Y$25=\"\",\"\",'Bulk Gravity'!$Y$25)","v":"Bulk SG"},{"$f":"IF('Bulk Gravity'!$B$26=\"\",\"\",'Bulk Gravity'!$B$26)","v":"Passing"},{"$f":"IF('Bulk Gravity'!$B$34=\"\",\"\",'Bulk Gravity'!$B$34)","v":"No. 16"},{"$f":"IF('Bulk Gravity'!$B$25=\"\",\"\",'Bulk Gravity'!$B$25)","v":"Sieve Size:"},{"$f":"IF('Bulk Gravity'!$C$26=\"\",\"\",'Bulk Gravity'!$C$26)","v":"Retained"},{"$f":"'Bulk Gravity'!$C$34","v":"No. 30"}]
[979,{"$f":"IF('Bulk Gravity'!$X$35=\"\",\"\",'Bulk Gravity'!$X$35)","v":""},{"$f":"IF('Bulk Gravity'!$B$4=\"\",\"\",'Bulk Gravity'!$B$4)","v":"HMACP MIXTURE DESIGN : BULK GRAVITY"},{"$f":"IF('Bulk Gravity'!$X$19=\"\",\"\",'Bulk Gravity'!$X$19)","v":"Bin No.6 "},{"$f":"IF('Bulk Gravity'!$X$25=\"\",\"\",'Bulk Gravity'!$X$25)","v":"Individual Ret., %"},{"$f":"IF('Bulk Gravity'!$B$26=\"\",\"\",'Bulk Gravity'!$B$26)","v":"Passing"},{"$f":"IF('Bulk Gravity'!$B$35=\"\",\"\",'Bulk Gravity'!$B$35)","v":"No. 30"},{"$f":"IF('Bulk Gravity'!$B$25=\"\",\"\",'Bulk Gravity'!$B$25)","v":"Sieve Size:"},{"$f":"IF('Bulk Gravity'!$C$26=\"\",\"\",'Bulk Gravity'!$C$26)","v":"Retained"},{"$f":"'Bulk Gravity'!$C$35","v":"No. 50"}]
[980,{"$f":"IF('Bulk Gravity'!$Y$35=\"\",\"\",'Bulk Gravity'!$Y$35)","v":""},{"$f":"IF('Bulk Gravity'!$B$4=\"\",\"\",'Bulk Gravity'!$B$4)","v":"HMACP MIXTURE DESIGN : BULK GRAVITY"},{"$f":"IF('Bulk Gravity'!$X$19=\"\",\"\",'Bulk Gravity'!$X$19)","v":"Bin No.6 "},{"$f":"IF('Bulk Gravity'!$Y$25=\"\",\"\",'Bulk Gravity'!$Y$25)","v":"Bulk SG"},{"$f":"IF('Bulk Gravity'!$B$26=\"\",\"\",'Bulk Gravity'!$B$26)","v":"Passing"},{"$f":"IF('Bulk Gravity'!$B$35=\"\",\"\",'Bulk Gravity'!$B$35)","v":"No. 30"},{"$f":"IF('Bulk Gravity'!$B$25=\"\",\"\",'Bulk Gravity'!$B$25)","v":"Sieve Size:"},{"$f":"IF('Bulk Gravity'!$C$26=\"\",\"\",'Bulk Gravity'!$C$26)","v":"Retained"},{"$f":"'Bulk Gravity'!$C$35","v":"No. 50"}]
[981,{"$f":"IF('Bulk Gravity'!$X$36=\"\",\"\",'Bulk Gravity'!$X$36)","v":""},{"$f":"IF('Bulk Gravity'!$B$4=\"\",\"\",'Bulk Gravity'!$B$4)","v":"HMACP MIXTURE DESIGN : BULK GRAVITY"},{"$f":"IF('Bulk Gravity'!$X$19=\"\",\"\",'Bulk Gravity'!$X$19)","v":"Bin No.6 "},{"$f":"IF('Bulk Gravity'!$X$25=\"\",\"\",'Bulk Gravity'!$X$25)","v":"Individual Ret., %"},{"$f":"IF('Bulk Gravity'!$B$26=\"\",\"\",'Bulk Gravity'!$B$26)","v":"Passing"},{"$f":"IF('Bulk Gravity'!$B$36=\"\",\"\",'Bulk Gravity'!$B$36)","v":"No. 50"},{"$f":"IF('Bulk Gravity'!$B$25=\"\",\"\",'Bulk Gravity'!$B$25)","v":"Sieve Size:"},{"$f":"IF('Bulk Gravity'!$C$26=\"\",\"\",'Bulk Gravity'!$C$26)","v":"Retained"},{"$f":"'Bulk Gravity'!$C$36","v":"No. 200"}]
[982,{"$f":"IF('Bulk Gravity'!$Y$36=\"\",\"\",'Bulk Gravity'!$Y$36)","v":""},{"$f":"IF('Bulk Gravity'!$B$4=\"\",\"\",'Bulk Gravity'!$B$4)","v":"HMACP MIXTURE DESIGN : BULK GRAVITY"},{"$f":"IF('Bulk Gravity'!$X$19=\"\",\"\",'Bulk Gravity'!$X$19)","v":"Bin No.6 "},{"$f":"IF('Bulk Gravity'!$Y$25=\"\",\"\",'Bulk Gravity'!$Y$25)","v":"Bulk SG"},{"$f":"IF('Bulk Gravity'!$B$26=\"\",\"\",'Bulk Gravity'!$B$26)","v":"Passing"},{"$f":"IF('Bulk Gravity'!$B$36=\"\",\"\",'Bulk Gravity'!$B$36)","v":"No. 50"},{"$f":"IF('Bulk Gravity'!$B$25=\"\",\"\",'Bulk Gravity'!$B$25)","v":"Sieve Size:"},{"$f":"IF('Bulk Gravity'!$C$26=\"\",\"\",'Bulk Gravity'!$C$26)","v":"Retained"},{"$f":"'Bulk Gravity'!$C$36","v":"No. 200"}]
[983,{"$f":"IF('Bulk Gravity'!$X$37=\"\",\"\",'Bulk Gravity'!$X$37)","v":""},{"$f":"IF('Bulk Gravity'!$B$4=\"\",\"\",'Bulk Gravity'!$B$4)","v":"HMACP MIXTURE DESIGN : BULK GRAVITY"},{"$f":"IF('Bulk Gravity'!$X$19=\"\",\"\",'Bulk Gravity'!$X$19)","v":"Bin No.6 "},{"$f":"IF('Bulk Gravity'!$X$25=\"\",\"\",'Bulk Gravity'!$X$25)","v":"Individual Ret., %"},{"$f":"IF('Bulk Gravity'!$B$26=\"\",\"\",'Bulk Gravity'!$B$26)","v":"Passing"},{"$f":"IF('Bulk Gravity'!$B$37=\"\",\"\",'Bulk Gravity'!$B$37)","v":"No. 200"},{"$f":"IF('Bulk Gravity'!$B$25=\"\",\"\",'Bulk Gravity'!$B$25)","v":"Sieve Size:"},{"$f":"IF('Bulk Gravity'!$C$26=\"\",\"\",'Bulk Gravity'!$C$26)","v":"Retained"},{"$f":"'Bulk Gravity'!$C$37","v":"Pan"}]
[984,{"$f":"IF('Bulk Gravity'!$Y$37=\"\",\"\",'Bulk Gravity'!$Y$37)","v":""},{"$f":"IF('Bulk Gravity'!$B$4=\"\",\"\",'Bulk Gravity'!$B$4)","v":"HMACP MIXTURE DESIGN : BULK GRAVITY"},{"$f":"IF('Bulk Gravity'!$X$19=\"\",\"\",'Bulk Gravity'!$X$19)","v":"Bin No.6 "},{"$f":"IF('Bulk Gravity'!$Y$25=\"\",\"\",'Bulk Gravity'!$Y$25)","v":"Bulk SG"},{"$f":"IF('Bulk Gravity'!$B$26=\"\",\"\",'Bulk Gravity'!$B$26)","v":"Passing"},{"$f":"IF('Bulk Gravity'!$B$37=\"\",\"\",'Bulk Gravity'!$B$37)","v":"No. 200"},{"$f":"IF('Bulk Gravity'!$B$25=\"\",\"\",'Bulk Gravity'!$B$25)","v":"Sieve Size:"},{"$f":"IF('Bulk Gravity'!$C$26=\"\",\"\",'Bulk Gravity'!$C$26)","v":"Retained"},{"$f":"'Bulk Gravity'!$C$37","v":"Pan"}]
[985,{"$f":"IF('Bulk Gravity'!$X$38=\"\",\"\",'Bulk Gravity'!$X$38)","v":""},{"$f":"IF('Bulk Gravity'!$B$4=\"\",\"\",'Bulk Gravity'!$B$4)","v":"HMACP MIXTURE DESIGN : BULK GRAVITY"},{"$f":"IF('Bulk Gravity'!$X$19=\"\",\"\",'Bulk Gravity'!$X$19)","v":"Bin No.6 "},{"$f":"IF('Bulk Gravity'!$X$25=\"\",\"\",'Bulk Gravity'!$X$25)","v":"Individual Ret., %"},{"$f":"IF('Bulk Gravity'!$B$38=\"\",\"\",'Bulk Gravity'!$B$38)","v":"Totals"}]
[986,{"$f":"IF('Bulk Gravity'!$Y$38=\"\",\"\",'Bulk Gravity'!$Y$38)","v":""},{"$f":"IF('Bulk Gravity'!$B$4=\"\",\"\",'Bulk Gravity'!$B$4)","v":"HMACP MIXTURE DESIGN : BULK GRAVITY"},{"$f":"IF('Bulk Gravity'!$X$19=\"\",\"\",'Bulk Gravity'!$X$19)","v":"Bin No.6 "},{"$f":"IF('Bulk Gravity'!$Y$25=\"\",\"\",'Bulk Gravity'!$Y$25)","v":"Bulk SG"},{"$f":"IF('Bulk Gravity'!$B$38=\"\",\"\",'Bulk Gravity'!$B$38)","v":"Totals"}]
[987,{"$f":"IF('Bulk Gravity'!$AB$27=\"\",\"\",'Bulk Gravity'!$AB$27)","v":""},{"$f":"IF('Bulk Gravity'!$B$4=\"\",\"\",'Bulk Gravity'!$B$4)","v":"HMACP MIXTURE DESIGN : BULK GRAVITY"},{"$f":"IF('Bulk Gravity'!$AB$19=\"\",\"\",'Bulk Gravity'!$AB$19)","v":"Bin No.7 "},{"$f":"IF('Bulk Gravity'!$AB$25=\"\",\"\",'Bulk Gravity'!$AB$25)","v":"Individual Ret., %"},{"$f":"IF('Bulk Gravity'!$B$26=\"\",\"\",'Bulk Gravity'!$B$26)","v":"Passing"},{"$f":"IF('Bulk Gravity'!$B$27=\"\",\"\",'Bulk Gravity'!$B$27)","v":""},{"$f":"IF('Bulk Gravity'!$B$25=\"\",\"\",'Bulk Gravity'!$B$25)","v":"Sieve Size:"},{"$f":"IF('Bulk Gravity'!$C$26=\"\",\"\",'Bulk Gravity'!$C$26)","v":"Retained"},{"$f":"'Bulk Gravity'!$C$27","v":"1\""}]
[988,{"$f":"IF('Bulk Gravity'!$AC$27=\"\",\"\",'Bulk Gravity'!$AC$27)","v":""},{"$f":"IF('Bulk Gravity'!$B$4=\"\",\"\",'Bulk Gravity'!$B$4)","v":"HMACP MIXTURE DESIGN : BULK GRAVITY"},{"$f":"IF('Bulk Gravity'!$AB$19=\"\",\"\",'Bulk Gravity'!$AB$19)","v":"Bin No.7 "},{"$f":"IF('Bulk Gravity'!$AC$25=\"\",\"\",'Bulk Gravity'!$AC$25)","v":"Bulk SG"},{"$f":"IF('Bulk Gravity'!$B$26=\"\",\"\",'Bulk Gravity'!$B$26)","v":"Passing"},{"$f":"IF('Bulk Gravity'!$B$27=\"\",\"\",'Bulk Gravity'!$B$27)","v":""},{"$f":"IF('Bulk Gravity'!$B$25=\"\",\"\",'Bulk Gravity'!$B$25)","v":"Sieve Size:"},{"$f":"IF('Bulk Gravity'!$C$26=\"\",\"\",'Bulk Gravity'!$C$26)","v":"Retained"},{"$f":"'Bulk Gravity'!$C$27","v":"1\""}]
[989,{"$f":"IF('Bulk Gravity'!$AB$28=\"\",\"\",'Bulk Gravity'!$AB$28)","v":""},{"$f":"IF('Bulk Gravity'!$B$4=\"\",\"\",'Bulk Gravity'!$B$4)","v":"HMACP MIXTURE DESIGN : BULK GRAVITY"},{"$f":"IF('Bulk Gravity'!$AB$19=\"\",\"\",'Bulk Gravity'!$AB$19)","v":"Bin No.7 "},{"$f":"IF('Bulk Gravity'!$AB$25=\"\",\"\",'Bulk Gravity'!$AB$25)","v":"Individual Ret., %"},{"$f":"IF('Bulk Gravity'!$B$26=\"\",\"\",'Bulk Gravity'!$B$26)","v":"Passing"},{"$f":"IF('Bulk Gravity'!$B$28=\"\",\"\",'Bulk Gravity'!$B$28)","v":"1\""},{"$f":"IF('Bulk Gravity'!$B$25=\"\",\"\",'Bulk Gravity'!$B$25)","v":"Sieve Size:"},{"$f":"IF('Bulk Gravity'!$C$26=\"\",\"\",'Bulk Gravity'!$C$26)","v":"Retained"},{"$f":"'Bulk Gravity'!$C$28","v":"3/4\""}]
[990,{"$f":"IF('Bulk Gravity'!$AC$28=\"\",\"\",'Bulk Gravity'!$AC$28)","v":""},{"$f":"IF('Bulk Gravity'!$B$4=\"\",\"\",'Bulk Gravity'!$B$4)","v":"HMACP MIXTURE DESIGN : BULK GRAVITY"},{"$f":"IF('Bulk Gravity'!$AB$19=\"\",\"\",'Bulk Gravity'!$AB$19)","v":"Bin No.7 "},{"$f":"IF('Bulk Gravity'!$AC$25=\"\",\"\",'Bulk Gravity'!$AC$25)","v":"Bulk SG"},{"$f":"IF('Bulk Gravity'!$B$26=\"\",\"\",'Bulk Gravity'!$B$26)","v":"Passing"},{"$f":"IF('Bulk Gravity'!$B$28=\"\",\"\",'Bulk Gravity'!$B$28)","v":"1\""},{"$f":"IF('Bulk Gravity'!$B$25=\"\",\"\",'Bulk Gravity'!$B$25)","v":"Sieve Size:"},{"$f":"IF('Bulk Gravity'!$C$26=\"\",\"\",'Bulk Gravity'!$C$26)","v":"Retained"},{"$f":"'Bulk Gravity'!$C$28","v":"3/4\""}]
[991,{"$f":"IF('Bulk Gravity'!$AB$29=\"\",\"\",'Bulk Gravity'!$AB$29)","v":""},{"$f":"IF('Bulk Gravity'!$B$4=\"\",\"\",'Bulk Gravity'!$B$4)","v":"HMACP MIXTURE DESIGN : BULK GRAVITY"},{"$f":"IF('Bulk Gravity'!$AB$19=\"\",\"\",'Bulk Gravity'!$AB$19)","v":"Bin No.7 "},{"$f":"IF('Bulk Gravity'!$AB$25=\"\",\"\",'Bulk Gravity'!$AB$25)","v":"Individual Ret., %"},{"$f":"IF('Bulk Gravity'!$B$26=\"\",\"\",'Bulk Gravity'!$B$26)","v":"Passing"},{"$f":"IF('Bulk Gravity'!$B$29=\"\",\"\",'Bulk Gravity'!$B$29)","v":"3/4\""},{"$f":"IF('Bulk Gravity'!$B$25=\"\",\"\",'Bulk Gravity'!$B$25)","v":"Sieve Size:"},{"$f":"IF('Bulk Gravity'!$C$26=\"\",\"\",'Bulk Gravity'!$C$26)","v":"Retained"},{"$f":"'Bulk Gravity'!$C$29","v":"1/2\""}]
[992,{"$f":"IF('Bulk Gravity'!$AC$29=\"\",\"\",'Bulk Gravity'!$AC$29)","v":""},{"$f":"IF('Bulk Gravity'!$B$4=\"\",\"\",'Bulk Gravity'!$B$4)","v":"HMACP MIXTURE DESIGN : BULK GRAVITY"},{"$f":"IF('Bulk Gravity'!$AB$19=\"\",\"\",'Bulk Gravity'!$AB$19)","v":"Bin No.7 "},{"$f":"IF('Bulk Gravity'!$AC$25=\"\",\"\",'Bulk Gravity'!$AC$25)","v":"Bulk SG"},{"$f":"IF('Bulk Gravity'!$B$26=\"\",\"\",'Bulk Gravity'!$B$26)","v":"Passing"},{"$f":"IF('Bulk Gravity'!$B$29=\"\",\"\",'Bulk Gravity'!$B$29)","v":"3/4\""},{"$f":"IF('Bulk Gravity'!$B$25=\"\",\"\",'Bulk Gravity'!$B$25)","v":"Sieve Size:"},{"$f":"IF('Bulk Gravity'!$C$26=\"\",\"\",'Bulk Gravity'!$C$26)","v":"Retained"},{"$f":"'Bulk Gravity'!$C$29","v":"1/2\""}]
[993,{"$f":"IF('Bulk Gravity'!$AB$30=\"\",\"\",'Bulk Gravity'!$AB$30)","v":""},{"$f":"IF('Bulk Gravity'!$B$4=\"\",\"\",'Bulk Gravity'!$B$4)","v":"HMACP MIXTURE DESIGN : BULK GRAVITY"},{"$f":"IF('Bulk Gravity'!$AB$19=\"\",\"\",'Bulk Gravity'!$AB$19)","v":"Bin No.7 "},{"$f":"IF('Bulk Gravity'!$AB$25=\"\",\"\",'Bulk Gravity'!$AB$25)","v":"Individual Ret., %"},{"$f":"IF('Bulk Gravity'!$B$26=\"\",\"\",'Bulk Gravity'!$B$26)","v":"Passing"},{"$f":"IF('Bulk Gravity'!$B$30=\"\",\"\",'Bulk Gravity'!$B$30)","v":"1/2\""},{"$f":"IF('Bulk Gravity'!$B$25=\"\",\"\",'Bulk Gravity'!$B$25)","v":"Sieve Size:"},{"$f":"IF('Bulk Gravity'!$C$26=\"\",\"\",'Bulk Gravity'!$C$26)","v":"Retained"},{"$f":"'Bulk Gravity'!$C$30","v":"3/8\""}]
[994,{"$f":"IF('Bulk Gravity'!$AC$30=\"\",\"\",'Bulk Gravity'!$AC$30)","v":""},{"$f":"IF('Bulk Gravity'!$B$4=\"\",\"\",'Bulk Gravity'!$B$4)","v":"HMACP MIXTURE DESIGN : BULK GRAVITY"},{"$f":"IF('Bulk Gravity'!$AB$19=\"\",\"\",'Bulk Gravity'!$AB$19)","v":"Bin No.7 "},{"$f":"IF('Bulk Gravity'!$AC$25=\"\",\"\",'Bulk Gravity'!$AC$25)","v":"Bulk SG"},{"$f":"IF('Bulk Gravity'!$B$26=\"\",\"\",'Bulk Gravity'!$B$26)","v":"Passing"},{"$f":"IF('Bulk Gravity'!$B$30=\"\",\"\",'Bulk Gravity'!$B$30)","v":"1/2\""},{"$f":"IF('Bulk Gravity'!$B$25=\"\",\"\",'Bulk Gravity'!$B$25)","v":"Sieve Size:"},{"$f":"IF('Bulk Gravity'!$C$26=\"\",\"\",'Bulk Gravity'!$C$26)","v":"Retained"},{"$f":"'Bulk Gravity'!$C$30","v":"3/8\""}]
[995,{"$f":"IF('Bulk Gravity'!$AB$31=\"\",\"\",'Bulk Gravity'!$AB$31)","v":""},{"$f":"IF('Bulk Gravity'!$B$4=\"\",\"\",'Bulk Gravity'!$B$4)","v":"HMACP MIXTURE DESIGN : BULK GRAVITY"},{"$f":"IF('Bulk Gravity'!$AB$19=\"\",\"\",'Bulk Gravity'!$AB$19)","v":"Bin No.7 "},{"$f":"IF('Bulk Gravity'!$AB$25=\"\",\"\",'Bulk Gravity'!$AB$25)","v":"Individual Ret., %"},{"$f":"IF('Bulk Gravity'!$B$26=\"\",\"\",'Bulk Gravity'!$B$26)","v":"Passing"},{"$f":"IF('Bulk Gravity'!$B$31=\"\",\"\",'Bulk Gravity'!$B$31)","v":"3/8\""},{"$f":"IF('Bulk Gravity'!$B$25=\"\",\"\",'Bulk Gravity'!$B$25)","v":"Sieve Size:"},{"$f":"IF('Bulk Gravity'!$C$26=\"\",\"\",'Bulk Gravity'!$C$26)","v":"Retained"},{"$f":"'Bulk Gravity'!$C$31","v":"No. 4"}]
[996,{"$f":"IF('Bulk Gravity'!$AC$31=\"\",\"\",'Bulk Gravity'!$AC$31)","v":""},{"$f":"IF('Bulk Gravity'!$B$4=\"\",\"\",'Bulk Gravity'!$B$4)","v":"HMACP MIXTURE DESIGN : BULK GRAVITY"},{"$f":"IF('Bulk Gravity'!$AB$19=\"\",\"\",'Bulk Gravity'!$AB$19)","v":"Bin No.7 "},{"$f":"IF('Bulk Gravity'!$AC$25=\"\",\"\",'Bulk Gravity'!$AC$25)","v":"Bulk SG"},{"$f":"IF('Bulk Gravity'!$B$26=\"\",\"\",'Bulk Gravity'!$B$26)","v":"Passing"},{"$f":"IF('Bulk Gravity'!$B$31=\"\",\"\",'Bulk Gravity'!$B$31)","v":"3/8\""},{"$f":"IF('Bulk Gravity'!$B$25=\"\",\"\",'Bulk Gravity'!$B$25)","v":"Sieve Size:"},{"$f":"IF('Bulk Gravity'!$C$26=\"\",\"\",'Bulk Gravity'!$C$26)","v":"Retained"},{"$f":"'Bulk Gravity'!$C$31","v":"No. 4"}]
[997,{"$f":"IF('Bulk Gravity'!$AB$32=\"\",\"\",'Bulk Gravity'!$AB$32)","v":""},{"$f":"IF('Bulk Gravity'!$B$4=\"\",\"\",'Bulk Gravity'!$B$4)","v":"HMACP MIXTURE DESIGN : BULK GRAVITY"},{"$f":"IF('Bulk Gravity'!$AB$19=\"\",\"\",'Bulk Gravity'!$AB$19)","v":"Bin No.7 "},{"$f":"IF('Bulk Gravity'!$AB$25=\"\",\"\",'Bulk Gravity'!$AB$25)","v":"Individual Ret., %"},{"$f":"IF('Bulk Gravity'!$B$26=\"\",\"\",'Bulk Gravity'!$B$26)","v":"Passing"},{"$f":"IF('Bulk Gravity'!$B$32=\"\",\"\",'Bulk Gravity'!$B$32)","v":"No. 4"},{"$f":"IF('Bulk Gravity'!$B$25=\"\",\"\",'Bulk Gravity'!$B$25)","v":"Sieve Size:"},{"$f":"IF('Bulk Gravity'!$C$26=\"\",\"\",'Bulk Gravity'!$C$26)","v":"Retained"},{"$f":"'Bulk Gravity'!$C$32","v":"No. 8"}]
[998,{"$f":"IF('Bulk Gravity'!$AC$32=\"\",\"\",'Bulk Gravity'!$AC$32)","v":""},{"$f":"IF('Bulk Gravity'!$B$4=\"\",\"\",'Bulk Gravity'!$B$4)","v":"HMACP MIXTURE DESIGN : BULK GRAVITY"},{"$f":"IF('Bulk Gravity'!$AB$19=\"\",\"\",'Bulk Gravity'!$AB$19)","v":"Bin No.7 "},{"$f":"IF('Bulk Gravity'!$AC$25=\"\",\"\",'Bulk Gravity'!$AC$25)","v":"Bulk SG"},{"$f":"IF('Bulk Gravity'!$B$26=\"\",\"\",'Bulk Gravity'!$B$26)","v":"Passing"},{"$f":"IF('Bulk Gravity'!$B$32=\"\",\"\",'Bulk Gravity'!$B$32)","v":"No. 4"},{"$f":"IF('Bulk Gravity'!$B$25=\"\",\"\",'Bulk Gravity'!$B$25)","v":"Sieve Size:"},{"$f":"IF('Bulk Gravity'!$C$26=\"\",\"\",'Bulk Gravity'!$C$26)","v":"Retained"},{"$f":"'Bulk Gravity'!$C$32","v":"No. 8"}]
[999,{"$f":"IF('Bulk Gravity'!$AB$33=\"\",\"\",'Bulk Gravity'!$AB$33)","v":""},{"$f":"IF('Bulk Gravity'!$B$4=\"\",\"\",'Bulk Gravity'!$B$4)","v":"HMACP MIXTURE DESIGN : BULK GRAVITY"},{"$f":"IF('Bulk Gravity'!$AB$19=\"\",\"\",'Bulk Gravity'!$AB$19)","v":"Bin No.7 "},{"$f":"IF('Bulk Gravity'!$AB$25=\"\",\"\",'Bulk Gravity'!$AB$25)","v":"Individual Ret., %"},{"$f":"IF('Bulk Gravity'!$B$26=\"\",\"\",'Bulk Gravity'!$B$26)","v":"Passing"},{"$f":"IF('Bulk Gravity'!$B$33=\"\",\"\",'Bulk Gravity'!$B$33)","v":"No. 8"},{"$f":"IF('Bulk Gravity'!$B$25=\"\",\"\",'Bulk Gravity'!$B$25)","v":"Sieve Size:"},{"$f":"IF('Bulk Gravity'!$C$26=\"\",\"\",'Bulk Gravity'!$C$26)","v":"Retained"},{"$f":"'Bulk Gravity'!$C$33","v":"No. 16"}]
[1000,{"$f":"IF('Bulk Gravity'!$AC$33=\"\",\"\",'Bulk Gravity'!$AC$33)","v":""},{"$f":"IF('Bulk Gravity'!$B$4=\"\",\"\",'Bulk Gravity'!$B$4)","v":"HMACP MIXTURE DESIGN : BULK GRAVITY"},{"$f":"IF('Bulk Gravity'!$AB$19=\"\",\"\",'Bulk Gravity'!$AB$19)","v":"Bin No.7 "},{"$f":"IF('Bulk Gravity'!$AC$25=\"\",\"\",'Bulk Gravity'!$AC$25)","v":"Bulk SG"},{"$f":"IF('Bulk Gravity'!$B$26=\"\",\"\",'Bulk Gravity'!$B$26)","v":"Passing"},{"$f":"IF('Bulk Gravity'!$B$33=\"\",\"\",'Bulk Gravity'!$B$33)","v":"No. 8"},{"$f":"IF('Bulk Gravity'!$B$25=\"\",\"\",'Bulk Gravity'!$B$25)","v":"Sieve Size:"},{"$f":"IF('Bulk Gravity'!$C$26=\"\",\"\",'Bulk Gravity'!$C$26)","v":"Retained"},{"$f":"'Bulk Gravity'!$C$33","v":"No. 16"}]
[1001,{"$f":"IF('Bulk Gravity'!$AB$34=\"\",\"\",'Bulk Gravity'!$AB$34)","v":""},{"$f":"IF('Bulk Gravity'!$B$4=\"\",\"\",'Bulk Gravity'!$B$4)","v":"HMACP MIXTURE DESIGN : BULK GRAVITY"},{"$f":"IF('Bulk Gravity'!$AB$19=\"\",\"\",'Bulk Gravity'!$AB$19)","v":"Bin No.7 "},{"$f":"IF('Bulk Gravity'!$AB$25=\"\",\"\",'Bulk Gravity'!$AB$25)","v":"Individual Ret., %"},{"$f":"IF('Bulk Gravity'!$B$26=\"\",\"\",'Bulk Gravity'!$B$26)","v":"Passing"},{"$f":"IF('Bulk Gravity'!$B$34=\"\",\"\",'Bulk Gravity'!$B$34)","v":"No. 16"},{"$f":"IF('Bulk Gravity'!$B$25=\"\",\"\",'Bulk Gravity'!$B$25)","v":"Sieve Size:"},{"$f":"IF('Bulk Gravity'!$C$26=\"\",\"\",'Bulk Gravity'!$C$26)","v":"Retained"},{"$f":"'Bulk Gravity'!$C$34","v":"No. 30"}]
[1002,{"$f":"IF('Bulk Gravity'!$AC$34=\"\",\"\",'Bulk Gravity'!$AC$34)","v":""},{"$f":"IF('Bulk Gravity'!$B$4=\"\",\"\",'Bulk Gravity'!$B$4)","v":"HMACP MIXTURE DESIGN : BULK GRAVITY"},{"$f":"IF('Bulk Gravity'!$AB$19=\"\",\"\",'Bulk Gravity'!$AB$19)","v":"Bin No.7 "},{"$f":"IF('Bulk Gravity'!$AC$25=\"\",\"\",'Bulk Gravity'!$AC$25)","v":"Bulk SG"},{"$f":"IF('Bulk Gravity'!$B$26=\"\",\"\",'Bulk Gravity'!$B$26)","v":"Passing"},{"$f":"IF('Bulk Gravity'!$B$34=\"\",\"\",'Bulk Gravity'!$B$34)","v":"No. 16"},{"$f":"IF('Bulk Gravity'!$B$25=\"\",\"\",'Bulk Gravity'!$B$25)","v":"Sieve Size:"},{"$f":"IF('Bulk Gravity'!$C$26=\"\",\"\",'Bulk Gravity'!$C$26)","v":"Retained"},{"$f":"'Bulk Gravity'!$C$34","v":"No. 30"}]
[1003,{"$f":"IF('Bulk Gravity'!$AB$35=\"\",\"\",'Bulk Gravity'!$AB$35)","v":""},{"$f":"IF('Bulk Gravity'!$B$4=\"\",\"\",'Bulk Gravity'!$B$4)","v":"HMACP MIXTURE DESIGN : BULK GRAVITY"},{"$f":"IF('Bulk Gravity'!$AB$19=\"\",\"\",'Bulk Gravity'!$AB$19)","v":"Bin No.7 "},{"$f":"IF('Bulk Gravity'!$AB$25=\"\",\"\",'Bulk Gravity'!$AB$25)","v":"Individual Ret., %"},{"$f":"IF('Bulk Gravity'!$B$26=\"\",\"\",'Bulk Gravity'!$B$26)","v":"Passing"},{"$f":"IF('Bulk Gravity'!$B$35=\"\",\"\",'Bulk Gravity'!$B$35)","v":"No. 30"},{"$f":"IF('Bulk Gravity'!$B$25=\"\",\"\",'Bulk Gravity'!$B$25)","v":"Sieve Size:"},{"$f":"IF('Bulk Gravity'!$C$26=\"\",\"\",'Bulk Gravity'!$C$26)","v":"Retained"},{"$f":"'Bulk Gravity'!$C$35","v":"No. 50"}]
[1004,{"$f":"IF('Bulk Gravity'!$AC$35=\"\",\"\",'Bulk Gravity'!$AC$35)","v":""},{"$f":"IF('Bulk Gravity'!$B$4=\"\",\"\",'Bulk Gravity'!$B$4)","v":"HMACP MIXTURE DESIGN : BULK GRAVITY"},{"$f":"IF('Bulk Gravity'!$AB$19=\"\",\"\",'Bulk Gravity'!$AB$19)","v":"Bin No.7 "},{"$f":"IF('Bulk Gravity'!$AC$25=\"\",\"\",'Bulk Gravity'!$AC$25)","v":"Bulk SG"},{"$f":"IF('Bulk Gravity'!$B$26=\"\",\"\",'Bulk Gravity'!$B$26)","v":"Passing"},{"$f":"IF('Bulk Gravity'!$B$35=\"\",\"\",'Bulk Gravity'!$B$35)","v":"No. 30"},{"$f":"IF('Bulk Gravity'!$B$25=\"\",\"\",'Bulk Gravity'!$B$25)","v":"Sieve Size:"},{"$f":"IF('Bulk Gravity'!$C$26=\"\",\"\",'Bulk Gravity'!$C$26)","v":"Retained"},{"$f":"'Bulk Gravity'!$C$35","v":"No. 50"}]
[1005,{"$f":"IF('Bulk Gravity'!$AB$36=\"\",\"\",'Bulk Gravity'!$AB$36)","v":""},{"$f":"IF('Bulk Gravity'!$B$4=\"\",\"\",'Bulk Gravity'!$B$4)","v":"HMACP MIXTURE DESIGN : BULK GRAVITY"},{"$f":"IF('Bulk Gravity'!$AB$19=\"\",\"\",'Bulk Gravity'!$AB$19)","v":"Bin No.7 "},{"$f":"IF('Bulk Gravity'!$AB$25=\"\",\"\",'Bulk Gravity'!$AB$25)","v":"Individual Ret., %"},{"$f":"IF('Bulk Gravity'!$B$26=\"\",\"\",'Bulk Gravity'!$B$26)","v":"Passing"},{"$f":"IF('Bulk Gravity'!$B$36=\"\",\"\",'Bulk Gravity'!$B$36)","v":"No. 50"},{"$f":"IF('Bulk Gravity'!$B$25=\"\",\"\",'Bulk Gravity'!$B$25)","v":"Sieve Size:"},{"$f":"IF('Bulk Gravity'!$C$26=\"\",\"\",'Bulk Gravity'!$C$26)","v":"Retained"},{"$f":"'Bulk Gravity'!$C$36","v":"No. 200"}]
[1006,{"$f":"IF('Bulk Gravity'!$AC$36=\"\",\"\",'Bulk Gravity'!$AC$36)","v":""},{"$f":"IF('Bulk Gravity'!$B$4=\"\",\"\",'Bulk Gravity'!$B$4)","v":"HMACP MIXTURE DESIGN : BULK GRAVITY"},{"$f":"IF('Bulk Gravity'!$AB$19=\"\",\"\",'Bulk Gravity'!$AB$19)","v":"Bin No.7 "},{"$f":"IF('Bulk Gravity'!$AC$25=\"\",\"\",'Bulk Gravity'!$AC$25)","v":"Bulk SG"},{"$f":"IF('Bulk Gravity'!$B$26=\"\",\"\",'Bulk Gravity'!$B$26)","v":"Passing"},{"$f":"IF('Bulk Gravity'!$B$36=\"\",\"\",'Bulk Gravity'!$B$36)","v":"No. 50"},{"$f":"IF('Bulk Gravity'!$B$25=\"\",\"\",'Bulk Gravity'!$B$25)","v":"Sieve Size:"},{"$f":"IF('Bulk Gravity'!$C$26=\"\",\"\",'Bulk Gravity'!$C$26)","v":"Retained"},{"$f":"'Bulk Gravity'!$C$36","v":"No. 200"}]
[1007,{"$f":"IF('Bulk Gravity'!$AB$37=\"\",\"\",'Bulk Gravity'!$AB$37)","v":""},{"$f":"IF('Bulk Gravity'!$B$4=\"\",\"\",'Bulk Gravity'!$B$4)","v":"HMACP MIXTURE DESIGN : BULK GRAVITY"},{"$f":"IF('Bulk Gravity'!$AB$19=\"\",\"\",'Bulk Gravity'!$AB$19)","v":"Bin No.7 "},{"$f":"IF('Bulk Gravity'!$AB$25=\"\",\"\",'Bulk Gravity'!$AB$25)","v":"Individual Ret., %"},{"$f":"IF('Bulk Gravity'!$B$26=\"\",\"\",'Bulk Gravity'!$B$26)","v":"Passing"},{"$f":"IF('Bulk Gravity'!$B$37=\"\",\"\",'Bulk Gravity'!$B$37)","v":"No. 200"},{"$f":"IF('Bulk Gravity'!$B$25=\"\",\"\",'Bulk Gravity'!$B$25)","v":"Sieve Size:"},{"$f":"IF('Bulk Gravity'!$C$26=\"\",\"\",'Bulk Gravity'!$C$26)","v":"Retained"},{"$f":"'Bulk Gravity'!$C$37","v":"Pan"}]
[1008,{"$f":"IF('Bulk Gravity'!$AC$37=\"\",\"\",'Bulk Gravity'!$AC$37)","v":""},{"$f":"IF('Bulk Gravity'!$B$4=\"\",\"\",'Bulk Gravity'!$B$4)","v":"HMACP MIXTURE DESIGN : BULK GRAVITY"},{"$f":"IF('Bulk Gravity'!$AB$19=\"\",\"\",'Bulk Gravity'!$AB$19)","v":"Bin No.7 "},{"$f":"IF('Bulk Gravity'!$AC$25=\"\",\"\",'Bulk Gravity'!$AC$25)","v":"Bulk SG"},{"$f":"IF('Bulk Gravity'!$B$26=\"\",\"\",'Bulk Gravity'!$B$26)","v":"Passing"},{"$f":"IF('Bulk Gravity'!$B$37=\"\",\"\",'Bulk Gravity'!$B$37)","v":"No. 200"},{"$f":"IF('Bulk Gravity'!$B$25=\"\",\"\",'Bulk Gravity'!$B$25)","v":"Sieve Size:"},{"$f":"IF('Bulk Gravity'!$C$26=\"\",\"\",'Bulk Gravity'!$C$26)","v":"Retained"},{"$f":"'Bulk Gravity'!$C$37","v":"Pan"}]
[1009,{"$f":"IF('Bulk Gravity'!$AB$38=\"\",\"\",'Bulk Gravity'!$AB$38)","v":""},{"$f":"IF('Bulk Gravity'!$B$4=\"\",\"\",'Bulk Gravity'!$B$4)","v":"HMACP MIXTURE DESIGN : BULK GRAVITY"},{"$f":"IF('Bulk Gravity'!$AB$19=\"\",\"\",'Bulk Gravity'!$AB$19)","v":"Bin No.7 "},{"$f":"IF('Bulk Gravity'!$AB$25=\"\",\"\",'Bulk Gravity'!$AB$25)","v":"Individual Ret., %"},{"$f":"IF('Bulk Gravity'!$B$38=\"\",\"\",'Bulk Gravity'!$B$38)","v":"Totals"}]
[1010,{"$f":"IF('Bulk Gravity'!$AC$38=\"\",\"\",'Bulk Gravity'!$AC$38)","v":""},{"$f":"IF('Bulk Gravity'!$B$4=\"\",\"\",'Bulk Gravity'!$B$4)","v":"HMACP MIXTURE DESIGN : BULK GRAVITY"},{"$f":"IF('Bulk Gravity'!$AB$19=\"\",\"\",'Bulk Gravity'!$AB$19)","v":"Bin No.7 "},{"$f":"IF('Bulk Gravity'!$AC$25=\"\",\"\",'Bulk Gravity'!$AC$25)","v":"Bulk SG"},{"$f":"IF('Bulk Gravity'!$B$38=\"\",\"\",'Bulk Gravity'!$B$38)","v":"Totals"}]
[1011,{"$f":"IF('Bulk Gravity'!$X$42=\"\",\"\",'Bulk Gravity'!$X$42)","v":""},{"$f":"IF('Bulk Gravity'!$B$4=\"\",\"\",'Bulk Gravity'!$B$4)","v":"HMACP MIXTURE DESIGN : BULK GRAVITY"},{"$f":"IF('Bulk Gravity'!$P$42=\"\",\"\",'Bulk Gravity'!$P$42)","v":"Specific Gravity of Asphalt:"}]
[1012,{"$f":"IF('Bulk Gravity'!$L$42=\"\",\"\",'Bulk Gravity'!$L$42)","v":""},{"$f":"IF('Bulk Gravity'!$B$4=\"\",\"\",'Bulk Gravity'!$B$4)","v":"HMACP MIXTURE DESIGN : BULK GRAVITY"},{"$f":"IF('Bulk Gravity'!$D$42=\"\",\"\",'Bulk Gravity'!$D$42)","v":"Combined Bulk Specific Gravity:"}]
[1013,{"$f":"IF('Bulk Gravity'!$L$43=\"\",\"\",'Bulk Gravity'!$L$43)","v":""},{"$f":"IF('Bulk Gravity'!$B$4=\"\",\"\",'Bulk Gravity'!$B$4)","v":"HMACP MIXTURE DESIGN : BULK GRAVITY"},{"$f":"IF('Bulk Gravity'!$D$43=\"\",\"\",'Bulk Gravity'!$D$43)","v":"Coarse Agg. Combined BSG:"}]
[1014,{"$f":"IF('Bulk Gravity'!$B$46=\"\",\"\",'Bulk Gravity'!$B$46)","v":""},{"$f":"IF('Bulk Gravity'!$B$4=\"\",\"\",'Bulk Gravity'!$B$4)","v":"HMACP MIXTURE DESIGN : BULK GRAVITY"},{"$f":"IF('Bulk Gravity'!$B$45=\"\",\"\",'Bulk Gravity'!$B$45)","v":"Remarks:"}]
[1015,{"$f":"IF(Summary!$E$19=\"\",\"\",Summary!$E$19)","v":""},{"$f":"IF(Summary!$B$4=\"\",\"\",Summary!$B$4)","v":"HMACP MIXTURE DESIGN : SUMMARY SHEET"},{"$f":"IF(Summary!$B$19=\"\",\"\",Summary!$B$19)","v":"Target Density, %:"}]
[1016,{"$f":"IF(Summary!$E$20=\"\",\"\",Summary!$E$20)","v":""},{"$f":"IF(Summary!$B$4=\"\",\"\",Summary!$B$4)","v":"HMACP MIXTURE DESIGN : SUMMARY SHEET"},{"$f":"IF(Summary!$B$20=\"\",\"\",Summary!$B$20)","v":"Number of Gyrations:"}]
[1017,{"$f":"IF(Summary!$K$20=\"\",\"\",Summary!$K$20)","v":""},{"$f":"IF(Summary!$B$4=\"\",\"\",Summary!$B$4)","v":"HMACP MIXTURE DESIGN : SUMMARY SHEET"},{"$f":"IF(Summary!$I$20=\"\",\"\",Summary!$I$20)","v":"CRM* Content, %:"}]
[1018,{"$f":"IF(Summary!$B$26=\"\",\"\",Summary!$B$26)","v":""},{"$f":"IF(Summary!$B$4=\"\",\"\",Summary!$B$4)","v":"HMACP MIXTURE DESIGN : SUMMARY SHEET"},{"$f":"IF(Summary!$A$26=\"\",\"\",Summary!$A$26)","v":1},{"$f":"IF(Summary!$B$24=\"\",\"\",Summary!$B$24)","v":"Asphalt Content (%)"}]
[1019,{"$f":"IF(Summary!$D$26=\"\",\"\",Summary!$D$26)","v":""},{"$f":"IF(Summary!$B$4=\"\",\"\",Summary!$B$4)","v":"HMACP MIXTURE DESIGN : SUMMARY SHEET"},{"$f":"IF(Summary!$A$26=\"\",\"\",Summary!$A$26)","v":1},{"$f":"IF(Summary!$D$24=\"\",\"\",Summary!$D$24)","v":"Specific Gravity Of Specimen (Ga)"}]
[1020,{"$f":"IF(Summary!$F$26=\"\",\"\",Summary!$F$26)","v":""},{"$f":"IF(Summary!$B$4=\"\",\"\",Summary!$B$4)","v":"HMACP MIXTURE DESIGN : SUMMARY SHEET"},{"$f":"IF(Summary!$A$26=\"\",\"\",Summary!$A$26)","v":1},{"$f":"IF(Summary!$F$24=\"\",\"\",Summary!$F$24)","v":"Maximum Specific Gravity (Gr)"}]
[1021,{"$f":"IF(Summary!$H$26=\"\",\"\",Summary!$H$26)","v":""},{"$f":"IF(Summary!$B$4=\"\",\"\",Summary!$B$4)","v":"HMACP MIXTURE DESIGN : SUMMARY SHEET"},{"$f":"IF(Summary!$A$26=\"\",\"\",Summary!$A$26)","v":1},{"$f":"IF(Summary!$H$24=\"\",\"\",Summary!$H$24)","v":"Effective Gravity (Ge)"}]
[1022,{"$f":"IF(Summary!$J$26=\"\",\"\",Summary!$J$26)","v":""},{"$f":"IF(Summary!$B$4=\"\",\"\",Summary!$B$4)","v":"HMACP MIXTURE DESIGN : SUMMARY SHEET"},{"$f":"IF(Summary!$A$26=\"\",\"\",Summary!$A$26)","v":1},{"$f":"IF(Summary!$J$24=\"\",\"\",Summary!$J$24)","v":"Theo. Max. Specific Gravity (Gt)"}]
[1023,{"$f":"IF(Summary!$L$26=\"\",\"\",Summary!$L$26)","v":""},{"$f":"IF(Summary!$B$4=\"\",\"\",Summary!$B$4)","v":"HMACP MIXTURE DESIGN : SUMMARY SHEET"},{"$f":"IF(Summary!$A$26=\"\",\"\",Summary!$A$26)","v":1},{"$f":"IF(Summary!$L$24=\"\",\"\",Summary!$L$24)","v":"Density from Gt (Percent)"}]
[1024,{"$f":"IF(Summary!$U$26=\"\",\"\",Summary!$U$26)","v":""},{"$f":"IF(Summary!$B$4=\"\",\"\",Summary!$B$4)","v":"HMACP MIXTURE DESIGN : SUMMARY SHEET"},{"$f":"IF(Summary!$A$26=\"\",\"\",Summary!$A$26)","v":1},{"$f":"IF(Summary!$U$24=\"\",\"\",Summary!$U$24)","v":"VMA (Percent)"}]
[1025,{"$f":"IF(Summary!$B$27=\"\",\"\",Summary!$B$27)","v":""},{"$f":"IF(Summary!$B$4=\"\",\"\",Summary!$B$4)","v":"HMACP MIXTURE DESIGN : SUMMARY SHEET"},{"$f":"IF(Summary!$A$27=\"\",\"\",Summary!$A$27)","v":2},{"$f":"IF(Summary!$B$24=\"\",\"\",Summary!$B$24)","v":"Asphalt Content (%)"}]
[1026,{"$f":"IF(Summary!$D$27=\"\",\"\",Summary!$D$27)","v":""},{"$f":"IF(Summary!$B$4=\"\",\"\",Summary!$B$4)","v":"HMACP MIXTURE DESIGN : SUMMARY SHEET"},{"$f":"IF(Summary!$A$27=\"\",\"\",Summary!$A$27)","v":2},{"$f":"IF(Summary!$D$24=\"\",\"\",Summary!$D$24)","v":"Specific Gravity Of Specimen (Ga)"}]
[1027,{"$f":"IF(Summary!$F$27=\"\",\"\",Summary!$F$27)","v":""},{"$f":"IF(Summary!$B$4=\"\",\"\",Summary!$B$4)","v":"HMACP MIXTURE DESIGN : SUMMARY SHEET"},{"$f":"IF(Summary!$A$27=\"\",\"\",Summary!$A$27)","v":2},{"$f":"IF(Summary!$F$24=\"\",\"\",Summary!$F$24)","v":"Maximum Specific Gravity (Gr)"}]
[1028,{"$f":"IF(Summary!$H$27=\"\",\"\",Summary!$H$27)","v":""},{"$f":"IF(Summary!$B$4=\"\",\"\",Summary!$B$4)","v":"HMACP MIXTURE DESIGN : SUMMARY SHEET"},{"$f":"IF(Summary!$A$27=\"\",\"\",Summary!$A$27)","v":2},{"$f":"IF(Summary!$H$24=\"\",\"\",Summary!$H$24)","v":"Effective Gravity (Ge)"}]
[1029,{"$f":"IF(Summary!$J$27=\"\",\"\",Summary!$J$27)","v":""},{"$f":"IF(Summary!$B$4=\"\",\"\",Summary!$B$4)","v":"HMACP MIXTURE DESIGN : SUMMARY SHEET"},{"$f":"IF(Summary!$A$27=\"\",\"\",Summary!$A$27)","v":2},{"$f":"IF(Summary!$J$24=\"\",\"\",Summary!$J$24)","v":"Theo. Max. Specific Gravity (Gt)"}]
[1030,{"$f":"IF(Summary!$L$27=\"\",\"\",Summary!$L$27)","v":""},{"$f":"IF(Summary!$B$4=\"\",\"\",Summary!$B$4)","v":"HMACP MIXTURE DESIGN : SUMMARY SHEET"},{"$f":"IF(Summary!$A$27=\"\",\"\",Summary!$A$27)","v":2},{"$f":"IF(Summary!$L$24=\"\",\"\",Summary!$L$24)","v":"Density from Gt (Percent)"}]
[1031,{"$f":"IF(Summary!$U$27=\"\",\"\",Summary!$U$27)","v":""},{"$f":"IF(Summary!$B$4=\"\",\"\",Summary!$B$4)","v":"HMACP MIXTURE DESIGN : SUMMARY SHEET"},{"$f":"IF(Summary!$A$27=\"\",\"\",Summary!$A$27)","v":2},{"$f":"IF(Summary!$U$24=\"\",\"\",Summary!$U$24)","v":"VMA (Percent)"}]
[1032,{"$f":"IF(Summary!$B$28=\"\",\"\",Summary!$B$28)","v":""},{"$f":"IF(Summary!$B$4=\"\",\"\",Summary!$B$4)","v":"HMACP MIXTURE DESIGN : SUMMARY SHEET"},{"$f":"IF(Summary!$A$28=\"\",\"\",Summary!$A$28)","v":3},{"$f":"IF(Summary!$B$24=\"\",\"\",Summary!$B$24)","v":"Asphalt Content (%)"}]
[1033,{"$f":"IF(Summary!$D$28=\"\",\"\",Summary!$D$28)","v":""},{"$f":"IF(Summary!$B$4=\"\",\"\",Summary!$B$4)","v":"HMACP MIXTURE DESIGN : SUMMARY SHEET"},{"$f":"IF(Summary!$A$28=\"\",\"\",Summary!$A$28)","v":3},{"$f":"IF(Summary!$D$24=\"\",\"\",Summary!$D$24)","v":"Specific Gravity Of Specimen (Ga)"}]
[1034,{"$f":"IF(Summary!$F$28=\"\",\"\",Summary!$F$28)","v":""},{"$f":"IF(Summary!$B$4=\"\",\"\",Summary!$B$4)","v":"HMACP MIXTURE DESIGN : SUMMARY SHEET"},{"$f":"IF(Summary!$A$28=\"\",\"\",Summary!$A$28)","v":3},{"$f":"IF(Summary!$F$24=\"\",\"\",Summary!$F$24)","v":"Maximum Specific Gravity (Gr)"}]
[1035,{"$f":"IF(Summary!$H$28=\"\",\"\",Summary!$H$28)","v":""},{"$f":"IF(Summary!$B$4=\"\",\"\",Summary!$B$4)","v":"HMACP MIXTURE DESIGN : SUMMARY SHEET"},{"$f":"IF(Summary!$A$28=\"\",\"\",Summary!$A$28)","v":3},{"$f":"IF(Summary!$H$24=\"\",\"\",Summary!$H$24)","v":"Effective Gravity (Ge)"}]
[1036,{"$f":"IF(Summary!$J$28=\"\",\"\",Summary!$J$28)","v":""},{"$f":"IF(Summary!$B$4=\"\",\"\",Summary!$B$4)","v":"HMACP MIXTURE DESIGN : SUMMARY SHEET"},{"$f":"IF(Summary!$A$28=\"\",\"\",Summary!$A$28)","v":3},{"$f":"IF(Summary!$J$24=\"\",\"\",Summary!$J$24)","v":"Theo. Max. Specific Gravity (Gt)"}]
[1037,{"$f":"IF(Summary!$L$28=\"\",\"\",Summary!$L$28)","v":""},{"$f":"IF(Summary!$B$4=\"\",\"\",Summary!$B$4)","v":"HMACP MIXTURE DESIGN : SUMMARY SHEET"},{"$f":"IF(Summary!$A$28=\"\",\"\",Summary!$A$28)","v":3},{"$f":"IF(Summary!$L$24=\"\",\"\",Summary!$L$24)","v":"Density from Gt (Percent)"}]
[1038,{"$f":"IF(Summary!$U$28=\"\",\"\",Summary!$U$28)","v":""},{"$f":"IF(Summary!$B$4=\"\",\"\",Summary!$B$4)","v":"HMACP MIXTURE DESIGN : SUMMARY SHEET"},{"$f":"IF(Summary!$A$28=\"\",\"\",Summary!$A$28)","v":3},{"$f":"IF(Summary!$U$24=\"\",\"\",Summary!$U$24)","v":"VMA (Percent)"}]
[1039,{"$f":"IF(Summary!$B$29=\"\",\"\",Summary!$B$29)","v":""},{"$f":"IF(Summary!$B$4=\"\",\"\",Summary!$B$4)","v":"HMACP MIXTURE DESIGN : SUMMARY SHEET"},{"$f":"IF(Summary!$A$29=\"\",\"\",Summary!$A$29)","v":4},{"$f":"IF(Summary!$B$24=\"\",\"\",Summary!$B$24)","v":"Asphalt Content (%)"}]
[1040,{"$f":"IF(Summary!$D$29=\"\",\"\",Summary!$D$29)","v":""},{"$f":"IF(Summary!$B$4=\"\",\"\",Summary!$B$4)","v":"HMACP MIXTURE DESIGN : SUMMARY SHEET"},{"$f":"IF(Summary!$A$29=\"\",\"\",Summary!$A$29)","v":4},{"$f":"IF(Summary!$D$24=\"\",\"\",Summary!$D$24)","v":"Specific Gravity Of Specimen (Ga)"}]
[1041,{"$f":"IF(Summary!$F$29=\"\",\"\",Summary!$F$29)","v":""},{"$f":"IF(Summary!$B$4=\"\",\"\",Summary!$B$4)","v":"HMACP MIXTURE DESIGN : SUMMARY SHEET"},{"$f":"IF(Summary!$A$29=\"\",\"\",Summary!$A$29)","v":4},{"$f":"IF(Summary!$F$24=\"\",\"\",Summary!$F$24)","v":"Maximum Specific Gravity (Gr)"}]
[1042,{"$f":"IF(Summary!$H$29=\"\",\"\",Summary!$H$29)","v":""},{"$f":"IF(Summary!$B$4=\"\",\"\",Summary!$B$4)","v":"HMACP MIXTURE DESIGN : SUMMARY SHEET"},{"$f":"IF(Summary!$A$29=\"\",\"\",Summary!$A$29)","v":4},{"$f":"IF(Summary!$H$24=\"\",\"\",Summary!$H$24)","v":"Effective Gravity (Ge)"}]
[1043,{"$f":"IF(Summary!$J$29=\"\",\"\",Summary!$J$29)","v":""},{"$f":"IF(Summary!$B$4=\"\",\"\",Summary!$B$4)","v":"HMACP MIXTURE DESIGN : SUMMARY SHEET"},{"$f":"IF(Summary!$A$29=\"\",\"\",Summary!$A$29)","v":4},{"$f":"IF(Summary!$J$24=\"\",\"\",Summary!$J$24)","v":"Theo. Max. Specific Gravity (Gt)"}]
[1044,{"$f":"IF(Summary!$L$29=\"\",\"\",Summary!$L$29)","v":""},{"$f":"IF(Summary!$B$4=\"\",\"\",Summary!$B$4)","v":"HMACP MIXTURE DESIGN : SUMMARY SHEET"},{"$f":"IF(Summary!$A$29=\"\",\"\",Summary!$A$29)","v":4},{"$f":"IF(Summary!$L$24=\"\",\"\",Summary!$L$24)","v":"Density from Gt (Percent)"}]
[1045,{"$f":"IF(Summary!$U$29=\"\",\"\",Summary!$U$29)","v":""},{"$f":"IF(Summary!$B$4=\"\",\"\",Summary!$B$4)","v":"HMACP MIXTURE DESIGN : SUMMARY SHEET"},{"$f":"IF(Summary!$A$29=\"\",\"\",Summary!$A$29)","v":4},{"$f":"IF(Summary!$U$24=\"\",\"\",Summary!$U$24)","v":"VMA (Percent)"}]
[1046,{"$f":"IF(Summary!$B$30=\"\",\"\",Summary!$B$30)","v":""},{"$f":"IF(Summary!$B$4=\"\",\"\",Summary!$B$4)","v":"HMACP MIXTURE DESIGN : SUMMARY SHEET"},{"$f":"IF(Summary!$A$30=\"\",\"\",Summary!$A$30)","v":5},{"$f":"IF(Summary!$B$24=\"\",\"\",Summary!$B$24)","v":"Asphalt Content (%)"}]
[1047,{"$f":"IF(Summary!$D$30=\"\",\"\",Summary!$D$30)","v":""},{"$f":"IF(Summary!$B$4=\"\",\"\",Summary!$B$4)","v":"HMACP MIXTURE DESIGN : SUMMARY SHEET"},{"$f":"IF(Summary!$A$30=\"\",\"\",Summary!$A$30)","v":5},{"$f":"IF(Summary!$D$24=\"\",\"\",Summary!$D$24)","v":"Specific Gravity Of Specimen (Ga)"}]
[1048,{"$f":"IF(Summary!$F$30=\"\",\"\",Summary!$F$30)","v":""},{"$f":"IF(Summary!$B$4=\"\",\"\",Summary!$B$4)","v":"HMACP MIXTURE DESIGN : SUMMARY SHEET"},{"$f":"IF(Summary!$A$30=\"\",\"\",Summary!$A$30)","v":5},{"$f":"IF(Summary!$F$24=\"\",\"\",Summary!$F$24)","v":"Maximum Specific Gravity (Gr)"}]
[1049,{"$f":"IF(Summary!$H$30=\"\",\"\",Summary!$H$30)","v":""},{"$f":"IF(Summary!$B$4=\"\",\"\",Summary!$B$4)","v":"HMACP MIXTURE DESIGN : SUMMARY SHEET"},{"$f":"IF(Summary!$A$30=\"\",\"\",Summary!$A$30)","v":5},{"$f":"IF(Summary!$H$24=\"\",\"\",Summary!$H$24)","v":"Effective Gravity (Ge)"}]
[1050,{"$f":"IF(Summary!$J$30=\"\",\"\",Summary!$J$30)","v":""},{"$f":"IF(Summary!$B$4=\"\",\"\",Summary!$B$4)","v":"HMACP MIXTURE DESIGN : SUMMARY SHEET"},{"$f":"IF(Summary!$A$30=\"\",\"\",Summary!$A$30)","v":5},{"$f":"IF(Summary!$J$24=\"\",\"\",Summary!$J$24)","v":"Theo. Max. Specific Gravity (Gt)"}]
[1051,{"$f":"IF(Summary!$L$30=\"\",\"\",Summary!$L$30)","v":""},{"$f":"IF(Summary!$B$4=\"\",\"\",Summary!$B$4)","v":"HMACP MIXTURE DESIGN : SUMMARY SHEET"},{"$f":"IF(Summary!$A$30=\"\",\"\",Summary!$A$30)","v":5},{"$f":"IF(Summary!$L$24=\"\",\"\",Summary!$L$24)","v":"Density from Gt (Percent)"}]
[1052,{"$f":"IF(Summary!$U$30=\"\",\"\",Summary!$U$30)","v":""},{"$f":"IF(Summary!$B$4=\"\",\"\",Summary!$B$4)","v":"HMACP MIXTURE DESIGN : SUMMARY SHEET"},{"$f":"IF(Summary!$A$30=\"\",\"\",Summary!$A$30)","v":5},{"$f":"IF(Summary!$U$24=\"\",\"\",Summary!$U$24)","v":"VMA (Percent)"}]
[1053,{"$f":"IF(Summary!$W$26=\"\",\"\",Summary!$W$26)","v":""},{"$f":"IF(Summary!$B$4=\"\",\"\",Summary!$B$4)","v":"HMACP MIXTURE DESIGN : SUMMARY SHEET"},{"$f":"IF(Summary!$W$22=\"\",\"\",Summary!$W$22)","v":"Mixture Evaluation @ Optimum Asphalt Content"},{"$f":"IF(Summary!$W$23=\"\",\"\",Summary!$W$23)","v":"Indirect Tensile Strength (psi)"}]
[1054,{"$f":"IF(Summary!$Y$26=\"\",\"\",Summary!$Y$26)","v":""},{"$f":"IF(Summary!$B$4=\"\",\"\",Summary!$B$4)","v":"HMACP MIXTURE DESIGN : SUMMARY SHEET"},{"$f":"IF(Summary!$W$22=\"\",\"\",Summary!$W$22)","v":"Mixture Evaluation @ Optimum Asphalt Content"},{"$f":"IF(Summary!$Y$23=\"\",\"\",Summary!$Y$23)","v":"Hamburg Wheel Tracking Test"},{"$f":"IF(Summary!$Y$24=\"\",\"\",Summary!$Y$24)","v":"Number of cycles"}]
[1055,{"$f":"IF(Summary!$AA$26=\"\",\"\",Summary!$AA$26)","v":""},{"$f":"IF(Summary!$B$4=\"\",\"\",Summary!$B$4)","v":"HMACP MIXTURE DESIGN : SUMMARY SHEET"},{"$f":"IF(Summary!$W$22=\"\",\"\",Summary!$W$22)","v":"Mixture Evaluation @ Optimum Asphalt Content"},{"$f":"IF(Summary!$Y$23=\"\",\"\",Summary!$Y$23)","v":"Hamburg Wheel Tracking Test"},{"$f":"IF(Summary!$AA$24=\"\",\"\",Summary!$AA$24)","v":"Rut depth (mm)"}]
[1056,{"$f":"IF(Summary!$AF$26=\"\",\"\",Summary!$AF$26)","v":""},{"$f":"IF(Summary!$B$4=\"\",\"\",Summary!$B$4)","v":"HMACP MIXTURE DESIGN : SUMMARY SHEET"},{"$f":"IF(Summary!$W$22=\"\",\"\",Summary!$W$22)","v":"Mixture Evaluation @ Optimum Asphalt Content"},{"$f":"IF(Summary!$AF$23=\"\",\"\",Summary!$AF$23)","v":"Overlay Test"},{"$f":"IF(Summary!$AF$24=\"\",\"\",Summary!$AF$24)","v":"Min. Number of Cycles"}]
[1057,{"$f":"IF(Summary!$B$34=\"\",\"\",Summary!$B$34)","v":""},{"$f":"IF(Summary!$B$4=\"\",\"\",Summary!$B$4)","v":"HMACP MIXTURE DESIGN : SUMMARY SHEET"},{"$f":"IF(Summary!$A$34=\"\",\"\",Summary!$A$34)","v":1},{"$f":"IF(Summary!$B$32=\"\",\"\",Summary!$B$32)","v":"Asphalt Content (%)"}]
[1058,{"$f":"IF(Summary!$D$34=\"\",\"\",Summary!$D$34)","v":""},{"$f":"IF(Summary!$B$4=\"\",\"\",Summary!$B$4)","v":"HMACP MIXTURE DESIGN : SUMMARY SHEET"},{"$f":"IF(Summary!$A$34=\"\",\"\",Summary!$A$34)","v":1},{"$f":"IF(Summary!$D$32=\"\",\"\",Summary!$D$32)","v":"Maximum Specific Gravity (Gr)"}]
[1059,{"$f":"IF(Summary!$F$34=\"\",\"\",Summary!$F$34)","v":""},{"$f":"IF(Summary!$B$4=\"\",\"\",Summary!$B$4)","v":"HMACP MIXTURE DESIGN : SUMMARY SHEET"},{"$f":"IF(Summary!$F$32=\"\",\"\",Summary!$F$32)","v":"Effective Gravity (Ge)"}]
[1060,{"$f":"IF(Summary!$H$34=\"\",\"\",Summary!$H$34)","v":""},{"$f":"IF(Summary!$B$4=\"\",\"\",Summary!$B$4)","v":"HMACP MIXTURE DESIGN : SUMMARY SHEET"},{"$f":"IF(Summary!$A$34=\"\",\"\",Summary!$A$34)","v":1},{"$f":"IF(Summary!$H$32=\"\",\"\",Summary!$H$32)","v":"Theo. Max. Specific Gravity (Gt)"}]
[1061,{"$f":"IF(Summary!$J$34=\"\",\"\",Summary!$J$34)","v":""},{"$f":"IF(Summary!$B$4=\"\",\"\",Summary!$B$4)","v":"HMACP MIXTURE DESIGN : SUMMARY SHEET"},{"$f":"IF(Summary!$A$34=\"\",\"\",Summary!$A$34)","v":1},{"$f":"IF(Summary!$J$32=\"\",\"\",Summary!$J$32)","v":"VMA (Percent)"}]
[1062,{"$f":"IF(Summary!$B$35=\"\",\"\",Summary!$B$35)","v":""},{"$f":"IF(Summary!$B$4=\"\",\"\",Summary!$B$4)","v":"HMACP MIXTURE DESIGN : SUMMARY SHEET"},{"$f":"IF(Summary!$A$35=\"\",\"\",Summary!$A$35)","v":2},{"$f":"IF(Summary!$B$32=\"\",\"\",Summary!$B$32)","v":"Asphalt Content (%)"}]
[1063,{"$f":"IF(Summary!$D$35=\"\",\"\",Summary!$D$35)","v":""},{"$f":"IF(Summary!$B$4=\"\",\"\",Summary!$B$4)","v":"HMACP MIXTURE DESIGN : SUMMARY SHEET"},{"$f":"IF(Summary!$A$35=\"\",\"\",Summary!$A$35)","v":2},{"$f":"IF(Summary!$D$32=\"\",\"\",Summary!$D$32)","v":"Maximum Specific Gravity (Gr)"}]
[1064,{"$f":"IF(Summary!$H$35=\"\",\"\",Summary!$H$35)","v":""},{"$f":"IF(Summary!$B$4=\"\",\"\",Summary!$B$4)","v":"HMACP MIXTURE DESIGN : SUMMARY SHEET"},{"$f":"IF(Summary!$A$35=\"\",\"\",Summary!$A$35)","v":2},{"$f":"IF(Summary!$H$32=\"\",\"\",Summary!$H$32)","v":"Theo. Max. Specific Gravity (Gt)"}]
[1065,{"$f":"IF(Summary!$J$35=\"\",\"\",Summary!$J$35)","v":""},{"$f":"IF(Summary!$B$4=\"\",\"\",Summary!$B$4)","v":"HMACP MIXTURE DESIGN : SUMMARY SHEET"},{"$f":"IF(Summary!$A$35=\"\",\"\",Summary!$A$35)","v":2},{"$f":"IF(Summary!$J$32=\"\",\"\",Summary!$J$32)","v":"VMA (Percent)"}]
[1066,{"$f":"IF(Summary!$B$36=\"\",\"\",Summary!$B$36)","v":""},{"$f":"IF(Summary!$B$4=\"\",\"\",Summary!$B$4)","v":"HMACP MIXTURE DESIGN : SUMMARY SHEET"},{"$f":"IF(Summary!$A$36=\"\",\"\",Summary!$A$36)","v":3},{"$f":"IF(Summary!$B$32=\"\",\"\",Summary!$B$32)","v":"Asphalt Content (%)"}]
[1067,{"$f":"IF(Summary!$D$36=\"\",\"\",Summary!$D$36)","v":""},{"$f":"IF(Summary!$B$4=\"\",\"\",Summary!$B$4)","v":"HMACP MIXTURE DESIGN : SUMMARY SHEET"},{"$f":"IF(Summary!$A$36=\"\",\"\",Summary!$A$36)","v":3},{"$f":"IF(Summary!$D$32=\"\",\"\",Summary!$D$32)","v":"Maximum Specific Gravity (Gr)"}]
[1068,{"$f":"IF(Summary!$H$36=\"\",\"\",Summary!$H$36)","v":""},{"$f":"IF(Summary!$B$4=\"\",\"\",Summary!$B$4)","v":"HMACP MIXTURE DESIGN : SUMMARY SHEET"},{"$f":"IF(Summary!$A$36=\"\",\"\",Summary!$A$36)","v":3},{"$f":"IF(Summary!$H$32=\"\",\"\",Summary!$H$32)","v":"Theo. Max. Specific Gravity (Gt)"}]
[1069,{"$f":"IF(Summary!$J$36=\"\",\"\",Summary!$J$36)","v":""},{"$f":"IF(Summary!$B$4=\"\",\"\",Summary!$B$4)","v":"HMACP MIXTURE DESIGN : SUMMARY SHEET"},{"$f":"IF(Summary!$A$36=\"\",\"\",Summary!$A$36)","v":3},{"$f":"IF(Summary!$J$32=\"\",\"\",Summary!$J$32)","v":"VMA (Percent)"}]
[1070,{"$f":"IF(Summary!$B$37=\"\",\"\",Summary!$B$37)","v":""},{"$f":"IF(Summary!$B$4=\"\",\"\",Summary!$B$4)","v":"HMACP MIXTURE DESIGN : SUMMARY SHEET"},{"$f":"IF(Summary!$A$37=\"\",\"\",Summary!$A$37)","v":4},{"$f":"IF(Summary!$B$32=\"\",\"\",Summary!$B$32)","v":"Asphalt Content (%)"}]
[1071,{"$f":"IF(Summary!$D$37=\"\",\"\",Summary!$D$37)","v":""},{"$f":"IF(Summary!$B$4=\"\",\"\",Summary!$B$4)","v":"HMACP MIXTURE DESIGN : SUMMARY SHEET"},{"$f":"IF(Summary!$A$37=\"\",\"\",Summary!$A$37)","v":4},{"$f":"IF(Summary!$D$32=\"\",\"\",Summary!$D$32)","v":"Maximum Specific Gravity (Gr)"}]
[1072,{"$f":"IF(Summary!$H$37=\"\",\"\",Summary!$H$37)","v":""},{"$f":"IF(Summary!$B$4=\"\",\"\",Summary!$B$4)","v":"HMACP MIXTURE DESIGN : SUMMARY SHEET"},{"$f":"IF(Summary!$A$37=\"\",\"\",Summary!$A$37)","v":4},{"$f":"IF(Summary!$H$32=\"\",\"\",Summary!$H$32)","v":"Theo. Max. Specific Gravity (Gt)"}]
[1073,{"$f":"IF(Summary!$J$37=\"\",\"\",Summary!$J$37)","v":""},{"$f":"IF(Summary!$B$4=\"\",\"\",Summary!$B$4)","v":"HMACP MIXTURE DESIGN : SUMMARY SHEET"},{"$f":"IF(Summary!$A$37=\"\",\"\",Summary!$A$37)","v":4},{"$f":"IF(Summary!$J$32=\"\",\"\",Summary!$J$32)","v":"VMA (Percent)"}]
[1074,{"$f":"IF(Summary!$B$38=\"\",\"\",Summary!$B$38)","v":""},{"$f":"IF(Summary!$B$4=\"\",\"\",Summary!$B$4)","v":"HMACP MIXTURE DESIGN : SUMMARY SHEET"},{"$f":"IF(Summary!$A$38=\"\",\"\",Summary!$A$38)","v":5},{"$f":"IF(Summary!$B$32=\"\",\"\",Summary!$B$32)","v":"Asphalt Content (%)"}]
[1075,{"$f":"IF(Summary!$D$38=\"\",\"\",Summary!$D$38)","v":""},{"$f":"IF(Summary!$B$4=\"\",\"\",Summary!$B$4)","v":"HMACP MIXTURE DESIGN : SUMMARY SHEET"},{"$f":"IF(Summary!$A$38=\"\",\"\",Summary!$A$38)","v":5},{"$f":"IF(Summary!$D$32=\"\",\"\",Summary!$D$32)","v":"Maximum Specific Gravity (Gr)"}]
[1076,{"$f":"IF(Summary!$H$38=\"\",\"\",Summary!$H$38)","v":""},{"$f":"IF(Summary!$B$4=\"\",\"\",Summary!$B$4)","v":"HMACP MIXTURE DESIGN : SUMMARY SHEET"},{"$f":"IF(Summary!$A$38=\"\",\"\",Summary!$A$38)","v":5},{"$f":"IF(Summary!$H$32=\"\",\"\",Summary!$H$32)","v":"Theo. Max. Specific Gravity (Gt)"}]
[1077,{"$f":"IF(Summary!$J$38=\"\",\"\",Summary!$J$38)","v":""},{"$f":"IF(Summary!$B$4=\"\",\"\",Summary!$B$4)","v":"HMACP MIXTURE DESIGN : SUMMARY SHEET"},{"$f":"IF(Summary!$A$38=\"\",\"\",Summary!$A$38)","v":5},{"$f":"IF(Summary!$J$32=\"\",\"\",Summary!$J$32)","v":"VMA (Percent)"}]
[1078,{"$f":"IF(Summary!$F$40=\"\",\"\",Summary!$F$40)","v":""},{"$f":"IF(Summary!$B$4=\"\",\"\",Summary!$B$4)","v":"HMACP MIXTURE DESIGN : SUMMARY SHEET"},{"$f":"IF(Summary!$B$40=\"\",\"\",Summary!$B$40)","v":"Min Film Thickness (microns)"}]
[1079,{"$f":"IF(Summary!$J$40=\"\",\"\",Summary!$J$40)","v":""},{"$f":"IF(Summary!$B$4=\"\",\"\",Summary!$B$4)","v":"HMACP MIXTURE DESIGN : SUMMARY SHEET"},{"$f":"IF(Summary!$G$40=\"\",\"\",Summary!$G$40)","v":"AC @ Min Film Thickness:"}]
[1080,{"$f":"IF(Summary!$V$40=\"\",\"\",Summary!$V$40)","v":""},{"$f":"IF(Summary!$B$4=\"\",\"\",Summary!$B$4)","v":"HMACP MIXTURE DESIGN : SUMMARY SHEET"},{"$f":"IF(Summary!$K$40=\"\",\"\",Summary!$K$40)","v":"Max Film Thickness (microns)"}]
[1081,{"$f":"IF(Summary!$AA$40=\"\",\"\",Summary!$AA$40)","v":""},{"$f":"IF(Summary!$B$4=\"\",\"\",Summary!$B$4)","v":"HMACP MIXTURE DESIGN : SUMMARY SHEET"},{"$f":"IF(Summary!$W$40=\"\",\"\",Summary!$W$40)","v":"AC @ Max Film Thickness:"}]
[1082,{"$f":"IF(Summary!$B$44=\"\",\"\",Summary!$B$44)","v":""},{"$f":"IF(Summary!$B$4=\"\",\"\",Summary!$B$4)","v":"HMACP MIXTURE DESIGN : SUMMARY SHEET"},{"$f":"IF(Summary!$A$44=\"\",\"\",Summary!$A$44)","v":1},{"$f":"IF(Summary!$B$42=\"\",\"\",Summary!$B$42)","v":"Asphalt Content (%)"}]
[1083,{"$f":"IF(Summary!$D$44=\"\",\"\",Summary!$D$44)","v":""},{"$f":"IF(Summary!$B$4=\"\",\"\",Summary!$B$4)","v":"HMACP MIXTURE DESIGN : SUMMARY SHEET"},{"$f":"IF(Summary!$A$44=\"\",\"\",Summary!$A$44)","v":1},{"$f":"IF(Summary!$D$42=\"\",\"\",Summary!$D$42)","v":"Lab Measured Gr"}]
[1084,{"$f":"IF(Summary!$F$44=\"\",\"\",Summary!$F$44)","v":""},{"$f":"IF(Summary!$B$4=\"\",\"\",Summary!$B$4)","v":"HMACP MIXTURE DESIGN : SUMMARY SHEET"},{"$f":"IF(Summary!$A$44=\"\",\"\",Summary!$A$44)","v":1},{"$f":"IF(Summary!$F$42=\"\",\"\",Summary!$F$42)","v":"Effective Specific Gravity (Ge)"}]
[1085,{"$f":"IF(Summary!$H$44=\"\",\"\",Summary!$H$44)","v":""},{"$f":"IF(Summary!$B$4=\"\",\"\",Summary!$B$4)","v":"HMACP MIXTURE DESIGN : SUMMARY SHEET"},{"$f":"IF(Summary!$A$44=\"\",\"\",Summary!$A$44)","v":1},{"$f":"IF(Summary!$H$42=\"\",\"\",Summary!$H$42)","v":"Backcalculated Gr"}]
[1086,{"$f":"IF(Summary!$D$45=\"\",\"\",Summary!$D$45)","v":""},{"$f":"IF(Summary!$B$4=\"\",\"\",Summary!$B$4)","v":"HMACP MIXTURE DESIGN : SUMMARY SHEET"},{"$f":"IF(Summary!$A$45=\"\",\"\",Summary!$A$45)","v":2},{"$f":"IF(Summary!$D$42=\"\",\"\",Summary!$D$42)","v":"Lab Measured Gr"}]
[1087,{"$f":"IF(Summary!$B$46=\"\",\"\",Summary!$B$46)","v":""},{"$f":"IF(Summary!$B$4=\"\",\"\",Summary!$B$4)","v":"HMACP MIXTURE DESIGN : SUMMARY SHEET"},{"$f":"IF(Summary!$A$46=\"\",\"\",Summary!$A$46)","v":3},{"$f":"IF(Summary!$B$42=\"\",\"\",Summary!$B$42)","v":"Asphalt Content (%)"}]
[1088,{"$f":"IF(Summary!$D$46=\"\",\"\",Summary!$D$46)","v":""},{"$f":"IF(Summary!$B$4=\"\",\"\",Summary!$B$4)","v":"HMACP MIXTURE DESIGN : SUMMARY SHEET"},{"$f":"IF(Summary!$A$46=\"\",\"\",Summary!$A$46)","v":3},{"$f":"IF(Summary!$D$42=\"\",\"\",Summary!$D$42)","v":"Lab Measured Gr"}]
[1089,{"$f":"IF(Summary!$F$46=\"\",\"\",Summary!$F$46)","v":""},{"$f":"IF(Summary!$B$4=\"\",\"\",Summary!$B$4)","v":"HMACP MIXTURE DESIGN : SUMMARY SHEET"},{"$f":"IF(Summary!$A$46=\"\",\"\",Summary!$A$46)","v":3},{"$f":"IF(Summary!$F$42=\"\",\"\",Summary!$F$42)","v":"Effective Specific Gravity (Ge)"}]
[1090,{"$f":"IF(Summary!$H$46=\"\",\"\",Summary!$H$46)","v":""},{"$f":"IF(Summary!$B$4=\"\",\"\",Summary!$B$4)","v":"HMACP MIXTURE DESIGN : SUMMARY SHEET"},{"$f":"IF(Summary!$A$46=\"\",\"\",Summary!$A$46)","v":3},{"$f":"IF(Summary!$H$42=\"\",\"\",Summary!$H$42)","v":"Backcalculated Gr"}]
[1091,{"$f":"IF(Summary!$D$47=\"\",\"\",Summary!$D$47)","v":""},{"$f":"IF(Summary!$B$4=\"\",\"\",Summary!$B$4)","v":"HMACP MIXTURE DESIGN : SUMMARY SHEET"},{"$f":"IF(Summary!$A$47=\"\",\"\",Summary!$A$47)","v":4},{"$f":"IF(Summary!$D$42=\"\",\"\",Summary!$D$42)","v":"Lab Measured Gr"}]
[1092,{"$f":"IF(Summary!$B$48=\"\",\"\",Summary!$B$48)","v":""},{"$f":"IF(Summary!$B$4=\"\",\"\",Summary!$B$4)","v":"HMACP MIXTURE DESIGN : SUMMARY SHEET"},{"$f":"IF(Summary!$A$48=\"\",\"\",Summary!$A$48)","v":5},{"$f":"IF(Summary!$B$42=\"\",\"\",Summary!$B$42)","v":"Asphalt Content (%)"}]
[1093,{"$f":"IF(Summary!$D$48=\"\",\"\",Summary!$D$48)","v":""},{"$f":"IF(Summary!$B$4=\"\",\"\",Summary!$B$4)","v":"HMACP MIXTURE DESIGN : SUMMARY SHEET"},{"$f":"IF(Summary!$A$48=\"\",\"\",Summary!$A$48)","v":5},{"$f":"IF(Summary!$D$42=\"\",\"\",Summary!$D$42)","v":"Lab Measured Gr"}]
[1094,{"$f":"IF(Summary!$F$48=\"\",\"\",Summary!$F$48)","v":""},{"$f":"IF(Summary!$B$4=\"\",\"\",Summary!$B$4)","v":"HMACP MIXTURE DESIGN : SUMMARY SHEET"},{"$f":"IF(Summary!$A$48=\"\",\"\",Summary!$A$48)","v":5},{"$f":"IF(Summary!$F$42=\"\",\"\",Summary!$F$42)","v":"Effective Specific Gravity (Ge)"}]
[1095,{"$f":"IF(Summary!$H$48=\"\",\"\",Summary!$H$48)","v":""},{"$f":"IF(Summary!$B$4=\"\",\"\",Summary!$B$4)","v":"HMACP MIXTURE DESIGN : SUMMARY SHEET"},{"$f":"IF(Summary!$A$48=\"\",\"\",Summary!$A$48)","v":5},{"$f":"IF(Summary!$H$42=\"\",\"\",Summary!$H$42)","v":"Backcalculated Gr"}]
[1096,{"$f":"IF(Summary!$D$49=\"\",\"\",Summary!$D$49)","v":""},{"$f":"IF(Summary!$B$4=\"\",\"\",Summary!$B$4)","v":"HMACP MIXTURE DESIGN : SUMMARY SHEET"},{"$f":"IF(Summary!$A$49=\"\",\"\",Summary!$A$49)","v":6},{"$f":"IF(Summary!$D$42=\"\",\"\",Summary!$D$42)","v":"Lab Measured Gr"}]
[1097,{"$f":"IF(Summary!$B$53=\"\",\"\",Summary!$B$53)","v":""},{"$f":"IF(Summary!$B$4=\"\",\"\",Summary!$B$4)","v":"HMACP MIXTURE DESIGN : SUMMARY SHEET"},{"$f":"IF(Summary!$A$53=\"\",\"\",Summary!$A$53)","v":1},{"$f":"IF(Summary!$B$51=\"\",\"\",Summary!$B$51)","v":"Asphalt Content (%)"}]
[1098,{"$f":"IF(Summary!$D$53=\"\",\"\",Summary!$D$53)","v":""},{"$f":"IF(Summary!$B$4=\"\",\"\",Summary!$B$4)","v":"HMACP MIXTURE DESIGN : SUMMARY SHEET"},{"$f":"IF(Summary!$A$53=\"\",\"\",Summary!$A$53)","v":1},{"$f":"IF(Summary!$D$51=\"\",\"\",Summary!$D$51)","v":"Height (in)"}]
[1099,{"$f":"IF(Summary!$F$53=\"\",\"\",Summary!$F$53)","v":""},{"$f":"IF(Summary!$B$4=\"\",\"\",Summary!$B$4)","v":"HMACP MIXTURE DESIGN : SUMMARY SHEET"},{"$f":"IF(Summary!$A$53=\"\",\"\",Summary!$A$53)","v":1},{"$f":"IF(Summary!$F$51=\"\",\"\",Summary!$F$51)","v":"Diameter (in)"}]
[1100,{"$f":"IF(Summary!$H$53=\"\",\"\",Summary!$H$53)","v":""},{"$f":"IF(Summary!$B$4=\"\",\"\",Summary!$B$4)","v":"HMACP MIXTURE DESIGN : SUMMARY SHEET"},{"$f":"IF(Summary!$A$53=\"\",\"\",Summary!$A$53)","v":1},{"$f":"IF(Summary!$H$51=\"\",\"\",Summary!$H$51)","v":"Dry Weight (grams)"}]
[1101,{"$f":"IF(Summary!$J$53=\"\",\"\",Summary!$J$53)","v":""},{"$f":"IF(Summary!$B$4=\"\",\"\",Summary!$B$4)","v":"HMACP MIXTURE DESIGN : SUMMARY SHEET"},{"$f":"IF(Summary!$A$53=\"\",\"\",Summary!$A$53)","v":1},{"$f":"IF(Summary!$J$51=\"\",\"\",Summary!$J$51)","v":"Backcalculated Gr"}]
[1102,{"$f":"IF(Summary!$L$53=\"\",\"\",Summary!$L$53)","v":""},{"$f":"IF(Summary!$B$4=\"\",\"\",Summary!$B$4)","v":"HMACP MIXTURE DESIGN : SUMMARY SHEET"},{"$f":"IF(Summary!$A$53=\"\",\"\",Summary!$A$53)","v":1},{"$f":"IF(Summary!$L$51=\"\",\"\",Summary!$L$51)","v":"Ga"}]
[1103,{"$f":"IF(Summary!$D$54=\"\",\"\",Summary!$D$54)","v":""},{"$f":"IF(Summary!$B$4=\"\",\"\",Summary!$B$4)","v":"HMACP MIXTURE DESIGN : SUMMARY SHEET"},{"$f":"IF(Summary!$A$54=\"\",\"\",Summary!$A$54)","v":2},{"$f":"IF(Summary!$D$51=\"\",\"\",Summary!$D$51)","v":"Height (in)"}]
[1104,{"$f":"IF(Summary!$F$54=\"\",\"\",Summary!$F$54)","v":""},{"$f":"IF(Summary!$B$4=\"\",\"\",Summary!$B$4)","v":"HMACP MIXTURE DESIGN : SUMMARY SHEET"},{"$f":"IF(Summary!$A$54=\"\",\"\",Summary!$A$54)","v":2},{"$f":"IF(Summary!$F$51=\"\",\"\",Summary!$F$51)","v":"Diameter (in)"}]
[1105,{"$f":"IF(Summary!$H$54=\"\",\"\",Summary!$H$54)","v":""},{"$f":"IF(Summary!$B$4=\"\",\"\",Summary!$B$4)","v":"HMACP MIXTURE DESIGN : SUMMARY SHEET"},{"$f":"IF(Summary!$A$54=\"\",\"\",Summary!$A$54)","v":2},{"$f":"IF(Summary!$H$51=\"\",\"\",Summary!$H$51)","v":"Dry Weight (grams)"}]
[1106,{"$f":"IF(Summary!$L$54=\"\",\"\",Summary!$L$54)","v":""},{"$f":"IF(Summary!$B$4=\"\",\"\",Summary!$B$4)","v":"HMACP MIXTURE DESIGN : SUMMARY SHEET"},{"$f":"IF(Summary!$A$54=\"\",\"\",Summary!$A$54)","v":2},{"$f":"IF(Summary!$L$51=\"\",\"\",Summary!$L$51)","v":"Ga"}]
[1107,{"$f":"IF(Summary!$U$53=\"\",\"\",Summary!$U$53)","v":""},{"$f":"IF(Summary!$B$4=\"\",\"\",Summary!$B$4)","v":"HMACP MIXTURE DESIGN : SUMMARY SHEET"},{"$f":"IF(Summary!$A$53=\"\",\"\",Summary!$A$53)","v":1},{"$f":"IF(Summary!$U$51=\"\",\"\",Summary!$U$51)","v":"Density from Backcalculated Gr (%)"}]
[1108,{"$f":"IF(Summary!$B$55=\"\",\"\",Summary!$B$55)","v":""},{"$f":"IF(Summary!$B$4=\"\",\"\",Summary!$B$4)","v":"HMACP MIXTURE DESIGN : SUMMARY SHEET"},{"$f":"IF(Summary!$A$55=\"\",\"\",Summary!$A$55)","v":3},{"$f":"IF(Summary!$B$51=\"\",\"\",Summary!$B$51)","v":"Asphalt Content (%)"}]
[1109,{"$f":"IF(Summary!$D$55=\"\",\"\",Summary!$D$55)","v":""},{"$f":"IF(Summary!$B$4=\"\",\"\",Summary!$B$4)","v":"HMACP MIXTURE DESIGN : SUMMARY SHEET"},{"$f":"IF(Summary!$A$55=\"\",\"\",Summary!$A$55)","v":3},{"$f":"IF(Summary!$D$51=\"\",\"\",Summary!$D$51)","v":"Height (in)"}]
[1110,{"$f":"IF(Summary!$F$55=\"\",\"\",Summary!$F$55)","v":""},{"$f":"IF(Summary!$B$4=\"\",\"\",Summary!$B$4)","v":"HMACP MIXTURE DESIGN : SUMMARY SHEET"},{"$f":"IF(Summary!$A$55=\"\",\"\",Summary!$A$55)","v":3},{"$f":"IF(Summary!$F$51=\"\",\"\",Summary!$F$51)","v":"Diameter (in)"}]
[1111,{"$f":"IF(Summary!$H$55=\"\",\"\",Summary!$H$55)","v":""},{"$f":"IF(Summary!$B$4=\"\",\"\",Summary!$B$4)","v":"HMACP MIXTURE DESIGN : SUMMARY SHEET"},{"$f":"IF(Summary!$A$55=\"\",\"\",Summary!$A$55)","v":3},{"$f":"IF(Summary!$H$51=\"\",\"\",Summary!$H$51)","v":"Dry Weight (grams)"}]
[1112,{"$f":"IF(Summary!$J$55=\"\",\"\",Summary!$J$55)","v":""},{"$f":"IF(Summary!$B$4=\"\",\"\",Summary!$B$4)","v":"HMACP MIXTURE DESIGN : SUMMARY SHEET"},{"$f":"IF(Summary!$A$55=\"\",\"\",Summary!$A$55)","v":3},{"$f":"IF(Summary!$J$51=\"\",\"\",Summary!$J$51)","v":"Backcalculated Gr"}]
[1113,{"$f":"IF(Summary!$L$55=\"\",\"\",Summary!$L$55)","v":""},{"$f":"IF(Summary!$B$4=\"\",\"\",Summary!$B$4)","v":"HMACP MIXTURE DESIGN : SUMMARY SHEET"},{"$f":"IF(Summary!$A$55=\"\",\"\",Summary!$A$55)","v":3},{"$f":"IF(Summary!$L$51=\"\",\"\",Summary!$L$51)","v":"Ga"}]
[1114,{"$f":"IF(Summary!$D$56=\"\",\"\",Summary!$D$56)","v":""},{"$f":"IF(Summary!$B$4=\"\",\"\",Summary!$B$4)","v":"HMACP MIXTURE DESIGN : SUMMARY SHEET"},{"$f":"IF(Summary!$A$56=\"\",\"\",Summary!$A$56)","v":4},{"$f":"IF(Summary!$D$51=\"\",\"\",Summary!$D$51)","v":"Height (in)"}]
[1115,{"$f":"IF(Summary!$F$56=\"\",\"\",Summary!$F$56)","v":""},{"$f":"IF(Summary!$B$4=\"\",\"\",Summary!$B$4)","v":"HMACP MIXTURE DESIGN : SUMMARY SHEET"},{"$f":"IF(Summary!$A$56=\"\",\"\",Summary!$A$56)","v":4},{"$f":"IF(Summary!$F$51=\"\",\"\",Summary!$F$51)","v":"Diameter (in)"}]
[1116,{"$f":"IF(Summary!$H$56=\"\",\"\",Summary!$H$56)","v":""},{"$f":"IF(Summary!$B$4=\"\",\"\",Summary!$B$4)","v":"HMACP MIXTURE DESIGN : SUMMARY SHEET"},{"$f":"IF(Summary!$A$56=\"\",\"\",Summary!$A$56)","v":4},{"$f":"IF(Summary!$H$51=\"\",\"\",Summary!$H$51)","v":"Dry Weight (grams)"}]
[1117,{"$f":"IF(Summary!$L$56=\"\",\"\",Summary!$L$56)","v":""},{"$f":"IF(Summary!$B$4=\"\",\"\",Summary!$B$4)","v":"HMACP MIXTURE DESIGN : SUMMARY SHEET"},{"$f":"IF(Summary!$A$56=\"\",\"\",Summary!$A$56)","v":4},{"$f":"IF(Summary!$L$51=\"\",\"\",Summary!$L$51)","v":"Ga"}]
[1118,{"$f":"IF(Summary!$U$55=\"\",\"\",Summary!$U$55)","v":""},{"$f":"IF(Summary!$B$4=\"\",\"\",Summary!$B$4)","v":"HMACP MIXTURE DESIGN : SUMMARY SHEET"},{"$f":"IF(Summary!$A$55=\"\",\"\",Summary!$A$55)","v":3},{"$f":"IF(Summary!$U$51=\"\",\"\",Summary!$U$51)","v":"Density from Backcalculated Gr (%)"}]
[1119,{"$f":"IF(Summary!$B$57=\"\",\"\",Summary!$B$57)","v":""},{"$f":"IF(Summary!$B$4=\"\",\"\",Summary!$B$4)","v":"HMACP MIXTURE DESIGN : SUMMARY SHEET"},{"$f":"IF(Summary!$A$57=\"\",\"\",Summary!$A$57)","v":5},{"$f":"IF(Summary!$B$51=\"\",\"\",Summary!$B$51)","v":"Asphalt Content (%)"}]
[1120,{"$f":"IF(Summary!$D$57=\"\",\"\",Summary!$D$57)","v":""},{"$f":"IF(Summary!$B$4=\"\",\"\",Summary!$B$4)","v":"HMACP MIXTURE DESIGN : SUMMARY SHEET"},{"$f":"IF(Summary!$A$57=\"\",\"\",Summary!$A$57)","v":5},{"$f":"IF(Summary!$D$51=\"\",\"\",Summary!$D$51)","v":"Height (in)"}]
[1121,{"$f":"IF(Summary!$F$57=\"\",\"\",Summary!$F$57)","v":""},{"$f":"IF(Summary!$B$4=\"\",\"\",Summary!$B$4)","v":"HMACP MIXTURE DESIGN : SUMMARY SHEET"},{"$f":"IF(Summary!$A$57=\"\",\"\",Summary!$A$57)","v":5},{"$f":"IF(Summary!$F$51=\"\",\"\",Summary!$F$51)","v":"Diameter (in)"}]
[1122,{"$f":"IF(Summary!$H$57=\"\",\"\",Summary!$H$57)","v":""},{"$f":"IF(Summary!$B$4=\"\",\"\",Summary!$B$4)","v":"HMACP MIXTURE DESIGN : SUMMARY SHEET"},{"$f":"IF(Summary!$A$57=\"\",\"\",Summary!$A$57)","v":5},{"$f":"IF(Summary!$H$51=\"\",\"\",Summary!$H$51)","v":"Dry Weight (grams)"}]
[1123,{"$f":"IF(Summary!$J$57=\"\",\"\",Summary!$J$57)","v":""},{"$f":"IF(Summary!$B$4=\"\",\"\",Summary!$B$4)","v":"HMACP MIXTURE DESIGN : SUMMARY SHEET"},{"$f":"IF(Summary!$A$57=\"\",\"\",Summary!$A$57)","v":5},{"$f":"IF(Summary!$J$51=\"\",\"\",Summary!$J$51)","v":"Backcalculated Gr"}]
[1124,{"$f":"IF(Summary!$L$57=\"\",\"\",Summary!$L$57)","v":""},{"$f":"IF(Summary!$B$4=\"\",\"\",Summary!$B$4)","v":"HMACP MIXTURE DESIGN : SUMMARY SHEET"},{"$f":"IF(Summary!$A$57=\"\",\"\",Summary!$A$57)","v":5},{"$f":"IF(Summary!$L$51=\"\",\"\",Summary!$L$51)","v":"Ga"}]
[1125,{"$f":"IF(Summary!$D$58=\"\",\"\",Summary!$D$58)","v":""},{"$f":"IF(Summary!$B$4=\"\",\"\",Summary!$B$4)","v":"HMACP MIXTURE DESIGN : SUMMARY SHEET"},{"$f":"IF(Summary!$A$58=\"\",\"\",Summary!$A$58)","v":6},{"$f":"IF(Summary!$D$51=\"\",\"\",Summary!$D$51)","v":"Height (in)"}]
[1126,{"$f":"IF(Summary!$F$58=\"\",\"\",Summary!$F$58)","v":""},{"$f":"IF(Summary!$B$4=\"\",\"\",Summary!$B$4)","v":"HMACP MIXTURE DESIGN : SUMMARY SHEET"},{"$f":"IF(Summary!$A$58=\"\",\"\",Summary!$A$58)","v":6},{"$f":"IF(Summary!$F$51=\"\",\"\",Summary!$F$51)","v":"Diameter (in)"}]
[1127,{"$f":"IF(Summary!$H$58=\"\",\"\",Summary!$H$58)","v":""},{"$f":"IF(Summary!$B$4=\"\",\"\",Summary!$B$4)","v":"HMACP MIXTURE DESIGN : SUMMARY SHEET"},{"$f":"IF(Summary!$A$58=\"\",\"\",Summary!$A$58)","v":6},{"$f":"IF(Summary!$H$51=\"\",\"\",Summary!$H$51)","v":"Dry Weight (grams)"}]
[1128,{"$f":"IF(Summary!$L$58=\"\",\"\",Summary!$L$58)","v":""},{"$f":"IF(Summary!$B$4=\"\",\"\",Summary!$B$4)","v":"HMACP MIXTURE DESIGN : SUMMARY SHEET"},{"$f":"IF(Summary!$A$58=\"\",\"\",Summary!$A$58)","v":6},{"$f":"IF(Summary!$L$51=\"\",\"\",Summary!$L$51)","v":"Ga"}]
[1129,{"$f":"IF(Summary!$U$57=\"\",\"\",Summary!$U$57)","v":""},{"$f":"IF(Summary!$B$4=\"\",\"\",Summary!$B$4)","v":"HMACP MIXTURE DESIGN : SUMMARY SHEET"},{"$f":"IF(Summary!$A$57=\"\",\"\",Summary!$A$57)","v":5},{"$f":"IF(Summary!$U$51=\"\",\"\",Summary!$U$51)","v":"Density from Backcalculated Gr (%)"}]
[1130,{"$f":"IF(Summary!$B$59=\"\",\"\",Summary!$B$59)","v":""},{"$f":"IF(Summary!$B$4=\"\",\"\",Summary!$B$4)","v":"HMACP MIXTURE DESIGN : SUMMARY SHEET"},{"$f":"IF(Summary!$A$59=\"\",\"\",Summary!$A$59)","v":7},{"$f":"IF(Summary!$B$51=\"\",\"\",Summary!$B$51)","v":"Asphalt Content (%)"}]
[1131,{"$f":"IF(Summary!$D$59=\"\",\"\",Summary!$D$59)","v":""},{"$f":"IF(Summary!$B$4=\"\",\"\",Summary!$B$4)","v":"HMACP MIXTURE DESIGN : SUMMARY SHEET"},{"$f":"IF(Summary!$A$59=\"\",\"\",Summary!$A$59)","v":7},{"$f":"IF(Summary!$D$51=\"\",\"\",Summary!$D$51)","v":"Height (in)"}]
[1132,{"$f":"IF(Summary!$F$59=\"\",\"\",Summary!$F$59)","v":""},{"$f":"IF(Summary!$B$4=\"\",\"\",Summary!$B$4)","v":"HMACP MIXTURE DESIGN : SUMMARY SHEET"},{"$f":"IF(Summary!$A$59=\"\",\"\",Summary!$A$59)","v":7},{"$f":"IF(Summary!$F$51=\"\",\"\",Summary!$F$51)","v":"Diameter (in)"}]
[1133,{"$f":"IF(Summary!$H$59=\"\",\"\",Summary!$H$59)","v":""},{"$f":"IF(Summary!$B$4=\"\",\"\",Summary!$B$4)","v":"HMACP MIXTURE DESIGN : SUMMARY SHEET"},{"$f":"IF(Summary!$A$59=\"\",\"\",Summary!$A$59)","v":7},{"$f":"IF(Summary!$H$51=\"\",\"\",Summary!$H$51)","v":"Dry Weight (grams)"}]
[1134,{"$f":"IF(Summary!$J$59=\"\",\"\",Summary!$J$59)","v":""},{"$f":"IF(Summary!$B$4=\"\",\"\",Summary!$B$4)","v":"HMACP MIXTURE DESIGN : SUMMARY SHEET"},{"$f":"IF(Summary!$A$59=\"\",\"\",Summary!$A$59)","v":7},{"$f":"IF(Summary!$J$51=\"\",\"\",Summary!$J$51)","v":"Backcalculated Gr"}]
[1135,{"$f":"IF(Summary!$L$59=\"\",\"\",Summary!$L$59)","v":""},{"$f":"IF(Summary!$B$4=\"\",\"\",Summary!$B$4)","v":"HMACP MIXTURE DESIGN : SUMMARY SHEET"},{"$f":"IF(Summary!$A$59=\"\",\"\",Summary!$A$59)","v":7},{"$f":"IF(Summary!$L$51=\"\",\"\",Summary!$L$51)","v":"Ga"}]
[1136,{"$f":"IF(Summary!$D$60=\"\",\"\",Summary!$D$60)","v":""},{"$f":"IF(Summary!$B$4=\"\",\"\",Summary!$B$4)","v":"HMACP MIXTURE DESIGN : SUMMARY SHEET"},{"$f":"IF(Summary!$A$60=\"\",\"\",Summary!$A$60)","v":8},{"$f":"IF(Summary!$D$51=\"\",\"\",Summary!$D$51)","v":"Height (in)"}]
[1137,{"$f":"IF(Summary!$F$60=\"\",\"\",Summary!$F$60)","v":""},{"$f":"IF(Summary!$B$4=\"\",\"\",Summary!$B$4)","v":"HMACP MIXTURE DESIGN : SUMMARY SHEET"},{"$f":"IF(Summary!$A$60=\"\",\"\",Summary!$A$60)","v":8},{"$f":"IF(Summary!$F$51=\"\",\"\",Summary!$F$51)","v":"Diameter (in)"}]
[1138,{"$f":"IF(Summary!$H$60=\"\",\"\",Summary!$H$60)","v":""},{"$f":"IF(Summary!$B$4=\"\",\"\",Summary!$B$4)","v":"HMACP MIXTURE DESIGN : SUMMARY SHEET"},{"$f":"IF(Summary!$A$60=\"\",\"\",Summary!$A$60)","v":8},{"$f":"IF(Summary!$H$51=\"\",\"\",Summary!$H$51)","v":"Dry Weight (grams)"}]
[1139,{"$f":"IF(Summary!$L$60=\"\",\"\",Summary!$L$60)","v":""},{"$f":"IF(Summary!$B$4=\"\",\"\",Summary!$B$4)","v":"HMACP MIXTURE DESIGN : SUMMARY SHEET"},{"$f":"IF(Summary!$A$60=\"\",\"\",Summary!$A$60)","v":8},{"$f":"IF(Summary!$L$51=\"\",\"\",Summary!$L$51)","v":"Ga"}]
[1140,{"$f":"IF(Summary!$U$59=\"\",\"\",Summary!$U$59)","v":""},{"$f":"IF(Summary!$B$4=\"\",\"\",Summary!$B$4)","v":"HMACP MIXTURE DESIGN : SUMMARY SHEET"},{"$f":"IF(Summary!$A$59=\"\",\"\",Summary!$A$59)","v":7},{"$f":"IF(Summary!$U$51=\"\",\"\",Summary!$U$51)","v":"Density from Backcalculated Gr (%)"}]
[1141,{"$f":"IF(Summary!$B$61=\"\",\"\",Summary!$B$61)","v":""},{"$f":"IF(Summary!$B$4=\"\",\"\",Summary!$B$4)","v":"HMACP MIXTURE DESIGN : SUMMARY SHEET"},{"$f":"IF(Summary!$A$61=\"\",\"\",Summary!$A$61)","v":9},{"$f":"IF(Summary!$B$51=\"\",\"\",Summary!$B$51)","v":"Asphalt Content (%)"}]
[1142,{"$f":"IF(Summary!$D$61=\"\",\"\",Summary!$D$61)","v":""},{"$f":"IF(Summary!$B$4=\"\",\"\",Summary!$B$4)","v":"HMACP MIXTURE DESIGN : SUMMARY SHEET"},{"$f":"IF(Summary!$A$61=\"\",\"\",Summary!$A$61)","v":9},{"$f":"IF(Summary!$D$51=\"\",\"\",Summary!$D$51)","v":"Height (in)"}]
[1143,{"$f":"IF(Summary!$F$61=\"\",\"\",Summary!$F$61)","v":""},{"$f":"IF(Summary!$B$4=\"\",\"\",Summary!$B$4)","v":"HMACP MIXTURE DESIGN : SUMMARY SHEET"},{"$f":"IF(Summary!$A$61=\"\",\"\",Summary!$A$61)","v":9},{"$f":"IF(Summary!$F$51=\"\",\"\",Summary!$F$51)","v":"Diameter (in)"}]
[1144,{"$f":"IF(Summary!$H$61=\"\",\"\",Summary!$H$61)","v":""},{"$f":"IF(Summary!$B$4=\"\",\"\",Summary!$B$4)","v":"HMACP MIXTURE DESIGN : SUMMARY SHEET"},{"$f":"IF(Summary!$A$61=\"\",\"\",Summary!$A$61)","v":9},{"$f":"IF(Summary!$H$51=\"\",\"\",Summary!$H$51)","v":"Dry Weight (grams)"}]
[1145,{"$f":"IF(Summary!$J$61=\"\",\"\",Summary!$J$61)","v":""},{"$f":"IF(Summary!$B$4=\"\",\"\",Summary!$B$4)","v":"HMACP MIXTURE DESIGN : SUMMARY SHEET"},{"$f":"IF(Summary!$A$61=\"\",\"\",Summary!$A$61)","v":9},{"$f":"IF(Summary!$J$51=\"\",\"\",Summary!$J$51)","v":"Backcalculated Gr"}]
[1146,{"$f":"IF(Summary!$L$61=\"\",\"\",Summary!$L$61)","v":""},{"$f":"IF(Summary!$B$4=\"\",\"\",Summary!$B$4)","v":"HMACP MIXTURE DESIGN : SUMMARY SHEET"},{"$f":"IF(Summary!$A$61=\"\",\"\",Summary!$A$61)","v":9},{"$f":"IF(Summary!$L$51=\"\",\"\",Summary!$L$51)","v":"Ga"}]
[1147,{"$f":"IF(Summary!$D$62=\"\",\"\",Summary!$D$62)","v":""},{"$f":"IF(Summary!$B$4=\"\",\"\",Summary!$B$4)","v":"HMACP MIXTURE DESIGN : SUMMARY SHEET"},{"$f":"IF(Summary!$A$62=\"\",\"\",Summary!$A$62)","v":10},{"$f":"IF(Summary!$D$51=\"\",\"\",Summary!$D$51)","v":"Height (in)"}]
[1148,{"$f":"IF(Summary!$F$62=\"\",\"\",Summary!$F$62)","v":""},{"$f":"IF(Summary!$B$4=\"\",\"\",Summary!$B$4)","v":"HMACP MIXTURE DESIGN : SUMMARY SHEET"},{"$f":"IF(Summary!$A$62=\"\",\"\",Summary!$A$62)","v":10},{"$f":"IF(Summary!$F$51=\"\",\"\",Summary!$F$51)","v":"Diameter (in)"}]
[1149,{"$f":"IF(Summary!$H$62=\"\",\"\",Summary!$H$62)","v":""},{"$f":"IF(Summary!$B$4=\"\",\"\",Summary!$B$4)","v":"HMACP MIXTURE DESIGN : SUMMARY SHEET"},{"$f":"IF(Summary!$A$62=\"\",\"\",Summary!$A$62)","v":10},{"$f":"IF(Summary!$H$51=\"\",\"\",Summary!$H$51)","v":"Dry Weight (grams)"}]
[1150,{"$f":"IF(Summary!$L$62=\"\",\"\",Summary!$L$62)","v":""},{"$f":"IF(Summary!$B$4=\"\",\"\",Summary!$B$4)","v":"HMACP MIXTURE DESIGN : SUMMARY SHEET"},{"$f":"IF(Summary!$A$62=\"\",\"\",Summary!$A$62)","v":10},{"$f":"IF(Summary!$L$51=\"\",\"\",Summary!$L$51)","v":"Ga"}]
[1151,{"$f":"IF(Summary!$U$61=\"\",\"\",Summary!$U$61)","v":""},{"$f":"IF(Summary!$B$4=\"\",\"\",Summary!$B$4)","v":"HMACP MIXTURE DESIGN : SUMMARY SHEET"},{"$f":"IF(Summary!$A$61=\"\",\"\",Summary!$A$61)","v":9},{"$f":"IF(Summary!$U$51=\"\",\"\",Summary!$U$51)","v":"Density from Backcalculated Gr (%)"}]
[1152,{"$f":"IF(Summary!$F$69=\"\",\"\",Summary!$F$69)","v":0},{"$f":"IF(Summary!$B$4=\"\",\"\",Summary!$B$4)","v":"HMACP MIXTURE DESIGN : SUMMARY SHEET"},{"$f":"IF(Summary!$B$69=\"\",\"\",Summary!$B$69)","v":"Effective Specific Gravity:"}]
[1153,{"$f":"IF(Summary!$F$70=\"\",\"\",Summary!$F$70)","v":"Invalid design"},{"$f":"IF(Summary!$B$4=\"\",\"\",Summary!$B$4)","v":"HMACP MIXTURE DESIGN : SUMMARY SHEET"},{"$f":"IF(Summary!$B$70=\"\",\"\",Summary!$B$70)","v":"Optimum Asphalt Content :"}]
[1154,{"$f":"IF(Summary!$F$73=\"\",\"\",Summary!$F$73)","v":0},{"$f":"IF(Summary!$B$4=\"\",\"\",Summary!$B$4)","v":"HMACP MIXTURE DESIGN : SUMMARY SHEET"},{"$f":"IF(Summary!$B$73=\"\",\"\",Summary!$B$73)","v":"VMA @ Optimum AC:"}]
[1155,{"$f":"IF(Summary!$M$69=\"\",\"\",Summary!$M$69)","v":""},{"$f":"IF(Summary!$B$4=\"\",\"\",Summary!$B$4)","v":"HMACP MIXTURE DESIGN : SUMMARY SHEET"},{"$f":"IF(Summary!$I$69=\"\",\"\",Summary!$I$69)","v":"Estimated Percent of Stripping, %:"}]
[1156,{"$f":"IF(Summary!$M$72=\"\",\"\",Summary!$M$72)","v":""},{"$f":"IF(Summary!$B$4=\"\",\"\",Summary!$B$4)","v":"HMACP MIXTURE DESIGN : SUMMARY SHEET"},{"$f":"IF(Summary!$K$72=\"\",\"\",Summary!$K$72)","v":"Drain-Down, %:"}]
[1157,{"$f":"IF(Summary!$M$73=\"\",\"\",Summary!$M$73)","v":""},{"$f":"IF(Summary!$B$4=\"\",\"\",Summary!$B$4)","v":"HMACP MIXTURE DESIGN : SUMMARY SHEET"},{"$f":"IF(Summary!$K$73=\"\",\"\",Summary!$K$73)","v":"Cantabro Loss, %:"}]
[1158,{"$f":"IF(Summary!$F$76=\"\",\"\",Summary!$F$76)","v":""},{"$f":"IF(Summary!$B$4=\"\",\"\",Summary!$B$4)","v":"HMACP MIXTURE DESIGN : SUMMARY SHEET"},{"$f":"IF(Summary!$B$75=\"\",\"\",Summary!$B$75)","v":"Interpolated Values"},{"$f":"IF(Summary!$B$76=\"\",\"\",Summary!$B$76)","v":"Specific Gravity (Ga):"}]
[1159,{"$f":"IF(Summary!$F$77=\"\",\"\",Summary!$F$77)","v":""},{"$f":"IF(Summary!$B$4=\"\",\"\",Summary!$B$4)","v":"HMACP MIXTURE DESIGN : SUMMARY SHEET"},{"$f":"IF(Summary!$B$75=\"\",\"\",Summary!$B$75)","v":"Interpolated Values"},{"$f":"IF(Summary!$B$77=\"\",\"\",Summary!$B$77)","v":"Max. Specific Gravity (Gr):"}]
[1160,{"$f":"IF(Summary!$F$78=\"\",\"\",Summary!$F$78)","v":""},{"$f":"IF(Summary!$B$4=\"\",\"\",Summary!$B$4)","v":"HMACP MIXTURE DESIGN : SUMMARY SHEET"},{"$f":"IF(Summary!$B$75=\"\",\"\",Summary!$B$75)","v":"Interpolated Values"},{"$f":"IF(Summary!$B$78=\"\",\"\",Summary!$B$78)","v":"Theo. Max. Specific Gravity (Gt):"}]
[1161,{"$f":"IF(Summary!$J$77=\"\",\"\",Summary!$J$77)","v":""},{"$f":"IF(Summary!$B$4=\"\",\"\",Summary!$B$4)","v":"HMACP MIXTURE DESIGN : SUMMARY SHEET"},{"$f":"IF(Summary!$I$77=\"\",\"\",Summary!$I$77)","v":""}]
[1162,{"$f":"IF(Summary!$J$78=\"\",\"\",Summary!$J$78)","v":""},{"$f":"IF(Summary!$B$4=\"\",\"\",Summary!$B$4)","v":"HMACP MIXTURE DESIGN : SUMMARY SHEET"},{"$f":"IF(Summary!$I$78=\"\",\"\",Summary!$I$78)","v":""}]
[1163,{"$f":"IF(Summary!$M$77=\"\",\"\",Summary!$M$77)","v":""},{"$f":"IF(Summary!$B$4=\"\",\"\",Summary!$B$4)","v":"HMACP MIXTURE DESIGN : SUMMARY SHEET"},{"$f":"IF(Summary!$K$77=\"\",\"\",Summary!$K$77)","v":"VCA(CA, calc.)"}]
[1164,{"$f":"IF(Summary!$M$78=\"\",\"\",Summary!$M$78)","v":""},{"$f":"IF(Summary!$B$4=\"\",\"\",Summary!$B$4)","v":"HMACP MIXTURE DESIGN : SUMMARY SHEET"},{"$f":"IF(Summary!$K$78=\"\",\"\",Summary!$K$78)","v":"VCA(MIX, calc.)"}]
[1165,{"$f":"IF(Summary!$X$72=\"\",\"\",Summary!$X$72)","v":""},{"$f":"IF(Summary!$B$4=\"\",\"\",Summary!$B$4)","v":"HMACP MIXTURE DESIGN : SUMMARY SHEET"},{"$f":"IF(Summary!$V$69=\"\",\"\",Summary!$V$69)","v":"MIXTURE DENSIFICATION"},{"$f":"IF(Summary!$X$70=\"\",\"\",Summary!$X$70)","v":"A"},{"$f":"IF(Summary!$V$72=\"\",\"\",Summary!$V$72)","v":"Gr"}]
[1166,{"$f":"IF(Summary!$Y$72=\"\",\"\",Summary!$Y$72)","v":""},{"$f":"IF(Summary!$B$4=\"\",\"\",Summary!$B$4)","v":"HMACP MIXTURE DESIGN : SUMMARY SHEET"},{"$f":"IF(Summary!$V$69=\"\",\"\",Summary!$V$69)","v":"MIXTURE DENSIFICATION"},{"$f":"IF(Summary!$Y$70=\"\",\"\",Summary!$Y$70)","v":"B"},{"$f":"IF(Summary!$V$72=\"\",\"\",Summary!$V$72)","v":"Gr"}]
[1167,{"$f":"IF(Summary!$Z$72=\"\",\"\",Summary!$Z$72)","v":""},{"$f":"IF(Summary!$B$4=\"\",\"\",Summary!$B$4)","v":"HMACP MIXTURE DESIGN : SUMMARY SHEET"},{"$f":"IF(Summary!$V$69=\"\",\"\",Summary!$V$69)","v":"MIXTURE DENSIFICATION"},{"$f":"IF(Summary!$Z$70=\"\",\"\",Summary!$Z$70)","v":"Density (%)"},{"$f":"IF(Summary!$V$72=\"\",\"\",Summary!$V$72)","v":"Gr"}]
[1168,{"$f":"IF(Summary!$X$73=\"\",\"\",Summary!$X$73)","v":""},{"$f":"IF(Summary!$B$4=\"\",\"\",Summary!$B$4)","v":"HMACP MIXTURE DESIGN : SUMMARY SHEET"},{"$f":"IF(Summary!$V$69=\"\",\"\",Summary!$V$69)","v":"MIXTURE DENSIFICATION"},{"$f":"IF(Summary!$X$70=\"\",\"\",Summary!$X$70)","v":"A"},{"$f":"IF(Summary!$V$73=\"\",\"\",Summary!$V$73)","v":"Ga"}]
[1169,{"$f":"IF(Summary!$Y$73=\"\",\"\",Summary!$Y$73)","v":""},{"$f":"IF(Summary!$B$4=\"\",\"\",Summary!$B$4)","v":"HMACP MIXTURE DESIGN : SUMMARY SHEET"},{"$f":"IF(Summary!$V$69=\"\",\"\",Summary!$V$69)","v":"MIXTURE DENSIFICATION"},{"$f":"IF(Summary!$Y$70=\"\",\"\",Summary!$Y$70)","v":"B"},{"$f":"IF(Summary!$V$73=\"\",\"\",Summary!$V$73)","v":"Ga"}]
[1170,{"$f":"IF(Summary!$Z$73=\"\",\"\",Summary!$Z$73)","v":""},{"$f":"IF(Summary!$B$4=\"\",\"\",Summary!$B$4)","v":"HMACP MIXTURE DESIGN : SUMMARY SHEET"},{"$f":"IF(Summary!$V$69=\"\",\"\",Summary!$V$69)","v":"MIXTURE DENSIFICATION"},{"$f":"IF(Summary!$Z$70=\"\",\"\",Summary!$Z$70)","v":"Density (%)"},{"$f":"IF(Summary!$V$73=\"\",\"\",Summary!$V$73)","v":"Ga"}]
[1171,{"$f":"IF(Summary!$X$74=\"\",\"\",Summary!$X$74)","v":""},{"$f":"IF(Summary!$B$4=\"\",\"\",Summary!$B$4)","v":"HMACP MIXTURE DESIGN : SUMMARY SHEET"},{"$f":"IF(Summary!$V$69=\"\",\"\",Summary!$V$69)","v":"MIXTURE DENSIFICATION"},{"$f":"IF(Summary!$X$70=\"\",\"\",Summary!$X$70)","v":"A"},{"$f":"IF(Summary!$V$74=\"\",\"\",Summary!$V$74)","v":"Height @ Nini"}]
[1172,{"$f":"IF(Summary!$Y$74=\"\",\"\",Summary!$Y$74)","v":""},{"$f":"IF(Summary!$B$4=\"\",\"\",Summary!$B$4)","v":"HMACP MIXTURE DESIGN : SUMMARY SHEET"},{"$f":"IF(Summary!$V$69=\"\",\"\",Summary!$V$69)","v":"MIXTURE DENSIFICATION"},{"$f":"IF(Summary!$Y$70=\"\",\"\",Summary!$Y$70)","v":"B"},{"$f":"IF(Summary!$V$74=\"\",\"\",Summary!$V$74)","v":"Height @ Nini"}]
[1173,{"$f":"IF(Summary!$Z$74=\"\",\"\",Summary!$Z$74)","v":""},{"$f":"IF(Summary!$B$4=\"\",\"\",Summary!$B$4)","v":"HMACP MIXTURE DESIGN : SUMMARY SHEET"},{"$f":"IF(Summary!$V$69=\"\",\"\",Summary!$V$69)","v":"MIXTURE DENSIFICATION"},{"$f":"IF(Summary!$Z$70=\"\",\"\",Summary!$Z$70)","v":"Density (%)"},{"$f":"IF(Summary!$V$74=\"\",\"\",Summary!$V$74)","v":"Height @ Nini"}]
[1174,{"$f":"IF(Summary!$X$75=\"\",\"\",Summary!$X$75)","v":""},{"$f":"IF(Summary!$B$4=\"\",\"\",Summary!$B$4)","v":"HMACP MIXTURE DESIGN : SUMMARY SHEET"},{"$f":"IF(Summary!$V$69=\"\",\"\",Summary!$V$69)","v":"MIXTURE DENSIFICATION"},{"$f":"IF(Summary!$X$70=\"\",\"\",Summary!$X$70)","v":"A"},{"$f":"IF(Summary!$V$75=\"\",\"\",Summary!$V$75)","v":"Height @ Ndes"}]
[1175,{"$f":"IF(Summary!$Y$75=\"\",\"\",Summary!$Y$75)","v":""},{"$f":"IF(Summary!$B$4=\"\",\"\",Summary!$B$4)","v":"HMACP MIXTURE DESIGN : SUMMARY SHEET"},{"$f":"IF(Summary!$V$69=\"\",\"\",Summary!$V$69)","v":"MIXTURE DENSIFICATION"},{"$f":"IF(Summary!$Y$70=\"\",\"\",Summary!$Y$70)","v":"B"},{"$f":"IF(Summary!$V$75=\"\",\"\",Summary!$V$75)","v":"Height @ Ndes"}]
[1176,{"$f":"IF(Summary!$Z$75=\"\",\"\",Summary!$Z$75)","v":""},{"$f":"IF(Summary!$B$4=\"\",\"\",Summary!$B$4)","v":"HMACP MIXTURE DESIGN : SUMMARY SHEET"},{"$f":"IF(Summary!$V$69=\"\",\"\",Summary!$V$69)","v":"MIXTURE DENSIFICATION"},{"$f":"IF(Summary!$Z$70=\"\",\"\",Summary!$Z$70)","v":"Density (%)"},{"$f":"IF(Summary!$V$75=\"\",\"\",Summary!$V$75)","v":"Height @ Ndes"}]
[1177,{"$f":"IF(Summary!$X$76=\"\",\"\",Summary!$X$76)","v":""},{"$f":"IF(Summary!$B$4=\"\",\"\",Summary!$B$4)","v":"HMACP MIXTURE DESIGN : SUMMARY SHEET"},{"$f":"IF(Summary!$V$69=\"\",\"\",Summary!$V$69)","v":"MIXTURE DENSIFICATION"},{"$f":"IF(Summary!$X$70=\"\",\"\",Summary!$X$70)","v":"A"},{"$f":"IF(Summary!$V$76=\"\",\"\",Summary!$V$76)","v":"Height @ Nmax"}]
[1178,{"$f":"IF(Summary!$Y$76=\"\",\"\",Summary!$Y$76)","v":""},{"$f":"IF(Summary!$B$4=\"\",\"\",Summary!$B$4)","v":"HMACP MIXTURE DESIGN : SUMMARY SHEET"},{"$f":"IF(Summary!$V$69=\"\",\"\",Summary!$V$69)","v":"MIXTURE DENSIFICATION"},{"$f":"IF(Summary!$Y$70=\"\",\"\",Summary!$Y$70)","v":"B"},{"$f":"IF(Summary!$V$76=\"\",\"\",Summary!$V$76)","v":"Height @ Nmax"}]
[1179,{"$f":"IF(Summary!$Z$76=\"\",\"\",Summary!$Z$76)","v":""},{"$f":"IF(Summary!$B$4=\"\",\"\",Summary!$B$4)","v":"HMACP MIXTURE DESIGN : SUMMARY SHEET"},{"$f":"IF(Summary!$V$69=\"\",\"\",Summary!$V$69)","v":"MIXTURE DENSIFICATION"},{"$f":"IF(Summary!$Z$70=\"\",\"\",Summary!$Z$70)","v":"Density (%)"},{"$f":"IF(Summary!$V$76=\"\",\"\",Summary!$V$76)","v":"Height @ Nmax"}]
[1180,{"$f":"IF('Combined Gradation'!$N$10=\"\",\"\",'Combined Gradation'!$N$10)","v":"2014"},{"$f":"IF('Combined Gradation'!$B$5=\"\",\"\",'Combined Gradation'!$B$5)","v":"2014 HMACP MIXTURE DESIGN : COMBINED GRADATION"},{"$f":"IF('Combined Gradation'!$J$10=\"\",\"\",'Combined Gradation'!$J$10)","v":"SPEC YEAR:"}]
[1181,{"$f":"IF('Combined Gradation'!$N$12=\"\",\"\",'Combined Gradation'!$N$12)","v":""},{"$f":"IF('Combined Gradation'!$B$5=\"\",\"\",'Combined Gradation'!$B$5)","v":"2014 HMACP MIXTURE DESIGN : COMBINED GRADATION"},{"$f":"IF('Combined Gradation'!$J$12=\"\",\"\",'Combined Gradation'!$J$12)","v":"SPECIAL PROVISION:"}]
[1182,{"$f":"IF('Combined Gradation'!$N$13=\"\",\"\",'Combined Gradation'!$N$13)","v":"SS-3074-BMD-SP-C"},{"$f":"IF('Combined Gradation'!$B$5=\"\",\"\",'Combined Gradation'!$B$5)","v":"2014 HMACP MIXTURE DESIGN : COMBINED GRADATION"},{"$f":"IF('Combined Gradation'!$J$13=\"\",\"\",'Combined Gradation'!$J$13)","v":"MIX TYPE:"}]
[1183,{"$f":"IF('Combined Gradation'!$F$46=\"\",\"\",'Combined Gradation'!$F$46)","v":""},{"$f":"IF('Combined Gradation'!$B$5=\"\",\"\",'Combined Gradation'!$B$5)","v":"2014 HMACP MIXTURE DESIGN : COMBINED GRADATION"},{"$f":"IF('Combined Gradation'!$B$46=\"\",\"\",'Combined Gradation'!$B$46)","v":"Lift Thickness, in:"}]
[1184,{"$f":"IF(Summary!$B$66=\"\",\"\",Summary!$B$66)","v":""},{"$f":"IF(Summary!$B$4=\"\",\"\",Summary!$B$4)","v":"HMACP MIXTURE DESIGN : SUMMARY SHEET"},{"$f":"IF(Summary!$B$64=\"\",\"\",Summary!$B$64)","v":"FINAL SPECIMEN"},{"$f":"IF(Summary!$B$65=\"\",\"\",Summary!$B$65)","v":"Asphalt Content (%)"}]
[1185,{"$f":"IF(Summary!$D$66=\"\",\"\",Summary!$D$66)","v":""},{"$f":"IF(Summary!$B$4=\"\",\"\",Summary!$B$4)","v":"HMACP MIXTURE DESIGN : SUMMARY SHEET"},{"$f":"IF(Summary!$B$64=\"\",\"\",Summary!$B$64)","v":"FINAL SPECIMEN"},{"$f":"IF(Summary!$D$65=\"\",\"\",Summary!$D$65)","v":"Specific Gravity Of Specimen (Ga)"}]
[1186,{"$f":"IF(Summary!$F$66=\"\",\"\",Summary!$F$66)","v":""},{"$f":"IF(Summary!$B$4=\"\",\"\",Summary!$B$4)","v":"HMACP MIXTURE DESIGN : SUMMARY SHEET"},{"$f":"IF(Summary!$B$64=\"\",\"\",Summary!$B$64)","v":"FINAL SPECIMEN"},{"$f":"IF(Summary!$F$65=\"\",\"\",Summary!$F$65)","v":"Maximum Specific Gravity (Gr)"}]
[1187,{"$f":"IF(Summary!$H$66=\"\",\"\",Summary!$H$66)","v":""},{"$f":"IF(Summary!$B$4=\"\",\"\",Summary!$B$4)","v":"HMACP MIXTURE DESIGN : SUMMARY SHEET"},{"$f":"IF(Summary!$B$64=\"\",\"\",Summary!$B$64)","v":"FINAL SPECIMEN"},{"$f":"IF(Summary!$H$65=\"\",\"\",Summary!$H$65)","v":"Effective Gravity (Ge)"}]
[1188,{"$f":"IF(Summary!$J$66=\"\",\"\",Summary!$J$66)","v":""},{"$f":"IF(Summary!$B$4=\"\",\"\",Summary!$B$4)","v":"HMACP MIXTURE DESIGN : SUMMARY SHEET"},{"$f":"IF(Summary!$B$64=\"\",\"\",Summary!$B$64)","v":"FINAL SPECIMEN"},{"$f":"IF(Summary!$J$65=\"\",\"\",Summary!$J$65)","v":"Density from Gr (Percent)"}]
[1189,{"$f":"IF(Summary!$L$66=\"\",\"\",Summary!$L$66)","v":""},{"$f":"IF(Summary!$B$4=\"\",\"\",Summary!$B$4)","v":"HMACP MIXTURE DESIGN : SUMMARY SHEET"},{"$f":"IF(Summary!$B$64=\"\",\"\",Summary!$B$64)","v":"FINAL SPECIMEN"},{"$f":"IF(Summary!$L$65=\"\",\"\",Summary!$L$65)","v":"Film Thickness (microns)"}]
[1190,{"$f":"IF(Summary!$F$68=\"\",\"\",Summary!$F$68)","v":""},{"$f":"IF(Summary!$B$4=\"\",\"\",Summary!$B$4)","v":"HMACP MIXTURE DESIGN : SUMMARY SHEET"},{"$f":"IF(Summary!$B$68=\"\",\"\",Summary!$B$68)","v":"Suggested Membrane Target App. Rate, gal/yd2:"}]
[1191,{"$f":"IF('Film Thickness'!$G$66=\"\",\"\",'Film Thickness'!$G$66)","v":""},{"$f":"IF('Film Thickness'!$B$3=\"\",\"\",'Film Thickness'!$B$3)","v":"HMACP MIXTURE DESIGN : SUMMARY SHEET"},{"$f":"IF('Film Thickness'!$G$64=\"\",\"\",'Film Thickness'!$G$64)","v":"PREDICTION ESTIMATES"},{"$f":"IF('Film Thickness'!$G$65=\"\",\"\",'Film Thickness'!$G$65)","v":"AC %"}]
[1192,{"$f":"IF('Film Thickness'!$I$66=\"\",\"\",'Film Thickness'!$I$66)","v":""},{"$f":"IF('Film Thickness'!$B$3=\"\",\"\",'Film Thickness'!$B$3)","v":"HMACP MIXTURE DESIGN : SUMMARY SHEET"},{"$f":"IF('Film Thickness'!$G$64=\"\",\"\",'Film Thickness'!$G$64)","v":"PREDICTION ESTIMATES"},{"$f":"IF('Film Thickness'!$I$65=\"\",\"\",'Film Thickness'!$I$65)","v":"Film Thickness (microns)"}]
[1193,{"$f":"IF('Film Thickness'!$K$66=\"\",\"\",'Film Thickness'!$K$66)","v":""},{"$f":"IF('Film Thickness'!$B$3=\"\",\"\",'Film Thickness'!$B$3)","v":"HMACP MIXTURE DESIGN : SUMMARY SHEET"},{"$f":"IF('Film Thickness'!$G$64=\"\",\"\",'Film Thickness'!$G$64)","v":"PREDICTION ESTIMATES"},{"$f":"IF('Film Thickness'!$K$65=\"\",\"\",'Film Thickness'!$K$65)","v":"Density (%)"}]
[1194,{"$f":"IF('Blank Weigh Up'!$F$19=\"\",\"\",'Blank Weigh Up'!$F$19)","v":""},{"$f":"IF('Blank Weigh Up'!$B$4=\"\",\"\",'Blank Weigh Up'!$B$4)","v":"HMACP MIXTURE DESIGN : WEIGH UP SHEET FOR BLANK SAMPLES"},{"$f":"IF('Blank Weigh Up'!$B$19=\"\",\"\",'Blank Weigh Up'!$B$19)","v":"Blank Sample Weight, g:"}]
[1195,{"$f":"IF('Blank Weigh Up'!$E$30=\"\",\"\",'Blank Weigh Up'!$E$30)","v":""},{"$f":"IF('Blank Weigh Up'!$B$4=\"\",\"\",'Blank Weigh Up'!$B$4)","v":"HMACP MIXTURE DESIGN : WEIGH UP SHEET FOR BLANK SAMPLES"},{"$f":"IF('Blank Weigh Up'!$B$30=\"\",\"\",'Blank Weigh Up'!$B$30)","v":"INDIVIDUAL"},{"$f":"IF('Blank Weigh Up'!$C$29=\"\",\"\",'Blank Weigh Up'!$C$29)","v":"Passing"},{"$f":"IF('Blank Weigh Up'!$C$30=\"\",\"\",'Blank Weigh Up'!$C$30)","v":"-"},{"$f":"IF('Blank Weigh Up'!$C$27=\"\",\"\",'Blank Weigh Up'!$C$27)","v":"Sieve Size:"},{"$f":"IF('Blank Weigh Up'!$D$29=\"\",\"\",'Blank Weigh Up'!$D$29)","v":"Retained"},{"$f":"IF('Blank Weigh Up'!$D$30=\"\",\"\",'Blank Weigh Up'!$D$30)","v":"1\""},{"$f":"'Blank Weigh Up'!$E$21","v":"Bin No.1"}]
[1196,{"$f":"IF('Blank Weigh Up'!$G$30=\"\",\"\",'Blank Weigh Up'!$G$30)","v":""},{"$f":"IF('Blank Weigh Up'!$B$4=\"\",\"\",'Blank Weigh Up'!$B$4)","v":"HMACP MIXTURE DESIGN : WEIGH UP SHEET FOR BLANK SAMPLES"},{"$f":"IF('Blank Weigh Up'!$B$30=\"\",\"\",'Blank Weigh Up'!$B$30)","v":"INDIVIDUAL"},{"$f":"IF('Blank Weigh Up'!$C$29=\"\",\"\",'Blank Weigh Up'!$C$29)","v":"Passing"},{"$f":"IF('Blank Weigh Up'!$C$30=\"\",\"\",'Blank Weigh Up'!$C$30)","v":"-"},{"$f":"IF('Blank Weigh Up'!$C$27=\"\",\"\",'Blank Weigh Up'!$C$27)","v":"Sieve Size:"},{"$f":"IF('Blank Weigh Up'!$D$29=\"\",\"\",'Blank Weigh Up'!$D$29)","v":"Retained"},{"$f":"IF('Blank Weigh Up'!$D$30=\"\",\"\",'Blank Weigh Up'!$D$30)","v":"1\""},{"$f":"'Blank Weigh Up'!$G$21","v":"Bin No.2"}]
[1197,{"$f":"IF('Blank Weigh Up'!$I$30=\"\",\"\",'Blank Weigh Up'!$I$30)","v":""},{"$f":"IF('Blank Weigh Up'!$B$4=\"\",\"\",'Blank Weigh Up'!$B$4)","v":"HMACP MIXTURE DESIGN : WEIGH UP SHEET FOR BLANK SAMPLES"},{"$f":"IF('Blank Weigh Up'!$B$30=\"\",\"\",'Blank Weigh Up'!$B$30)","v":"INDIVIDUAL"},{"$f":"IF('Blank Weigh Up'!$C$29=\"\",\"\",'Blank Weigh Up'!$C$29)","v":"Passing"},{"$f":"IF('Blank Weigh Up'!$C$30=\"\",\"\",'Blank Weigh Up'!$C$30)","v":"-"},{"$f":"IF('Blank Weigh Up'!$C$27=\"\",\"\",'Blank Weigh Up'!$C$27)","v":"Sieve Size:"},{"$f":"IF('Blank Weigh Up'!$D$29=\"\",\"\",'Blank Weigh Up'!$D$29)","v":"Retained"},{"$f":"IF('Blank Weigh Up'!$D$30=\"\",\"\",'Blank Weigh Up'!$D$30)","v":"1\""},{"$f":"'Blank Weigh Up'!$I$21","v":"Bin No.3"}]
[1198,{"$f":"IF('Blank Weigh Up'!$K$30=\"\",\"\",'Blank Weigh Up'!$K$30)","v":""},{"$f":"IF('Blank Weigh Up'!$B$4=\"\",\"\",'Blank Weigh Up'!$B$4)","v":"HMACP MIXTURE DESIGN : WEIGH UP SHEET FOR BLANK SAMPLES"},{"$f":"IF('Blank Weigh Up'!$B$30=\"\",\"\",'Blank Weigh Up'!$B$30)","v":"INDIVIDUAL"},{"$f":"IF('Blank Weigh Up'!$C$29=\"\",\"\",'Blank Weigh Up'!$C$29)","v":"Passing"},{"$f":"IF('Blank Weigh Up'!$C$30=\"\",\"\",'Blank Weigh Up'!$C$30)","v":"-"},{"$f":"IF('Blank Weigh Up'!$C$27=\"\",\"\",'Blank Weigh Up'!$C$27)","v":"Sieve Size:"},{"$f":"IF('Blank Weigh Up'!$D$29=\"\",\"\",'Blank Weigh Up'!$D$29)","v":"Retained"},{"$f":"IF('Blank Weigh Up'!$D$30=\"\",\"\",'Blank Weigh Up'!$D$30)","v":"1\""},{"$f":"'Blank Weigh Up'!$K$21","v":"Bin No.4"}]
[1199,{"$f":"IF('Blank Weigh Up'!$M$30=\"\",\"\",'Blank Weigh Up'!$M$30)","v":""},{"$f":"IF('Blank Weigh Up'!$B$4=\"\",\"\",'Blank Weigh Up'!$B$4)","v":"HMACP MIXTURE DESIGN : WEIGH UP SHEET FOR BLANK SAMPLES"},{"$f":"IF('Blank Weigh Up'!$B$30=\"\",\"\",'Blank Weigh Up'!$B$30)","v":"INDIVIDUAL"},{"$f":"IF('Blank Weigh Up'!$C$29=\"\",\"\",'Blank Weigh Up'!$C$29)","v":"Passing"},{"$f":"IF('Blank Weigh Up'!$C$30=\"\",\"\",'Blank Weigh Up'!$C$30)","v":"-"},{"$f":"IF('Blank Weigh Up'!$C$27=\"\",\"\",'Blank Weigh Up'!$C$27)","v":"Sieve Size:"},{"$f":"IF('Blank Weigh Up'!$D$29=\"\",\"\",'Blank Weigh Up'!$D$29)","v":"Retained"},{"$f":"IF('Blank Weigh Up'!$D$30=\"\",\"\",'Blank Weigh Up'!$D$30)","v":"1\""},{"$f":"'Blank Weigh Up'!$M$21","v":"Bin No.5"}]
[1200,{"$f":"IF('Blank Weigh Up'!$O$30=\"\",\"\",'Blank Weigh Up'!$O$30)","v":""},{"$f":"IF('Blank Weigh Up'!$B$4=\"\",\"\",'Blank Weigh Up'!$B$4)","v":"HMACP MIXTURE DESIGN : WEIGH UP SHEET FOR BLANK SAMPLES"},{"$f":"IF('Blank Weigh Up'!$B$30=\"\",\"\",'Blank Weigh Up'!$B$30)","v":"INDIVIDUAL"},{"$f":"IF('Blank Weigh Up'!$C$29=\"\",\"\",'Blank Weigh Up'!$C$29)","v":"Passing"},{"$f":"IF('Blank Weigh Up'!$C$30=\"\",\"\",'Blank Weigh Up'!$C$30)","v":"-"},{"$f":"IF('Blank Weigh Up'!$C$27=\"\",\"\",'Blank Weigh Up'!$C$27)","v":"Sieve Size:"},{"$f":"IF('Blank Weigh Up'!$D$29=\"\",\"\",'Blank Weigh Up'!$D$29)","v":"Retained"},{"$f":"IF('Blank Weigh Up'!$D$30=\"\",\"\",'Blank Weigh Up'!$D$30)","v":"1\""},{"$f":"'Blank Weigh Up'!$O$21","v":"Bin No.6 "}]
[1201,{"$f":"IF('Blank Weigh Up'!$Q$30=\"\",\"\",'Blank Weigh Up'!$Q$30)","v":""},{"$f":"IF('Blank Weigh Up'!$B$4=\"\",\"\",'Blank Weigh Up'!$B$4)","v":"HMACP MIXTURE DESIGN : WEIGH UP SHEET FOR BLANK SAMPLES"},{"$f":"IF('Blank Weigh Up'!$B$30=\"\",\"\",'Blank Weigh Up'!$B$30)","v":"INDIVIDUAL"},{"$f":"IF('Blank Weigh Up'!$C$29=\"\",\"\",'Blank Weigh Up'!$C$29)","v":"Passing"},{"$f":"IF('Blank Weigh Up'!$C$30=\"\",\"\",'Blank Weigh Up'!$C$30)","v":"-"},{"$f":"IF('Blank Weigh Up'!$C$27=\"\",\"\",'Blank Weigh Up'!$C$27)","v":"Sieve Size:"},{"$f":"IF('Blank Weigh Up'!$D$29=\"\",\"\",'Blank Weigh Up'!$D$29)","v":"Retained"},{"$f":"IF('Blank Weigh Up'!$D$30=\"\",\"\",'Blank Weigh Up'!$D$30)","v":"1\""},{"$f":"'Blank Weigh Up'!$Q$21","v":"Bin No.7 "}]
[1202,{"$f":"IF('Blank Weigh Up'!$S$30=\"\",\"\",'Blank Weigh Up'!$S$30)","v":""},{"$f":"IF('Blank Weigh Up'!$B$4=\"\",\"\",'Blank Weigh Up'!$B$4)","v":"HMACP MIXTURE DESIGN : WEIGH UP SHEET FOR BLANK SAMPLES"},{"$f":"IF('Blank Weigh Up'!$B$30=\"\",\"\",'Blank Weigh Up'!$B$30)","v":"INDIVIDUAL"},{"$f":"IF('Blank Weigh Up'!$C$29=\"\",\"\",'Blank Weigh Up'!$C$29)","v":"Passing"},{"$f":"IF('Blank Weigh Up'!$C$30=\"\",\"\",'Blank Weigh Up'!$C$30)","v":"-"},{"$f":"IF('Blank Weigh Up'!$C$27=\"\",\"\",'Blank Weigh Up'!$C$27)","v":"Sieve Size:"},{"$f":"IF('Blank Weigh Up'!$D$29=\"\",\"\",'Blank Weigh Up'!$D$29)","v":"Retained"},{"$f":"IF('Blank Weigh Up'!$D$30=\"\",\"\",'Blank Weigh Up'!$D$30)","v":"1\""},{"$f":"'Blank Weigh Up'!$S$24","v":"Total Weights"}]
[1203,{"$f":"IF('Blank Weigh Up'!$T$30=\"\",\"\",'Blank Weigh Up'!$T$30)","v":""},{"$f":"IF('Blank Weigh Up'!$B$4=\"\",\"\",'Blank Weigh Up'!$B$4)","v":"HMACP MIXTURE DESIGN : WEIGH UP SHEET FOR BLANK SAMPLES"},{"$f":"IF('Blank Weigh Up'!$B$30=\"\",\"\",'Blank Weigh Up'!$B$30)","v":"INDIVIDUAL"},{"$f":"IF('Blank Weigh Up'!$C$29=\"\",\"\",'Blank Weigh Up'!$C$29)","v":"Passing"},{"$f":"IF('Blank Weigh Up'!$C$30=\"\",\"\",'Blank Weigh Up'!$C$30)","v":"-"},{"$f":"IF('Blank Weigh Up'!$C$27=\"\",\"\",'Blank Weigh Up'!$C$27)","v":"Sieve Size:"},{"$f":"IF('Blank Weigh Up'!$D$29=\"\",\"\",'Blank Weigh Up'!$D$29)","v":"Retained"},{"$f":"IF('Blank Weigh Up'!$D$30=\"\",\"\",'Blank Weigh Up'!$D$30)","v":"1\""},{"$f":"'Blank Weigh Up'!$T$24","v":"Individual\nRetained, %"}]
[1204,{"$f":"IF('Blank Weigh Up'!$U$30=\"\",\"\",'Blank Weigh Up'!$U$30)","v":""},{"$f":"IF('Blank Weigh Up'!$B$4=\"\",\"\",'Blank Weigh Up'!$B$4)","v":"HMACP MIXTURE DESIGN : WEIGH UP SHEET FOR BLANK SAMPLES"},{"$f":"IF('Blank Weigh Up'!$B$30=\"\",\"\",'Blank Weigh Up'!$B$30)","v":"INDIVIDUAL"},{"$f":"IF('Blank Weigh Up'!$C$29=\"\",\"\",'Blank Weigh Up'!$C$29)","v":"Passing"},{"$f":"IF('Blank Weigh Up'!$C$30=\"\",\"\",'Blank Weigh Up'!$C$30)","v":"-"},{"$f":"IF('Blank Weigh Up'!$C$27=\"\",\"\",'Blank Weigh Up'!$C$27)","v":"Sieve Size:"},{"$f":"IF('Blank Weigh Up'!$D$29=\"\",\"\",'Blank Weigh Up'!$D$29)","v":"Retained"},{"$f":"IF('Blank Weigh Up'!$D$30=\"\",\"\",'Blank Weigh Up'!$D$30)","v":"1\""},{"$f":"'Blank Weigh Up'!$U$24","v":"Cumulative Retained, %"}]
[1205,{"$f":"IF('Blank Weigh Up'!$E$31=\"\",\"\",'Blank Weigh Up'!$E$31)","v":""},{"$f":"IF('Blank Weigh Up'!$B$4=\"\",\"\",'Blank Weigh Up'!$B$4)","v":"HMACP MIXTURE DESIGN : WEIGH UP SHEET FOR BLANK SAMPLES"},{"$f":"IF('Blank Weigh Up'!$B$30=\"\",\"\",'Blank Weigh Up'!$B$30)","v":"INDIVIDUAL"},{"$f":"IF('Blank Weigh Up'!$C$29=\"\",\"\",'Blank Weigh Up'!$C$29)","v":"Passing"},{"$f":"IF('Blank Weigh Up'!$C$31=\"\",\"\",'Blank Weigh Up'!$C$31)","v":"1\""},{"$f":"IF('Blank Weigh Up'!$C$27=\"\",\"\",'Blank Weigh Up'!$C$27)","v":"Sieve Size:"},{"$f":"IF('Blank Weigh Up'!$D$29=\"\",\"\",'Blank Weigh Up'!$D$29)","v":"Retained"},{"$f":"IF('Blank Weigh Up'!$D$31=\"\",\"\",'Blank Weigh Up'!$D$31)","v":"3/4\""},{"$f":"'Blank Weigh Up'!$E$21","v":"Bin No.1"}]
[1206,{"$f":"IF('Blank Weigh Up'!$G$31=\"\",\"\",'Blank Weigh Up'!$G$31)","v":""},{"$f":"IF('Blank Weigh Up'!$B$4=\"\",\"\",'Blank Weigh Up'!$B$4)","v":"HMACP MIXTURE DESIGN : WEIGH UP SHEET FOR BLANK SAMPLES"},{"$f":"IF('Blank Weigh Up'!$B$30=\"\",\"\",'Blank Weigh Up'!$B$30)","v":"INDIVIDUAL"},{"$f":"IF('Blank Weigh Up'!$C$29=\"\",\"\",'Blank Weigh Up'!$C$29)","v":"Passing"},{"$f":"IF('Blank Weigh Up'!$C$31=\"\",\"\",'Blank Weigh Up'!$C$31)","v":"1\""},{"$f":"IF('Blank Weigh Up'!$C$27=\"\",\"\",'Blank Weigh Up'!$C$27)","v":"Sieve Size:"},{"$f":"IF('Blank Weigh Up'!$D$29=\"\",\"\",'Blank Weigh Up'!$D$29)","v":"Retained"},{"$f":"IF('Blank Weigh Up'!$D$31=\"\",\"\",'Blank Weigh Up'!$D$31)","v":"3/4\""},{"$f":"'Blank Weigh Up'!$G$21","v":"Bin No.2"}]
[1207,{"$f":"IF('Blank Weigh Up'!$I$31=\"\",\"\",'Blank Weigh Up'!$I$31)","v":""},{"$f":"IF('Blank Weigh Up'!$B$4=\"\",\"\",'Blank Weigh Up'!$B$4)","v":"HMACP MIXTURE DESIGN : WEIGH UP SHEET FOR BLANK SAMPLES"},{"$f":"IF('Blank Weigh Up'!$B$30=\"\",\"\",'Blank Weigh Up'!$B$30)","v":"INDIVIDUAL"},{"$f":"IF('Blank Weigh Up'!$C$29=\"\",\"\",'Blank Weigh Up'!$C$29)","v":"Passing"},{"$f":"IF('Blank Weigh Up'!$C$31=\"\",\"\",'Blank Weigh Up'!$C$31)","v":"1\""},{"$f":"IF('Blank Weigh Up'!$C$27=\"\",\"\",'Blank Weigh Up'!$C$27)","v":"Sieve Size:"},{"$f":"IF('Blank Weigh Up'!$D$29=\"\",\"\",'Blank Weigh Up'!$D$29)","v":"Retained"},{"$f":"IF('Blank Weigh Up'!$D$31=\"\",\"\",'Blank Weigh Up'!$D$31)","v":"3/4\""},{"$f":"'Blank Weigh Up'!$I$21","v":"Bin No.3"}]
[1208,{"$f":"IF('Blank Weigh Up'!$K$31=\"\",\"\",'Blank Weigh Up'!$K$31)","v":""},{"$f":"IF('Blank Weigh Up'!$B$4=\"\",\"\",'Blank Weigh Up'!$B$4)","v":"HMACP MIXTURE DESIGN : WEIGH UP SHEET FOR BLANK SAMPLES"},{"$f":"IF('Blank Weigh Up'!$B$30=\"\",\"\",'Blank Weigh Up'!$B$30)","v":"INDIVIDUAL"},{"$f":"IF('Blank Weigh Up'!$C$29=\"\",\"\",'Blank Weigh Up'!$C$29)","v":"Passing"},{"$f":"IF('Blank Weigh Up'!$C$31=\"\",\"\",'Blank Weigh Up'!$C$31)","v":"1\""},{"$f":"IF('Blank Weigh Up'!$C$27=\"\",\"\",'Blank Weigh Up'!$C$27)","v":"Sieve Size:"},{"$f":"IF('Blank Weigh Up'!$D$29=\"\",\"\",'Blank Weigh Up'!$D$29)","v":"Retained"},{"$f":"IF('Blank Weigh Up'!$D$31=\"\",\"\",'Blank Weigh Up'!$D$31)","v":"3/4\""},{"$f":"'Blank Weigh Up'!$K$21","v":"Bin No.4"}]
[1209,{"$f":"IF('Blank Weigh Up'!$M$31=\"\",\"\",'Blank Weigh Up'!$M$31)","v":""},{"$f":"IF('Blank Weigh Up'!$B$4=\"\",\"\",'Blank Weigh Up'!$B$4)","v":"HMACP MIXTURE DESIGN : WEIGH UP SHEET FOR BLANK SAMPLES"},{"$f":"IF('Blank Weigh Up'!$B$30=\"\",\"\",'Blank Weigh Up'!$B$30)","v":"INDIVIDUAL"},{"$f":"IF('Blank Weigh Up'!$C$29=\"\",\"\",'Blank Weigh Up'!$C$29)","v":"Passing"},{"$f":"IF('Blank Weigh Up'!$C$31=\"\",\"\",'Blank Weigh Up'!$C$31)","v":"1\""},{"$f":"IF('Blank Weigh Up'!$C$27=\"\",\"\",'Blank Weigh Up'!$C$27)","v":"Sieve Size:"},{"$f":"IF('Blank Weigh Up'!$D$29=\"\",\"\",'Blank Weigh Up'!$D$29)","v":"Retained"},{"$f":"IF('Blank Weigh Up'!$D$31=\"\",\"\",'Blank Weigh Up'!$D$31)","v":"3/4\""},{"$f":"'Blank Weigh Up'!$M$21","v":"Bin No.5"}]
[1210,{"$f":"IF('Blank Weigh Up'!$O$31=\"\",\"\",'Blank Weigh Up'!$O$31)","v":""},{"$f":"IF('Blank Weigh Up'!$B$4=\"\",\"\",'Blank Weigh Up'!$B$4)","v":"HMACP MIXTURE DESIGN : WEIGH UP SHEET FOR BLANK SAMPLES"},{"$f":"IF('Blank Weigh Up'!$B$30=\"\",\"\",'Blank Weigh Up'!$B$30)","v":"INDIVIDUAL"},{"$f":"IF('Blank Weigh Up'!$C$29=\"\",\"\",'Blank Weigh Up'!$C$29)","v":"Passing"},{"$f":"IF('Blank Weigh Up'!$C$31=\"\",\"\",'Blank Weigh Up'!$C$31)","v":"1\""},{"$f":"IF('Blank Weigh Up'!$C$27=\"\",\"\",'Blank Weigh Up'!$C$27)","v":"Sieve Size:"},{"$f":"IF('Blank Weigh Up'!$D$29=\"\",\"\",'Blank Weigh Up'!$D$29)","v":"Retained"},{"$f":"IF('Blank Weigh Up'!$D$31=\"\",\"\",'Blank Weigh Up'!$D$31)","v":"3/4\""},{"$f":"'Blank Weigh Up'!$O$21","v":"Bin No.6 "}]
[1211,{"$f":"IF('Blank Weigh Up'!$Q$31=\"\",\"\",'Blank Weigh Up'!$Q$31)","v":""},{"$f":"IF('Blank Weigh Up'!$B$4=\"\",\"\",'Blank Weigh Up'!$B$4)","v":"HMACP MIXTURE DESIGN : WEIGH UP SHEET FOR BLANK SAMPLES"},{"$f":"IF('Blank Weigh Up'!$B$30=\"\",\"\",'Blank Weigh Up'!$B$30)","v":"INDIVIDUAL"},{"$f":"IF('Blank Weigh Up'!$C$29=\"\",\"\",'Blank Weigh Up'!$C$29)","v":"Passing"},{"$f":"IF('Blank Weigh Up'!$C$31=\"\",\"\",'Blank Weigh Up'!$C$31)","v":"1\""},{"$f":"IF('Blank Weigh Up'!$C$27=\"\",\"\",'Blank Weigh Up'!$C$27)","v":"Sieve Size:"},{"$f":"IF('Blank Weigh Up'!$D$29=\"\",\"\",'Blank Weigh Up'!$D$29)","v":"Retained"},{"$f":"IF('Blank Weigh Up'!$D$31=\"\",\"\",'Blank Weigh Up'!$D$31)","v":"3/4\""},{"$f":"'Blank Weigh Up'!$Q$21","v":"Bin No.7 "}]
[1212,{"$f":"IF('Blank Weigh Up'!$S$31=\"\",\"\",'Blank Weigh Up'!$S$31)","v":""},{"$f":"IF('Blank Weigh Up'!$B$4=\"\",\"\",'Blank Weigh Up'!$B$4)","v":"HMACP MIXTURE DESIGN : WEIGH UP SHEET FOR BLANK SAMPLES"},{"$f":"IF('Blank Weigh Up'!$B$30=\"\",\"\",'Blank Weigh Up'!$B$30)","v":"INDIVIDUAL"},{"$f":"IF('Blank Weigh Up'!$C$29=\"\",\"\",'Blank Weigh Up'!$C$29)","v":"Passing"},{"$f":"IF('Blank Weigh Up'!$C$31=\"\",\"\",'Blank Weigh Up'!$C$31)","v":"1\""},{"$f":"IF('Blank Weigh Up'!$C$27=\"\",\"\",'Blank Weigh Up'!$C$27)","v":"Sieve Size:"},{"$f":"IF('Blank Weigh Up'!$D$29=\"\",\"\",'Blank Weigh Up'!$D$29)","v":"Retained"},{"$f":"IF('Blank Weigh Up'!$D$31=\"\",\"\",'Blank Weigh Up'!$D$31)","v":"3/4\""},{"$f":"'Blank Weigh Up'!$S$24","v":"Total Weights"}]
[1213,{"$f":"IF('Blank Weigh Up'!$T$31=\"\",\"\",'Blank Weigh Up'!$T$31)","v":""},{"$f":"IF('Blank Weigh Up'!$B$4=\"\",\"\",'Blank Weigh Up'!$B$4)","v":"HMACP MIXTURE DESIGN : WEIGH UP SHEET FOR BLANK SAMPLES"},{"$f":"IF('Blank Weigh Up'!$B$30=\"\",\"\",'Blank Weigh Up'!$B$30)","v":"INDIVIDUAL"},{"$f":"IF('Blank Weigh Up'!$C$29=\"\",\"\",'Blank Weigh Up'!$C$29)","v":"Passing"},{"$f":"IF('Blank Weigh Up'!$C$31=\"\",\"\",'Blank Weigh Up'!$C$31)","v":"1\""},{"$f":"IF('Blank Weigh Up'!$C$27=\"\",\"\",'Blank Weigh Up'!$C$27)","v":"Sieve Size:"},{"$f":"IF('Blank Weigh Up'!$D$29=\"\",\"\",'Blank Weigh Up'!$D$29)","v":"Retained"},{"$f":"IF('Blank Weigh Up'!$D$31=\"\",\"\",'Blank Weigh Up'!$D$31)","v":"3/4\""},{"$f":"'Blank Weigh Up'!$T$24","v":"Individual\nRetained, %"}]
[1214,{"$f":"IF('Blank Weigh Up'!$U$31=\"\",\"\",'Blank Weigh Up'!$U$31)","v":""},{"$f":"IF('Blank Weigh Up'!$B$4=\"\",\"\",'Blank Weigh Up'!$B$4)","v":"HMACP MIXTURE DESIGN : WEIGH UP SHEET FOR BLANK SAMPLES"},{"$f":"IF('Blank Weigh Up'!$B$30=\"\",\"\",'Blank Weigh Up'!$B$30)","v":"INDIVIDUAL"},{"$f":"IF('Blank Weigh Up'!$C$29=\"\",\"\",'Blank Weigh Up'!$C$29)","v":"Passing"},{"$f":"IF('Blank Weigh Up'!$C$31=\"\",\"\",'Blank Weigh Up'!$C$31)","v":"1\""},{"$f":"IF('Blank Weigh Up'!$C$27=\"\",\"\",'Blank Weigh Up'!$C$27)","v":"Sieve Size:"},{"$f":"IF('Blank Weigh Up'!$D$29=\"\",\"\",'Blank Weigh Up'!$D$29)","v":"Retained"},{"$f":"IF('Blank Weigh Up'!$D$31=\"\",\"\",'Blank Weigh Up'!$D$31)","v":"3/4\""},{"$f":"'Blank Weigh Up'!$U$24","v":"Cumulative Retained, %"}]
[1215,{"$f":"IF('Blank Weigh Up'!$E$32=\"\",\"\",'Blank Weigh Up'!$E$32)","v":""},{"$f":"IF('Blank Weigh Up'!$B$4=\"\",\"\",'Blank Weigh Up'!$B$4)","v":"HMACP MIXTURE DESIGN : WEIGH UP SHEET FOR BLANK SAMPLES"},{"$f":"IF('Blank Weigh Up'!$B$30=\"\",\"\",'Blank Weigh Up'!$B$30)","v":"INDIVIDUAL"},{"$f":"IF('Blank Weigh Up'!$C$29=\"\",\"\",'Blank Weigh Up'!$C$29)","v":"Passing"},{"$f":"IF('Blank Weigh Up'!$C$32=\"\",\"\",'Blank Weigh Up'!$C$32)","v":"3/4\""},{"$f":"IF('Blank Weigh Up'!$C$27=\"\",\"\",'Blank Weigh Up'!$C$27)","v":"Sieve Size:"},{"$f":"IF('Blank Weigh Up'!$D$29=\"\",\"\",'Blank Weigh Up'!$D$29)","v":"Retained"},{"$f":"IF('Blank Weigh Up'!$D$32=\"\",\"\",'Blank Weigh Up'!$D$32)","v":"1/2\""},{"$f":"'Blank Weigh Up'!$E$21","v":"Bin No.1"}]
[1216,{"$f":"IF('Blank Weigh Up'!$G$32=\"\",\"\",'Blank Weigh Up'!$G$32)","v":""},{"$f":"IF('Blank Weigh Up'!$B$4=\"\",\"\",'Blank Weigh Up'!$B$4)","v":"HMACP MIXTURE DESIGN : WEIGH UP SHEET FOR BLANK SAMPLES"},{"$f":"IF('Blank Weigh Up'!$B$30=\"\",\"\",'Blank Weigh Up'!$B$30)","v":"INDIVIDUAL"},{"$f":"IF('Blank Weigh Up'!$C$29=\"\",\"\",'Blank Weigh Up'!$C$29)","v":"Passing"},{"$f":"IF('Blank Weigh Up'!$C$32=\"\",\"\",'Blank Weigh Up'!$C$32)","v":"3/4\""},{"$f":"IF('Blank Weigh Up'!$C$27=\"\",\"\",'Blank Weigh Up'!$C$27)","v":"Sieve Size:"},{"$f":"IF('Blank Weigh Up'!$D$29=\"\",\"\",'Blank Weigh Up'!$D$29)","v":"Retained"},{"$f":"IF('Blank Weigh Up'!$D$32=\"\",\"\",'Blank Weigh Up'!$D$32)","v":"1/2\""},{"$f":"'Blank Weigh Up'!$G$21","v":"Bin No.2"}]
[1217,{"$f":"IF('Blank Weigh Up'!$I$32=\"\",\"\",'Blank Weigh Up'!$I$32)","v":""},{"$f":"IF('Blank Weigh Up'!$B$4=\"\",\"\",'Blank Weigh Up'!$B$4)","v":"HMACP MIXTURE DESIGN : WEIGH UP SHEET FOR BLANK SAMPLES"},{"$f":"IF('Blank Weigh Up'!$B$30=\"\",\"\",'Blank Weigh Up'!$B$30)","v":"INDIVIDUAL"},{"$f":"IF('Blank Weigh Up'!$C$29=\"\",\"\",'Blank Weigh Up'!$C$29)","v":"Passing"},{"$f":"IF('Blank Weigh Up'!$C$32=\"\",\"\",'Blank Weigh Up'!$C$32)","v":"3/4\""},{"$f":"IF('Blank Weigh Up'!$C$27=\"\",\"\",'Blank Weigh Up'!$C$27)","v":"Sieve Size:"},{"$f":"IF('Blank Weigh Up'!$D$29=\"\",\"\",'Blank Weigh Up'!$D$29)","v":"Retained"},{"$f":"IF('Blank Weigh Up'!$D$32=\"\",\"\",'Blank Weigh Up'!$D$32)","v":"1/2\""},{"$f":"'Blank Weigh Up'!$I$21","v":"Bin No.3"}]
[1218,{"$f":"IF('Blank Weigh Up'!$K$32=\"\",\"\",'Blank Weigh Up'!$K$32)","v":""},{"$f":"IF('Blank Weigh Up'!$B$4=\"\",\"\",'Blank Weigh Up'!$B$4)","v":"HMACP MIXTURE DESIGN : WEIGH UP SHEET FOR BLANK SAMPLES"},{"$f":"IF('Blank Weigh Up'!$B$30=\"\",\"\",'Blank Weigh Up'!$B$30)","v":"INDIVIDUAL"},{"$f":"IF('Blank Weigh Up'!$C$29=\"\",\"\",'Blank Weigh Up'!$C$29)","v":"Passing"},{"$f":"IF('Blank Weigh Up'!$C$32=\"\",\"\",'Blank Weigh Up'!$C$32)","v":"3/4\""},{"$f":"IF('Blank Weigh Up'!$C$27=\"\",\"\",'Blank Weigh Up'!$C$27)","v":"Sieve Size:"},{"$f":"IF('Blank Weigh Up'!$D$29=\"\",\"\",'Blank Weigh Up'!$D$29)","v":"Retained"},{"$f":"IF('Blank Weigh Up'!$D$32=\"\",\"\",'Blank Weigh Up'!$D$32)","v":"1/2\""},{"$f":"'Blank Weigh Up'!$K$21","v":"Bin No.4"}]
[1219,{"$f":"IF('Blank Weigh Up'!$M$32=\"\",\"\",'Blank Weigh Up'!$M$32)","v":""},{"$f":"IF('Blank Weigh Up'!$B$4=\"\",\"\",'Blank Weigh Up'!$B$4)","v":"HMACP MIXTURE DESIGN : WEIGH UP SHEET FOR BLANK SAMPLES"},{"$f":"IF('Blank Weigh Up'!$B$30=\"\",\"\",'Blank Weigh Up'!$B$30)","v":"INDIVIDUAL"},{"$f":"IF('Blank Weigh Up'!$C$29=\"\",\"\",'Blank Weigh Up'!$C$29)","v":"Passing"},{"$f":"IF('Blank Weigh Up'!$C$32=\"\",\"\",'Blank Weigh Up'!$C$32)","v":"3/4\""},{"$f":"IF('Blank Weigh Up'!$C$27=\"\",\"\",'Blank Weigh Up'!$C$27)","v":"Sieve Size:"},{"$f":"IF('Blank Weigh Up'!$D$29=\"\",\"\",'Blank Weigh Up'!$D$29)","v":"Retained"},{"$f":"IF('Blank Weigh Up'!$D$32=\"\",\"\",'Blank Weigh Up'!$D$32)","v":"1/2\""},{"$f":"'Blank Weigh Up'!$M$21","v":"Bin No.5"}]
[1220,{"$f":"IF('Blank Weigh Up'!$O$32=\"\",\"\",'Blank Weigh Up'!$O$32)","v":""},{"$f":"IF('Blank Weigh Up'!$B$4=\"\",\"\",'Blank Weigh Up'!$B$4)","v":"HMACP MIXTURE DESIGN : WEIGH UP SHEET FOR BLANK SAMPLES"},{"$f":"IF('Blank Weigh Up'!$B$30=\"\",\"\",'Blank Weigh Up'!$B$30)","v":"INDIVIDUAL"},{"$f":"IF('Blank Weigh Up'!$C$29=\"\",\"\",'Blank Weigh Up'!$C$29)","v":"Passing"},{"$f":"IF('Blank Weigh Up'!$C$32=\"\",\"\",'Blank Weigh Up'!$C$32)","v":"3/4\""},{"$f":"IF('Blank Weigh Up'!$C$27=\"\",\"\",'Blank Weigh Up'!$C$27)","v":"Sieve Size:"},{"$f":"IF('Blank Weigh Up'!$D$29=\"\",\"\",'Blank Weigh Up'!$D$29)","v":"Retained"},{"$f":"IF('Blank Weigh Up'!$D$32=\"\",\"\",'Blank Weigh Up'!$D$32)","v":"1/2\""},{"$f":"'Blank Weigh Up'!$O$21","v":"Bin No.6 "}]
[1221,{"$f":"IF('Blank Weigh Up'!$Q$32=\"\",\"\",'Blank Weigh Up'!$Q$32)","v":""},{"$f":"IF('Blank Weigh Up'!$B$4=\"\",\"\",'Blank Weigh Up'!$B$4)","v":"HMACP MIXTURE DESIGN : WEIGH UP SHEET FOR BLANK SAMPLES"},{"$f":"IF('Blank Weigh Up'!$B$30=\"\",\"\",'Blank Weigh Up'!$B$30)","v":"INDIVIDUAL"},{"$f":"IF('Blank Weigh Up'!$C$29=\"\",\"\",'Blank Weigh Up'!$C$29)","v":"Passing"},{"$f":"IF('Blank Weigh Up'!$C$32=\"\",\"\",'Blank Weigh Up'!$C$32)","v":"3/4\""},{"$f":"IF('Blank Weigh Up'!$C$27=\"\",\"\",'Blank Weigh Up'!$C$27)","v":"Sieve Size:"},{"$f":"IF('Blank Weigh Up'!$D$29=\"\",\"\",'Blank Weigh Up'!$D$29)","v":"Retained"},{"$f":"IF('Blank Weigh Up'!$D$32=\"\",\"\",'Blank Weigh Up'!$D$32)","v":"1/2\""},{"$f":"'Blank Weigh Up'!$Q$21","v":"Bin No.7 "}]
[1222,{"$f":"IF('Blank Weigh Up'!$S$32=\"\",\"\",'Blank Weigh Up'!$S$32)","v":""},{"$f":"IF('Blank Weigh Up'!$B$4=\"\",\"\",'Blank Weigh Up'!$B$4)","v":"HMACP MIXTURE DESIGN : WEIGH UP SHEET FOR BLANK SAMPLES"},{"$f":"IF('Blank Weigh Up'!$B$30=\"\",\"\",'Blank Weigh Up'!$B$30)","v":"INDIVIDUAL"},{"$f":"IF('Blank Weigh Up'!$C$29=\"\",\"\",'Blank Weigh Up'!$C$29)","v":"Passing"},{"$f":"IF('Blank Weigh Up'!$C$32=\"\",\"\",'Blank Weigh Up'!$C$32)","v":"3/4\""},{"$f":"IF('Blank Weigh Up'!$C$27=\"\",\"\",'Blank Weigh Up'!$C$27)","v":"Sieve Size:"},{"$f":"IF('Blank Weigh Up'!$D$29=\"\",\"\",'Blank Weigh Up'!$D$29)","v":"Retained"},{"$f":"IF('Blank Weigh Up'!$D$32=\"\",\"\",'Blank Weigh Up'!$D$32)","v":"1/2\""},{"$f":"'Blank Weigh Up'!$S$24","v":"Total Weights"}]
[1223,{"$f":"IF('Blank Weigh Up'!$T$32=\"\",\"\",'Blank Weigh Up'!$T$32)","v":""},{"$f":"IF('Blank Weigh Up'!$B$4=\"\",\"\",'Blank Weigh Up'!$B$4)","v":"HMACP MIXTURE DESIGN : WEIGH UP SHEET FOR BLANK SAMPLES"},{"$f":"IF('Blank Weigh Up'!$B$30=\"\",\"\",'Blank Weigh Up'!$B$30)","v":"INDIVIDUAL"},{"$f":"IF('Blank Weigh Up'!$C$29=\"\",\"\",'Blank Weigh Up'!$C$29)","v":"Passing"},{"$f":"IF('Blank Weigh Up'!$C$32=\"\",\"\",'Blank Weigh Up'!$C$32)","v":"3/4\""},{"$f":"IF('Blank Weigh Up'!$C$27=\"\",\"\",'Blank Weigh Up'!$C$27)","v":"Sieve Size:"},{"$f":"IF('Blank Weigh Up'!$D$29=\"\",\"\",'Blank Weigh Up'!$D$29)","v":"Retained"},{"$f":"IF('Blank Weigh Up'!$D$32=\"\",\"\",'Blank Weigh Up'!$D$32)","v":"1/2\""},{"$f":"'Blank Weigh Up'!$T$24","v":"Individual\nRetained, %"}]
[1224,{"$f":"IF('Blank Weigh Up'!$U$32=\"\",\"\",'Blank Weigh Up'!$U$32)","v":""},{"$f":"IF('Blank Weigh Up'!$B$4=\"\",\"\",'Blank Weigh Up'!$B$4)","v":"HMACP MIXTURE DESIGN : WEIGH UP SHEET FOR BLANK SAMPLES"},{"$f":"IF('Blank Weigh Up'!$B$30=\"\",\"\",'Blank Weigh Up'!$B$30)","v":"INDIVIDUAL"},{"$f":"IF('Blank Weigh Up'!$C$29=\"\",\"\",'Blank Weigh Up'!$C$29)","v":"Passing"},{"$f":"IF('Blank Weigh Up'!$C$32=\"\",\"\",'Blank Weigh Up'!$C$32)","v":"3/4\""},{"$f":"IF('Blank Weigh Up'!$C$27=\"\",\"\",'Blank Weigh Up'!$C$27)","v":"Sieve Size:"},{"$f":"IF('Blank Weigh Up'!$D$29=\"\",\"\",'Blank Weigh Up'!$D$29)","v":"Retained"},{"$f":"IF('Blank Weigh Up'!$D$32=\"\",\"\",'Blank Weigh Up'!$D$32)","v":"1/2\""},{"$f":"'Blank Weigh Up'!$U$24","v":"Cumulative Retained, %"}]
[1225,{"$f":"IF('Blank Weigh Up'!$E$33=\"\",\"\",'Blank Weigh Up'!$E$33)","v":""},{"$f":"IF('Blank Weigh Up'!$B$4=\"\",\"\",'Blank Weigh Up'!$B$4)","v":"HMACP MIXTURE DESIGN : WEIGH UP SHEET FOR BLANK SAMPLES"},{"$f":"IF('Blank Weigh Up'!$B$30=\"\",\"\",'Blank Weigh Up'!$B$30)","v":"INDIVIDUAL"},{"$f":"IF('Blank Weigh Up'!$C$29=\"\",\"\",'Blank Weigh Up'!$C$29)","v":"Passing"},{"$f":"IF('Blank Weigh Up'!$C$33=\"\",\"\",'Blank Weigh Up'!$C$33)","v":"1/2\""},{"$f":"IF('Blank Weigh Up'!$C$27=\"\",\"\",'Blank Weigh Up'!$C$27)","v":"Sieve Size:"},{"$f":"IF('Blank Weigh Up'!$D$29=\"\",\"\",'Blank Weigh Up'!$D$29)","v":"Retained"},{"$f":"IF('Blank Weigh Up'!$D$33=\"\",\"\",'Blank Weigh Up'!$D$33)","v":"3/8\""},{"$f":"'Blank Weigh Up'!$E$21","v":"Bin No.1"}]
[1226,{"$f":"IF('Blank Weigh Up'!$G$33=\"\",\"\",'Blank Weigh Up'!$G$33)","v":""},{"$f":"IF('Blank Weigh Up'!$B$4=\"\",\"\",'Blank Weigh Up'!$B$4)","v":"HMACP MIXTURE DESIGN : WEIGH UP SHEET FOR BLANK SAMPLES"},{"$f":"IF('Blank Weigh Up'!$B$30=\"\",\"\",'Blank Weigh Up'!$B$30)","v":"INDIVIDUAL"},{"$f":"IF('Blank Weigh Up'!$C$29=\"\",\"\",'Blank Weigh Up'!$C$29)","v":"Passing"},{"$f":"IF('Blank Weigh Up'!$C$33=\"\",\"\",'Blank Weigh Up'!$C$33)","v":"1/2\""},{"$f":"IF('Blank Weigh Up'!$C$27=\"\",\"\",'Blank Weigh Up'!$C$27)","v":"Sieve Size:"},{"$f":"IF('Blank Weigh Up'!$D$29=\"\",\"\",'Blank Weigh Up'!$D$29)","v":"Retained"},{"$f":"IF('Blank Weigh Up'!$D$33=\"\",\"\",'Blank Weigh Up'!$D$33)","v":"3/8\""},{"$f":"'Blank Weigh Up'!$G$21","v":"Bin No.2"}]
[1227,{"$f":"IF('Blank Weigh Up'!$I$33=\"\",\"\",'Blank Weigh Up'!$I$33)","v":""},{"$f":"IF('Blank Weigh Up'!$B$4=\"\",\"\",'Blank Weigh Up'!$B$4)","v":"HMACP MIXTURE DESIGN : WEIGH UP SHEET FOR BLANK SAMPLES"},{"$f":"IF('Blank Weigh Up'!$B$30=\"\",\"\",'Blank Weigh Up'!$B$30)","v":"INDIVIDUAL"},{"$f":"IF('Blank Weigh Up'!$C$29=\"\",\"\",'Blank Weigh Up'!$C$29)","v":"Passing"},{"$f":"IF('Blank Weigh Up'!$C$33=\"\",\"\",'Blank Weigh Up'!$C$33)","v":"1/2\""},{"$f":"IF('Blank Weigh Up'!$C$27=\"\",\"\",'Blank Weigh Up'!$C$27)","v":"Sieve Size:"},{"$f":"IF('Blank Weigh Up'!$D$29=\"\",\"\",'Blank Weigh Up'!$D$29)","v":"Retained"},{"$f":"IF('Blank Weigh Up'!$D$33=\"\",\"\",'Blank Weigh Up'!$D$33)","v":"3/8\""},{"$f":"'Blank Weigh Up'!$I$21","v":"Bin No.3"}]
[1228,{"$f":"IF('Blank Weigh Up'!$K$33=\"\",\"\",'Blank Weigh Up'!$K$33)","v":""},{"$f":"IF('Blank Weigh Up'!$B$4=\"\",\"\",'Blank Weigh Up'!$B$4)","v":"HMACP MIXTURE DESIGN : WEIGH UP SHEET FOR BLANK SAMPLES"},{"$f":"IF('Blank Weigh Up'!$B$30=\"\",\"\",'Blank Weigh Up'!$B$30)","v":"INDIVIDUAL"},{"$f":"IF('Blank Weigh Up'!$C$29=\"\",\"\",'Blank Weigh Up'!$C$29)","v":"Passing"},{"$f":"IF('Blank Weigh Up'!$C$33=\"\",\"\",'Blank Weigh Up'!$C$33)","v":"1/2\""},{"$f":"IF('Blank Weigh Up'!$C$27=\"\",\"\",'Blank Weigh Up'!$C$27)","v":"Sieve Size:"},{"$f":"IF('Blank Weigh Up'!$D$29=\"\",\"\",'Blank Weigh Up'!$D$29)","v":"Retained"},{"$f":"IF('Blank Weigh Up'!$D$33=\"\",\"\",'Blank Weigh Up'!$D$33)","v":"3/8\""},{"$f":"'Blank Weigh Up'!$K$21","v":"Bin No.4"}]
[1229,{"$f":"IF('Blank Weigh Up'!$M$33=\"\",\"\",'Blank Weigh Up'!$M$33)","v":""},{"$f":"IF('Blank Weigh Up'!$B$4=\"\",\"\",'Blank Weigh Up'!$B$4)","v":"HMACP MIXTURE DESIGN : WEIGH UP SHEET FOR BLANK SAMPLES"},{"$f":"IF('Blank Weigh Up'!$B$30=\"\",\"\",'Blank Weigh Up'!$B$30)","v":"INDIVIDUAL"},{"$f":"IF('Blank Weigh Up'!$C$29=\"\",\"\",'Blank Weigh Up'!$C$29)","v":"Passing"},{"$f":"IF('Blank Weigh Up'!$C$33=\"\",\"\",'Blank Weigh Up'!$C$33)","v":"1/2\""},{"$f":"IF('Blank Weigh Up'!$C$27=\"\",\"\",'Blank Weigh Up'!$C$27)","v":"Sieve Size:"},{"$f":"IF('Blank Weigh Up'!$D$29=\"\",\"\",'Blank Weigh Up'!$D$29)","v":"Retained"},{"$f":"IF('Blank Weigh Up'!$D$33=\"\",\"\",'Blank Weigh Up'!$D$33)","v":"3/8\""},{"$f":"'Blank Weigh Up'!$M$21","v":"Bin No.5"}]
[1230,{"$f":"IF('Blank Weigh Up'!$O$33=\"\",\"\",'Blank Weigh Up'!$O$33)","v":""},{"$f":"IF('Blank Weigh Up'!$B$4=\"\",\"\",'Blank Weigh Up'!$B$4)","v":"HMACP MIXTURE DESIGN : WEIGH UP SHEET FOR BLANK SAMPLES"},{"$f":"IF('Blank Weigh Up'!$B$30=\"\",\"\",'Blank Weigh Up'!$B$30)","v":"INDIVIDUAL"},{"$f":"IF('Blank Weigh Up'!$C$29=\"\",\"\",'Blank Weigh Up'!$C$29)","v":"Passing"},{"$f":"IF('Blank Weigh Up'!$C$33=\"\",\"\",'Blank Weigh Up'!$C$33)","v":"1/2\""},{"$f":"IF('Blank Weigh Up'!$C$27=\"\",\"\",'Blank Weigh Up'!$C$27)","v":"Sieve Size:"},{"$f":"IF('Blank Weigh Up'!$D$29=\"\",\"\",'Blank Weigh Up'!$D$29)","v":"Retained"},{"$f":"IF('Blank Weigh Up'!$D$33=\"\",\"\",'Blank Weigh Up'!$D$33)","v":"3/8\""},{"$f":"'Blank Weigh Up'!$O$21","v":"Bin No.6 "}]
[1231,{"$f":"IF('Blank Weigh Up'!$Q$33=\"\",\"\",'Blank Weigh Up'!$Q$33)","v":""},{"$f":"IF('Blank Weigh Up'!$B$4=\"\",\"\",'Blank Weigh Up'!$B$4)","v":"HMACP MIXTURE DESIGN : WEIGH UP SHEET FOR BLANK SAMPLES"},{"$f":"IF('Blank Weigh Up'!$B$30=\"\",\"\",'Blank Weigh Up'!$B$30)","v":"INDIVIDUAL"},{"$f":"IF('Blank Weigh Up'!$C$29=\"\",\"\",'Blank Weigh Up'!$C$29)","v":"Passing"},{"$f":"IF('Blank Weigh Up'!$C$33=\"\",\"\",'Blank Weigh Up'!$C$33)","v":"1/2\""},{"$f":"IF('Blank Weigh Up'!$C$27=\"\",\"\",'Blank Weigh Up'!$C$27)","v":"Sieve Size:"},{"$f":"IF('Blank Weigh Up'!$D$29=\"\",\"\",'Blank Weigh Up'!$D$29)","v":"Retained"},{"$f":"IF('Blank Weigh Up'!$D$33=\"\",\"\",'Blank Weigh Up'!$D$33)","v":"3/8\""},{"$f":"'Blank Weigh Up'!$Q$21","v":"Bin No.7 "}]
[1232,{"$f":"IF('Blank Weigh Up'!$S$33=\"\",\"\",'Blank Weigh Up'!$S$33)","v":""},{"$f":"IF('Blank Weigh Up'!$B$4=\"\",\"\",'Blank Weigh Up'!$B$4)","v":"HMACP MIXTURE DESIGN : WEIGH UP SHEET FOR BLANK SAMPLES"},{"$f":"IF('Blank Weigh Up'!$B$30=\"\",\"\",'Blank Weigh Up'!$B$30)","v":"INDIVIDUAL"},{"$f":"IF('Blank Weigh Up'!$C$29=\"\",\"\",'Blank Weigh Up'!$C$29)","v":"Passing"},{"$f":"IF('Blank Weigh Up'!$C$33=\"\",\"\",'Blank Weigh Up'!$C$33)","v":"1/2\""},{"$f":"IF('Blank Weigh Up'!$C$27=\"\",\"\",'Blank Weigh Up'!$C$27)","v":"Sieve Size:"},{"$f":"IF('Blank Weigh Up'!$D$29=\"\",\"\",'Blank Weigh Up'!$D$29)","v":"Retained"},{"$f":"IF('Blank Weigh Up'!$D$33=\"\",\"\",'Blank Weigh Up'!$D$33)","v":"3/8\""},{"$f":"'Blank Weigh Up'!$S$24","v":"Total Weights"}]
[1233,{"$f":"IF('Blank Weigh Up'!$T$33=\"\",\"\",'Blank Weigh Up'!$T$33)","v":""},{"$f":"IF('Blank Weigh Up'!$B$4=\"\",\"\",'Blank Weigh Up'!$B$4)","v":"HMACP MIXTURE DESIGN : WEIGH UP SHEET FOR BLANK SAMPLES"},{"$f":"IF('Blank Weigh Up'!$B$30=\"\",\"\",'Blank Weigh Up'!$B$30)","v":"INDIVIDUAL"},{"$f":"IF('Blank Weigh Up'!$C$29=\"\",\"\",'Blank Weigh Up'!$C$29)","v":"Passing"},{"$f":"IF('Blank Weigh Up'!$C$33=\"\",\"\",'Blank Weigh Up'!$C$33)","v":"1/2\""},{"$f":"IF('Blank Weigh Up'!$C$27=\"\",\"\",'Blank Weigh Up'!$C$27)","v":"Sieve Size:"},{"$f":"IF('Blank Weigh Up'!$D$29=\"\",\"\",'Blank Weigh Up'!$D$29)","v":"Retained"},{"$f":"IF('Blank Weigh Up'!$D$33=\"\",\"\",'Blank Weigh Up'!$D$33)","v":"3/8\""},{"$f":"'Blank Weigh Up'!$T$24","v":"Individual\nRetained, %"}]
[1234,{"$f":"IF('Blank Weigh Up'!$U$33=\"\",\"\",'Blank Weigh Up'!$U$33)","v":""},{"$f":"IF('Blank Weigh Up'!$B$4=\"\",\"\",'Blank Weigh Up'!$B$4)","v":"HMACP MIXTURE DESIGN : WEIGH UP SHEET FOR BLANK SAMPLES"},{"$f":"IF('Blank Weigh Up'!$B$30=\"\",\"\",'Blank Weigh Up'!$B$30)","v":"INDIVIDUAL"},{"$f":"IF('Blank Weigh Up'!$C$29=\"\",\"\",'Blank Weigh Up'!$C$29)","v":"Passing"},{"$f":"IF('Blank Weigh Up'!$C$33=\"\",\"\",'Blank Weigh Up'!$C$33)","v":"1/2\""},{"$f":"IF('Blank Weigh Up'!$C$27=\"\",\"\",'Blank Weigh Up'!$C$27)","v":"Sieve Size:"},{"$f":"IF('Blank Weigh Up'!$D$29=\"\",\"\",'Blank Weigh Up'!$D$29)","v":"Retained"},{"$f":"IF('Blank Weigh Up'!$D$33=\"\",\"\",'Blank Weigh Up'!$D$33)","v":"3/8\""},{"$f":"'Blank Weigh Up'!$U$24","v":"Cumulative Retained, %"}]
[1235,{"$f":"IF('Blank Weigh Up'!$E$34=\"\",\"\",'Blank Weigh Up'!$E$34)","v":""},{"$f":"IF('Blank Weigh Up'!$B$4=\"\",\"\",'Blank Weigh Up'!$B$4)","v":"HMACP MIXTURE DESIGN : WEIGH UP SHEET FOR BLANK SAMPLES"},{"$f":"IF('Blank Weigh Up'!$B$30=\"\",\"\",'Blank Weigh Up'!$B$30)","v":"INDIVIDUAL"},{"$f":"IF('Blank Weigh Up'!$C$29=\"\",\"\",'Blank Weigh Up'!$C$29)","v":"Passing"},{"$f":"IF('Blank Weigh Up'!$C$34=\"\",\"\",'Blank Weigh Up'!$C$34)","v":"3/8\""},{"$f":"IF('Blank Weigh Up'!$C$27=\"\",\"\",'Blank Weigh Up'!$C$27)","v":"Sieve Size:"},{"$f":"IF('Blank Weigh Up'!$D$29=\"\",\"\",'Blank Weigh Up'!$D$29)","v":"Retained"},{"$f":"IF('Blank Weigh Up'!$D$34=\"\",\"\",'Blank Weigh Up'!$D$34)","v":"No. 4"},{"$f":"'Blank Weigh Up'!$E$21","v":"Bin No.1"}]
[1236,{"$f":"IF('Blank Weigh Up'!$G$34=\"\",\"\",'Blank Weigh Up'!$G$34)","v":""},{"$f":"IF('Blank Weigh Up'!$B$4=\"\",\"\",'Blank Weigh Up'!$B$4)","v":"HMACP MIXTURE DESIGN : WEIGH UP SHEET FOR BLANK SAMPLES"},{"$f":"IF('Blank Weigh Up'!$B$30=\"\",\"\",'Blank Weigh Up'!$B$30)","v":"INDIVIDUAL"},{"$f":"IF('Blank Weigh Up'!$C$29=\"\",\"\",'Blank Weigh Up'!$C$29)","v":"Passing"},{"$f":"IF('Blank Weigh Up'!$C$34=\"\",\"\",'Blank Weigh Up'!$C$34)","v":"3/8\""},{"$f":"IF('Blank Weigh Up'!$C$27=\"\",\"\",'Blank Weigh Up'!$C$27)","v":"Sieve Size:"},{"$f":"IF('Blank Weigh Up'!$D$29=\"\",\"\",'Blank Weigh Up'!$D$29)","v":"Retained"},{"$f":"IF('Blank Weigh Up'!$D$34=\"\",\"\",'Blank Weigh Up'!$D$34)","v":"No. 4"},{"$f":"'Blank Weigh Up'!$G$21","v":"Bin No.2"}]
[1237,{"$f":"IF('Blank Weigh Up'!$I$34=\"\",\"\",'Blank Weigh Up'!$I$34)","v":""},{"$f":"IF('Blank Weigh Up'!$B$4=\"\",\"\",'Blank Weigh Up'!$B$4)","v":"HMACP MIXTURE DESIGN : WEIGH UP SHEET FOR BLANK SAMPLES"},{"$f":"IF('Blank Weigh Up'!$B$30=\"\",\"\",'Blank Weigh Up'!$B$30)","v":"INDIVIDUAL"},{"$f":"IF('Blank Weigh Up'!$C$29=\"\",\"\",'Blank Weigh Up'!$C$29)","v":"Passing"},{"$f":"IF('Blank Weigh Up'!$C$34=\"\",\"\",'Blank Weigh Up'!$C$34)","v":"3/8\""},{"$f":"IF('Blank Weigh Up'!$C$27=\"\",\"\",'Blank Weigh Up'!$C$27)","v":"Sieve Size:"},{"$f":"IF('Blank Weigh Up'!$D$29=\"\",\"\",'Blank Weigh Up'!$D$29)","v":"Retained"},{"$f":"IF('Blank Weigh Up'!$D$34=\"\",\"\",'Blank Weigh Up'!$D$34)","v":"No. 4"},{"$f":"'Blank Weigh Up'!$I$21","v":"Bin No.3"}]
[1238,{"$f":"IF('Blank Weigh Up'!$K$34=\"\",\"\",'Blank Weigh Up'!$K$34)","v":""},{"$f":"IF('Blank Weigh Up'!$B$4=\"\",\"\",'Blank Weigh Up'!$B$4)","v":"HMACP MIXTURE DESIGN : WEIGH UP SHEET FOR BLANK SAMPLES"},{"$f":"IF('Blank Weigh Up'!$B$30=\"\",\"\",'Blank Weigh Up'!$B$30)","v":"INDIVIDUAL"},{"$f":"IF('Blank Weigh Up'!$C$29=\"\",\"\",'Blank Weigh Up'!$C$29)","v":"Passing"},{"$f":"IF('Blank Weigh Up'!$C$34=\"\",\"\",'Blank Weigh Up'!$C$34)","v":"3/8\""},{"$f":"IF('Blank Weigh Up'!$C$27=\"\",\"\",'Blank Weigh Up'!$C$27)","v":"Sieve Size:"},{"$f":"IF('Blank Weigh Up'!$D$29=\"\",\"\",'Blank Weigh Up'!$D$29)","v":"Retained"},{"$f":"IF('Blank Weigh Up'!$D$34=\"\",\"\",'Blank Weigh Up'!$D$34)","v":"No. 4"},{"$f":"'Blank Weigh Up'!$K$21","v":"Bin No.4"}]
[1239,{"$f":"IF('Blank Weigh Up'!$M$34=\"\",\"\",'Blank Weigh Up'!$M$34)","v":""},{"$f":"IF('Blank Weigh Up'!$B$4=\"\",\"\",'Blank Weigh Up'!$B$4)","v":"HMACP MIXTURE DESIGN : WEIGH UP SHEET FOR BLANK SAMPLES"},{"$f":"IF('Blank Weigh Up'!$B$30=\"\",\"\",'Blank Weigh Up'!$B$30)","v":"INDIVIDUAL"},{"$f":"IF('Blank Weigh Up'!$C$29=\"\",\"\",'Blank Weigh Up'!$C$29)","v":"Passing"},{"$f":"IF('Blank Weigh Up'!$C$34=\"\",\"\",'Blank Weigh Up'!$C$34)","v":"3/8\""},{"$f":"IF('Blank Weigh Up'!$C$27=\"\",\"\",'Blank Weigh Up'!$C$27)","v":"Sieve Size:"},{"$f":"IF('Blank Weigh Up'!$D$29=\"\",\"\",'Blank Weigh Up'!$D$29)","v":"Retained"},{"$f":"IF('Blank Weigh Up'!$D$34=\"\",\"\",'Blank Weigh Up'!$D$34)","v":"No. 4"},{"$f":"'Blank Weigh Up'!$M$21","v":"Bin No.5"}]
[1240,{"$f":"IF('Blank Weigh Up'!$O$34=\"\",\"\",'Blank Weigh Up'!$O$34)","v":""},{"$f":"IF('Blank Weigh Up'!$B$4=\"\",\"\",'Blank Weigh Up'!$B$4)","v":"HMACP MIXTURE DESIGN : WEIGH UP SHEET FOR BLANK SAMPLES"},{"$f":"IF('Blank Weigh Up'!$B$30=\"\",\"\",'Blank Weigh Up'!$B$30)","v":"INDIVIDUAL"},{"$f":"IF('Blank Weigh Up'!$C$29=\"\",\"\",'Blank Weigh Up'!$C$29)","v":"Passing"},{"$f":"IF('Blank Weigh Up'!$C$34=\"\",\"\",'Blank Weigh Up'!$C$34)","v":"3/8\""},{"$f":"IF('Blank Weigh Up'!$C$27=\"\",\"\",'Blank Weigh Up'!$C$27)","v":"Sieve Size:"},{"$f":"IF('Blank Weigh Up'!$D$29=\"\",\"\",'Blank Weigh Up'!$D$29)","v":"Retained"},{"$f":"IF('Blank Weigh Up'!$D$34=\"\",\"\",'Blank Weigh Up'!$D$34)","v":"No. 4"},{"$f":"'Blank Weigh Up'!$O$21","v":"Bin No.6 "}]
[1241,{"$f":"IF('Blank Weigh Up'!$Q$34=\"\",\"\",'Blank Weigh Up'!$Q$34)","v":""},{"$f":"IF('Blank Weigh Up'!$B$4=\"\",\"\",'Blank Weigh Up'!$B$4)","v":"HMACP MIXTURE DESIGN : WEIGH UP SHEET FOR BLANK SAMPLES"},{"$f":"IF('Blank Weigh Up'!$B$30=\"\",\"\",'Blank Weigh Up'!$B$30)","v":"INDIVIDUAL"},{"$f":"IF('Blank Weigh Up'!$C$29=\"\",\"\",'Blank Weigh Up'!$C$29)","v":"Passing"},{"$f":"IF('Blank Weigh Up'!$C$34=\"\",\"\",'Blank Weigh Up'!$C$34)","v":"3/8\""},{"$f":"IF('Blank Weigh Up'!$C$27=\"\",\"\",'Blank Weigh Up'!$C$27)","v":"Sieve Size:"},{"$f":"IF('Blank Weigh Up'!$D$29=\"\",\"\",'Blank Weigh Up'!$D$29)","v":"Retained"},{"$f":"IF('Blank Weigh Up'!$D$34=\"\",\"\",'Blank Weigh Up'!$D$34)","v":"No. 4"},{"$f":"'Blank Weigh Up'!$Q$21","v":"Bin No.7 "}]
[1242,{"$f":"IF('Blank Weigh Up'!$S$34=\"\",\"\",'Blank Weigh Up'!$S$34)","v":""},{"$f":"IF('Blank Weigh Up'!$B$4=\"\",\"\",'Blank Weigh Up'!$B$4)","v":"HMACP MIXTURE DESIGN : WEIGH UP SHEET FOR BLANK SAMPLES"},{"$f":"IF('Blank Weigh Up'!$B$30=\"\",\"\",'Blank Weigh Up'!$B$30)","v":"INDIVIDUAL"},{"$f":"IF('Blank Weigh Up'!$C$29=\"\",\"\",'Blank Weigh Up'!$C$29)","v":"Passing"},{"$f":"IF('Blank Weigh Up'!$C$34=\"\",\"\",'Blank Weigh Up'!$C$34)","v":"3/8\""},{"$f":"IF('Blank Weigh Up'!$C$27=\"\",\"\",'Blank Weigh Up'!$C$27)","v":"Sieve Size:"},{"$f":"IF('Blank Weigh Up'!$D$29=\"\",\"\",'Blank Weigh Up'!$D$29)","v":"Retained"},{"$f":"IF('Blank Weigh Up'!$D$34=\"\",\"\",'Blank Weigh Up'!$D$34)","v":"No. 4"},{"$f":"'Blank Weigh Up'!$S$24","v":"Total Weights"}]
[1243,{"$f":"IF('Blank Weigh Up'!$T$34=\"\",\"\",'Blank Weigh Up'!$T$34)","v":""},{"$f":"IF('Blank Weigh Up'!$B$4=\"\",\"\",'Blank Weigh Up'!$B$4)","v":"HMACP MIXTURE DESIGN : WEIGH UP SHEET FOR BLANK SAMPLES"},{"$f":"IF('Blank Weigh Up'!$B$30=\"\",\"\",'Blank Weigh Up'!$B$30)","v":"INDIVIDUAL"},{"$f":"IF('Blank Weigh Up'!$C$29=\"\",\"\",'Blank Weigh Up'!$C$29)","v":"Passing"},{"$f":"IF('Blank Weigh Up'!$C$34=\"\",\"\",'Blank Weigh Up'!$C$34)","v":"3/8\""},{"$f":"IF('Blank Weigh Up'!$C$27=\"\",\"\",'Blank Weigh Up'!$C$27)","v":"Sieve Size:"},{"$f":"IF('Blank Weigh Up'!$D$29=\"\",\"\",'Blank Weigh Up'!$D$29)","v":"Retained"},{"$f":"IF('Blank Weigh Up'!$D$34=\"\",\"\",'Blank Weigh Up'!$D$34)","v":"No. 4"},{"$f":"'Blank Weigh Up'!$T$24","v":"Individual\nRetained, %"}]
[1244,{"$f":"IF('Blank Weigh Up'!$U$34=\"\",\"\",'Blank Weigh Up'!$U$34)","v":""},{"$f":"IF('Blank Weigh Up'!$B$4=\"\",\"\",'Blank Weigh Up'!$B$4)","v":"HMACP MIXTURE DESIGN : WEIGH UP SHEET FOR BLANK SAMPLES"},{"$f":"IF('Blank Weigh Up'!$B$30=\"\",\"\",'Blank Weigh Up'!$B$30)","v":"INDIVIDUAL"},{"$f":"IF('Blank Weigh Up'!$C$29=\"\",\"\",'Blank Weigh Up'!$C$29)","v":"Passing"},{"$f":"IF('Blank Weigh Up'!$C$34=\"\",\"\",'Blank Weigh Up'!$C$34)","v":"3/8\""},{"$f":"IF('Blank Weigh Up'!$C$27=\"\",\"\",'Blank Weigh Up'!$C$27)","v":"Sieve Size:"},{"$f":"IF('Blank Weigh Up'!$D$29=\"\",\"\",'Blank Weigh Up'!$D$29)","v":"Retained"},{"$f":"IF('Blank Weigh Up'!$D$34=\"\",\"\",'Blank Weigh Up'!$D$34)","v":"No. 4"},{"$f":"'Blank Weigh Up'!$U$24","v":"Cumulative Retained, %"}]
[1245,{"$f":"IF('Blank Weigh Up'!$E$35=\"\",\"\",'Blank Weigh Up'!$E$35)","v":""},{"$f":"IF('Blank Weigh Up'!$B$4=\"\",\"\",'Blank Weigh Up'!$B$4)","v":"HMACP MIXTURE DESIGN : WEIGH UP SHEET FOR BLANK SAMPLES"},{"$f":"IF('Blank Weigh Up'!$B$30=\"\",\"\",'Blank Weigh Up'!$B$30)","v":"INDIVIDUAL"},{"$f":"IF('Blank Weigh Up'!$C$29=\"\",\"\",'Blank Weigh Up'!$C$29)","v":"Passing"},{"$f":"IF('Blank Weigh Up'!$C$35=\"\",\"\",'Blank Weigh Up'!$C$35)","v":"No. 4"},{"$f":"IF('Blank Weigh Up'!$C$27=\"\",\"\",'Blank Weigh Up'!$C$27)","v":"Sieve Size:"},{"$f":"IF('Blank Weigh Up'!$D$29=\"\",\"\",'Blank Weigh Up'!$D$29)","v":"Retained"},{"$f":"IF('Blank Weigh Up'!$D$35=\"\",\"\",'Blank Weigh Up'!$D$35)","v":"No. 8"},{"$f":"'Blank Weigh Up'!$E$21","v":"Bin No.1"}]
[1246,{"$f":"IF('Blank Weigh Up'!$G$35=\"\",\"\",'Blank Weigh Up'!$G$35)","v":""},{"$f":"IF('Blank Weigh Up'!$B$4=\"\",\"\",'Blank Weigh Up'!$B$4)","v":"HMACP MIXTURE DESIGN : WEIGH UP SHEET FOR BLANK SAMPLES"},{"$f":"IF('Blank Weigh Up'!$B$30=\"\",\"\",'Blank Weigh Up'!$B$30)","v":"INDIVIDUAL"},{"$f":"IF('Blank Weigh Up'!$C$29=\"\",\"\",'Blank Weigh Up'!$C$29)","v":"Passing"},{"$f":"IF('Blank Weigh Up'!$C$35=\"\",\"\",'Blank Weigh Up'!$C$35)","v":"No. 4"},{"$f":"IF('Blank Weigh Up'!$C$27=\"\",\"\",'Blank Weigh Up'!$C$27)","v":"Sieve Size:"},{"$f":"IF('Blank Weigh Up'!$D$29=\"\",\"\",'Blank Weigh Up'!$D$29)","v":"Retained"},{"$f":"IF('Blank Weigh Up'!$D$35=\"\",\"\",'Blank Weigh Up'!$D$35)","v":"No. 8"},{"$f":"'Blank Weigh Up'!$G$21","v":"Bin No.2"}]
[1247,{"$f":"IF('Blank Weigh Up'!$I$35=\"\",\"\",'Blank Weigh Up'!$I$35)","v":""},{"$f":"IF('Blank Weigh Up'!$B$4=\"\",\"\",'Blank Weigh Up'!$B$4)","v":"HMACP MIXTURE DESIGN : WEIGH UP SHEET FOR BLANK SAMPLES"},{"$f":"IF('Blank Weigh Up'!$B$30=\"\",\"\",'Blank Weigh Up'!$B$30)","v":"INDIVIDUAL"},{"$f":"IF('Blank Weigh Up'!$C$29=\"\",\"\",'Blank Weigh Up'!$C$29)","v":"Passing"},{"$f":"IF('Blank Weigh Up'!$C$35=\"\",\"\",'Blank Weigh Up'!$C$35)","v":"No. 4"},{"$f":"IF('Blank Weigh Up'!$C$27=\"\",\"\",'Blank Weigh Up'!$C$27)","v":"Sieve Size:"},{"$f":"IF('Blank Weigh Up'!$D$29=\"\",\"\",'Blank Weigh Up'!$D$29)","v":"Retained"},{"$f":"IF('Blank Weigh Up'!$D$35=\"\",\"\",'Blank Weigh Up'!$D$35)","v":"No. 8"},{"$f":"'Blank Weigh Up'!$I$21","v":"Bin No.3"}]
[1248,{"$f":"IF('Blank Weigh Up'!$K$35=\"\",\"\",'Blank Weigh Up'!$K$35)","v":""},{"$f":"IF('Blank Weigh Up'!$B$4=\"\",\"\",'Blank Weigh Up'!$B$4)","v":"HMACP MIXTURE DESIGN : WEIGH UP SHEET FOR BLANK SAMPLES"},{"$f":"IF('Blank Weigh Up'!$B$30=\"\",\"\",'Blank Weigh Up'!$B$30)","v":"INDIVIDUAL"},{"$f":"IF('Blank Weigh Up'!$C$29=\"\",\"\",'Blank Weigh Up'!$C$29)","v":"Passing"},{"$f":"IF('Blank Weigh Up'!$C$35=\"\",\"\",'Blank Weigh Up'!$C$35)","v":"No. 4"},{"$f":"IF('Blank Weigh Up'!$C$27=\"\",\"\",'Blank Weigh Up'!$C$27)","v":"Sieve Size:"},{"$f":"IF('Blank Weigh Up'!$D$29=\"\",\"\",'Blank Weigh Up'!$D$29)","v":"Retained"},{"$f":"IF('Blank Weigh Up'!$D$35=\"\",\"\",'Blank Weigh Up'!$D$35)","v":"No. 8"},{"$f":"'Blank Weigh Up'!$K$21","v":"Bin No.4"}]
[1249,{"$f":"IF('Blank Weigh Up'!$M$35=\"\",\"\",'Blank Weigh Up'!$M$35)","v":""},{"$f":"IF('Blank Weigh Up'!$B$4=\"\",\"\",'Blank Weigh Up'!$B$4)","v":"HMACP MIXTURE DESIGN : WEIGH UP SHEET FOR BLANK SAMPLES"},{"$f":"IF('Blank Weigh Up'!$B$30=\"\",\"\",'Blank Weigh Up'!$B$30)","v":"INDIVIDUAL"},{"$f":"IF('Blank Weigh Up'!$C$29=\"\",\"\",'Blank Weigh Up'!$C$29)","v":"Passing"},{"$f":"IF('Blank Weigh Up'!$C$35=\"\",\"\",'Blank Weigh Up'!$C$35)","v":"No. 4"},{"$f":"IF('Blank Weigh Up'!$C$27=\"\",\"\",'Blank Weigh Up'!$C$27)","v":"Sieve Size:"},{"$f":"IF('Blank Weigh Up'!$D$29=\"\",\"\",'Blank Weigh Up'!$D$29)","v":"Retained"},{"$f":"IF('Blank Weigh Up'!$D$35=\"\",\"\",'Blank Weigh Up'!$D$35)","v":"No. 8"},{"$f":"'Blank Weigh Up'!$M$21","v":"Bin No.5"}]
[1250,{"$f":"IF('Blank Weigh Up'!$O$35=\"\",\"\",'Blank Weigh Up'!$O$35)","v":""},{"$f":"IF('Blank Weigh Up'!$B$4=\"\",\"\",'Blank Weigh Up'!$B$4)","v":"HMACP MIXTURE DESIGN : WEIGH UP SHEET FOR BLANK SAMPLES"},{"$f":"IF('Blank Weigh Up'!$B$30=\"\",\"\",'Blank Weigh Up'!$B$30)","v":"INDIVIDUAL"},{"$f":"IF('Blank Weigh Up'!$C$29=\"\",\"\",'Blank Weigh Up'!$C$29)","v":"Passing"},{"$f":"IF('Blank Weigh Up'!$C$35=\"\",\"\",'Blank Weigh Up'!$C$35)","v":"No. 4"},{"$f":"IF('Blank Weigh Up'!$C$27=\"\",\"\",'Blank Weigh Up'!$C$27)","v":"Sieve Size:"},{"$f":"IF('Blank Weigh Up'!$D$29=\"\",\"\",'Blank Weigh Up'!$D$29)","v":"Retained"},{"$f":"IF('Blank Weigh Up'!$D$35=\"\",\"\",'Blank Weigh Up'!$D$35)","v":"No. 8"},{"$f":"'Blank Weigh Up'!$O$21","v":"Bin No.6 "}]
[1251,{"$f":"IF('Blank Weigh Up'!$Q$35=\"\",\"\",'Blank Weigh Up'!$Q$35)","v":""},{"$f":"IF('Blank Weigh Up'!$B$4=\"\",\"\",'Blank Weigh Up'!$B$4)","v":"HMACP MIXTURE DESIGN : WEIGH UP SHEET FOR BLANK SAMPLES"},{"$f":"IF('Blank Weigh Up'!$B$30=\"\",\"\",'Blank Weigh Up'!$B$30)","v":"INDIVIDUAL"},{"$f":"IF('Blank Weigh Up'!$C$29=\"\",\"\",'Blank Weigh Up'!$C$29)","v":"Passing"},{"$f":"IF('Blank Weigh Up'!$C$35=\"\",\"\",'Blank Weigh Up'!$C$35)","v":"No. 4"},{"$f":"IF('Blank Weigh Up'!$C$27=\"\",\"\",'Blank Weigh Up'!$C$27)","v":"Sieve Size:"},{"$f":"IF('Blank Weigh Up'!$D$29=\"\",\"\",'Blank Weigh Up'!$D$29)","v":"Retained"},{"$f":"IF('Blank Weigh Up'!$D$35=\"\",\"\",'Blank Weigh Up'!$D$35)","v":"No. 8"},{"$f":"'Blank Weigh Up'!$Q$21","v":"Bin No.7 "}]
[1252,{"$f":"IF('Blank Weigh Up'!$S$35=\"\",\"\",'Blank Weigh Up'!$S$35)","v":""},{"$f":"IF('Blank Weigh Up'!$B$4=\"\",\"\",'Blank Weigh Up'!$B$4)","v":"HMACP MIXTURE DESIGN : WEIGH UP SHEET FOR BLANK SAMPLES"},{"$f":"IF('Blank Weigh Up'!$B$30=\"\",\"\",'Blank Weigh Up'!$B$30)","v":"INDIVIDUAL"},{"$f":"IF('Blank Weigh Up'!$C$29=\"\",\"\",'Blank Weigh Up'!$C$29)","v":"Passing"},{"$f":"IF('Blank Weigh Up'!$C$35=\"\",\"\",'Blank Weigh Up'!$C$35)","v":"No. 4"},{"$f":"IF('Blank Weigh Up'!$C$27=\"\",\"\",'Blank Weigh Up'!$C$27)","v":"Sieve Size:"},{"$f":"IF('Blank Weigh Up'!$D$29=\"\",\"\",'Blank Weigh Up'!$D$29)","v":"Retained"},{"$f":"IF('Blank Weigh Up'!$D$35=\"\",\"\",'Blank Weigh Up'!$D$35)","v":"No. 8"},{"$f":"'Blank Weigh Up'!$S$24","v":"Total Weights"}]
[1253,{"$f":"IF('Blank Weigh Up'!$T$35=\"\",\"\",'Blank Weigh Up'!$T$35)","v":""},{"$f":"IF('Blank Weigh Up'!$B$4=\"\",\"\",'Blank Weigh Up'!$B$4)","v":"HMACP MIXTURE DESIGN : WEIGH UP SHEET FOR BLANK SAMPLES"},{"$f":"IF('Blank Weigh Up'!$B$30=\"\",\"\",'Blank Weigh Up'!$B$30)","v":"INDIVIDUAL"},{"$f":"IF('Blank Weigh Up'!$C$29=\"\",\"\",'Blank Weigh Up'!$C$29)","v":"Passing"},{"$f":"IF('Blank Weigh Up'!$C$35=\"\",\"\",'Blank Weigh Up'!$C$35)","v":"No. 4"},{"$f":"IF('Blank Weigh Up'!$C$27=\"\",\"\",'Blank Weigh Up'!$C$27)","v":"Sieve Size:"},{"$f":"IF('Blank Weigh Up'!$D$29=\"\",\"\",'Blank Weigh Up'!$D$29)","v":"Retained"},{"$f":"IF('Blank Weigh Up'!$D$35=\"\",\"\",'Blank Weigh Up'!$D$35)","v":"No. 8"},{"$f":"'Blank Weigh Up'!$T$24","v":"Individual\nRetained, %"}]
[1254,{"$f":"IF('Blank Weigh Up'!$U$35=\"\",\"\",'Blank Weigh Up'!$U$35)","v":""},{"$f":"IF('Blank Weigh Up'!$B$4=\"\",\"\",'Blank Weigh Up'!$B$4)","v":"HMACP MIXTURE DESIGN : WEIGH UP SHEET FOR BLANK SAMPLES"},{"$f":"IF('Blank Weigh Up'!$B$30=\"\",\"\",'Blank Weigh Up'!$B$30)","v":"INDIVIDUAL"},{"$f":"IF('Blank Weigh Up'!$C$29=\"\",\"\",'Blank Weigh Up'!$C$29)","v":"Passing"},{"$f":"IF('Blank Weigh Up'!$C$35=\"\",\"\",'Blank Weigh Up'!$C$35)","v":"No. 4"},{"$f":"IF('Blank Weigh Up'!$C$27=\"\",\"\",'Blank Weigh Up'!$C$27)","v":"Sieve Size:"},{"$f":"IF('Blank Weigh Up'!$D$29=\"\",\"\",'Blank Weigh Up'!$D$29)","v":"Retained"},{"$f":"IF('Blank Weigh Up'!$D$35=\"\",\"\",'Blank Weigh Up'!$D$35)","v":"No. 8"},{"$f":"'Blank Weigh Up'!$U$24","v":"Cumulative Retained, %"}]
[1255,{"$f":"IF('Blank Weigh Up'!$E$36=\"\",\"\",'Blank Weigh Up'!$E$36)","v":""},{"$f":"IF('Blank Weigh Up'!$B$4=\"\",\"\",'Blank Weigh Up'!$B$4)","v":"HMACP MIXTURE DESIGN : WEIGH UP SHEET FOR BLANK SAMPLES"},{"$f":"IF('Blank Weigh Up'!$B$30=\"\",\"\",'Blank Weigh Up'!$B$30)","v":"INDIVIDUAL"},{"$f":"IF('Blank Weigh Up'!$C$29=\"\",\"\",'Blank Weigh Up'!$C$29)","v":"Passing"},{"$f":"IF('Blank Weigh Up'!$C$36=\"\",\"\",'Blank Weigh Up'!$C$36)","v":"No. 8"},{"$f":"IF('Blank Weigh Up'!$C$27=\"\",\"\",'Blank Weigh Up'!$C$27)","v":"Sieve Size:"},{"$f":"IF('Blank Weigh Up'!$D$29=\"\",\"\",'Blank Weigh Up'!$D$29)","v":"Retained"},{"$f":"IF('Blank Weigh Up'!$D$36=\"\",\"\",'Blank Weigh Up'!$D$36)","v":"No. 16"},{"$f":"'Blank Weigh Up'!$E$21","v":"Bin No.1"}]
[1256,{"$f":"IF('Blank Weigh Up'!$G$36=\"\",\"\",'Blank Weigh Up'!$G$36)","v":""},{"$f":"IF('Blank Weigh Up'!$B$4=\"\",\"\",'Blank Weigh Up'!$B$4)","v":"HMACP MIXTURE DESIGN : WEIGH UP SHEET FOR BLANK SAMPLES"},{"$f":"IF('Blank Weigh Up'!$B$30=\"\",\"\",'Blank Weigh Up'!$B$30)","v":"INDIVIDUAL"},{"$f":"IF('Blank Weigh Up'!$C$29=\"\",\"\",'Blank Weigh Up'!$C$29)","v":"Passing"},{"$f":"IF('Blank Weigh Up'!$C$36=\"\",\"\",'Blank Weigh Up'!$C$36)","v":"No. 8"},{"$f":"IF('Blank Weigh Up'!$C$27=\"\",\"\",'Blank Weigh Up'!$C$27)","v":"Sieve Size:"},{"$f":"IF('Blank Weigh Up'!$D$29=\"\",\"\",'Blank Weigh Up'!$D$29)","v":"Retained"},{"$f":"IF('Blank Weigh Up'!$D$36=\"\",\"\",'Blank Weigh Up'!$D$36)","v":"No. 16"},{"$f":"'Blank Weigh Up'!$G$21","v":"Bin No.2"}]
[1257,{"$f":"IF('Blank Weigh Up'!$I$36=\"\",\"\",'Blank Weigh Up'!$I$36)","v":""},{"$f":"IF('Blank Weigh Up'!$B$4=\"\",\"\",'Blank Weigh Up'!$B$4)","v":"HMACP MIXTURE DESIGN : WEIGH UP SHEET FOR BLANK SAMPLES"},{"$f":"IF('Blank Weigh Up'!$B$30=\"\",\"\",'Blank Weigh Up'!$B$30)","v":"INDIVIDUAL"},{"$f":"IF('Blank Weigh Up'!$C$29=\"\",\"\",'Blank Weigh Up'!$C$29)","v":"Passing"},{"$f":"IF('Blank Weigh Up'!$C$36=\"\",\"\",'Blank Weigh Up'!$C$36)","v":"No. 8"},{"$f":"IF('Blank Weigh Up'!$C$27=\"\",\"\",'Blank Weigh Up'!$C$27)","v":"Sieve Size:"},{"$f":"IF('Blank Weigh Up'!$D$29=\"\",\"\",'Blank Weigh Up'!$D$29)","v":"Retained"},{"$f":"IF('Blank Weigh Up'!$D$36=\"\",\"\",'Blank Weigh Up'!$D$36)","v":"No. 16"},{"$f":"'Blank Weigh Up'!$I$21","v":"Bin No.3"}]
[1258,{"$f":"IF('Blank Weigh Up'!$K$36=\"\",\"\",'Blank Weigh Up'!$K$36)","v":""},{"$f":"IF('Blank Weigh Up'!$B$4=\"\",\"\",'Blank Weigh Up'!$B$4)","v":"HMACP MIXTURE DESIGN : WEIGH UP SHEET FOR BLANK SAMPLES"},{"$f":"IF('Blank Weigh Up'!$B$30=\"\",\"\",'Blank Weigh Up'!$B$30)","v":"INDIVIDUAL"},{"$f":"IF('Blank Weigh Up'!$C$29=\"\",\"\",'Blank Weigh Up'!$C$29)","v":"Passing"},{"$f":"IF('Blank Weigh Up'!$C$36=\"\",\"\",'Blank Weigh Up'!$C$36)","v":"No. 8"},{"$f":"IF('Blank Weigh Up'!$C$27=\"\",\"\",'Blank Weigh Up'!$C$27)","v":"Sieve Size:"},{"$f":"IF('Blank Weigh Up'!$D$29=\"\",\"\",'Blank Weigh Up'!$D$29)","v":"Retained"},{"$f":"IF('Blank Weigh Up'!$D$36=\"\",\"\",'Blank Weigh Up'!$D$36)","v":"No. 16"},{"$f":"'Blank Weigh Up'!$K$21","v":"Bin No.4"}]
[1259,{"$f":"IF('Blank Weigh Up'!$M$36=\"\",\"\",'Blank Weigh Up'!$M$36)","v":""},{"$f":"IF('Blank Weigh Up'!$B$4=\"\",\"\",'Blank Weigh Up'!$B$4)","v":"HMACP MIXTURE DESIGN : WEIGH UP SHEET FOR BLANK SAMPLES"},{"$f":"IF('Blank Weigh Up'!$B$30=\"\",\"\",'Blank Weigh Up'!$B$30)","v":"INDIVIDUAL"},{"$f":"IF('Blank Weigh Up'!$C$29=\"\",\"\",'Blank Weigh Up'!$C$29)","v":"Passing"},{"$f":"IF('Blank Weigh Up'!$C$36=\"\",\"\",'Blank Weigh Up'!$C$36)","v":"No. 8"},{"$f":"IF('Blank Weigh Up'!$C$27=\"\",\"\",'Blank Weigh Up'!$C$27)","v":"Sieve Size:"},{"$f":"IF('Blank Weigh Up'!$D$29=\"\",\"\",'Blank Weigh Up'!$D$29)","v":"Retained"},{"$f":"IF('Blank Weigh Up'!$D$36=\"\",\"\",'Blank Weigh Up'!$D$36)","v":"No. 16"},{"$f":"'Blank Weigh Up'!$M$21","v":"Bin No.5"}]
[1260,{"$f":"IF('Blank Weigh Up'!$O$36=\"\",\"\",'Blank Weigh Up'!$O$36)","v":""},{"$f":"IF('Blank Weigh Up'!$B$4=\"\",\"\",'Blank Weigh Up'!$B$4)","v":"HMACP MIXTURE DESIGN : WEIGH UP SHEET FOR BLANK SAMPLES"},{"$f":"IF('Blank Weigh Up'!$B$30=\"\",\"\",'Blank Weigh Up'!$B$30)","v":"INDIVIDUAL"},{"$f":"IF('Blank Weigh Up'!$C$29=\"\",\"\",'Blank Weigh Up'!$C$29)","v":"Passing"},{"$f":"IF('Blank Weigh Up'!$C$36=\"\",\"\",'Blank Weigh Up'!$C$36)","v":"No. 8"},{"$f":"IF('Blank Weigh Up'!$C$27=\"\",\"\",'Blank Weigh Up'!$C$27)","v":"Sieve Size:"},{"$f":"IF('Blank Weigh Up'!$D$29=\"\",\"\",'Blank Weigh Up'!$D$29)","v":"Retained"},{"$f":"IF('Blank Weigh Up'!$D$36=\"\",\"\",'Blank Weigh Up'!$D$36)","v":"No. 16"},{"$f":"'Blank Weigh Up'!$O$21","v":"Bin No.6 "}]
[1261,{"$f":"IF('Blank Weigh Up'!$Q$36=\"\",\"\",'Blank Weigh Up'!$Q$36)","v":""},{"$f":"IF('Blank Weigh Up'!$B$4=\"\",\"\",'Blank Weigh Up'!$B$4)","v":"HMACP MIXTURE DESIGN : WEIGH UP SHEET FOR BLANK SAMPLES"},{"$f":"IF('Blank Weigh Up'!$B$30=\"\",\"\",'Blank Weigh Up'!$B$30)","v":"INDIVIDUAL"},{"$f":"IF('Blank Weigh Up'!$C$29=\"\",\"\",'Blank Weigh Up'!$C$29)","v":"Passing"},{"$f":"IF('Blank Weigh Up'!$C$36=\"\",\"\",'Blank Weigh Up'!$C$36)","v":"No. 8"},{"$f":"IF('Blank Weigh Up'!$C$27=\"\",\"\",'Blank Weigh Up'!$C$27)","v":"Sieve Size:"},{"$f":"IF('Blank Weigh Up'!$D$29=\"\",\"\",'Blank Weigh Up'!$D$29)","v":"Retained"},{"$f":"IF('Blank Weigh Up'!$D$36=\"\",\"\",'Blank Weigh Up'!$D$36)","v":"No. 16"},{"$f":"'Blank Weigh Up'!$Q$21","v":"Bin No.7 "}]
[1262,{"$f":"IF('Blank Weigh Up'!$S$36=\"\",\"\",'Blank Weigh Up'!$S$36)","v":""},{"$f":"IF('Blank Weigh Up'!$B$4=\"\",\"\",'Blank Weigh Up'!$B$4)","v":"HMACP MIXTURE DESIGN : WEIGH UP SHEET FOR BLANK SAMPLES"},{"$f":"IF('Blank Weigh Up'!$B$30=\"\",\"\",'Blank Weigh Up'!$B$30)","v":"INDIVIDUAL"},{"$f":"IF('Blank Weigh Up'!$C$29=\"\",\"\",'Blank Weigh Up'!$C$29)","v":"Passing"},{"$f":"IF('Blank Weigh Up'!$C$36=\"\",\"\",'Blank Weigh Up'!$C$36)","v":"No. 8"},{"$f":"IF('Blank Weigh Up'!$C$27=\"\",\"\",'Blank Weigh Up'!$C$27)","v":"Sieve Size:"},{"$f":"IF('Blank Weigh Up'!$D$29=\"\",\"\",'Blank Weigh Up'!$D$29)","v":"Retained"},{"$f":"IF('Blank Weigh Up'!$D$36=\"\",\"\",'Blank Weigh Up'!$D$36)","v":"No. 16"},{"$f":"'Blank Weigh Up'!$S$24","v":"Total Weights"}]
[1263,{"$f":"IF('Blank Weigh Up'!$T$36=\"\",\"\",'Blank Weigh Up'!$T$36)","v":""},{"$f":"IF('Blank Weigh Up'!$B$4=\"\",\"\",'Blank Weigh Up'!$B$4)","v":"HMACP MIXTURE DESIGN : WEIGH UP SHEET FOR BLANK SAMPLES"},{"$f":"IF('Blank Weigh Up'!$B$30=\"\",\"\",'Blank Weigh Up'!$B$30)","v":"INDIVIDUAL"},{"$f":"IF('Blank Weigh Up'!$C$29=\"\",\"\",'Blank Weigh Up'!$C$29)","v":"Passing"},{"$f":"IF('Blank Weigh Up'!$C$36=\"\",\"\",'Blank Weigh Up'!$C$36)","v":"No. 8"},{"$f":"IF('Blank Weigh Up'!$C$27=\"\",\"\",'Blank Weigh Up'!$C$27)","v":"Sieve Size:"},{"$f":"IF('Blank Weigh Up'!$D$29=\"\",\"\",'Blank Weigh Up'!$D$29)","v":"Retained"},{"$f":"IF('Blank Weigh Up'!$D$36=\"\",\"\",'Blank Weigh Up'!$D$36)","v":"No. 16"},{"$f":"'Blank Weigh Up'!$T$24","v":"Individual\nRetained, %"}]
[1264,{"$f":"IF('Blank Weigh Up'!$U$36=\"\",\"\",'Blank Weigh Up'!$U$36)","v":""},{"$f":"IF('Blank Weigh Up'!$B$4=\"\",\"\",'Blank Weigh Up'!$B$4)","v":"HMACP MIXTURE DESIGN : WEIGH UP SHEET FOR BLANK SAMPLES"},{"$f":"IF('Blank Weigh Up'!$B$30=\"\",\"\",'Blank Weigh Up'!$B$30)","v":"INDIVIDUAL"},{"$f":"IF('Blank Weigh Up'!$C$29=\"\",\"\",'Blank Weigh Up'!$C$29)","v":"Passing"},{"$f":"IF('Blank Weigh Up'!$C$36=\"\",\"\",'Blank Weigh Up'!$C$36)","v":"No. 8"},{"$f":"IF('Blank Weigh Up'!$C$27=\"\",\"\",'Blank Weigh Up'!$C$27)","v":"Sieve Size:"},{"$f":"IF('Blank Weigh Up'!$D$29=\"\",\"\",'Blank Weigh Up'!$D$29)","v":"Retained"},{"$f":"IF('Blank Weigh Up'!$D$36=\"\",\"\",'Blank Weigh Up'!$D$36)","v":"No. 16"},{"$f":"'Blank Weigh Up'!$U$24","v":"Cumulative Retained, %"}]
[1265,{"$f":"IF('Blank Weigh Up'!$E$37=\"\",\"\",'Blank Weigh Up'!$E$37)","v":""},{"$f":"IF('Blank Weigh Up'!$B$4=\"\",\"\",'Blank Weigh Up'!$B$4)","v":"HMACP MIXTURE DESIGN : WEIGH UP SHEET FOR BLANK SAMPLES"},{"$f":"IF('Blank Weigh Up'!$B$30=\"\",\"\",'Blank Weigh Up'!$B$30)","v":"INDIVIDUAL"},{"$f":"IF('Blank Weigh Up'!$C$29=\"\",\"\",'Blank Weigh Up'!$C$29)","v":"Passing"},{"$f":"IF('Blank Weigh Up'!$C$37=\"\",\"\",'Blank Weigh Up'!$C$37)","v":"No. 16"},{"$f":"IF('Blank Weigh Up'!$C$27=\"\",\"\",'Blank Weigh Up'!$C$27)","v":"Sieve Size:"},{"$f":"IF('Blank Weigh Up'!$D$29=\"\",\"\",'Blank Weigh Up'!$D$29)","v":"Retained"},{"$f":"IF('Blank Weigh Up'!$D$37=\"\",\"\",'Blank Weigh Up'!$D$37)","v":"No. 30"},{"$f":"'Blank Weigh Up'!$E$21","v":"Bin No.1"}]
[1266,{"$f":"IF('Blank Weigh Up'!$G$37=\"\",\"\",'Blank Weigh Up'!$G$37)","v":""},{"$f":"IF('Blank Weigh Up'!$B$4=\"\",\"\",'Blank Weigh Up'!$B$4)","v":"HMACP MIXTURE DESIGN : WEIGH UP SHEET FOR BLANK SAMPLES"},{"$f":"IF('Blank Weigh Up'!$B$30=\"\",\"\",'Blank Weigh Up'!$B$30)","v":"INDIVIDUAL"},{"$f":"IF('Blank Weigh Up'!$C$29=\"\",\"\",'Blank Weigh Up'!$C$29)","v":"Passing"},{"$f":"IF('Blank Weigh Up'!$C$37=\"\",\"\",'Blank Weigh Up'!$C$37)","v":"No. 16"},{"$f":"IF('Blank Weigh Up'!$C$27=\"\",\"\",'Blank Weigh Up'!$C$27)","v":"Sieve Size:"},{"$f":"IF('Blank Weigh Up'!$D$29=\"\",\"\",'Blank Weigh Up'!$D$29)","v":"Retained"},{"$f":"IF('Blank Weigh Up'!$D$37=\"\",\"\",'Blank Weigh Up'!$D$37)","v":"No. 30"},{"$f":"'Blank Weigh Up'!$G$21","v":"Bin No.2"}]
[1267,{"$f":"IF('Blank Weigh Up'!$I$37=\"\",\"\",'Blank Weigh Up'!$I$37)","v":""},{"$f":"IF('Blank Weigh Up'!$B$4=\"\",\"\",'Blank Weigh Up'!$B$4)","v":"HMACP MIXTURE DESIGN : WEIGH UP SHEET FOR BLANK SAMPLES"},{"$f":"IF('Blank Weigh Up'!$B$30=\"\",\"\",'Blank Weigh Up'!$B$30)","v":"INDIVIDUAL"},{"$f":"IF('Blank Weigh Up'!$C$29=\"\",\"\",'Blank Weigh Up'!$C$29)","v":"Passing"},{"$f":"IF('Blank Weigh Up'!$C$37=\"\",\"\",'Blank Weigh Up'!$C$37)","v":"No. 16"},{"$f":"IF('Blank Weigh Up'!$C$27=\"\",\"\",'Blank Weigh Up'!$C$27)","v":"Sieve Size:"},{"$f":"IF('Blank Weigh Up'!$D$29=\"\",\"\",'Blank Weigh Up'!$D$29)","v":"Retained"},{"$f":"IF('Blank Weigh Up'!$D$37=\"\",\"\",'Blank Weigh Up'!$D$37)","v":"No. 30"},{"$f":"'Blank Weigh Up'!$I$21","v":"Bin No.3"}]
[1268,{"$f":"IF('Blank Weigh Up'!$K$37=\"\",\"\",'Blank Weigh Up'!$K$37)","v":""},{"$f":"IF('Blank Weigh Up'!$B$4=\"\",\"\",'Blank Weigh Up'!$B$4)","v":"HMACP MIXTURE DESIGN : WEIGH UP SHEET FOR BLANK SAMPLES"},{"$f":"IF('Blank Weigh Up'!$B$30=\"\",\"\",'Blank Weigh Up'!$B$30)","v":"INDIVIDUAL"},{"$f":"IF('Blank Weigh Up'!$C$29=\"\",\"\",'Blank Weigh Up'!$C$29)","v":"Passing"},{"$f":"IF('Blank Weigh Up'!$C$37=\"\",\"\",'Blank Weigh Up'!$C$37)","v":"No. 16"},{"$f":"IF('Blank Weigh Up'!$C$27=\"\",\"\",'Blank Weigh Up'!$C$27)","v":"Sieve Size:"},{"$f":"IF('Blank Weigh Up'!$D$29=\"\",\"\",'Blank Weigh Up'!$D$29)","v":"Retained"},{"$f":"IF('Blank Weigh Up'!$D$37=\"\",\"\",'Blank Weigh Up'!$D$37)","v":"No. 30"},{"$f":"'Blank Weigh Up'!$K$21","v":"Bin No.4"}]
[1269,{"$f":"IF('Blank Weigh Up'!$M$37=\"\",\"\",'Blank Weigh Up'!$M$37)","v":""},{"$f":"IF('Blank Weigh Up'!$B$4=\"\",\"\",'Blank Weigh Up'!$B$4)","v":"HMACP MIXTURE DESIGN : WEIGH UP SHEET FOR BLANK SAMPLES"},{"$f":"IF('Blank Weigh Up'!$B$30=\"\",\"\",'Blank Weigh Up'!$B$30)","v":"INDIVIDUAL"},{"$f":"IF('Blank Weigh Up'!$C$29=\"\",\"\",'Blank Weigh Up'!$C$29)","v":"Passing"},{"$f":"IF('Blank Weigh Up'!$C$37=\"\",\"\",'Blank Weigh Up'!$C$37)","v":"No. 16"},{"$f":"IF('Blank Weigh Up'!$C$27=\"\",\"\",'Blank Weigh Up'!$C$27)","v":"Sieve Size:"},{"$f":"IF('Blank Weigh Up'!$D$29=\"\",\"\",'Blank Weigh Up'!$D$29)","v":"Retained"},{"$f":"IF('Blank Weigh Up'!$D$37=\"\",\"\",'Blank Weigh Up'!$D$37)","v":"No. 30"},{"$f":"'Blank Weigh Up'!$M$21","v":"Bin No.5"}]
[1270,{"$f":"IF('Blank Weigh Up'!$O$37=\"\",\"\",'Blank Weigh Up'!$O$37)","v":""},{"$f":"IF('Blank Weigh Up'!$B$4=\"\",\"\",'Blank Weigh Up'!$B$4)","v":"HMACP MIXTURE DESIGN : WEIGH UP SHEET FOR BLANK SAMPLES"},{"$f":"IF('Blank Weigh Up'!$B$30=\"\",\"\",'Blank Weigh Up'!$B$30)","v":"INDIVIDUAL"},{"$f":"IF('Blank Weigh Up'!$C$29=\"\",\"\",'Blank Weigh Up'!$C$29)","v":"Passing"},{"$f":"IF('Blank Weigh Up'!$C$37=\"\",\"\",'Blank Weigh Up'!$C$37)","v":"No. 16"},{"$f":"IF('Blank Weigh Up'!$C$27=\"\",\"\",'Blank Weigh Up'!$C$27)","v":"Sieve Size:"},{"$f":"IF('Blank Weigh Up'!$D$29=\"\",\"\",'Blank Weigh Up'!$D$29)","v":"Retained"},{"$f":"IF('Blank Weigh Up'!$D$37=\"\",\"\",'Blank Weigh Up'!$D$37)","v":"No. 30"},{"$f":"'Blank Weigh Up'!$O$21","v":"Bin No.6 "}]
[1271,{"$f":"IF('Blank Weigh Up'!$Q$37=\"\",\"\",'Blank Weigh Up'!$Q$37)","v":""},{"$f":"IF('Blank Weigh Up'!$B$4=\"\",\"\",'Blank Weigh Up'!$B$4)","v":"HMACP MIXTURE DESIGN : WEIGH UP SHEET FOR BLANK SAMPLES"},{"$f":"IF('Blank Weigh Up'!$B$30=\"\",\"\",'Blank Weigh Up'!$B$30)","v":"INDIVIDUAL"},{"$f":"IF('Blank Weigh Up'!$C$29=\"\",\"\",'Blank Weigh Up'!$C$29)","v":"Passing"},{"$f":"IF('Blank Weigh Up'!$C$37=\"\",\"\",'Blank Weigh Up'!$C$37)","v":"No. 16"},{"$f":"IF('Blank Weigh Up'!$C$27=\"\",\"\",'Blank Weigh Up'!$C$27)","v":"Sieve Size:"},{"$f":"IF('Blank Weigh Up'!$D$29=\"\",\"\",'Blank Weigh Up'!$D$29)","v":"Retained"},{"$f":"IF('Blank Weigh Up'!$D$37=\"\",\"\",'Blank Weigh Up'!$D$37)","v":"No. 30"},{"$f":"'Blank Weigh Up'!$Q$21","v":"Bin No.7 "}]
[1272,{"$f":"IF('Blank Weigh Up'!$S$37=\"\",\"\",'Blank Weigh Up'!$S$37)","v":""},{"$f":"IF('Blank Weigh Up'!$B$4=\"\",\"\",'Blank Weigh Up'!$B$4)","v":"HMACP MIXTURE DESIGN : WEIGH UP SHEET FOR BLANK SAMPLES"},{"$f":"IF('Blank Weigh Up'!$B$30=\"\",\"\",'Blank Weigh Up'!$B$30)","v":"INDIVIDUAL"},{"$f":"IF('Blank Weigh Up'!$C$29=\"\",\"\",'Blank Weigh Up'!$C$29)","v":"Passing"},{"$f":"IF('Blank Weigh Up'!$C$37=\"\",\"\",'Blank Weigh Up'!$C$37)","v":"No. 16"},{"$f":"IF('Blank Weigh Up'!$C$27=\"\",\"\",'Blank Weigh Up'!$C$27)","v":"Sieve Size:"},{"$f":"IF('Blank Weigh Up'!$D$29=\"\",\"\",'Blank Weigh Up'!$D$29)","v":"Retained"},{"$f":"IF('Blank Weigh Up'!$D$37=\"\",\"\",'Blank Weigh Up'!$D$37)","v":"No. 30"},{"$f":"'Blank Weigh Up'!$S$24","v":"Total Weights"}]
[1273,{"$f":"IF('Blank Weigh Up'!$T$37=\"\",\"\",'Blank Weigh Up'!$T$37)","v":""},{"$f":"IF('Blank Weigh Up'!$B$4=\"\",\"\",'Blank Weigh Up'!$B$4)","v":"HMACP MIXTURE DESIGN : WEIGH UP SHEET FOR BLANK SAMPLES"},{"$f":"IF('Blank Weigh Up'!$B$30=\"\",\"\",'Blank Weigh Up'!$B$30)","v":"INDIVIDUAL"},{"$f":"IF('Blank Weigh Up'!$C$29=\"\",\"\",'Blank Weigh Up'!$C$29)","v":"Passing"},{"$f":"IF('Blank Weigh Up'!$C$37=\"\",\"\",'Blank Weigh Up'!$C$37)","v":"No. 16"},{"$f":"IF('Blank Weigh Up'!$C$27=\"\",\"\",'Blank Weigh Up'!$C$27)","v":"Sieve Size:"},{"$f":"IF('Blank Weigh Up'!$D$29=\"\",\"\",'Blank Weigh Up'!$D$29)","v":"Retained"},{"$f":"IF('Blank Weigh Up'!$D$37=\"\",\"\",'Blank Weigh Up'!$D$37)","v":"No. 30"},{"$f":"'Blank Weigh Up'!$T$24","v":"Individual\nRetained, %"}]
[1274,{"$f":"IF('Blank Weigh Up'!$U$37=\"\",\"\",'Blank Weigh Up'!$U$37)","v":""},{"$f":"IF('Blank Weigh Up'!$B$4=\"\",\"\",'Blank Weigh Up'!$B$4)","v":"HMACP MIXTURE DESIGN : WEIGH UP SHEET FOR BLANK SAMPLES"},{"$f":"IF('Blank Weigh Up'!$B$30=\"\",\"\",'Blank Weigh Up'!$B$30)","v":"INDIVIDUAL"},{"$f":"IF('Blank Weigh Up'!$C$29=\"\",\"\",'Blank Weigh Up'!$C$29)","v":"Passing"},{"$f":"IF('Blank Weigh Up'!$C$37=\"\",\"\",'Blank Weigh Up'!$C$37)","v":"No. 16"},{"$f":"IF('Blank Weigh Up'!$C$27=\"\",\"\",'Blank Weigh Up'!$C$27)","v":"Sieve Size:"},{"$f":"IF('Blank Weigh Up'!$D$29=\"\",\"\",'Blank Weigh Up'!$D$29)","v":"Retained"},{"$f":"IF('Blank Weigh Up'!$D$37=\"\",\"\",'Blank Weigh Up'!$D$37)","v":"No. 30"},{"$f":"'Blank Weigh Up'!$U$24","v":"Cumulative Retained, %"}]
[1275,{"$f":"IF('Blank Weigh Up'!$E$38=\"\",\"\",'Blank Weigh Up'!$E$38)","v":""},{"$f":"IF('Blank Weigh Up'!$B$4=\"\",\"\",'Blank Weigh Up'!$B$4)","v":"HMACP MIXTURE DESIGN : WEIGH UP SHEET FOR BLANK SAMPLES"},{"$f":"IF('Blank Weigh Up'!$B$30=\"\",\"\",'Blank Weigh Up'!$B$30)","v":"INDIVIDUAL"},{"$f":"IF('Blank Weigh Up'!$C$29=\"\",\"\",'Blank Weigh Up'!$C$29)","v":"Passing"},{"$f":"IF('Blank Weigh Up'!$C$38=\"\",\"\",'Blank Weigh Up'!$C$38)","v":"No. 30"},{"$f":"IF('Blank Weigh Up'!$C$27=\"\",\"\",'Blank Weigh Up'!$C$27)","v":"Sieve Size:"},{"$f":"IF('Blank Weigh Up'!$D$29=\"\",\"\",'Blank Weigh Up'!$D$29)","v":"Retained"},{"$f":"IF('Blank Weigh Up'!$D$38=\"\",\"\",'Blank Weigh Up'!$D$38)","v":"No. 50"},{"$f":"'Blank Weigh Up'!$E$21","v":"Bin No.1"}]
[1276,{"$f":"IF('Blank Weigh Up'!$G$38=\"\",\"\",'Blank Weigh Up'!$G$38)","v":""},{"$f":"IF('Blank Weigh Up'!$B$4=\"\",\"\",'Blank Weigh Up'!$B$4)","v":"HMACP MIXTURE DESIGN : WEIGH UP SHEET FOR BLANK SAMPLES"},{"$f":"IF('Blank Weigh Up'!$B$30=\"\",\"\",'Blank Weigh Up'!$B$30)","v":"INDIVIDUAL"},{"$f":"IF('Blank Weigh Up'!$C$29=\"\",\"\",'Blank Weigh Up'!$C$29)","v":"Passing"},{"$f":"IF('Blank Weigh Up'!$C$38=\"\",\"\",'Blank Weigh Up'!$C$38)","v":"No. 30"},{"$f":"IF('Blank Weigh Up'!$C$27=\"\",\"\",'Blank Weigh Up'!$C$27)","v":"Sieve Size:"},{"$f":"IF('Blank Weigh Up'!$D$29=\"\",\"\",'Blank Weigh Up'!$D$29)","v":"Retained"},{"$f":"IF('Blank Weigh Up'!$D$38=\"\",\"\",'Blank Weigh Up'!$D$38)","v":"No. 50"},{"$f":"'Blank Weigh Up'!$G$21","v":"Bin No.2"}]
[1277,{"$f":"IF('Blank Weigh Up'!$I$38=\"\",\"\",'Blank Weigh Up'!$I$38)","v":""},{"$f":"IF('Blank Weigh Up'!$B$4=\"\",\"\",'Blank Weigh Up'!$B$4)","v":"HMACP MIXTURE DESIGN : WEIGH UP SHEET FOR BLANK SAMPLES"},{"$f":"IF('Blank Weigh Up'!$B$30=\"\",\"\",'Blank Weigh Up'!$B$30)","v":"INDIVIDUAL"},{"$f":"IF('Blank Weigh Up'!$C$29=\"\",\"\",'Blank Weigh Up'!$C$29)","v":"Passing"},{"$f":"IF('Blank Weigh Up'!$C$38=\"\",\"\",'Blank Weigh Up'!$C$38)","v":"No. 30"},{"$f":"IF('Blank Weigh Up'!$C$27=\"\",\"\",'Blank Weigh Up'!$C$27)","v":"Sieve Size:"},{"$f":"IF('Blank Weigh Up'!$D$29=\"\",\"\",'Blank Weigh Up'!$D$29)","v":"Retained"},{"$f":"IF('Blank Weigh Up'!$D$38=\"\",\"\",'Blank Weigh Up'!$D$38)","v":"No. 50"},{"$f":"'Blank Weigh Up'!$I$21","v":"Bin No.3"}]
[1278,{"$f":"IF('Blank Weigh Up'!$K$38=\"\",\"\",'Blank Weigh Up'!$K$38)","v":""},{"$f":"IF('Blank Weigh Up'!$B$4=\"\",\"\",'Blank Weigh Up'!$B$4)","v":"HMACP MIXTURE DESIGN : WEIGH UP SHEET FOR BLANK SAMPLES"},{"$f":"IF('Blank Weigh Up'!$B$30=\"\",\"\",'Blank Weigh Up'!$B$30)","v":"INDIVIDUAL"},{"$f":"IF('Blank Weigh Up'!$C$29=\"\",\"\",'Blank Weigh Up'!$C$29)","v":"Passing"},{"$f":"IF('Blank Weigh Up'!$C$38=\"\",\"\",'Blank Weigh Up'!$C$38)","v":"No. 30"},{"$f":"IF('Blank Weigh Up'!$C$27=\"\",\"\",'Blank Weigh Up'!$C$27)","v":"Sieve Size:"},{"$f":"IF('Blank Weigh Up'!$D$29=\"\",\"\",'Blank Weigh Up'!$D$29)","v":"Retained"},{"$f":"IF('Blank Weigh Up'!$D$38=\"\",\"\",'Blank Weigh Up'!$D$38)","v":"No. 50"},{"$f":"'Blank Weigh Up'!$K$21","v":"Bin No.4"}]
[1279,{"$f":"IF('Blank Weigh Up'!$M$38=\"\",\"\",'Blank Weigh Up'!$M$38)","v":""},{"$f":"IF('Blank Weigh Up'!$B$4=\"\",\"\",'Blank Weigh Up'!$B$4)","v":"HMACP MIXTURE DESIGN : WEIGH UP SHEET FOR BLANK SAMPLES"},{"$f":"IF('Blank Weigh Up'!$B$30=\"\",\"\",'Blank Weigh Up'!$B$30)","v":"INDIVIDUAL"},{"$f":"IF('Blank Weigh Up'!$C$29=\"\",\"\",'Blank Weigh Up'!$C$29)","v":"Passing"},{"$f":"IF('Blank Weigh Up'!$C$38=\"\",\"\",'Blank Weigh Up'!$C$38)","v":"No. 30"},{"$f":"IF('Blank Weigh Up'!$C$27=\"\",\"\",'Blank Weigh Up'!$C$27)","v":"Sieve Size:"},{"$f":"IF('Blank Weigh Up'!$D$29=\"\",\"\",'Blank Weigh Up'!$D$29)","v":"Retained"},{"$f":"IF('Blank Weigh Up'!$D$38=\"\",\"\",'Blank Weigh Up'!$D$38)","v":"No. 50"},{"$f":"'Blank Weigh Up'!$M$21","v":"Bin No.5"}]
[1280,{"$f":"IF('Blank Weigh Up'!$O$38=\"\",\"\",'Blank Weigh Up'!$O$38)","v":""},{"$f":"IF('Blank Weigh Up'!$B$4=\"\",\"\",'Blank Weigh Up'!$B$4)","v":"HMACP MIXTURE DESIGN : WEIGH UP SHEET FOR BLANK SAMPLES"},{"$f":"IF('Blank Weigh Up'!$B$30=\"\",\"\",'Blank Weigh Up'!$B$30)","v":"INDIVIDUAL"},{"$f":"IF('Blank Weigh Up'!$C$29=\"\",\"\",'Blank Weigh Up'!$C$29)","v":"Passing"},{"$f":"IF('Blank Weigh Up'!$C$38=\"\",\"\",'Blank Weigh Up'!$C$38)","v":"No. 30"},{"$f":"IF('Blank Weigh Up'!$C$27=\"\",\"\",'Blank Weigh Up'!$C$27)","v":"Sieve Size:"},{"$f":"IF('Blank Weigh Up'!$D$29=\"\",\"\",'Blank Weigh Up'!$D$29)","v":"Retained"},{"$f":"IF('Blank Weigh Up'!$D$38=\"\",\"\",'Blank Weigh Up'!$D$38)","v":"No. 50"},{"$f":"'Blank Weigh Up'!$O$21","v":"Bin No.6 "}]
[1281,{"$f":"IF('Blank Weigh Up'!$Q$38=\"\",\"\",'Blank Weigh Up'!$Q$38)","v":""},{"$f":"IF('Blank Weigh Up'!$B$4=\"\",\"\",'Blank Weigh Up'!$B$4)","v":"HMACP MIXTURE DESIGN : WEIGH UP SHEET FOR BLANK SAMPLES"},{"$f":"IF('Blank Weigh Up'!$B$30=\"\",\"\",'Blank Weigh Up'!$B$30)","v":"INDIVIDUAL"},{"$f":"IF('Blank Weigh Up'!$C$29=\"\",\"\",'Blank Weigh Up'!$C$29)","v":"Passing"},{"$f":"IF('Blank Weigh Up'!$C$38=\"\",\"\",'Blank Weigh Up'!$C$38)","v":"No. 30"},{"$f":"IF('Blank Weigh Up'!$C$27=\"\",\"\",'Blank Weigh Up'!$C$27)","v":"Sieve Size:"},{"$f":"IF('Blank Weigh Up'!$D$29=\"\",\"\",'Blank Weigh Up'!$D$29)","v":"Retained"},{"$f":"IF('Blank Weigh Up'!$D$38=\"\",\"\",'Blank Weigh Up'!$D$38)","v":"No. 50"},{"$f":"'Blank Weigh Up'!$Q$21","v":"Bin No.7 "}]
[1282,{"$f":"IF('Blank Weigh Up'!$S$38=\"\",\"\",'Blank Weigh Up'!$S$38)","v":""},{"$f":"IF('Blank Weigh Up'!$B$4=\"\",\"\",'Blank Weigh Up'!$B$4)","v":"HMACP MIXTURE DESIGN : WEIGH UP SHEET FOR BLANK SAMPLES"},{"$f":"IF('Blank Weigh Up'!$B$30=\"\",\"\",'Blank Weigh Up'!$B$30)","v":"INDIVIDUAL"},{"$f":"IF('Blank Weigh Up'!$C$29=\"\",\"\",'Blank Weigh Up'!$C$29)","v":"Passing"},{"$f":"IF('Blank Weigh Up'!$C$38=\"\",\"\",'Blank Weigh Up'!$C$38)","v":"No. 30"},{"$f":"IF('Blank Weigh Up'!$C$27=\"\",\"\",'Blank Weigh Up'!$C$27)","v":"Sieve Size:"},{"$f":"IF('Blank Weigh Up'!$D$29=\"\",\"\",'Blank Weigh Up'!$D$29)","v":"Retained"},{"$f":"IF('Blank Weigh Up'!$D$38=\"\",\"\",'Blank Weigh Up'!$D$38)","v":"No. 50"},{"$f":"'Blank Weigh Up'!$S$24","v":"Total Weights"}]
[1283,{"$f":"IF('Blank Weigh Up'!$T$38=\"\",\"\",'Blank Weigh Up'!$T$38)","v":""},{"$f":"IF('Blank Weigh Up'!$B$4=\"\",\"\",'Blank Weigh Up'!$B$4)","v":"HMACP MIXTURE DESIGN : WEIGH UP SHEET FOR BLANK SAMPLES"},{"$f":"IF('Blank Weigh Up'!$B$30=\"\",\"\",'Blank Weigh Up'!$B$30)","v":"INDIVIDUAL"},{"$f":"IF('Blank Weigh Up'!$C$29=\"\",\"\",'Blank Weigh Up'!$C$29)","v":"Passing"},{"$f":"IF('Blank Weigh Up'!$C$38=\"\",\"\",'Blank Weigh Up'!$C$38)","v":"No. 30"},{"$f":"IF('Blank Weigh Up'!$C$27=\"\",\"\",'Blank Weigh Up'!$C$27)","v":"Sieve Size:"},{"$f":"IF('Blank Weigh Up'!$D$29=\"\",\"\",'Blank Weigh Up'!$D$29)","v":"Retained"},{"$f":"IF('Blank Weigh Up'!$D$38=\"\",\"\",'Blank Weigh Up'!$D$38)","v":"No. 50"},{"$f":"'Blank Weigh Up'!$T$24","v":"Individual\nRetained, %"}]
[1284,{"$f":"IF('Blank Weigh Up'!$U$38=\"\",\"\",'Blank Weigh Up'!$U$38)","v":""},{"$f":"IF('Blank Weigh Up'!$B$4=\"\",\"\",'Blank Weigh Up'!$B$4)","v":"HMACP MIXTURE DESIGN : WEIGH UP SHEET FOR BLANK SAMPLES"},{"$f":"IF('Blank Weigh Up'!$B$30=\"\",\"\",'Blank Weigh Up'!$B$30)","v":"INDIVIDUAL"},{"$f":"IF('Blank Weigh Up'!$C$29=\"\",\"\",'Blank Weigh Up'!$C$29)","v":"Passing"},{"$f":"IF('Blank Weigh Up'!$C$38=\"\",\"\",'Blank Weigh Up'!$C$38)","v":"No. 30"},{"$f":"IF('Blank Weigh Up'!$C$27=\"\",\"\",'Blank Weigh Up'!$C$27)","v":"Sieve Size:"},{"$f":"IF('Blank Weigh Up'!$D$29=\"\",\"\",'Blank Weigh Up'!$D$29)","v":"Retained"},{"$f":"IF('Blank Weigh Up'!$D$38=\"\",\"\",'Blank Weigh Up'!$D$38)","v":"No. 50"},{"$f":"'Blank Weigh Up'!$U$24","v":"Cumulative Retained, %"}]
[1285,{"$f":"IF('Blank Weigh Up'!$E$39=\"\",\"\",'Blank Weigh Up'!$E$39)","v":""},{"$f":"IF('Blank Weigh Up'!$B$4=\"\",\"\",'Blank Weigh Up'!$B$4)","v":"HMACP MIXTURE DESIGN : WEIGH UP SHEET FOR BLANK SAMPLES"},{"$f":"IF('Blank Weigh Up'!$B$30=\"\",\"\",'Blank Weigh Up'!$B$30)","v":"INDIVIDUAL"},{"$f":"IF('Blank Weigh Up'!$C$29=\"\",\"\",'Blank Weigh Up'!$C$29)","v":"Passing"},{"$f":"IF('Blank Weigh Up'!$C$39=\"\",\"\",'Blank Weigh Up'!$C$39)","v":"No. 50"},{"$f":"IF('Blank Weigh Up'!$C$27=\"\",\"\",'Blank Weigh Up'!$C$27)","v":"Sieve Size:"},{"$f":"IF('Blank Weigh Up'!$D$29=\"\",\"\",'Blank Weigh Up'!$D$29)","v":"Retained"},{"$f":"IF('Blank Weigh Up'!$D$39=\"\",\"\",'Blank Weigh Up'!$D$39)","v":"No. 200"},{"$f":"'Blank Weigh Up'!$E$21","v":"Bin No.1"}]
[1286,{"$f":"IF('Blank Weigh Up'!$G$39=\"\",\"\",'Blank Weigh Up'!$G$39)","v":""},{"$f":"IF('Blank Weigh Up'!$B$4=\"\",\"\",'Blank Weigh Up'!$B$4)","v":"HMACP MIXTURE DESIGN : WEIGH UP SHEET FOR BLANK SAMPLES"},{"$f":"IF('Blank Weigh Up'!$B$30=\"\",\"\",'Blank Weigh Up'!$B$30)","v":"INDIVIDUAL"},{"$f":"IF('Blank Weigh Up'!$C$29=\"\",\"\",'Blank Weigh Up'!$C$29)","v":"Passing"},{"$f":"IF('Blank Weigh Up'!$C$39=\"\",\"\",'Blank Weigh Up'!$C$39)","v":"No. 50"},{"$f":"IF('Blank Weigh Up'!$C$27=\"\",\"\",'Blank Weigh Up'!$C$27)","v":"Sieve Size:"},{"$f":"IF('Blank Weigh Up'!$D$29=\"\",\"\",'Blank Weigh Up'!$D$29)","v":"Retained"},{"$f":"IF('Blank Weigh Up'!$D$39=\"\",\"\",'Blank Weigh Up'!$D$39)","v":"No. 200"},{"$f":"'Blank Weigh Up'!$G$21","v":"Bin No.2"}]
[1287,{"$f":"IF('Blank Weigh Up'!$I$39=\"\",\"\",'Blank Weigh Up'!$I$39)","v":""},{"$f":"IF('Blank Weigh Up'!$B$4=\"\",\"\",'Blank Weigh Up'!$B$4)","v":"HMACP MIXTURE DESIGN : WEIGH UP SHEET FOR BLANK SAMPLES"},{"$f":"IF('Blank Weigh Up'!$B$30=\"\",\"\",'Blank Weigh Up'!$B$30)","v":"INDIVIDUAL"},{"$f":"IF('Blank Weigh Up'!$C$29=\"\",\"\",'Blank Weigh Up'!$C$29)","v":"Passing"},{"$f":"IF('Blank Weigh Up'!$C$39=\"\",\"\",'Blank Weigh Up'!$C$39)","v":"No. 50"},{"$f":"IF('Blank Weigh Up'!$C$27=\"\",\"\",'Blank Weigh Up'!$C$27)","v":"Sieve Size:"},{"$f":"IF('Blank Weigh Up'!$D$29=\"\",\"\",'Blank Weigh Up'!$D$29)","v":"Retained"},{"$f":"IF('Blank Weigh Up'!$D$39=\"\",\"\",'Blank Weigh Up'!$D$39)","v":"No. 200"},{"$f":"'Blank Weigh Up'!$I$21","v":"Bin No.3"}]
[1288,{"$f":"IF('Blank Weigh Up'!$K$39=\"\",\"\",'Blank Weigh Up'!$K$39)","v":""},{"$f":"IF('Blank Weigh Up'!$B$4=\"\",\"\",'Blank Weigh Up'!$B$4)","v":"HMACP MIXTURE DESIGN : WEIGH UP SHEET FOR BLANK SAMPLES"},{"$f":"IF('Blank Weigh Up'!$B$30=\"\",\"\",'Blank Weigh Up'!$B$30)","v":"INDIVIDUAL"},{"$f":"IF('Blank Weigh Up'!$C$29=\"\",\"\",'Blank Weigh Up'!$C$29)","v":"Passing"},{"$f":"IF('Blank Weigh Up'!$C$39=\"\",\"\",'Blank Weigh Up'!$C$39)","v":"No. 50"},{"$f":"IF('Blank Weigh Up'!$C$27=\"\",\"\",'Blank Weigh Up'!$C$27)","v":"Sieve Size:"},{"$f":"IF('Blank Weigh Up'!$D$29=\"\",\"\",'Blank Weigh Up'!$D$29)","v":"Retained"},{"$f":"IF('Blank Weigh Up'!$D$39=\"\",\"\",'Blank Weigh Up'!$D$39)","v":"No. 200"},{"$f":"'Blank Weigh Up'!$K$21","v":"Bin No.4"}]
[1289,{"$f":"IF('Blank Weigh Up'!$M$39=\"\",\"\",'Blank Weigh Up'!$M$39)","v":""},{"$f":"IF('Blank Weigh Up'!$B$4=\"\",\"\",'Blank Weigh Up'!$B$4)","v":"HMACP MIXTURE DESIGN : WEIGH UP SHEET FOR BLANK SAMPLES"},{"$f":"IF('Blank Weigh Up'!$B$30=\"\",\"\",'Blank Weigh Up'!$B$30)","v":"INDIVIDUAL"},{"$f":"IF('Blank Weigh Up'!$C$29=\"\",\"\",'Blank Weigh Up'!$C$29)","v":"Passing"},{"$f":"IF('Blank Weigh Up'!$C$39=\"\",\"\",'Blank Weigh Up'!$C$39)","v":"No. 50"},{"$f":"IF('Blank Weigh Up'!$C$27=\"\",\"\",'Blank Weigh Up'!$C$27)","v":"Sieve Size:"},{"$f":"IF('Blank Weigh Up'!$D$29=\"\",\"\",'Blank Weigh Up'!$D$29)","v":"Retained"},{"$f":"IF('Blank Weigh Up'!$D$39=\"\",\"\",'Blank Weigh Up'!$D$39)","v":"No. 200"},{"$f":"'Blank Weigh Up'!$M$21","v":"Bin No.5"}]
[1290,{"$f":"IF('Blank Weigh Up'!$O$39=\"\",\"\",'Blank Weigh Up'!$O$39)","v":""},{"$f":"IF('Blank Weigh Up'!$B$4=\"\",\"\",'Blank Weigh Up'!$B$4)","v":"HMACP MIXTURE DESIGN : WEIGH UP SHEET FOR BLANK SAMPLES"},{"$f":"IF('Blank Weigh Up'!$B$30=\"\",\"\",'Blank Weigh Up'!$B$30)","v":"INDIVIDUAL"},{"$f":"IF('Blank Weigh Up'!$C$29=\"\",\"\",'Blank Weigh Up'!$C$29)","v":"Passing"},{"$f":"IF('Blank Weigh Up'!$C$39=\"\",\"\",'Blank Weigh Up'!$C$39)","v":"No. 50"},{"$f":"IF('Blank Weigh Up'!$C$27=\"\",\"\",'Blank Weigh Up'!$C$27)","v":"Sieve Size:"},{"$f":"IF('Blank Weigh Up'!$D$29=\"\",\"\",'Blank Weigh Up'!$D$29)","v":"Retained"},{"$f":"IF('Blank Weigh Up'!$D$39=\"\",\"\",'Blank Weigh Up'!$D$39)","v":"No. 200"},{"$f":"'Blank Weigh Up'!$O$21","v":"Bin No.6 "}]
[1291,{"$f":"IF('Blank Weigh Up'!$Q$39=\"\",\"\",'Blank Weigh Up'!$Q$39)","v":""},{"$f":"IF('Blank Weigh Up'!$B$4=\"\",\"\",'Blank Weigh Up'!$B$4)","v":"HMACP MIXTURE DESIGN : WEIGH UP SHEET FOR BLANK SAMPLES"},{"$f":"IF('Blank Weigh Up'!$B$30=\"\",\"\",'Blank Weigh Up'!$B$30)","v":"INDIVIDUAL"},{"$f":"IF('Blank Weigh Up'!$C$29=\"\",\"\",'Blank Weigh Up'!$C$29)","v":"Passing"},{"$f":"IF('Blank Weigh Up'!$C$39=\"\",\"\",'Blank Weigh Up'!$C$39)","v":"No. 50"},{"$f":"IF('Blank Weigh Up'!$C$27=\"\",\"\",'Blank Weigh Up'!$C$27)","v":"Sieve Size:"},{"$f":"IF('Blank Weigh Up'!$D$29=\"\",\"\",'Blank Weigh Up'!$D$29)","v":"Retained"},{"$f":"IF('Blank Weigh Up'!$D$39=\"\",\"\",'Blank Weigh Up'!$D$39)","v":"No. 200"},{"$f":"'Blank Weigh Up'!$Q$21","v":"Bin No.7 "}]
[1292,{"$f":"IF('Blank Weigh Up'!$S$39=\"\",\"\",'Blank Weigh Up'!$S$39)","v":""},{"$f":"IF('Blank Weigh Up'!$B$4=\"\",\"\",'Blank Weigh Up'!$B$4)","v":"HMACP MIXTURE DESIGN : WEIGH UP SHEET FOR BLANK SAMPLES"},{"$f":"IF('Blank Weigh Up'!$B$30=\"\",\"\",'Blank Weigh Up'!$B$30)","v":"INDIVIDUAL"},{"$f":"IF('Blank Weigh Up'!$C$29=\"\",\"\",'Blank Weigh Up'!$C$29)","v":"Passing"},{"$f":"IF('Blank Weigh Up'!$C$39=\"\",\"\",'Blank Weigh Up'!$C$39)","v":"No. 50"},{"$f":"IF('Blank Weigh Up'!$C$27=\"\",\"\",'Blank Weigh Up'!$C$27)","v":"Sieve Size:"},{"$f":"IF('Blank Weigh Up'!$D$29=\"\",\"\",'Blank Weigh Up'!$D$29)","v":"Retained"},{"$f":"IF('Blank Weigh Up'!$D$39=\"\",\"\",'Blank Weigh Up'!$D$39)","v":"No. 200"},{"$f":"'Blank Weigh Up'!$S$24","v":"Total Weights"}]
[1293,{"$f":"IF('Blank Weigh Up'!$T$39=\"\",\"\",'Blank Weigh Up'!$T$39)","v":""},{"$f":"IF('Blank Weigh Up'!$B$4=\"\",\"\",'Blank Weigh Up'!$B$4)","v":"HMACP MIXTURE DESIGN : WEIGH UP SHEET FOR BLANK SAMPLES"},{"$f":"IF('Blank Weigh Up'!$B$30=\"\",\"\",'Blank Weigh Up'!$B$30)","v":"INDIVIDUAL"},{"$f":"IF('Blank Weigh Up'!$C$29=\"\",\"\",'Blank Weigh Up'!$C$29)","v":"Passing"},{"$f":"IF('Blank Weigh Up'!$C$39=\"\",\"\",'Blank Weigh Up'!$C$39)","v":"No. 50"},{"$f":"IF('Blank Weigh Up'!$C$27=\"\",\"\",'Blank Weigh Up'!$C$27)","v":"Sieve Size:"},{"$f":"IF('Blank Weigh Up'!$D$29=\"\",\"\",'Blank Weigh Up'!$D$29)","v":"Retained"},{"$f":"IF('Blank Weigh Up'!$D$39=\"\",\"\",'Blank Weigh Up'!$D$39)","v":"No. 200"},{"$f":"'Blank Weigh Up'!$T$24","v":"Individual\nRetained, %"}]
[1294,{"$f":"IF('Blank Weigh Up'!$U$39=\"\",\"\",'Blank Weigh Up'!$U$39)","v":""},{"$f":"IF('Blank Weigh Up'!$B$4=\"\",\"\",'Blank Weigh Up'!$B$4)","v":"HMACP MIXTURE DESIGN : WEIGH UP SHEET FOR BLANK SAMPLES"},{"$f":"IF('Blank Weigh Up'!$B$30=\"\",\"\",'Blank Weigh Up'!$B$30)","v":"INDIVIDUAL"},{"$f":"IF('Blank Weigh Up'!$C$29=\"\",\"\",'Blank Weigh Up'!$C$29)","v":"Passing"},{"$f":"IF('Blank Weigh Up'!$C$39=\"\",\"\",'Blank Weigh Up'!$C$39)","v":"No. 50"},{"$f":"IF('Blank Weigh Up'!$C$27=\"\",\"\",'Blank Weigh Up'!$C$27)","v":"Sieve Size:"},{"$f":"IF('Blank Weigh Up'!$D$29=\"\",\"\",'Blank Weigh Up'!$D$29)","v":"Retained"},{"$f":"IF('Blank Weigh Up'!$D$39=\"\",\"\",'Blank Weigh Up'!$D$39)","v":"No. 200"},{"$f":"'Blank Weigh Up'!$U$24","v":"Cumulative Retained, %"}]
[1295,{"$f":"IF('Blank Weigh Up'!$E$40=\"\",\"\",'Blank Weigh Up'!$E$40)","v":""},{"$f":"IF('Blank Weigh Up'!$B$4=\"\",\"\",'Blank Weigh Up'!$B$4)","v":"HMACP MIXTURE DESIGN : WEIGH UP SHEET FOR BLANK SAMPLES"},{"$f":"IF('Blank Weigh Up'!$B$30=\"\",\"\",'Blank Weigh Up'!$B$30)","v":"INDIVIDUAL"},{"$f":"IF('Blank Weigh Up'!$C$29=\"\",\"\",'Blank Weigh Up'!$C$29)","v":"Passing"},{"$f":"IF('Blank Weigh Up'!$C$40=\"\",\"\",'Blank Weigh Up'!$C$40)","v":"No. 200"},{"$f":"IF('Blank Weigh Up'!$C$27=\"\",\"\",'Blank Weigh Up'!$C$27)","v":"Sieve Size:"},{"$f":"IF('Blank Weigh Up'!$D$29=\"\",\"\",'Blank Weigh Up'!$D$29)","v":"Retained"},{"$f":"IF('Blank Weigh Up'!$D$40=\"\",\"\",'Blank Weigh Up'!$D$40)","v":"Pan"},{"$f":"'Blank Weigh Up'!$E$21","v":"Bin No.1"}]
[1296,{"$f":"IF('Blank Weigh Up'!$G$40=\"\",\"\",'Blank Weigh Up'!$G$40)","v":""},{"$f":"IF('Blank Weigh Up'!$B$4=\"\",\"\",'Blank Weigh Up'!$B$4)","v":"HMACP MIXTURE DESIGN : WEIGH UP SHEET FOR BLANK SAMPLES"},{"$f":"IF('Blank Weigh Up'!$B$30=\"\",\"\",'Blank Weigh Up'!$B$30)","v":"INDIVIDUAL"},{"$f":"IF('Blank Weigh Up'!$C$29=\"\",\"\",'Blank Weigh Up'!$C$29)","v":"Passing"},{"$f":"IF('Blank Weigh Up'!$C$40=\"\",\"\",'Blank Weigh Up'!$C$40)","v":"No. 200"},{"$f":"IF('Blank Weigh Up'!$C$27=\"\",\"\",'Blank Weigh Up'!$C$27)","v":"Sieve Size:"},{"$f":"IF('Blank Weigh Up'!$D$29=\"\",\"\",'Blank Weigh Up'!$D$29)","v":"Retained"},{"$f":"IF('Blank Weigh Up'!$D$40=\"\",\"\",'Blank Weigh Up'!$D$40)","v":"Pan"},{"$f":"'Blank Weigh Up'!$G$21","v":"Bin No.2"}]
[1297,{"$f":"IF('Blank Weigh Up'!$I$40=\"\",\"\",'Blank Weigh Up'!$I$40)","v":""},{"$f":"IF('Blank Weigh Up'!$B$4=\"\",\"\",'Blank Weigh Up'!$B$4)","v":"HMACP MIXTURE DESIGN : WEIGH UP SHEET FOR BLANK SAMPLES"},{"$f":"IF('Blank Weigh Up'!$B$30=\"\",\"\",'Blank Weigh Up'!$B$30)","v":"INDIVIDUAL"},{"$f":"IF('Blank Weigh Up'!$C$29=\"\",\"\",'Blank Weigh Up'!$C$29)","v":"Passing"},{"$f":"IF('Blank Weigh Up'!$C$40=\"\",\"\",'Blank Weigh Up'!$C$40)","v":"No. 200"},{"$f":"IF('Blank Weigh Up'!$C$27=\"\",\"\",'Blank Weigh Up'!$C$27)","v":"Sieve Size:"},{"$f":"IF('Blank Weigh Up'!$D$29=\"\",\"\",'Blank Weigh Up'!$D$29)","v":"Retained"},{"$f":"IF('Blank Weigh Up'!$D$40=\"\",\"\",'Blank Weigh Up'!$D$40)","v":"Pan"},{"$f":"'Blank Weigh Up'!$I$21","v":"Bin No.3"}]
[1298,{"$f":"IF('Blank Weigh Up'!$K$40=\"\",\"\",'Blank Weigh Up'!$K$40)","v":""},{"$f":"IF('Blank Weigh Up'!$B$4=\"\",\"\",'Blank Weigh Up'!$B$4)","v":"HMACP MIXTURE DESIGN : WEIGH UP SHEET FOR BLANK SAMPLES"},{"$f":"IF('Blank Weigh Up'!$B$30=\"\",\"\",'Blank Weigh Up'!$B$30)","v":"INDIVIDUAL"},{"$f":"IF('Blank Weigh Up'!$C$29=\"\",\"\",'Blank Weigh Up'!$C$29)","v":"Passing"},{"$f":"IF('Blank Weigh Up'!$C$40=\"\",\"\",'Blank Weigh Up'!$C$40)","v":"No. 200"},{"$f":"IF('Blank Weigh Up'!$C$27=\"\",\"\",'Blank Weigh Up'!$C$27)","v":"Sieve Size:"},{"$f":"IF('Blank Weigh Up'!$D$29=\"\",\"\",'Blank Weigh Up'!$D$29)","v":"Retained"},{"$f":"IF('Blank Weigh Up'!$D$40=\"\",\"\",'Blank Weigh Up'!$D$40)","v":"Pan"},{"$f":"'Blank Weigh Up'!$K$21","v":"Bin No.4"}]
[1299,{"$f":"IF('Blank Weigh Up'!$M$40=\"\",\"\",'Blank Weigh Up'!$M$40)","v":""},{"$f":"IF('Blank Weigh Up'!$B$4=\"\",\"\",'Blank Weigh Up'!$B$4)","v":"HMACP MIXTURE DESIGN : WEIGH UP SHEET FOR BLANK SAMPLES"},{"$f":"IF('Blank Weigh Up'!$B$30=\"\",\"\",'Blank Weigh Up'!$B$30)","v":"INDIVIDUAL"},{"$f":"IF('Blank Weigh Up'!$C$29=\"\",\"\",'Blank Weigh Up'!$C$29)","v":"Passing"},{"$f":"IF('Blank Weigh Up'!$C$40=\"\",\"\",'Blank Weigh Up'!$C$40)","v":"No. 200"},{"$f":"IF('Blank Weigh Up'!$C$27=\"\",\"\",'Blank Weigh Up'!$C$27)","v":"Sieve Size:"},{"$f":"IF('Blank Weigh Up'!$D$29=\"\",\"\",'Blank Weigh Up'!$D$29)","v":"Retained"},{"$f":"IF('Blank Weigh Up'!$D$40=\"\",\"\",'Blank Weigh Up'!$D$40)","v":"Pan"},{"$f":"'Blank Weigh Up'!$M$21","v":"Bin No.5"}]
[1300,{"$f":"IF('Blank Weigh Up'!$O$40=\"\",\"\",'Blank Weigh Up'!$O$40)","v":""},{"$f":"IF('Blank Weigh Up'!$B$4=\"\",\"\",'Blank Weigh Up'!$B$4)","v":"HMACP MIXTURE DESIGN : WEIGH UP SHEET FOR BLANK SAMPLES"},{"$f":"IF('Blank Weigh Up'!$B$30=\"\",\"\",'Blank Weigh Up'!$B$30)","v":"INDIVIDUAL"},{"$f":"IF('Blank Weigh Up'!$C$29=\"\",\"\",'Blank Weigh Up'!$C$29)","v":"Passing"},{"$f":"IF('Blank Weigh Up'!$C$40=\"\",\"\",'Blank Weigh Up'!$C$40)","v":"No. 200"},{"$f":"IF('Blank Weigh Up'!$C$27=\"\",\"\",'Blank Weigh Up'!$C$27)","v":"Sieve Size:"},{"$f":"IF('Blank Weigh Up'!$D$29=\"\",\"\",'Blank Weigh Up'!$D$29)","v":"Retained"},{"$f":"IF('Blank Weigh Up'!$D$40=\"\",\"\",'Blank Weigh Up'!$D$40)","v":"Pan"},{"$f":"'Blank Weigh Up'!$O$21","v":"Bin No.6 "}]
[1301,{"$f":"IF('Blank Weigh Up'!$Q$40=\"\",\"\",'Blank Weigh Up'!$Q$40)","v":""},{"$f":"IF('Blank Weigh Up'!$B$4=\"\",\"\",'Blank Weigh Up'!$B$4)","v":"HMACP MIXTURE DESIGN : WEIGH UP SHEET FOR BLANK SAMPLES"},{"$f":"IF('Blank Weigh Up'!$B$30=\"\",\"\",'Blank Weigh Up'!$B$30)","v":"INDIVIDUAL"},{"$f":"IF('Blank Weigh Up'!$C$29=\"\",\"\",'Blank Weigh Up'!$C$29)","v":"Passing"},{"$f":"IF('Blank Weigh Up'!$C$40=\"\",\"\",'Blank Weigh Up'!$C$40)","v":"No. 200"},{"$f":"IF('Blank Weigh Up'!$C$27=\"\",\"\",'Blank Weigh Up'!$C$27)","v":"Sieve Size:"},{"$f":"IF('Blank Weigh Up'!$D$29=\"\",\"\",'Blank Weigh Up'!$D$29)","v":"Retained"},{"$f":"IF('Blank Weigh Up'!$D$40=\"\",\"\",'Blank Weigh Up'!$D$40)","v":"Pan"},{"$f":"'Blank Weigh Up'!$Q$21","v":"Bin No.7 "}]
[1302,{"$f":"IF('Blank Weigh Up'!$S$40=\"\",\"\",'Blank Weigh Up'!$S$40)","v":""},{"$f":"IF('Blank Weigh Up'!$B$4=\"\",\"\",'Blank Weigh Up'!$B$4)","v":"HMACP MIXTURE DESIGN : WEIGH UP SHEET FOR BLANK SAMPLES"},{"$f":"IF('Blank Weigh Up'!$B$30=\"\",\"\",'Blank Weigh Up'!$B$30)","v":"INDIVIDUAL"},{"$f":"IF('Blank Weigh Up'!$C$29=\"\",\"\",'Blank Weigh Up'!$C$29)","v":"Passing"},{"$f":"IF('Blank Weigh Up'!$C$40=\"\",\"\",'Blank Weigh Up'!$C$40)","v":"No. 200"},{"$f":"IF('Blank Weigh Up'!$C$27=\"\",\"\",'Blank Weigh Up'!$C$27)","v":"Sieve Size:"},{"$f":"IF('Blank Weigh Up'!$D$29=\"\",\"\",'Blank Weigh Up'!$D$29)","v":"Retained"},{"$f":"IF('Blank Weigh Up'!$D$40=\"\",\"\",'Blank Weigh Up'!$D$40)","v":"Pan"},{"$f":"'Blank Weigh Up'!$S$24","v":"Total Weights"}]
[1303,{"$f":"IF('Blank Weigh Up'!$T$40=\"\",\"\",'Blank Weigh Up'!$T$40)","v":""},{"$f":"IF('Blank Weigh Up'!$B$4=\"\",\"\",'Blank Weigh Up'!$B$4)","v":"HMACP MIXTURE DESIGN : WEIGH UP SHEET FOR BLANK SAMPLES"},{"$f":"IF('Blank Weigh Up'!$B$30=\"\",\"\",'Blank Weigh Up'!$B$30)","v":"INDIVIDUAL"},{"$f":"IF('Blank Weigh Up'!$C$29=\"\",\"\",'Blank Weigh Up'!$C$29)","v":"Passing"},{"$f":"IF('Blank Weigh Up'!$C$40=\"\",\"\",'Blank Weigh Up'!$C$40)","v":"No. 200"},{"$f":"IF('Blank Weigh Up'!$C$27=\"\",\"\",'Blank Weigh Up'!$C$27)","v":"Sieve Size:"},{"$f":"IF('Blank Weigh Up'!$D$29=\"\",\"\",'Blank Weigh Up'!$D$29)","v":"Retained"},{"$f":"IF('Blank Weigh Up'!$D$40=\"\",\"\",'Blank Weigh Up'!$D$40)","v":"Pan"},{"$f":"'Blank Weigh Up'!$T$24","v":"Individual\nRetained, %"}]
[1304,{"$f":"IF('Blank Weigh Up'!$U$40=\"\",\"\",'Blank Weigh Up'!$U$40)","v":""},{"$f":"IF('Blank Weigh Up'!$B$4=\"\",\"\",'Blank Weigh Up'!$B$4)","v":"HMACP MIXTURE DESIGN : WEIGH UP SHEET FOR BLANK SAMPLES"},{"$f":"IF('Blank Weigh Up'!$B$30=\"\",\"\",'Blank Weigh Up'!$B$30)","v":"INDIVIDUAL"},{"$f":"IF('Blank Weigh Up'!$C$29=\"\",\"\",'Blank Weigh Up'!$C$29)","v":"Passing"},{"$f":"IF('Blank Weigh Up'!$C$40=\"\",\"\",'Blank Weigh Up'!$C$40)","v":"No. 200"},{"$f":"IF('Blank Weigh Up'!$C$27=\"\",\"\",'Blank Weigh Up'!$C$27)","v":"Sieve Size:"},{"$f":"IF('Blank Weigh Up'!$D$29=\"\",\"\",'Blank Weigh Up'!$D$29)","v":"Retained"},{"$f":"IF('Blank Weigh Up'!$D$40=\"\",\"\",'Blank Weigh Up'!$D$40)","v":"Pan"},{"$f":"'Blank Weigh Up'!$U$24","v":"Cumulative Retained, %"}]
[1305,{"$f":"IF('Blank Weigh Up'!$E$41=\"\",\"\",'Blank Weigh Up'!$E$41)","v":""},{"$f":"IF('Blank Weigh Up'!$B$4=\"\",\"\",'Blank Weigh Up'!$B$4)","v":"HMACP MIXTURE DESIGN : WEIGH UP SHEET FOR BLANK SAMPLES"},{"$f":"IF('Blank Weigh Up'!$B$30=\"\",\"\",'Blank Weigh Up'!$B$30)","v":"INDIVIDUAL"},{"$f":"IF('Blank Weigh Up'!$C$41=\"\",\"\",'Blank Weigh Up'!$C$41)","v":"Totals"},{"$f":"'Blank Weigh Up'!$E$21","v":"Bin No.1"},{"$f":"'Blank Weigh Up'!$E$27","v":""}]
[1306,{"$f":"IF('Blank Weigh Up'!$G$41=\"\",\"\",'Blank Weigh Up'!$G$41)","v":""},{"$f":"IF('Blank Weigh Up'!$B$4=\"\",\"\",'Blank Weigh Up'!$B$4)","v":"HMACP MIXTURE DESIGN : WEIGH UP SHEET FOR BLANK SAMPLES"},{"$f":"IF('Blank Weigh Up'!$B$30=\"\",\"\",'Blank Weigh Up'!$B$30)","v":"INDIVIDUAL"},{"$f":"IF('Blank Weigh Up'!$C$41=\"\",\"\",'Blank Weigh Up'!$C$41)","v":"Totals"},{"$f":"'Blank Weigh Up'!$G$21","v":"Bin No.2"},{"$f":"'Blank Weigh Up'!$G$27","v":""}]
[1307,{"$f":"IF('Blank Weigh Up'!$I$41=\"\",\"\",'Blank Weigh Up'!$I$41)","v":""},{"$f":"IF('Blank Weigh Up'!$B$4=\"\",\"\",'Blank Weigh Up'!$B$4)","v":"HMACP MIXTURE DESIGN : WEIGH UP SHEET FOR BLANK SAMPLES"},{"$f":"IF('Blank Weigh Up'!$B$30=\"\",\"\",'Blank Weigh Up'!$B$30)","v":"INDIVIDUAL"},{"$f":"IF('Blank Weigh Up'!$C$41=\"\",\"\",'Blank Weigh Up'!$C$41)","v":"Totals"},{"$f":"'Blank Weigh Up'!$I$21","v":"Bin No.3"},{"$f":"'Blank Weigh Up'!$I$27","v":""}]
[1308,{"$f":"IF('Blank Weigh Up'!$K$41=\"\",\"\",'Blank Weigh Up'!$K$41)","v":""},{"$f":"IF('Blank Weigh Up'!$B$4=\"\",\"\",'Blank Weigh Up'!$B$4)","v":"HMACP MIXTURE DESIGN : WEIGH UP SHEET FOR BLANK SAMPLES"},{"$f":"IF('Blank Weigh Up'!$B$30=\"\",\"\",'Blank Weigh Up'!$B$30)","v":"INDIVIDUAL"},{"$f":"IF('Blank Weigh Up'!$C$41=\"\",\"\",'Blank Weigh Up'!$C$41)","v":"Totals"},{"$f":"'Blank Weigh Up'!$K$21","v":"Bin No.4"},{"$f":"'Blank Weigh Up'!$K$27","v":""}]
[1309,{"$f":"IF('Blank Weigh Up'!$M$41=\"\",\"\",'Blank Weigh Up'!$M$41)","v":""},{"$f":"IF('Blank Weigh Up'!$B$4=\"\",\"\",'Blank Weigh Up'!$B$4)","v":"HMACP MIXTURE DESIGN : WEIGH UP SHEET FOR BLANK SAMPLES"},{"$f":"IF('Blank Weigh Up'!$B$30=\"\",\"\",'Blank Weigh Up'!$B$30)","v":"INDIVIDUAL"},{"$f":"IF('Blank Weigh Up'!$C$41=\"\",\"\",'Blank Weigh Up'!$C$41)","v":"Totals"},{"$f":"'Blank Weigh Up'!$M$21","v":"Bin No.5"},{"$f":"'Blank Weigh Up'!$M$27","v":""}]
[1310,{"$f":"IF('Blank Weigh Up'!$O$41=\"\",\"\",'Blank Weigh Up'!$O$41)","v":""},{"$f":"IF('Blank Weigh Up'!$B$4=\"\",\"\",'Blank Weigh Up'!$B$4)","v":"HMACP MIXTURE DESIGN : WEIGH UP SHEET FOR BLANK SAMPLES"},{"$f":"IF('Blank Weigh Up'!$B$30=\"\",\"\",'Blank Weigh Up'!$B$30)","v":"INDIVIDUAL"},{"$f":"IF('Blank Weigh Up'!$C$41=\"\",\"\",'Blank Weigh Up'!$C$41)","v":"Totals"},{"$f":"'Blank Weigh Up'!$O$21","v":"Bin No.6 "},{"$f":"'Blank Weigh Up'!$O$27","v":""}]
[1311,{"$f":"IF('Blank Weigh Up'!$Q$41=\"\",\"\",'Blank Weigh Up'!$Q$41)","v":""},{"$f":"IF('Blank Weigh Up'!$B$4=\"\",\"\",'Blank Weigh Up'!$B$4)","v":"HMACP MIXTURE DESIGN : WEIGH UP SHEET FOR BLANK SAMPLES"},{"$f":"IF('Blank Weigh Up'!$B$30=\"\",\"\",'Blank Weigh Up'!$B$30)","v":"INDIVIDUAL"},{"$f":"IF('Blank Weigh Up'!$C$41=\"\",\"\",'Blank Weigh Up'!$C$41)","v":"Totals"},{"$f":"'Blank Weigh Up'!$Q$21","v":"Bin No.7 "},{"$f":"'Blank Weigh Up'!$Q$27","v":""}]
[1312,{"$f":"IF('Blank Weigh Up'!$S$41=\"\",\"\",'Blank Weigh Up'!$S$41)","v":""},{"$f":"IF('Blank Weigh Up'!$B$4=\"\",\"\",'Blank Weigh Up'!$B$4)","v":"HMACP MIXTURE DESIGN : WEIGH UP SHEET FOR BLANK SAMPLES"},{"$f":"IF('Blank Weigh Up'!$B$30=\"\",\"\",'Blank Weigh Up'!$B$30)","v":"INDIVIDUAL"},{"$f":"IF('Blank Weigh Up'!$C$41=\"\",\"\",'Blank Weigh Up'!$C$41)","v":"Totals"},{"$f":"'Blank Weigh Up'!$S$24","v":"Total Weights"}]
[1313,{"$f":"IF('Blank Weigh Up'!$C$44=\"\",\"\",'Blank Weigh Up'!$C$44)","v":""},{"$f":"IF('Blank Weigh Up'!$B$4=\"\",\"\",'Blank Weigh Up'!$B$4)","v":"HMACP MIXTURE DESIGN : WEIGH UP SHEET FOR BLANK SAMPLES"},{"$f":"IF('Blank Weigh Up'!$B$44=\"\",\"\",'Blank Weigh Up'!$B$44)","v":"Running Total:"}]
[1314,{"$f":"IF('Blank Weigh Up'!$E$45=\"\",\"\",'Blank Weigh Up'!$E$45)","v":""},{"$f":"IF('Blank Weigh Up'!$B$4=\"\",\"\",'Blank Weigh Up'!$B$4)","v":"HMACP MIXTURE DESIGN : WEIGH UP SHEET FOR BLANK SAMPLES"},{"$f":"IF('Blank Weigh Up'!$B$45=\"\",\"\",'Blank Weigh Up'!$B$45)","v":"CUMULATIVE"},{"$f":"IF('Blank Weigh Up'!$C$29=\"\",\"\",'Blank Weigh Up'!$C$29)","v":"Passing"},{"$f":"IF('Blank Weigh Up'!$C$45=\"\",\"\",'Blank Weigh Up'!$C$45)","v":"-"},{"$f":"IF('Blank Weigh Up'!$C$27=\"\",\"\",'Blank Weigh Up'!$C$27)","v":"Sieve Size:"},{"$f":"IF('Blank Weigh Up'!$D$29=\"\",\"\",'Blank Weigh Up'!$D$29)","v":"Retained"},{"$f":"'Blank Weigh Up'!$D$45","v":"1\""},{"$f":"'Blank Weigh Up'!$E$21","v":"Bin No.1"}]
[1315,{"$f":"IF('Blank Weigh Up'!$G$45=\"\",\"\",'Blank Weigh Up'!$G$45)","v":""},{"$f":"IF('Blank Weigh Up'!$B$4=\"\",\"\",'Blank Weigh Up'!$B$4)","v":"HMACP MIXTURE DESIGN : WEIGH UP SHEET FOR BLANK SAMPLES"},{"$f":"IF('Blank Weigh Up'!$B$45=\"\",\"\",'Blank Weigh Up'!$B$45)","v":"CUMULATIVE"},{"$f":"IF('Blank Weigh Up'!$C$29=\"\",\"\",'Blank Weigh Up'!$C$29)","v":"Passing"},{"$f":"IF('Blank Weigh Up'!$C$45=\"\",\"\",'Blank Weigh Up'!$C$45)","v":"-"},{"$f":"IF('Blank Weigh Up'!$C$27=\"\",\"\",'Blank Weigh Up'!$C$27)","v":"Sieve Size:"},{"$f":"IF('Blank Weigh Up'!$D$29=\"\",\"\",'Blank Weigh Up'!$D$29)","v":"Retained"},{"$f":"'Blank Weigh Up'!$D$45","v":"1\""},{"$f":"'Blank Weigh Up'!$G$21","v":"Bin No.2"}]
[1316,{"$f":"IF('Blank Weigh Up'!$I$45=\"\",\"\",'Blank Weigh Up'!$I$45)","v":""},{"$f":"IF('Blank Weigh Up'!$B$4=\"\",\"\",'Blank Weigh Up'!$B$4)","v":"HMACP MIXTURE DESIGN : WEIGH UP SHEET FOR BLANK SAMPLES"},{"$f":"IF('Blank Weigh Up'!$B$45=\"\",\"\",'Blank Weigh Up'!$B$45)","v":"CUMULATIVE"},{"$f":"IF('Blank Weigh Up'!$C$29=\"\",\"\",'Blank Weigh Up'!$C$29)","v":"Passing"},{"$f":"IF('Blank Weigh Up'!$C$45=\"\",\"\",'Blank Weigh Up'!$C$45)","v":"-"},{"$f":"IF('Blank Weigh Up'!$C$27=\"\",\"\",'Blank Weigh Up'!$C$27)","v":"Sieve Size:"},{"$f":"IF('Blank Weigh Up'!$D$29=\"\",\"\",'Blank Weigh Up'!$D$29)","v":"Retained"},{"$f":"'Blank Weigh Up'!$D$45","v":"1\""},{"$f":"'Blank Weigh Up'!$I$21","v":"Bin No.3"}]
[1317,{"$f":"IF('Blank Weigh Up'!$K$45=\"\",\"\",'Blank Weigh Up'!$K$45)","v":""},{"$f":"IF('Blank Weigh Up'!$B$4=\"\",\"\",'Blank Weigh Up'!$B$4)","v":"HMACP MIXTURE DESIGN : WEIGH UP SHEET FOR BLANK SAMPLES"},{"$f":"IF('Blank Weigh Up'!$B$45=\"\",\"\",'Blank Weigh Up'!$B$45)","v":"CUMULATIVE"},{"$f":"IF('Blank Weigh Up'!$C$29=\"\",\"\",'Blank Weigh Up'!$C$29)","v":"Passing"},{"$f":"IF('Blank Weigh Up'!$C$45=\"\",\"\",'Blank Weigh Up'!$C$45)","v":"-"},{"$f":"IF('Blank Weigh Up'!$C$27=\"\",\"\",'Blank Weigh Up'!$C$27)","v":"Sieve Size:"},{"$f":"IF('Blank Weigh Up'!$D$29=\"\",\"\",'Blank Weigh Up'!$D$29)","v":"Retained"},{"$f":"'Blank Weigh Up'!$D$45","v":"1\""},{"$f":"'Blank Weigh Up'!$K$21","v":"Bin No.4"}]
[1318,{"$f":"IF('Blank Weigh Up'!$M$45=\"\",\"\",'Blank Weigh Up'!$M$45)","v":""},{"$f":"IF('Blank Weigh Up'!$B$4=\"\",\"\",'Blank Weigh Up'!$B$4)","v":"HMACP MIXTURE DESIGN : WEIGH UP SHEET FOR BLANK SAMPLES"},{"$f":"IF('Blank Weigh Up'!$B$45=\"\",\"\",'Blank Weigh Up'!$B$45)","v":"CUMULATIVE"},{"$f":"IF('Blank Weigh Up'!$C$29=\"\",\"\",'Blank Weigh Up'!$C$29)","v":"Passing"},{"$f":"IF('Blank Weigh Up'!$C$45=\"\",\"\",'Blank Weigh Up'!$C$45)","v":"-"},{"$f":"IF('Blank Weigh Up'!$C$27=\"\",\"\",'Blank Weigh Up'!$C$27)","v":"Sieve Size:"},{"$f":"IF('Blank Weigh Up'!$D$29=\"\",\"\",'Blank Weigh Up'!$D$29)","v":"Retained"},{"$f":"'Blank Weigh Up'!$D$45","v":"1\""},{"$f":"'Blank Weigh Up'!$M$21","v":"Bin No.5"}]
[1319,{"$f":"IF('Blank Weigh Up'!$O$45=\"\",\"\",'Blank Weigh Up'!$O$45)","v":""},{"$f":"IF('Blank Weigh Up'!$B$4=\"\",\"\",'Blank Weigh Up'!$B$4)","v":"HMACP MIXTURE DESIGN : WEIGH UP SHEET FOR BLANK SAMPLES"},{"$f":"IF('Blank Weigh Up'!$B$45=\"\",\"\",'Blank Weigh Up'!$B$45)","v":"CUMULATIVE"},{"$f":"IF('Blank Weigh Up'!$C$29=\"\",\"\",'Blank Weigh Up'!$C$29)","v":"Passing"},{"$f":"IF('Blank Weigh Up'!$C$45=\"\",\"\",'Blank Weigh Up'!$C$45)","v":"-"},{"$f":"IF('Blank Weigh Up'!$C$27=\"\",\"\",'Blank Weigh Up'!$C$27)","v":"Sieve Size:"},{"$f":"IF('Blank Weigh Up'!$D$29=\"\",\"\",'Blank Weigh Up'!$D$29)","v":"Retained"},{"$f":"'Blank Weigh Up'!$D$45","v":"1\""},{"$f":"'Blank Weigh Up'!$O$21","v":"Bin No.6 "}]
[1320,{"$f":"IF('Blank Weigh Up'!$Q$45=\"\",\"\",'Blank Weigh Up'!$Q$45)","v":""},{"$f":"IF('Blank Weigh Up'!$B$4=\"\",\"\",'Blank Weigh Up'!$B$4)","v":"HMACP MIXTURE DESIGN : WEIGH UP SHEET FOR BLANK SAMPLES"},{"$f":"IF('Blank Weigh Up'!$B$45=\"\",\"\",'Blank Weigh Up'!$B$45)","v":"CUMULATIVE"},{"$f":"IF('Blank Weigh Up'!$C$29=\"\",\"\",'Blank Weigh Up'!$C$29)","v":"Passing"},{"$f":"IF('Blank Weigh Up'!$C$45=\"\",\"\",'Blank Weigh Up'!$C$45)","v":"-"},{"$f":"IF('Blank Weigh Up'!$C$27=\"\",\"\",'Blank Weigh Up'!$C$27)","v":"Sieve Size:"},{"$f":"IF('Blank Weigh Up'!$D$29=\"\",\"\",'Blank Weigh Up'!$D$29)","v":"Retained"},{"$f":"'Blank Weigh Up'!$D$45","v":"1\""},{"$f":"'Blank Weigh Up'!$Q$21","v":"Bin No.7 "}]
[1321,{"$f":"IF('Blank Weigh Up'!$S$45=\"\",\"\",'Blank Weigh Up'!$S$45)","v":""},{"$f":"IF('Blank Weigh Up'!$B$4=\"\",\"\",'Blank Weigh Up'!$B$4)","v":"HMACP MIXTURE DESIGN : WEIGH UP SHEET FOR BLANK SAMPLES"},{"$f":"IF('Blank Weigh Up'!$B$45=\"\",\"\",'Blank Weigh Up'!$B$45)","v":"CUMULATIVE"},{"$f":"IF('Blank Weigh Up'!$C$29=\"\",\"\",'Blank Weigh Up'!$C$29)","v":"Passing"},{"$f":"IF('Blank Weigh Up'!$C$45=\"\",\"\",'Blank Weigh Up'!$C$45)","v":"-"},{"$f":"IF('Blank Weigh Up'!$C$27=\"\",\"\",'Blank Weigh Up'!$C$27)","v":"Sieve Size:"},{"$f":"IF('Blank Weigh Up'!$D$29=\"\",\"\",'Blank Weigh Up'!$D$29)","v":"Retained"},{"$f":"'Blank Weigh Up'!$D$45","v":"1\""},{"$f":"'Blank Weigh Up'!$S$24","v":"Total Weights"}]
[1322,{"$f":"IF('Blank Weigh Up'!$E$46=\"\",\"\",'Blank Weigh Up'!$E$46)","v":""},{"$f":"IF('Blank Weigh Up'!$B$4=\"\",\"\",'Blank Weigh Up'!$B$4)","v":"HMACP MIXTURE DESIGN : WEIGH UP SHEET FOR BLANK SAMPLES"},{"$f":"IF('Blank Weigh Up'!$B$45=\"\",\"\",'Blank Weigh Up'!$B$45)","v":"CUMULATIVE"},{"$f":"IF('Blank Weigh Up'!$C$29=\"\",\"\",'Blank Weigh Up'!$C$29)","v":"Passing"},{"$f":"IF('Blank Weigh Up'!$C$46=\"\",\"\",'Blank Weigh Up'!$C$46)","v":"1\""},{"$f":"IF('Blank Weigh Up'!$C$27=\"\",\"\",'Blank Weigh Up'!$C$27)","v":"Sieve Size:"},{"$f":"IF('Blank Weigh Up'!$D$29=\"\",\"\",'Blank Weigh Up'!$D$29)","v":"Retained"},{"$f":"'Blank Weigh Up'!$D$46","v":"3/4\""},{"$f":"'Blank Weigh Up'!$E$21","v":"Bin No.1"}]
[1323,{"$f":"IF('Blank Weigh Up'!$G$46=\"\",\"\",'Blank Weigh Up'!$G$46)","v":""},{"$f":"IF('Blank Weigh Up'!$B$4=\"\",\"\",'Blank Weigh Up'!$B$4)","v":"HMACP MIXTURE DESIGN : WEIGH UP SHEET FOR BLANK SAMPLES"},{"$f":"IF('Blank Weigh Up'!$B$45=\"\",\"\",'Blank Weigh Up'!$B$45)","v":"CUMULATIVE"},{"$f":"IF('Blank Weigh Up'!$C$29=\"\",\"\",'Blank Weigh Up'!$C$29)","v":"Passing"},{"$f":"IF('Blank Weigh Up'!$C$46=\"\",\"\",'Blank Weigh Up'!$C$46)","v":"1\""},{"$f":"IF('Blank Weigh Up'!$C$27=\"\",\"\",'Blank Weigh Up'!$C$27)","v":"Sieve Size:"},{"$f":"IF('Blank Weigh Up'!$D$29=\"\",\"\",'Blank Weigh Up'!$D$29)","v":"Retained"},{"$f":"'Blank Weigh Up'!$D$46","v":"3/4\""},{"$f":"'Blank Weigh Up'!$G$21","v":"Bin No.2"}]
[1324,{"$f":"IF('Blank Weigh Up'!$I$46=\"\",\"\",'Blank Weigh Up'!$I$46)","v":""},{"$f":"IF('Blank Weigh Up'!$B$4=\"\",\"\",'Blank Weigh Up'!$B$4)","v":"HMACP MIXTURE DESIGN : WEIGH UP SHEET FOR BLANK SAMPLES"},{"$f":"IF('Blank Weigh Up'!$B$45=\"\",\"\",'Blank Weigh Up'!$B$45)","v":"CUMULATIVE"},{"$f":"IF('Blank Weigh Up'!$C$29=\"\",\"\",'Blank Weigh Up'!$C$29)","v":"Passing"},{"$f":"IF('Blank Weigh Up'!$C$46=\"\",\"\",'Blank Weigh Up'!$C$46)","v":"1\""},{"$f":"IF('Blank Weigh Up'!$C$27=\"\",\"\",'Blank Weigh Up'!$C$27)","v":"Sieve Size:"},{"$f":"IF('Blank Weigh Up'!$D$29=\"\",\"\",'Blank Weigh Up'!$D$29)","v":"Retained"},{"$f":"'Blank Weigh Up'!$D$46","v":"3/4\""},{"$f":"'Blank Weigh Up'!$I$21","v":"Bin No.3"}]
[1325,{"$f":"IF('Blank Weigh Up'!$K$46=\"\",\"\",'Blank Weigh Up'!$K$46)","v":""},{"$f":"IF('Blank Weigh Up'!$B$4=\"\",\"\",'Blank Weigh Up'!$B$4)","v":"HMACP MIXTURE DESIGN : WEIGH UP SHEET FOR BLANK SAMPLES"},{"$f":"IF('Blank Weigh Up'!$B$45=\"\",\"\",'Blank Weigh Up'!$B$45)","v":"CUMULATIVE"},{"$f":"IF('Blank Weigh Up'!$C$29=\"\",\"\",'Blank Weigh Up'!$C$29)","v":"Passing"},{"$f":"IF('Blank Weigh Up'!$C$46=\"\",\"\",'Blank Weigh Up'!$C$46)","v":"1\""},{"$f":"IF('Blank Weigh Up'!$C$27=\"\",\"\",'Blank Weigh Up'!$C$27)","v":"Sieve Size:"},{"$f":"IF('Blank Weigh Up'!$D$29=\"\",\"\",'Blank Weigh Up'!$D$29)","v":"Retained"},{"$f":"'Blank Weigh Up'!$D$46","v":"3/4\""},{"$f":"'Blank Weigh Up'!$K$21","v":"Bin No.4"}]
[1326,{"$f":"IF('Blank Weigh Up'!$M$46=\"\",\"\",'Blank Weigh Up'!$M$46)","v":""},{"$f":"IF('Blank Weigh Up'!$B$4=\"\",\"\",'Blank Weigh Up'!$B$4)","v":"HMACP MIXTURE DESIGN : WEIGH UP SHEET FOR BLANK SAMPLES"},{"$f":"IF('Blank Weigh Up'!$B$45=\"\",\"\",'Blank Weigh Up'!$B$45)","v":"CUMULATIVE"},{"$f":"IF('Blank Weigh Up'!$C$29=\"\",\"\",'Blank Weigh Up'!$C$29)","v":"Passing"},{"$f":"IF('Blank Weigh Up'!$C$46=\"\",\"\",'Blank Weigh Up'!$C$46)","v":"1\""},{"$f":"IF('Blank Weigh Up'!$C$27=\"\",\"\",'Blank Weigh Up'!$C$27)","v":"Sieve Size:"},{"$f":"IF('Blank Weigh Up'!$D$29=\"\",\"\",'Blank Weigh Up'!$D$29)","v":"Retained"},{"$f":"'Blank Weigh Up'!$D$46","v":"3/4\""},{"$f":"'Blank Weigh Up'!$M$21","v":"Bin No.5"}]
[1327,{"$f":"IF('Blank Weigh Up'!$O$46=\"\",\"\",'Blank Weigh Up'!$O$46)","v":""},{"$f":"IF('Blank Weigh Up'!$B$4=\"\",\"\",'Blank Weigh Up'!$B$4)","v":"HMACP MIXTURE DESIGN : WEIGH UP SHEET FOR BLANK SAMPLES"},{"$f":"IF('Blank Weigh Up'!$B$45=\"\",\"\",'Blank Weigh Up'!$B$45)","v":"CUMULATIVE"},{"$f":"IF('Blank Weigh Up'!$C$29=\"\",\"\",'Blank Weigh Up'!$C$29)","v":"Passing"},{"$f":"IF('Blank Weigh Up'!$C$46=\"\",\"\",'Blank Weigh Up'!$C$46)","v":"1\""},{"$f":"IF('Blank Weigh Up'!$C$27=\"\",\"\",'Blank Weigh Up'!$C$27)","v":"Sieve Size:"},{"$f":"IF('Blank Weigh Up'!$D$29=\"\",\"\",'Blank Weigh Up'!$D$29)","v":"Retained"},{"$f":"'Blank Weigh Up'!$D$46","v":"3/4\""},{"$f":"'Blank Weigh Up'!$O$21","v":"Bin No.6 "}]
[1328,{"$f":"IF('Blank Weigh Up'!$Q$46=\"\",\"\",'Blank Weigh Up'!$Q$46)","v":""},{"$f":"IF('Blank Weigh Up'!$B$4=\"\",\"\",'Blank Weigh Up'!$B$4)","v":"HMACP MIXTURE DESIGN : WEIGH UP SHEET FOR BLANK SAMPLES"},{"$f":"IF('Blank Weigh Up'!$B$45=\"\",\"\",'Blank Weigh Up'!$B$45)","v":"CUMULATIVE"},{"$f":"IF('Blank Weigh Up'!$C$29=\"\",\"\",'Blank Weigh Up'!$C$29)","v":"Passing"},{"$f":"IF('Blank Weigh Up'!$C$46=\"\",\"\",'Blank Weigh Up'!$C$46)","v":"1\""},{"$f":"IF('Blank Weigh Up'!$C$27=\"\",\"\",'Blank Weigh Up'!$C$27)","v":"Sieve Size:"},{"$f":"IF('Blank Weigh Up'!$D$29=\"\",\"\",'Blank Weigh Up'!$D$29)","v":"Retained"},{"$f":"'Blank Weigh Up'!$D$46","v":"3/4\""},{"$f":"'Blank Weigh Up'!$Q$21","v":"Bin No.7 "}]
[1329,{"$f":"IF('Blank Weigh Up'!$S$46=\"\",\"\",'Blank Weigh Up'!$S$46)","v":""},{"$f":"IF('Blank Weigh Up'!$B$4=\"\",\"\",'Blank Weigh Up'!$B$4)","v":"HMACP MIXTURE DESIGN : WEIGH UP SHEET FOR BLANK SAMPLES"},{"$f":"IF('Blank Weigh Up'!$B$45=\"\",\"\",'Blank Weigh Up'!$B$45)","v":"CUMULATIVE"},{"$f":"IF('Blank Weigh Up'!$C$29=\"\",\"\",'Blank Weigh Up'!$C$29)","v":"Passing"},{"$f":"IF('Blank Weigh Up'!$C$46=\"\",\"\",'Blank Weigh Up'!$C$46)","v":"1\""},{"$f":"IF('Blank Weigh Up'!$C$27=\"\",\"\",'Blank Weigh Up'!$C$27)","v":"Sieve Size:"},{"$f":"IF('Blank Weigh Up'!$D$29=\"\",\"\",'Blank Weigh Up'!$D$29)","v":"Retained"},{"$f":"'Blank Weigh Up'!$D$46","v":"3/4\""},{"$f":"'Blank Weigh Up'!$S$24","v":"Total Weights"}]
[1330,{"$f":"IF('Blank Weigh Up'!$E$47=\"\",\"\",'Blank Weigh Up'!$E$47)","v":""},{"$f":"IF('Blank Weigh Up'!$B$4=\"\",\"\",'Blank Weigh Up'!$B$4)","v":"HMACP MIXTURE DESIGN : WEIGH UP SHEET FOR BLANK SAMPLES"},{"$f":"IF('Blank Weigh Up'!$B$45=\"\",\"\",'Blank Weigh Up'!$B$45)","v":"CUMULATIVE"},{"$f":"IF('Blank Weigh Up'!$C$29=\"\",\"\",'Blank Weigh Up'!$C$29)","v":"Passing"},{"$f":"IF('Blank Weigh Up'!$C$47=\"\",\"\",'Blank Weigh Up'!$C$47)","v":"3/4\""},{"$f":"IF('Blank Weigh Up'!$C$27=\"\",\"\",'Blank Weigh Up'!$C$27)","v":"Sieve Size:"},{"$f":"IF('Blank Weigh Up'!$D$29=\"\",\"\",'Blank Weigh Up'!$D$29)","v":"Retained"},{"$f":"'Blank Weigh Up'!$D$47","v":"1/2\""},{"$f":"'Blank Weigh Up'!$E$21","v":"Bin No.1"}]
[1331,{"$f":"IF('Blank Weigh Up'!$G$47=\"\",\"\",'Blank Weigh Up'!$G$47)","v":""},{"$f":"IF('Blank Weigh Up'!$B$4=\"\",\"\",'Blank Weigh Up'!$B$4)","v":"HMACP MIXTURE DESIGN : WEIGH UP SHEET FOR BLANK SAMPLES"},{"$f":"IF('Blank Weigh Up'!$B$45=\"\",\"\",'Blank Weigh Up'!$B$45)","v":"CUMULATIVE"},{"$f":"IF('Blank Weigh Up'!$C$29=\"\",\"\",'Blank Weigh Up'!$C$29)","v":"Passing"},{"$f":"IF('Blank Weigh Up'!$C$47=\"\",\"\",'Blank Weigh Up'!$C$47)","v":"3/4\""},{"$f":"IF('Blank Weigh Up'!$C$27=\"\",\"\",'Blank Weigh Up'!$C$27)","v":"Sieve Size:"},{"$f":"IF('Blank Weigh Up'!$D$29=\"\",\"\",'Blank Weigh Up'!$D$29)","v":"Retained"},{"$f":"'Blank Weigh Up'!$D$47","v":"1/2\""},{"$f":"'Blank Weigh Up'!$G$21","v":"Bin No.2"}]
[1332,{"$f":"IF('Blank Weigh Up'!$I$46=\"\",\"\",'Blank Weigh Up'!$I$47)","v":""},{"$f":"IF('Blank Weigh Up'!$B$4=\"\",\"\",'Blank Weigh Up'!$B$4)","v":"HMACP MIXTURE DESIGN : WEIGH UP SHEET FOR BLANK SAMPLES"},{"$f":"IF('Blank Weigh Up'!$B$45=\"\",\"\",'Blank Weigh Up'!$B$45)","v":"CUMULATIVE"},{"$f":"IF('Blank Weigh Up'!$C$29=\"\",\"\",'Blank Weigh Up'!$C$29)","v":"Passing"},{"$f":"IF('Blank Weigh Up'!$C$47=\"\",\"\",'Blank Weigh Up'!$C$47)","v":"3/4\""},{"$f":"IF('Blank Weigh Up'!$C$27=\"\",\"\",'Blank Weigh Up'!$C$27)","v":"Sieve Size:"},{"$f":"IF('Blank Weigh Up'!$D$29=\"\",\"\",'Blank Weigh Up'!$D$29)","v":"Retained"},{"$f":"'Blank Weigh Up'!$D$47","v":"1/2\""},{"$f":"'Blank Weigh Up'!$I$21","v":"Bin No.3"}]
[1333,{"$f":"IF('Blank Weigh Up'!$K$47=\"\",\"\",'Blank Weigh Up'!$K$476)","v":""},{"$f":"IF('Blank Weigh Up'!$B$4=\"\",\"\",'Blank Weigh Up'!$B$4)","v":"HMACP MIXTURE DESIGN : WEIGH UP SHEET FOR BLANK SAMPLES"},{"$f":"IF('Blank Weigh Up'!$B$45=\"\",\"\",'Blank Weigh Up'!$B$45)","v":"CUMULATIVE"},{"$f":"IF('Blank Weigh Up'!$C$29=\"\",\"\",'Blank Weigh Up'!$C$29)","v":"Passing"},{"$f":"IF('Blank Weigh Up'!$C$47=\"\",\"\",'Blank Weigh Up'!$C$47)","v":"3/4\""},{"$f":"IF('Blank Weigh Up'!$C$27=\"\",\"\",'Blank Weigh Up'!$C$27)","v":"Sieve Size:"},{"$f":"IF('Blank Weigh Up'!$D$29=\"\",\"\",'Blank Weigh Up'!$D$29)","v":"Retained"},{"$f":"'Blank Weigh Up'!$D$47","v":"1/2\""},{"$f":"'Blank Weigh Up'!$K$21","v":"Bin No.4"}]
[1334,{"$f":"IF('Blank Weigh Up'!$M$47=\"\",\"\",'Blank Weigh Up'!$M$47)","v":""},{"$f":"IF('Blank Weigh Up'!$B$4=\"\",\"\",'Blank Weigh Up'!$B$4)","v":"HMACP MIXTURE DESIGN : WEIGH UP SHEET FOR BLANK SAMPLES"},{"$f":"IF('Blank Weigh Up'!$B$45=\"\",\"\",'Blank Weigh Up'!$B$45)","v":"CUMULATIVE"},{"$f":"IF('Blank Weigh Up'!$C$29=\"\",\"\",'Blank Weigh Up'!$C$29)","v":"Passing"},{"$f":"IF('Blank Weigh Up'!$C$47=\"\",\"\",'Blank Weigh Up'!$C$47)","v":"3/4\""},{"$f":"IF('Blank Weigh Up'!$C$27=\"\",\"\",'Blank Weigh Up'!$C$27)","v":"Sieve Size:"},{"$f":"IF('Blank Weigh Up'!$D$29=\"\",\"\",'Blank Weigh Up'!$D$29)","v":"Retained"},{"$f":"'Blank Weigh Up'!$D$47","v":"1/2\""},{"$f":"'Blank Weigh Up'!$M$21","v":"Bin No.5"}]
[1335,{"$f":"IF('Blank Weigh Up'!$O$47=\"\",\"\",'Blank Weigh Up'!$O$47)","v":""},{"$f":"IF('Blank Weigh Up'!$B$4=\"\",\"\",'Blank Weigh Up'!$B$4)","v":"HMACP MIXTURE DESIGN : WEIGH UP SHEET FOR BLANK SAMPLES"},{"$f":"IF('Blank Weigh Up'!$B$45=\"\",\"\",'Blank Weigh Up'!$B$45)","v":"CUMULATIVE"},{"$f":"IF('Blank Weigh Up'!$C$29=\"\",\"\",'Blank Weigh Up'!$C$29)","v":"Passing"},{"$f":"IF('Blank Weigh Up'!$C$47=\"\",\"\",'Blank Weigh Up'!$C$47)","v":"3/4\""},{"$f":"IF('Blank Weigh Up'!$C$27=\"\",\"\",'Blank Weigh Up'!$C$27)","v":"Sieve Size:"},{"$f":"IF('Blank Weigh Up'!$D$29=\"\",\"\",'Blank Weigh Up'!$D$29)","v":"Retained"},{"$f":"'Blank Weigh Up'!$D$47","v":"1/2\""},{"$f":"'Blank Weigh Up'!$O$21","v":"Bin No.6 "}]
[1336,{"$f":"IF('Blank Weigh Up'!$Q$47=\"\",\"\",'Blank Weigh Up'!$Q$47)","v":""},{"$f":"IF('Blank Weigh Up'!$B$4=\"\",\"\",'Blank Weigh Up'!$B$4)","v":"HMACP MIXTURE DESIGN : WEIGH UP SHEET FOR BLANK SAMPLES"},{"$f":"IF('Blank Weigh Up'!$B$45=\"\",\"\",'Blank Weigh Up'!$B$45)","v":"CUMULATIVE"},{"$f":"IF('Blank Weigh Up'!$C$29=\"\",\"\",'Blank Weigh Up'!$C$29)","v":"Passing"},{"$f":"IF('Blank Weigh Up'!$C$47=\"\",\"\",'Blank Weigh Up'!$C$47)","v":"3/4\""},{"$f":"IF('Blank Weigh Up'!$C$27=\"\",\"\",'Blank Weigh Up'!$C$27)","v":"Sieve Size:"},{"$f":"IF('Blank Weigh Up'!$D$29=\"\",\"\",'Blank Weigh Up'!$D$29)","v":"Retained"},{"$f":"'Blank Weigh Up'!$D$47","v":"1/2\""},{"$f":"'Blank Weigh Up'!$Q$21","v":"Bin No.7 "}]
[1337,{"$f":"IF('Blank Weigh Up'!$S$47=\"\",\"\",'Blank Weigh Up'!$S$47)","v":""},{"$f":"IF('Blank Weigh Up'!$B$4=\"\",\"\",'Blank Weigh Up'!$B$4)","v":"HMACP MIXTURE DESIGN : WEIGH UP SHEET FOR BLANK SAMPLES"},{"$f":"IF('Blank Weigh Up'!$B$45=\"\",\"\",'Blank Weigh Up'!$B$45)","v":"CUMULATIVE"},{"$f":"IF('Blank Weigh Up'!$C$29=\"\",\"\",'Blank Weigh Up'!$C$29)","v":"Passing"},{"$f":"IF('Blank Weigh Up'!$C$47=\"\",\"\",'Blank Weigh Up'!$C$47)","v":"3/4\""},{"$f":"IF('Blank Weigh Up'!$C$27=\"\",\"\",'Blank Weigh Up'!$C$27)","v":"Sieve Size:"},{"$f":"IF('Blank Weigh Up'!$D$29=\"\",\"\",'Blank Weigh Up'!$D$29)","v":"Retained"},{"$f":"'Blank Weigh Up'!$D$47","v":"1/2\""},{"$f":"'Blank Weigh Up'!$S$24","v":"Total Weights"}]
[1338,{"$f":"IF('Blank Weigh Up'!$E$48=\"\",\"\",'Blank Weigh Up'!$E$48)","v":""},{"$f":"IF('Blank Weigh Up'!$B$4=\"\",\"\",'Blank Weigh Up'!$B$4)","v":"HMACP MIXTURE DESIGN : WEIGH UP SHEET FOR BLANK SAMPLES"},{"$f":"IF('Blank Weigh Up'!$B$45=\"\",\"\",'Blank Weigh Up'!$B$45)","v":"CUMULATIVE"},{"$f":"IF('Blank Weigh Up'!$C$29=\"\",\"\",'Blank Weigh Up'!$C$29)","v":"Passing"},{"$f":"IF('Blank Weigh Up'!$C$48=\"\",\"\",'Blank Weigh Up'!$C$48)","v":"1/2\""},{"$f":"IF('Blank Weigh Up'!$C$27=\"\",\"\",'Blank Weigh Up'!$C$27)","v":"Sieve Size:"},{"$f":"IF('Blank Weigh Up'!$D$29=\"\",\"\",'Blank Weigh Up'!$D$29)","v":"Retained"},{"$f":"'Blank Weigh Up'!$D$48","v":"3/8\""},{"$f":"'Blank Weigh Up'!$E$21","v":"Bin No.1"}]
[1339,{"$f":"IF('Blank Weigh Up'!$G$48=\"\",\"\",'Blank Weigh Up'!$G$48)","v":""},{"$f":"IF('Blank Weigh Up'!$B$4=\"\",\"\",'Blank Weigh Up'!$B$4)","v":"HMACP MIXTURE DESIGN : WEIGH UP SHEET FOR BLANK SAMPLES"},{"$f":"IF('Blank Weigh Up'!$B$45=\"\",\"\",'Blank Weigh Up'!$B$45)","v":"CUMULATIVE"},{"$f":"IF('Blank Weigh Up'!$C$29=\"\",\"\",'Blank Weigh Up'!$C$29)","v":"Passing"},{"$f":"IF('Blank Weigh Up'!$C$48=\"\",\"\",'Blank Weigh Up'!$C$48)","v":"1/2\""},{"$f":"IF('Blank Weigh Up'!$C$27=\"\",\"\",'Blank Weigh Up'!$C$27)","v":"Sieve Size:"},{"$f":"IF('Blank Weigh Up'!$D$29=\"\",\"\",'Blank Weigh Up'!$D$29)","v":"Retained"},{"$f":"'Blank Weigh Up'!$D$48","v":"3/8\""},{"$f":"'Blank Weigh Up'!$G$21","v":"Bin No.2"}]
[1340,{"$f":"IF('Blank Weigh Up'!$I$48=\"\",\"\",'Blank Weigh Up'!$I$48)","v":""},{"$f":"IF('Blank Weigh Up'!$B$4=\"\",\"\",'Blank Weigh Up'!$B$4)","v":"HMACP MIXTURE DESIGN : WEIGH UP SHEET FOR BLANK SAMPLES"},{"$f":"IF('Blank Weigh Up'!$B$45=\"\",\"\",'Blank Weigh Up'!$B$45)","v":"CUMULATIVE"},{"$f":"IF('Blank Weigh Up'!$C$29=\"\",\"\",'Blank Weigh Up'!$C$29)","v":"Passing"},{"$f":"IF('Blank Weigh Up'!$C$48=\"\",\"\",'Blank Weigh Up'!$C$48)","v":"1/2\""},{"$f":"IF('Blank Weigh Up'!$C$27=\"\",\"\",'Blank Weigh Up'!$C$27)","v":"Sieve Size:"},{"$f":"IF('Blank Weigh Up'!$D$29=\"\",\"\",'Blank Weigh Up'!$D$29)","v":"Retained"},{"$f":"'Blank Weigh Up'!$D$48","v":"3/8\""},{"$f":"'Blank Weigh Up'!$I$21","v":"Bin No.3"}]
[1341,{"$f":"IF('Blank Weigh Up'!$K$48=\"\",\"\",'Blank Weigh Up'!$K$48)","v":""},{"$f":"IF('Blank Weigh Up'!$B$4=\"\",\"\",'Blank Weigh Up'!$B$4)","v":"HMACP MIXTURE DESIGN : WEIGH UP SHEET FOR BLANK SAMPLES"},{"$f":"IF('Blank Weigh Up'!$B$45=\"\",\"\",'Blank Weigh Up'!$B$45)","v":"CUMULATIVE"},{"$f":"IF('Blank Weigh Up'!$C$29=\"\",\"\",'Blank Weigh Up'!$C$29)","v":"Passing"},{"$f":"IF('Blank Weigh Up'!$C$48=\"\",\"\",'Blank Weigh Up'!$C$48)","v":"1/2\""},{"$f":"IF('Blank Weigh Up'!$C$27=\"\",\"\",'Blank Weigh Up'!$C$27)","v":"Sieve Size:"},{"$f":"IF('Blank Weigh Up'!$D$29=\"\",\"\",'Blank Weigh Up'!$D$29)","v":"Retained"},{"$f":"'Blank Weigh Up'!$D$48","v":"3/8\""},{"$f":"'Blank Weigh Up'!$K$21","v":"Bin No.4"}]
[1342,{"$f":"IF('Blank Weigh Up'!$M$48=\"\",\"\",'Blank Weigh Up'!$M$48)","v":""},{"$f":"IF('Blank Weigh Up'!$B$4=\"\",\"\",'Blank Weigh Up'!$B$4)","v":"HMACP MIXTURE DESIGN : WEIGH UP SHEET FOR BLANK SAMPLES"},{"$f":"IF('Blank Weigh Up'!$B$45=\"\",\"\",'Blank Weigh Up'!$B$45)","v":"CUMULATIVE"},{"$f":"IF('Blank Weigh Up'!$C$29=\"\",\"\",'Blank Weigh Up'!$C$29)","v":"Passing"},{"$f":"IF('Blank Weigh Up'!$C$48=\"\",\"\",'Blank Weigh Up'!$C$48)","v":"1/2\""},{"$f":"IF('Blank Weigh Up'!$C$27=\"\",\"\",'Blank Weigh Up'!$C$27)","v":"Sieve Size:"},{"$f":"IF('Blank Weigh Up'!$D$29=\"\",\"\",'Blank Weigh Up'!$D$29)","v":"Retained"},{"$f":"'Blank Weigh Up'!$D$48","v":"3/8\""},{"$f":"'Blank Weigh Up'!$M$21","v":"Bin No.5"}]
[1343,{"$f":"IF('Blank Weigh Up'!$O$48=\"\",\"\",'Blank Weigh Up'!$O$48)","v":""},{"$f":"IF('Blank Weigh Up'!$B$4=\"\",\"\",'Blank Weigh Up'!$B$4)","v":"HMACP MIXTURE DESIGN : WEIGH UP SHEET FOR BLANK SAMPLES"},{"$f":"IF('Blank Weigh Up'!$B$45=\"\",\"\",'Blank Weigh Up'!$B$45)","v":"CUMULATIVE"},{"$f":"IF('Blank Weigh Up'!$C$29=\"\",\"\",'Blank Weigh Up'!$C$29)","v":"Passing"},{"$f":"IF('Blank Weigh Up'!$C$48=\"\",\"\",'Blank Weigh Up'!$C$48)","v":"1/2\""},{"$f":"IF('Blank Weigh Up'!$C$27=\"\",\"\",'Blank Weigh Up'!$C$27)","v":"Sieve Size:"},{"$f":"IF('Blank Weigh Up'!$D$29=\"\",\"\",'Blank Weigh Up'!$D$29)","v":"Retained"},{"$f":"'Blank Weigh Up'!$D$48","v":"3/8\""},{"$f":"'Blank Weigh Up'!$O$21","v":"Bin No.6 "}]
[1344,{"$f":"IF('Blank Weigh Up'!$Q$48=\"\",\"\",'Blank Weigh Up'!$Q$48)","v":""},{"$f":"IF('Blank Weigh Up'!$B$4=\"\",\"\",'Blank Weigh Up'!$B$4)","v":"HMACP MIXTURE DESIGN : WEIGH UP SHEET FOR BLANK SAMPLES"},{"$f":"IF('Blank Weigh Up'!$B$45=\"\",\"\",'Blank Weigh Up'!$B$45)","v":"CUMULATIVE"},{"$f":"IF('Blank Weigh Up'!$C$29=\"\",\"\",'Blank Weigh Up'!$C$29)","v":"Passing"},{"$f":"IF('Blank Weigh Up'!$C$48=\"\",\"\",'Blank Weigh Up'!$C$48)","v":"1/2\""},{"$f":"IF('Blank Weigh Up'!$C$27=\"\",\"\",'Blank Weigh Up'!$C$27)","v":"Sieve Size:"},{"$f":"IF('Blank Weigh Up'!$D$29=\"\",\"\",'Blank Weigh Up'!$D$29)","v":"Retained"},{"$f":"'Blank Weigh Up'!$D$48","v":"3/8\""},{"$f":"'Blank Weigh Up'!$Q$21","v":"Bin No.7 "}]
[1345,{"$f":"IF('Blank Weigh Up'!$S$48=\"\",\"\",'Blank Weigh Up'!$S$48)","v":""},{"$f":"IF('Blank Weigh Up'!$B$4=\"\",\"\",'Blank Weigh Up'!$B$4)","v":"HMACP MIXTURE DESIGN : WEIGH UP SHEET FOR BLANK SAMPLES"},{"$f":"IF('Blank Weigh Up'!$B$45=\"\",\"\",'Blank Weigh Up'!$B$45)","v":"CUMULATIVE"},{"$f":"IF('Blank Weigh Up'!$C$29=\"\",\"\",'Blank Weigh Up'!$C$29)","v":"Passing"},{"$f":"IF('Blank Weigh Up'!$C$48=\"\",\"\",'Blank Weigh Up'!$C$48)","v":"1/2\""},{"$f":"IF('Blank Weigh Up'!$C$27=\"\",\"\",'Blank Weigh Up'!$C$27)","v":"Sieve Size:"},{"$f":"IF('Blank Weigh Up'!$D$29=\"\",\"\",'Blank Weigh Up'!$D$29)","v":"Retained"},{"$f":"'Blank Weigh Up'!$D$48","v":"3/8\""},{"$f":"'Blank Weigh Up'!$S$24","v":"Total Weights"}]
[1346,{"$f":"IF('Blank Weigh Up'!$E$49=\"\",\"\",'Blank Weigh Up'!$E$49)","v":""},{"$f":"IF('Blank Weigh Up'!$B$4=\"\",\"\",'Blank Weigh Up'!$B$4)","v":"HMACP MIXTURE DESIGN : WEIGH UP SHEET FOR BLANK SAMPLES"},{"$f":"IF('Blank Weigh Up'!$B$45=\"\",\"\",'Blank Weigh Up'!$B$45)","v":"CUMULATIVE"},{"$f":"IF('Blank Weigh Up'!$C$29=\"\",\"\",'Blank Weigh Up'!$C$29)","v":"Passing"},{"$f":"IF('Blank Weigh Up'!$C$49=\"\",\"\",'Blank Weigh Up'!$C$49)","v":"3/8\""},{"$f":"IF('Blank Weigh Up'!$C$27=\"\",\"\",'Blank Weigh Up'!$C$27)","v":"Sieve Size:"},{"$f":"IF('Blank Weigh Up'!$D$29=\"\",\"\",'Blank Weigh Up'!$D$29)","v":"Retained"},{"$f":"'Blank Weigh Up'!$D$49","v":"No. 4"},{"$f":"'Blank Weigh Up'!$E$21","v":"Bin No.1"}]
[1347,{"$f":"IF('Blank Weigh Up'!$G$49=\"\",\"\",'Blank Weigh Up'!$G$49)","v":""},{"$f":"IF('Blank Weigh Up'!$B$4=\"\",\"\",'Blank Weigh Up'!$B$4)","v":"HMACP MIXTURE DESIGN : WEIGH UP SHEET FOR BLANK SAMPLES"},{"$f":"IF('Blank Weigh Up'!$B$45=\"\",\"\",'Blank Weigh Up'!$B$45)","v":"CUMULATIVE"},{"$f":"IF('Blank Weigh Up'!$C$29=\"\",\"\",'Blank Weigh Up'!$C$29)","v":"Passing"},{"$f":"IF('Blank Weigh Up'!$C$49=\"\",\"\",'Blank Weigh Up'!$C$49)","v":"3/8\""},{"$f":"IF('Blank Weigh Up'!$C$27=\"\",\"\",'Blank Weigh Up'!$C$27)","v":"Sieve Size:"},{"$f":"IF('Blank Weigh Up'!$D$29=\"\",\"\",'Blank Weigh Up'!$D$29)","v":"Retained"},{"$f":"'Blank Weigh Up'!$D$49","v":"No. 4"},{"$f":"'Blank Weigh Up'!$G$21","v":"Bin No.2"}]
[1348,{"$f":"IF('Blank Weigh Up'!$I$49=\"\",\"\",'Blank Weigh Up'!$I$49)","v":""},{"$f":"IF('Blank Weigh Up'!$B$4=\"\",\"\",'Blank Weigh Up'!$B$4)","v":"HMACP MIXTURE DESIGN : WEIGH UP SHEET FOR BLANK SAMPLES"},{"$f":"IF('Blank Weigh Up'!$B$45=\"\",\"\",'Blank Weigh Up'!$B$45)","v":"CUMULATIVE"},{"$f":"IF('Blank Weigh Up'!$C$29=\"\",\"\",'Blank Weigh Up'!$C$29)","v":"Passing"},{"$f":"IF('Blank Weigh Up'!$C$49=\"\",\"\",'Blank Weigh Up'!$C$49)","v":"3/8\""},{"$f":"IF('Blank Weigh Up'!$C$27=\"\",\"\",'Blank Weigh Up'!$C$27)","v":"Sieve Size:"},{"$f":"IF('Blank Weigh Up'!$D$29=\"\",\"\",'Blank Weigh Up'!$D$29)","v":"Retained"},{"$f":"'Blank Weigh Up'!$D$49","v":"No. 4"},{"$f":"'Blank Weigh Up'!$I$21","v":"Bin No.3"}]
[1349,{"$f":"IF('Blank Weigh Up'!$K$49=\"\",\"\",'Blank Weigh Up'!$K$49)","v":""},{"$f":"IF('Blank Weigh Up'!$B$4=\"\",\"\",'Blank Weigh Up'!$B$4)","v":"HMACP MIXTURE DESIGN : WEIGH UP SHEET FOR BLANK SAMPLES"},{"$f":"IF('Blank Weigh Up'!$B$45=\"\",\"\",'Blank Weigh Up'!$B$45)","v":"CUMULATIVE"},{"$f":"IF('Blank Weigh Up'!$C$29=\"\",\"\",'Blank Weigh Up'!$C$29)","v":"Passing"},{"$f":"IF('Blank Weigh Up'!$C$49=\"\",\"\",'Blank Weigh Up'!$C$49)","v":"3/8\""},{"$f":"IF('Blank Weigh Up'!$C$27=\"\",\"\",'Blank Weigh Up'!$C$27)","v":"Sieve Size:"},{"$f":"IF('Blank Weigh Up'!$D$29=\"\",\"\",'Blank Weigh Up'!$D$29)","v":"Retained"},{"$f":"'Blank Weigh Up'!$D$49","v":"No. 4"},{"$f":"'Blank Weigh Up'!$K$21","v":"Bin No.4"}]
[1350,{"$f":"IF('Blank Weigh Up'!$M$49=\"\",\"\",'Blank Weigh Up'!$M$49)","v":""},{"$f":"IF('Blank Weigh Up'!$B$4=\"\",\"\",'Blank Weigh Up'!$B$4)","v":"HMACP MIXTURE DESIGN : WEIGH UP SHEET FOR BLANK SAMPLES"},{"$f":"IF('Blank Weigh Up'!$B$45=\"\",\"\",'Blank Weigh Up'!$B$45)","v":"CUMULATIVE"},{"$f":"IF('Blank Weigh Up'!$C$29=\"\",\"\",'Blank Weigh Up'!$C$29)","v":"Passing"},{"$f":"IF('Blank Weigh Up'!$C$49=\"\",\"\",'Blank Weigh Up'!$C$49)","v":"3/8\""},{"$f":"IF('Blank Weigh Up'!$C$27=\"\",\"\",'Blank Weigh Up'!$C$27)","v":"Sieve Size:"},{"$f":"IF('Blank Weigh Up'!$D$29=\"\",\"\",'Blank Weigh Up'!$D$29)","v":"Retained"},{"$f":"'Blank Weigh Up'!$D$49","v":"No. 4"},{"$f":"'Blank Weigh Up'!$M$21","v":"Bin No.5"}]
[1351,{"$f":"IF('Blank Weigh Up'!$O$49=\"\",\"\",'Blank Weigh Up'!$O$49)","v":""},{"$f":"IF('Blank Weigh Up'!$B$4=\"\",\"\",'Blank Weigh Up'!$B$4)","v":"HMACP MIXTURE DESIGN : WEIGH UP SHEET FOR BLANK SAMPLES"},{"$f":"IF('Blank Weigh Up'!$B$45=\"\",\"\",'Blank Weigh Up'!$B$45)","v":"CUMULATIVE"},{"$f":"IF('Blank Weigh Up'!$C$29=\"\",\"\",'Blank Weigh Up'!$C$29)","v":"Passing"},{"$f":"IF('Blank Weigh Up'!$C$49=\"\",\"\",'Blank Weigh Up'!$C$49)","v":"3/8\""},{"$f":"IF('Blank Weigh Up'!$C$27=\"\",\"\",'Blank Weigh Up'!$C$27)","v":"Sieve Size:"},{"$f":"IF('Blank Weigh Up'!$D$29=\"\",\"\",'Blank Weigh Up'!$D$29)","v":"Retained"},{"$f":"'Blank Weigh Up'!$D$49","v":"No. 4"},{"$f":"'Blank Weigh Up'!$O$21","v":"Bin No.6 "}]
[1352,{"$f":"IF('Blank Weigh Up'!$Q$49=\"\",\"\",'Blank Weigh Up'!$Q$49)","v":""},{"$f":"IF('Blank Weigh Up'!$B$4=\"\",\"\",'Blank Weigh Up'!$B$4)","v":"HMACP MIXTURE DESIGN : WEIGH UP SHEET FOR BLANK SAMPLES"},{"$f":"IF('Blank Weigh Up'!$B$45=\"\",\"\",'Blank Weigh Up'!$B$45)","v":"CUMULATIVE"},{"$f":"IF('Blank Weigh Up'!$C$29=\"\",\"\",'Blank Weigh Up'!$C$29)","v":"Passing"},{"$f":"IF('Blank Weigh Up'!$C$49=\"\",\"\",'Blank Weigh Up'!$C$49)","v":"3/8\""},{"$f":"IF('Blank Weigh Up'!$C$27=\"\",\"\",'Blank Weigh Up'!$C$27)","v":"Sieve Size:"},{"$f":"IF('Blank Weigh Up'!$D$29=\"\",\"\",'Blank Weigh Up'!$D$29)","v":"Retained"},{"$f":"'Blank Weigh Up'!$D$49","v":"No. 4"},{"$f":"'Blank Weigh Up'!$Q$21","v":"Bin No.7 "}]
[1353,{"$f":"IF('Blank Weigh Up'!$S$49=\"\",\"\",'Blank Weigh Up'!$S$49)","v":""},{"$f":"IF('Blank Weigh Up'!$B$4=\"\",\"\",'Blank Weigh Up'!$B$4)","v":"HMACP MIXTURE DESIGN : WEIGH UP SHEET FOR BLANK SAMPLES"},{"$f":"IF('Blank Weigh Up'!$B$45=\"\",\"\",'Blank Weigh Up'!$B$45)","v":"CUMULATIVE"},{"$f":"IF('Blank Weigh Up'!$C$29=\"\",\"\",'Blank Weigh Up'!$C$29)","v":"Passing"},{"$f":"IF('Blank Weigh Up'!$C$49=\"\",\"\",'Blank Weigh Up'!$C$49)","v":"3/8\""},{"$f":"IF('Blank Weigh Up'!$C$27=\"\",\"\",'Blank Weigh Up'!$C$27)","v":"Sieve Size:"},{"$f":"IF('Blank Weigh Up'!$D$29=\"\",\"\",'Blank Weigh Up'!$D$29)","v":"Retained"},{"$f":"'Blank Weigh Up'!$D$49","v":"No. 4"},{"$f":"'Blank Weigh Up'!$S$24","v":"Total Weights"}]
[1354,{"$f":"IF('Blank Weigh Up'!$E$50=\"\",\"\",'Blank Weigh Up'!$E$50)","v":""},{"$f":"IF('Blank Weigh Up'!$B$4=\"\",\"\",'Blank Weigh Up'!$B$4)","v":"HMACP MIXTURE DESIGN : WEIGH UP SHEET FOR BLANK SAMPLES"},{"$f":"IF('Blank Weigh Up'!$B$45=\"\",\"\",'Blank Weigh Up'!$B$45)","v":"CUMULATIVE"},{"$f":"IF('Blank Weigh Up'!$C$29=\"\",\"\",'Blank Weigh Up'!$C$29)","v":"Passing"},{"$f":"IF('Blank Weigh Up'!$C$50=\"\",\"\",'Blank Weigh Up'!$C$50)","v":"No. 4"},{"$f":"IF('Blank Weigh Up'!$C$27=\"\",\"\",'Blank Weigh Up'!$C$27)","v":"Sieve Size:"},{"$f":"IF('Blank Weigh Up'!$D$29=\"\",\"\",'Blank Weigh Up'!$D$29)","v":"Retained"},{"$f":"'Blank Weigh Up'!$D$50","v":"No. 8"},{"$f":"'Blank Weigh Up'!$E$21","v":"Bin No.1"}]
[1355,{"$f":"IF('Blank Weigh Up'!$G$50=\"\",\"\",'Blank Weigh Up'!$G$50)","v":""},{"$f":"IF('Blank Weigh Up'!$B$4=\"\",\"\",'Blank Weigh Up'!$B$4)","v":"HMACP MIXTURE DESIGN : WEIGH UP SHEET FOR BLANK SAMPLES"},{"$f":"IF('Blank Weigh Up'!$B$45=\"\",\"\",'Blank Weigh Up'!$B$45)","v":"CUMULATIVE"},{"$f":"IF('Blank Weigh Up'!$C$29=\"\",\"\",'Blank Weigh Up'!$C$29)","v":"Passing"},{"$f":"IF('Blank Weigh Up'!$C$50=\"\",\"\",'Blank Weigh Up'!$C$50)","v":"No. 4"},{"$f":"IF('Blank Weigh Up'!$C$27=\"\",\"\",'Blank Weigh Up'!$C$27)","v":"Sieve Size:"},{"$f":"IF('Blank Weigh Up'!$D$29=\"\",\"\",'Blank Weigh Up'!$D$29)","v":"Retained"},{"$f":"'Blank Weigh Up'!$D$50","v":"No. 8"},{"$f":"'Blank Weigh Up'!$G$21","v":"Bin No.2"}]
[1356,{"$f":"IF('Blank Weigh Up'!$I$50=\"\",\"\",'Blank Weigh Up'!$I$50)","v":""},{"$f":"IF('Blank Weigh Up'!$B$4=\"\",\"\",'Blank Weigh Up'!$B$4)","v":"HMACP MIXTURE DESIGN : WEIGH UP SHEET FOR BLANK SAMPLES"},{"$f":"IF('Blank Weigh Up'!$B$45=\"\",\"\",'Blank Weigh Up'!$B$45)","v":"CUMULATIVE"},{"$f":"IF('Blank Weigh Up'!$C$29=\"\",\"\",'Blank Weigh Up'!$C$29)","v":"Passing"},{"$f":"IF('Blank Weigh Up'!$C$50=\"\",\"\",'Blank Weigh Up'!$C$50)","v":"No. 4"},{"$f":"IF('Blank Weigh Up'!$C$27=\"\",\"\",'Blank Weigh Up'!$C$27)","v":"Sieve Size:"},{"$f":"IF('Blank Weigh Up'!$D$29=\"\",\"\",'Blank Weigh Up'!$D$29)","v":"Retained"},{"$f":"'Blank Weigh Up'!$D$50","v":"No. 8"},{"$f":"'Blank Weigh Up'!$I$21","v":"Bin No.3"}]
[1357,{"$f":"IF('Blank Weigh Up'!$K$50=\"\",\"\",'Blank Weigh Up'!$K$50)","v":""},{"$f":"IF('Blank Weigh Up'!$B$4=\"\",\"\",'Blank Weigh Up'!$B$4)","v":"HMACP MIXTURE DESIGN : WEIGH UP SHEET FOR BLANK SAMPLES"},{"$f":"IF('Blank Weigh Up'!$B$45=\"\",\"\",'Blank Weigh Up'!$B$45)","v":"CUMULATIVE"},{"$f":"IF('Blank Weigh Up'!$C$29=\"\",\"\",'Blank Weigh Up'!$C$29)","v":"Passing"},{"$f":"IF('Blank Weigh Up'!$C$50=\"\",\"\",'Blank Weigh Up'!$C$50)","v":"No. 4"},{"$f":"IF('Blank Weigh Up'!$C$27=\"\",\"\",'Blank Weigh Up'!$C$27)","v":"Sieve Size:"},{"$f":"IF('Blank Weigh Up'!$D$29=\"\",\"\",'Blank Weigh Up'!$D$29)","v":"Retained"},{"$f":"'Blank Weigh Up'!$D$50","v":"No. 8"},{"$f":"'Blank Weigh Up'!$K$21","v":"Bin No.4"}]
[1358,{"$f":"IF('Blank Weigh Up'!$M$50=\"\",\"\",'Blank Weigh Up'!$M$50)","v":""},{"$f":"IF('Blank Weigh Up'!$B$4=\"\",\"\",'Blank Weigh Up'!$B$4)","v":"HMACP MIXTURE DESIGN : WEIGH UP SHEET FOR BLANK SAMPLES"},{"$f":"IF('Blank Weigh Up'!$B$45=\"\",\"\",'Blank Weigh Up'!$B$45)","v":"CUMULATIVE"},{"$f":"IF('Blank Weigh Up'!$C$29=\"\",\"\",'Blank Weigh Up'!$C$29)","v":"Passing"},{"$f":"IF('Blank Weigh Up'!$C$50=\"\",\"\",'Blank Weigh Up'!$C$50)","v":"No. 4"},{"$f":"IF('Blank Weigh Up'!$C$27=\"\",\"\",'Blank Weigh Up'!$C$27)","v":"Sieve Size:"},{"$f":"IF('Blank Weigh Up'!$D$29=\"\",\"\",'Blank Weigh Up'!$D$29)","v":"Retained"},{"$f":"'Blank Weigh Up'!$D$50","v":"No. 8"},{"$f":"'Blank Weigh Up'!$M$21","v":"Bin No.5"}]
[1359,{"$f":"IF('Blank Weigh Up'!$O$50=\"\",\"\",'Blank Weigh Up'!$O$50)","v":""},{"$f":"IF('Blank Weigh Up'!$B$4=\"\",\"\",'Blank Weigh Up'!$B$4)","v":"HMACP MIXTURE DESIGN : WEIGH UP SHEET FOR BLANK SAMPLES"},{"$f":"IF('Blank Weigh Up'!$B$45=\"\",\"\",'Blank Weigh Up'!$B$45)","v":"CUMULATIVE"},{"$f":"IF('Blank Weigh Up'!$C$29=\"\",\"\",'Blank Weigh Up'!$C$29)","v":"Passing"},{"$f":"IF('Blank Weigh Up'!$C$50=\"\",\"\",'Blank Weigh Up'!$C$50)","v":"No. 4"},{"$f":"IF('Blank Weigh Up'!$C$27=\"\",\"\",'Blank Weigh Up'!$C$27)","v":"Sieve Size:"},{"$f":"IF('Blank Weigh Up'!$D$29=\"\",\"\",'Blank Weigh Up'!$D$29)","v":"Retained"},{"$f":"'Blank Weigh Up'!$D$50","v":"No. 8"},{"$f":"'Blank Weigh Up'!$O$21","v":"Bin No.6 "}]
[1360,{"$f":"IF('Blank Weigh Up'!$Q$50=\"\",\"\",'Blank Weigh Up'!$Q$50)","v":""},{"$f":"IF('Blank Weigh Up'!$B$4=\"\",\"\",'Blank Weigh Up'!$B$4)","v":"HMACP MIXTURE DESIGN : WEIGH UP SHEET FOR BLANK SAMPLES"},{"$f":"IF('Blank Weigh Up'!$B$45=\"\",\"\",'Blank Weigh Up'!$B$45)","v":"CUMULATIVE"},{"$f":"IF('Blank Weigh Up'!$C$29=\"\",\"\",'Blank Weigh Up'!$C$29)","v":"Passing"},{"$f":"IF('Blank Weigh Up'!$C$50=\"\",\"\",'Blank Weigh Up'!$C$50)","v":"No. 4"},{"$f":"IF('Blank Weigh Up'!$C$27=\"\",\"\",'Blank Weigh Up'!$C$27)","v":"Sieve Size:"},{"$f":"IF('Blank Weigh Up'!$D$29=\"\",\"\",'Blank Weigh Up'!$D$29)","v":"Retained"},{"$f":"'Blank Weigh Up'!$D$50","v":"No. 8"},{"$f":"'Blank Weigh Up'!$Q$21","v":"Bin No.7 "}]
[1361,{"$f":"IF('Blank Weigh Up'!$S$50=\"\",\"\",'Blank Weigh Up'!$S$50)","v":""},{"$f":"IF('Blank Weigh Up'!$B$4=\"\",\"\",'Blank Weigh Up'!$B$4)","v":"HMACP MIXTURE DESIGN : WEIGH UP SHEET FOR BLANK SAMPLES"},{"$f":"IF('Blank Weigh Up'!$B$45=\"\",\"\",'Blank Weigh Up'!$B$45)","v":"CUMULATIVE"},{"$f":"IF('Blank Weigh Up'!$C$29=\"\",\"\",'Blank Weigh Up'!$C$29)","v":"Passing"},{"$f":"IF('Blank Weigh Up'!$C$50=\"\",\"\",'Blank Weigh Up'!$C$50)","v":"No. 4"},{"$f":"IF('Blank Weigh Up'!$C$27=\"\",\"\",'Blank Weigh Up'!$C$27)","v":"Sieve Size:"},{"$f":"IF('Blank Weigh Up'!$D$29=\"\",\"\",'Blank Weigh Up'!$D$29)","v":"Retained"},{"$f":"'Blank Weigh Up'!$D$50","v":"No. 8"},{"$f":"'Blank Weigh Up'!$S$24","v":"Total Weights"}]
[1362,{"$f":"IF('Blank Weigh Up'!$E$51=\"\",\"\",'Blank Weigh Up'!$E$51)","v":""},{"$f":"IF('Blank Weigh Up'!$B$4=\"\",\"\",'Blank Weigh Up'!$B$4)","v":"HMACP MIXTURE DESIGN : WEIGH UP SHEET FOR BLANK SAMPLES"},{"$f":"IF('Blank Weigh Up'!$B$45=\"\",\"\",'Blank Weigh Up'!$B$45)","v":"CUMULATIVE"},{"$f":"IF('Blank Weigh Up'!$C$29=\"\",\"\",'Blank Weigh Up'!$C$29)","v":"Passing"},{"$f":"IF('Blank Weigh Up'!$C$51=\"\",\"\",'Blank Weigh Up'!$C$51)","v":"No. 8"},{"$f":"IF('Blank Weigh Up'!$C$27=\"\",\"\",'Blank Weigh Up'!$C$27)","v":"Sieve Size:"},{"$f":"IF('Blank Weigh Up'!$D$29=\"\",\"\",'Blank Weigh Up'!$D$29)","v":"Retained"},{"$f":"'Blank Weigh Up'!$D$51","v":"No. 16"},{"$f":"'Blank Weigh Up'!$E$21","v":"Bin No.1"}]
[1363,{"$f":"IF('Blank Weigh Up'!$G$51=\"\",\"\",'Blank Weigh Up'!$G$51)","v":""},{"$f":"IF('Blank Weigh Up'!$B$4=\"\",\"\",'Blank Weigh Up'!$B$4)","v":"HMACP MIXTURE DESIGN : WEIGH UP SHEET FOR BLANK SAMPLES"},{"$f":"IF('Blank Weigh Up'!$B$45=\"\",\"\",'Blank Weigh Up'!$B$45)","v":"CUMULATIVE"},{"$f":"IF('Blank Weigh Up'!$C$29=\"\",\"\",'Blank Weigh Up'!$C$29)","v":"Passing"},{"$f":"IF('Blank Weigh Up'!$C$51=\"\",\"\",'Blank Weigh Up'!$C$51)","v":"No. 8"},{"$f":"IF('Blank Weigh Up'!$C$27=\"\",\"\",'Blank Weigh Up'!$C$27)","v":"Sieve Size:"},{"$f":"IF('Blank Weigh Up'!$D$29=\"\",\"\",'Blank Weigh Up'!$D$29)","v":"Retained"},{"$f":"'Blank Weigh Up'!$D$51","v":"No. 16"},{"$f":"'Blank Weigh Up'!$G$21","v":"Bin No.2"}]
[1364,{"$f":"IF('Blank Weigh Up'!$I$51=\"\",\"\",'Blank Weigh Up'!$I$51)","v":""},{"$f":"IF('Blank Weigh Up'!$B$4=\"\",\"\",'Blank Weigh Up'!$B$4)","v":"HMACP MIXTURE DESIGN : WEIGH UP SHEET FOR BLANK SAMPLES"},{"$f":"IF('Blank Weigh Up'!$B$45=\"\",\"\",'Blank Weigh Up'!$B$45)","v":"CUMULATIVE"},{"$f":"IF('Blank Weigh Up'!$C$29=\"\",\"\",'Blank Weigh Up'!$C$29)","v":"Passing"},{"$f":"IF('Blank Weigh Up'!$C$51=\"\",\"\",'Blank Weigh Up'!$C$51)","v":"No. 8"},{"$f":"IF('Blank Weigh Up'!$C$27=\"\",\"\",'Blank Weigh Up'!$C$27)","v":"Sieve Size:"},{"$f":"IF('Blank Weigh Up'!$D$29=\"\",\"\",'Blank Weigh Up'!$D$29)","v":"Retained"},{"$f":"'Blank Weigh Up'!$D$51","v":"No. 16"},{"$f":"'Blank Weigh Up'!$I$21","v":"Bin No.3"}]
[1365,{"$f":"IF('Blank Weigh Up'!$K$51=\"\",\"\",'Blank Weigh Up'!$K$51)","v":""},{"$f":"IF('Blank Weigh Up'!$B$4=\"\",\"\",'Blank Weigh Up'!$B$4)","v":"HMACP MIXTURE DESIGN : WEIGH UP SHEET FOR BLANK SAMPLES"},{"$f":"IF('Blank Weigh Up'!$B$45=\"\",\"\",'Blank Weigh Up'!$B$45)","v":"CUMULATIVE"},{"$f":"IF('Blank Weigh Up'!$C$29=\"\",\"\",'Blank Weigh Up'!$C$29)","v":"Passing"},{"$f":"IF('Blank Weigh Up'!$C$51=\"\",\"\",'Blank Weigh Up'!$C$51)","v":"No. 8"},{"$f":"IF('Blank Weigh Up'!$C$27=\"\",\"\",'Blank Weigh Up'!$C$27)","v":"Sieve Size:"},{"$f":"IF('Blank Weigh Up'!$D$29=\"\",\"\",'Blank Weigh Up'!$D$29)","v":"Retained"},{"$f":"'Blank Weigh Up'!$D$51","v":"No. 16"},{"$f":"'Blank Weigh Up'!$K$21","v":"Bin No.4"}]
[1366,{"$f":"IF('Blank Weigh Up'!$M$51=\"\",\"\",'Blank Weigh Up'!$M$51)","v":""},{"$f":"IF('Blank Weigh Up'!$B$4=\"\",\"\",'Blank Weigh Up'!$B$4)","v":"HMACP MIXTURE DESIGN : WEIGH UP SHEET FOR BLANK SAMPLES"},{"$f":"IF('Blank Weigh Up'!$B$45=\"\",\"\",'Blank Weigh Up'!$B$45)","v":"CUMULATIVE"},{"$f":"IF('Blank Weigh Up'!$C$29=\"\",\"\",'Blank Weigh Up'!$C$29)","v":"Passing"},{"$f":"IF('Blank Weigh Up'!$C$51=\"\",\"\",'Blank Weigh Up'!$C$51)","v":"No. 8"},{"$f":"IF('Blank Weigh Up'!$C$27=\"\",\"\",'Blank Weigh Up'!$C$27)","v":"Sieve Size:"},{"$f":"IF('Blank Weigh Up'!$D$29=\"\",\"\",'Blank Weigh Up'!$D$29)","v":"Retained"},{"$f":"'Blank Weigh Up'!$D$51","v":"No. 16"},{"$f":"'Blank Weigh Up'!$M$21","v":"Bin No.5"}]
[1367,{"$f":"IF('Blank Weigh Up'!$O$51=\"\",\"\",'Blank Weigh Up'!$O$51)","v":""},{"$f":"IF('Blank Weigh Up'!$B$4=\"\",\"\",'Blank Weigh Up'!$B$4)","v":"HMACP MIXTURE DESIGN : WEIGH UP SHEET FOR BLANK SAMPLES"},{"$f":"IF('Blank Weigh Up'!$B$45=\"\",\"\",'Blank Weigh Up'!$B$45)","v":"CUMULATIVE"},{"$f":"IF('Blank Weigh Up'!$C$29=\"\",\"\",'Blank Weigh Up'!$C$29)","v":"Passing"},{"$f":"IF('Blank Weigh Up'!$C$51=\"\",\"\",'Blank Weigh Up'!$C$51)","v":"No. 8"},{"$f":"IF('Blank Weigh Up'!$C$27=\"\",\"\",'Blank Weigh Up'!$C$27)","v":"Sieve Size:"},{"$f":"IF('Blank Weigh Up'!$D$29=\"\",\"\",'Blank Weigh Up'!$D$29)","v":"Retained"},{"$f":"'Blank Weigh Up'!$D$51","v":"No. 16"},{"$f":"'Blank Weigh Up'!$O$21","v":"Bin No.6 "}]
[1368,{"$f":"IF('Blank Weigh Up'!$Q$51=\"\",\"\",'Blank Weigh Up'!$Q$51)","v":""},{"$f":"IF('Blank Weigh Up'!$B$4=\"\",\"\",'Blank Weigh Up'!$B$4)","v":"HMACP MIXTURE DESIGN : WEIGH UP SHEET FOR BLANK SAMPLES"},{"$f":"IF('Blank Weigh Up'!$B$45=\"\",\"\",'Blank Weigh Up'!$B$45)","v":"CUMULATIVE"},{"$f":"IF('Blank Weigh Up'!$C$29=\"\",\"\",'Blank Weigh Up'!$C$29)","v":"Passing"},{"$f":"IF('Blank Weigh Up'!$C$51=\"\",\"\",'Blank Weigh Up'!$C$51)","v":"No. 8"},{"$f":"IF('Blank Weigh Up'!$C$27=\"\",\"\",'Blank Weigh Up'!$C$27)","v":"Sieve Size:"},{"$f":"IF('Blank Weigh Up'!$D$29=\"\",\"\",'Blank Weigh Up'!$D$29)","v":"Retained"},{"$f":"'Blank Weigh Up'!$D$51","v":"No. 16"},{"$f":"'Blank Weigh Up'!$Q$21","v":"Bin No.7 "}]
[1369,{"$f":"IF('Blank Weigh Up'!$S$51=\"\",\"\",'Blank Weigh Up'!$S$51)","v":""},{"$f":"IF('Blank Weigh Up'!$B$4=\"\",\"\",'Blank Weigh Up'!$B$4)","v":"HMACP MIXTURE DESIGN : WEIGH UP SHEET FOR BLANK SAMPLES"},{"$f":"IF('Blank Weigh Up'!$B$45=\"\",\"\",'Blank Weigh Up'!$B$45)","v":"CUMULATIVE"},{"$f":"IF('Blank Weigh Up'!$C$29=\"\",\"\",'Blank Weigh Up'!$C$29)","v":"Passing"},{"$f":"IF('Blank Weigh Up'!$C$51=\"\",\"\",'Blank Weigh Up'!$C$51)","v":"No. 8"},{"$f":"IF('Blank Weigh Up'!$C$27=\"\",\"\",'Blank Weigh Up'!$C$27)","v":"Sieve Size:"},{"$f":"IF('Blank Weigh Up'!$D$29=\"\",\"\",'Blank Weigh Up'!$D$29)","v":"Retained"},{"$f":"'Blank Weigh Up'!$D$51","v":"No. 16"},{"$f":"'Blank Weigh Up'!$S$24","v":"Total Weights"}]
[1370,{"$f":"IF('Blank Weigh Up'!$E$52=\"\",\"\",'Blank Weigh Up'!$E$52)","v":""},{"$f":"IF('Blank Weigh Up'!$B$4=\"\",\"\",'Blank Weigh Up'!$B$4)","v":"HMACP MIXTURE DESIGN : WEIGH UP SHEET FOR BLANK SAMPLES"},{"$f":"IF('Blank Weigh Up'!$B$45=\"\",\"\",'Blank Weigh Up'!$B$45)","v":"CUMULATIVE"},{"$f":"IF('Blank Weigh Up'!$C$29=\"\",\"\",'Blank Weigh Up'!$C$29)","v":"Passing"},{"$f":"IF('Blank Weigh Up'!$C$52=\"\",\"\",'Blank Weigh Up'!$C$52)","v":"No. 16"},{"$f":"IF('Blank Weigh Up'!$C$27=\"\",\"\",'Blank Weigh Up'!$C$27)","v":"Sieve Size:"},{"$f":"IF('Blank Weigh Up'!$D$29=\"\",\"\",'Blank Weigh Up'!$D$29)","v":"Retained"},{"$f":"'Blank Weigh Up'!$D$52","v":"No. 30"},{"$f":"'Blank Weigh Up'!$E$21","v":"Bin No.1"}]
[1371,{"$f":"IF('Blank Weigh Up'!$G$52=\"\",\"\",'Blank Weigh Up'!$G$52)","v":""},{"$f":"IF('Blank Weigh Up'!$B$4=\"\",\"\",'Blank Weigh Up'!$B$4)","v":"HMACP MIXTURE DESIGN : WEIGH UP SHEET FOR BLANK SAMPLES"},{"$f":"IF('Blank Weigh Up'!$B$45=\"\",\"\",'Blank Weigh Up'!$B$45)","v":"CUMULATIVE"},{"$f":"IF('Blank Weigh Up'!$C$29=\"\",\"\",'Blank Weigh Up'!$C$29)","v":"Passing"},{"$f":"IF('Blank Weigh Up'!$C$52=\"\",\"\",'Blank Weigh Up'!$C$52)","v":"No. 16"},{"$f":"IF('Blank Weigh Up'!$C$27=\"\",\"\",'Blank Weigh Up'!$C$27)","v":"Sieve Size:"},{"$f":"IF('Blank Weigh Up'!$D$29=\"\",\"\",'Blank Weigh Up'!$D$29)","v":"Retained"},{"$f":"'Blank Weigh Up'!$D$52","v":"No. 30"},{"$f":"'Blank Weigh Up'!$G$21","v":"Bin No.2"}]
[1372,{"$f":"IF('Blank Weigh Up'!$I$52=\"\",\"\",'Blank Weigh Up'!$I$52)","v":""},{"$f":"IF('Blank Weigh Up'!$B$4=\"\",\"\",'Blank Weigh Up'!$B$4)","v":"HMACP MIXTURE DESIGN : WEIGH UP SHEET FOR BLANK SAMPLES"},{"$f":"IF('Blank Weigh Up'!$B$45=\"\",\"\",'Blank Weigh Up'!$B$45)","v":"CUMULATIVE"},{"$f":"IF('Blank Weigh Up'!$C$29=\"\",\"\",'Blank Weigh Up'!$C$29)","v":"Passing"},{"$f":"IF('Blank Weigh Up'!$C$52=\"\",\"\",'Blank Weigh Up'!$C$52)","v":"No. 16"},{"$f":"IF('Blank Weigh Up'!$C$27=\"\",\"\",'Blank Weigh Up'!$C$27)","v":"Sieve Size:"},{"$f":"IF('Blank Weigh Up'!$D$29=\"\",\"\",'Blank Weigh Up'!$D$29)","v":"Retained"},{"$f":"'Blank Weigh Up'!$D$52","v":"No. 30"},{"$f":"'Blank Weigh Up'!$I$21","v":"Bin No.3"}]
[1373,{"$f":"IF('Blank Weigh Up'!$K$52=\"\",\"\",'Blank Weigh Up'!$K$52)","v":""},{"$f":"IF('Blank Weigh Up'!$B$4=\"\",\"\",'Blank Weigh Up'!$B$4)","v":"HMACP MIXTURE DESIGN : WEIGH UP SHEET FOR BLANK SAMPLES"},{"$f":"IF('Blank Weigh Up'!$B$45=\"\",\"\",'Blank Weigh Up'!$B$45)","v":"CUMULATIVE"},{"$f":"IF('Blank Weigh Up'!$C$29=\"\",\"\",'Blank Weigh Up'!$C$29)","v":"Passing"},{"$f":"IF('Blank Weigh Up'!$C$52=\"\",\"\",'Blank Weigh Up'!$C$52)","v":"No. 16"},{"$f":"IF('Blank Weigh Up'!$C$27=\"\",\"\",'Blank Weigh Up'!$C$27)","v":"Sieve Size:"},{"$f":"IF('Blank Weigh Up'!$D$29=\"\",\"\",'Blank Weigh Up'!$D$29)","v":"Retained"},{"$f":"'Blank Weigh Up'!$D$52","v":"No. 30"},{"$f":"'Blank Weigh Up'!$K$21","v":"Bin No.4"}]
[1374,{"$f":"IF('Blank Weigh Up'!$M$52=\"\",\"\",'Blank Weigh Up'!$M$52)","v":""},{"$f":"IF('Blank Weigh Up'!$B$4=\"\",\"\",'Blank Weigh Up'!$B$4)","v":"HMACP MIXTURE DESIGN : WEIGH UP SHEET FOR BLANK SAMPLES"},{"$f":"IF('Blank Weigh Up'!$B$45=\"\",\"\",'Blank Weigh Up'!$B$45)","v":"CUMULATIVE"},{"$f":"IF('Blank Weigh Up'!$C$29=\"\",\"\",'Blank Weigh Up'!$C$29)","v":"Passing"},{"$f":"IF('Blank Weigh Up'!$C$52=\"\",\"\",'Blank Weigh Up'!$C$52)","v":"No. 16"},{"$f":"IF('Blank Weigh Up'!$C$27=\"\",\"\",'Blank Weigh Up'!$C$27)","v":"Sieve Size:"},{"$f":"IF('Blank Weigh Up'!$D$29=\"\",\"\",'Blank Weigh Up'!$D$29)","v":"Retained"},{"$f":"'Blank Weigh Up'!$D$52","v":"No. 30"},{"$f":"'Blank Weigh Up'!$M$21","v":"Bin No.5"}]
[1375,{"$f":"IF('Blank Weigh Up'!$O$52=\"\",\"\",'Blank Weigh Up'!$O$52)","v":""},{"$f":"IF('Blank Weigh Up'!$B$4=\"\",\"\",'Blank Weigh Up'!$B$4)","v":"HMACP MIXTURE DESIGN : WEIGH UP SHEET FOR BLANK SAMPLES"},{"$f":"IF('Blank Weigh Up'!$B$45=\"\",\"\",'Blank Weigh Up'!$B$45)","v":"CUMULATIVE"},{"$f":"IF('Blank Weigh Up'!$C$29=\"\",\"\",'Blank Weigh Up'!$C$29)","v":"Passing"},{"$f":"IF('Blank Weigh Up'!$C$52=\"\",\"\",'Blank Weigh Up'!$C$52)","v":"No. 16"},{"$f":"IF('Blank Weigh Up'!$C$27=\"\",\"\",'Blank Weigh Up'!$C$27)","v":"Sieve Size:"},{"$f":"IF('Blank Weigh Up'!$D$29=\"\",\"\",'Blank Weigh Up'!$D$29)","v":"Retained"},{"$f":"'Blank Weigh Up'!$D$52","v":"No. 30"},{"$f":"'Blank Weigh Up'!$O$21","v":"Bin No.6 "}]
[1376,{"$f":"IF('Blank Weigh Up'!$Q$52=\"\",\"\",'Blank Weigh Up'!$Q$52)","v":""},{"$f":"IF('Blank Weigh Up'!$B$4=\"\",\"\",'Blank Weigh Up'!$B$4)","v":"HMACP MIXTURE DESIGN : WEIGH UP SHEET FOR BLANK SAMPLES"},{"$f":"IF('Blank Weigh Up'!$B$45=\"\",\"\",'Blank Weigh Up'!$B$45)","v":"CUMULATIVE"},{"$f":"IF('Blank Weigh Up'!$C$29=\"\",\"\",'Blank Weigh Up'!$C$29)","v":"Passing"},{"$f":"IF('Blank Weigh Up'!$C$52=\"\",\"\",'Blank Weigh Up'!$C$52)","v":"No. 16"},{"$f":"IF('Blank Weigh Up'!$C$27=\"\",\"\",'Blank Weigh Up'!$C$27)","v":"Sieve Size:"},{"$f":"IF('Blank Weigh Up'!$D$29=\"\",\"\",'Blank Weigh Up'!$D$29)","v":"Retained"},{"$f":"'Blank Weigh Up'!$D$52","v":"No. 30"},{"$f":"'Blank Weigh Up'!$Q$21","v":"Bin No.7 "}]
[1377,{"$f":"IF('Blank Weigh Up'!$S$52=\"\",\"\",'Blank Weigh Up'!$S$52)","v":""},{"$f":"IF('Blank Weigh Up'!$B$4=\"\",\"\",'Blank Weigh Up'!$B$4)","v":"HMACP MIXTURE DESIGN : WEIGH UP SHEET FOR BLANK SAMPLES"},{"$f":"IF('Blank Weigh Up'!$B$45=\"\",\"\",'Blank Weigh Up'!$B$45)","v":"CUMULATIVE"},{"$f":"IF('Blank Weigh Up'!$C$29=\"\",\"\",'Blank Weigh Up'!$C$29)","v":"Passing"},{"$f":"IF('Blank Weigh Up'!$C$52=\"\",\"\",'Blank Weigh Up'!$C$52)","v":"No. 16"},{"$f":"IF('Blank Weigh Up'!$C$27=\"\",\"\",'Blank Weigh Up'!$C$27)","v":"Sieve Size:"},{"$f":"IF('Blank Weigh Up'!$D$29=\"\",\"\",'Blank Weigh Up'!$D$29)","v":"Retained"},{"$f":"'Blank Weigh Up'!$D$52","v":"No. 30"},{"$f":"'Blank Weigh Up'!$S$24","v":"Total Weights"}]
[1378,{"$f":"IF('Blank Weigh Up'!$E$53=\"\",\"\",'Blank Weigh Up'!$E$53)","v":""},{"$f":"IF('Blank Weigh Up'!$B$4=\"\",\"\",'Blank Weigh Up'!$B$4)","v":"HMACP MIXTURE DESIGN : WEIGH UP SHEET FOR BLANK SAMPLES"},{"$f":"IF('Blank Weigh Up'!$B$45=\"\",\"\",'Blank Weigh Up'!$B$45)","v":"CUMULATIVE"},{"$f":"IF('Blank Weigh Up'!$C$29=\"\",\"\",'Blank Weigh Up'!$C$29)","v":"Passing"},{"$f":"IF('Blank Weigh Up'!$C$53=\"\",\"\",'Blank Weigh Up'!$C$53)","v":"No. 30"},{"$f":"IF('Blank Weigh Up'!$C$27=\"\",\"\",'Blank Weigh Up'!$C$27)","v":"Sieve Size:"},{"$f":"IF('Blank Weigh Up'!$D$29=\"\",\"\",'Blank Weigh Up'!$D$29)","v":"Retained"},{"$f":"'Blank Weigh Up'!$D$53","v":"No. 50"},{"$f":"'Blank Weigh Up'!$E$21","v":"Bin No.1"}]
[1379,{"$f":"IF('Blank Weigh Up'!$G$53=\"\",\"\",'Blank Weigh Up'!$G$53)","v":""},{"$f":"IF('Blank Weigh Up'!$B$4=\"\",\"\",'Blank Weigh Up'!$B$4)","v":"HMACP MIXTURE DESIGN : WEIGH UP SHEET FOR BLANK SAMPLES"},{"$f":"IF('Blank Weigh Up'!$B$45=\"\",\"\",'Blank Weigh Up'!$B$45)","v":"CUMULATIVE"},{"$f":"IF('Blank Weigh Up'!$C$29=\"\",\"\",'Blank Weigh Up'!$C$29)","v":"Passing"},{"$f":"IF('Blank Weigh Up'!$C$53=\"\",\"\",'Blank Weigh Up'!$C$53)","v":"No. 30"},{"$f":"IF('Blank Weigh Up'!$C$27=\"\",\"\",'Blank Weigh Up'!$C$27)","v":"Sieve Size:"},{"$f":"IF('Blank Weigh Up'!$D$29=\"\",\"\",'Blank Weigh Up'!$D$29)","v":"Retained"},{"$f":"'Blank Weigh Up'!$D$53","v":"No. 50"},{"$f":"'Blank Weigh Up'!$G$21","v":"Bin No.2"}]
[1380,{"$f":"IF('Blank Weigh Up'!$I$53=\"\",\"\",'Blank Weigh Up'!$I$53)","v":""},{"$f":"IF('Blank Weigh Up'!$B$4=\"\",\"\",'Blank Weigh Up'!$B$4)","v":"HMACP MIXTURE DESIGN : WEIGH UP SHEET FOR BLANK SAMPLES"},{"$f":"IF('Blank Weigh Up'!$B$45=\"\",\"\",'Blank Weigh Up'!$B$45)","v":"CUMULATIVE"},{"$f":"IF('Blank Weigh Up'!$C$29=\"\",\"\",'Blank Weigh Up'!$C$29)","v":"Passing"},{"$f":"IF('Blank Weigh Up'!$C$53=\"\",\"\",'Blank Weigh Up'!$C$53)","v":"No. 30"},{"$f":"IF('Blank Weigh Up'!$C$27=\"\",\"\",'Blank Weigh Up'!$C$27)","v":"Sieve Size:"},{"$f":"IF('Blank Weigh Up'!$D$29=\"\",\"\",'Blank Weigh Up'!$D$29)","v":"Retained"},{"$f":"'Blank Weigh Up'!$D$53","v":"No. 50"},{"$f":"'Blank Weigh Up'!$I$21","v":"Bin No.3"}]
[1381,{"$f":"IF('Blank Weigh Up'!$K$53=\"\",\"\",'Blank Weigh Up'!$K$53)","v":""},{"$f":"IF('Blank Weigh Up'!$B$4=\"\",\"\",'Blank Weigh Up'!$B$4)","v":"HMACP MIXTURE DESIGN : WEIGH UP SHEET FOR BLANK SAMPLES"},{"$f":"IF('Blank Weigh Up'!$B$45=\"\",\"\",'Blank Weigh Up'!$B$45)","v":"CUMULATIVE"},{"$f":"IF('Blank Weigh Up'!$C$29=\"\",\"\",'Blank Weigh Up'!$C$29)","v":"Passing"},{"$f":"IF('Blank Weigh Up'!$C$53=\"\",\"\",'Blank Weigh Up'!$C$53)","v":"No. 30"},{"$f":"IF('Blank Weigh Up'!$C$27=\"\",\"\",'Blank Weigh Up'!$C$27)","v":"Sieve Size:"},{"$f":"IF('Blank Weigh Up'!$D$29=\"\",\"\",'Blank Weigh Up'!$D$29)","v":"Retained"},{"$f":"'Blank Weigh Up'!$D$53","v":"No. 50"},{"$f":"'Blank Weigh Up'!$K$21","v":"Bin No.4"}]
[1382,{"$f":"IF('Blank Weigh Up'!$M$53=\"\",\"\",'Blank Weigh Up'!$M$53)","v":""},{"$f":"IF('Blank Weigh Up'!$B$4=\"\",\"\",'Blank Weigh Up'!$B$4)","v":"HMACP MIXTURE DESIGN : WEIGH UP SHEET FOR BLANK SAMPLES"},{"$f":"IF('Blank Weigh Up'!$B$45=\"\",\"\",'Blank Weigh Up'!$B$45)","v":"CUMULATIVE"},{"$f":"IF('Blank Weigh Up'!$C$29=\"\",\"\",'Blank Weigh Up'!$C$29)","v":"Passing"},{"$f":"IF('Blank Weigh Up'!$C$53=\"\",\"\",'Blank Weigh Up'!$C$53)","v":"No. 30"},{"$f":"IF('Blank Weigh Up'!$C$27=\"\",\"\",'Blank Weigh Up'!$C$27)","v":"Sieve Size:"},{"$f":"IF('Blank Weigh Up'!$D$29=\"\",\"\",'Blank Weigh Up'!$D$29)","v":"Retained"},{"$f":"'Blank Weigh Up'!$D$53","v":"No. 50"},{"$f":"'Blank Weigh Up'!$M$21","v":"Bin No.5"}]
[1383,{"$f":"IF('Blank Weigh Up'!$O$53=\"\",\"\",'Blank Weigh Up'!$O$53)","v":""},{"$f":"IF('Blank Weigh Up'!$B$4=\"\",\"\",'Blank Weigh Up'!$B$4)","v":"HMACP MIXTURE DESIGN : WEIGH UP SHEET FOR BLANK SAMPLES"},{"$f":"IF('Blank Weigh Up'!$B$45=\"\",\"\",'Blank Weigh Up'!$B$45)","v":"CUMULATIVE"},{"$f":"IF('Blank Weigh Up'!$C$29=\"\",\"\",'Blank Weigh Up'!$C$29)","v":"Passing"},{"$f":"IF('Blank Weigh Up'!$C$53=\"\",\"\",'Blank Weigh Up'!$C$53)","v":"No. 30"},{"$f":"IF('Blank Weigh Up'!$C$27=\"\",\"\",'Blank Weigh Up'!$C$27)","v":"Sieve Size:"},{"$f":"IF('Blank Weigh Up'!$D$29=\"\",\"\",'Blank Weigh Up'!$D$29)","v":"Retained"},{"$f":"'Blank Weigh Up'!$D$53","v":"No. 50"},{"$f":"'Blank Weigh Up'!$O$21","v":"Bin No.6 "}]
[1384,{"$f":"IF('Blank Weigh Up'!$Q$53=\"\",\"\",'Blank Weigh Up'!$Q$53)","v":""},{"$f":"IF('Blank Weigh Up'!$B$4=\"\",\"\",'Blank Weigh Up'!$B$4)","v":"HMACP MIXTURE DESIGN : WEIGH UP SHEET FOR BLANK SAMPLES"},{"$f":"IF('Blank Weigh Up'!$B$45=\"\",\"\",'Blank Weigh Up'!$B$45)","v":"CUMULATIVE"},{"$f":"IF('Blank Weigh Up'!$C$29=\"\",\"\",'Blank Weigh Up'!$C$29)","v":"Passing"},{"$f":"IF('Blank Weigh Up'!$C$53=\"\",\"\",'Blank Weigh Up'!$C$53)","v":"No. 30"},{"$f":"IF('Blank Weigh Up'!$C$27=\"\",\"\",'Blank Weigh Up'!$C$27)","v":"Sieve Size:"},{"$f":"IF('Blank Weigh Up'!$D$29=\"\",\"\",'Blank Weigh Up'!$D$29)","v":"Retained"},{"$f":"'Blank Weigh Up'!$D$53","v":"No. 50"},{"$f":"'Blank Weigh Up'!$Q$21","v":"Bin No.7 "}]
[1385,{"$f":"IF('Blank Weigh Up'!$S$53=\"\",\"\",'Blank Weigh Up'!$S$53)","v":""},{"$f":"IF('Blank Weigh Up'!$B$4=\"\",\"\",'Blank Weigh Up'!$B$4)","v":"HMACP MIXTURE DESIGN : WEIGH UP SHEET FOR BLANK SAMPLES"},{"$f":"IF('Blank Weigh Up'!$B$45=\"\",\"\",'Blank Weigh Up'!$B$45)","v":"CUMULATIVE"},{"$f":"IF('Blank Weigh Up'!$C$29=\"\",\"\",'Blank Weigh Up'!$C$29)","v":"Passing"},{"$f":"IF('Blank Weigh Up'!$C$53=\"\",\"\",'Blank Weigh Up'!$C$53)","v":"No. 30"},{"$f":"IF('Blank Weigh Up'!$C$27=\"\",\"\",'Blank Weigh Up'!$C$27)","v":"Sieve Size:"},{"$f":"IF('Blank Weigh Up'!$D$29=\"\",\"\",'Blank Weigh Up'!$D$29)","v":"Retained"},{"$f":"'Blank Weigh Up'!$D$53","v":"No. 50"},{"$f":"'Blank Weigh Up'!$S$24","v":"Total Weights"}]
[1386,{"$f":"IF('Blank Weigh Up'!$E$54=\"\",\"\",'Blank Weigh Up'!$E$54)","v":""},{"$f":"IF('Blank Weigh Up'!$B$4=\"\",\"\",'Blank Weigh Up'!$B$4)","v":"HMACP MIXTURE DESIGN : WEIGH UP SHEET FOR BLANK SAMPLES"},{"$f":"IF('Blank Weigh Up'!$B$45=\"\",\"\",'Blank Weigh Up'!$B$45)","v":"CUMULATIVE"},{"$f":"IF('Blank Weigh Up'!$C$29=\"\",\"\",'Blank Weigh Up'!$C$29)","v":"Passing"},{"$f":"IF('Blank Weigh Up'!$C$54=\"\",\"\",'Blank Weigh Up'!$C$54)","v":"No. 50"},{"$f":"IF('Blank Weigh Up'!$C$27=\"\",\"\",'Blank Weigh Up'!$C$27)","v":"Sieve Size:"},{"$f":"IF('Blank Weigh Up'!$D$29=\"\",\"\",'Blank Weigh Up'!$D$29)","v":"Retained"},{"$f":"'Blank Weigh Up'!$D$54","v":"No. 200"},{"$f":"'Blank Weigh Up'!$E$21","v":"Bin No.1"}]
[1387,{"$f":"IF('Blank Weigh Up'!$G$54=\"\",\"\",'Blank Weigh Up'!$G$54)","v":""},{"$f":"IF('Blank Weigh Up'!$B$4=\"\",\"\",'Blank Weigh Up'!$B$4)","v":"HMACP MIXTURE DESIGN : WEIGH UP SHEET FOR BLANK SAMPLES"},{"$f":"IF('Blank Weigh Up'!$B$45=\"\",\"\",'Blank Weigh Up'!$B$45)","v":"CUMULATIVE"},{"$f":"IF('Blank Weigh Up'!$C$29=\"\",\"\",'Blank Weigh Up'!$C$29)","v":"Passing"},{"$f":"IF('Blank Weigh Up'!$C$54=\"\",\"\",'Blank Weigh Up'!$C$54)","v":"No. 50"},{"$f":"IF('Blank Weigh Up'!$C$27=\"\",\"\",'Blank Weigh Up'!$C$27)","v":"Sieve Size:"},{"$f":"IF('Blank Weigh Up'!$D$29=\"\",\"\",'Blank Weigh Up'!$D$29)","v":"Retained"},{"$f":"'Blank Weigh Up'!$D$54","v":"No. 200"},{"$f":"'Blank Weigh Up'!$G$21","v":"Bin No.2"}]
[1388,{"$f":"IF('Blank Weigh Up'!$I$54=\"\",\"\",'Blank Weigh Up'!$I$54)","v":""},{"$f":"IF('Blank Weigh Up'!$B$4=\"\",\"\",'Blank Weigh Up'!$B$4)","v":"HMACP MIXTURE DESIGN : WEIGH UP SHEET FOR BLANK SAMPLES"},{"$f":"IF('Blank Weigh Up'!$B$45=\"\",\"\",'Blank Weigh Up'!$B$45)","v":"CUMULATIVE"},{"$f":"IF('Blank Weigh Up'!$C$29=\"\",\"\",'Blank Weigh Up'!$C$29)","v":"Passing"},{"$f":"IF('Blank Weigh Up'!$C$54=\"\",\"\",'Blank Weigh Up'!$C$54)","v":"No. 50"},{"$f":"IF('Blank Weigh Up'!$C$27=\"\",\"\",'Blank Weigh Up'!$C$27)","v":"Sieve Size:"},{"$f":"IF('Blank Weigh Up'!$D$29=\"\",\"\",'Blank Weigh Up'!$D$29)","v":"Retained"},{"$f":"'Blank Weigh Up'!$D$54","v":"No. 200"},{"$f":"'Blank Weigh Up'!$I$21","v":"Bin No.3"}]
[1389,{"$f":"IF('Blank Weigh Up'!$K$54=\"\",\"\",'Blank Weigh Up'!$K$54)","v":""},{"$f":"IF('Blank Weigh Up'!$B$4=\"\",\"\",'Blank Weigh Up'!$B$4)","v":"HMACP MIXTURE DESIGN : WEIGH UP SHEET FOR BLANK SAMPLES"},{"$f":"IF('Blank Weigh Up'!$B$45=\"\",\"\",'Blank Weigh Up'!$B$45)","v":"CUMULATIVE"},{"$f":"IF('Blank Weigh Up'!$C$29=\"\",\"\",'Blank Weigh Up'!$C$29)","v":"Passing"},{"$f":"IF('Blank Weigh Up'!$C$54=\"\",\"\",'Blank Weigh Up'!$C$54)","v":"No. 50"},{"$f":"IF('Blank Weigh Up'!$C$27=\"\",\"\",'Blank Weigh Up'!$C$27)","v":"Sieve Size:"},{"$f":"IF('Blank Weigh Up'!$D$29=\"\",\"\",'Blank Weigh Up'!$D$29)","v":"Retained"},{"$f":"'Blank Weigh Up'!$D$54","v":"No. 200"},{"$f":"'Blank Weigh Up'!$K$21","v":"Bin No.4"}]
[1390,{"$f":"IF('Blank Weigh Up'!$M$54=\"\",\"\",'Blank Weigh Up'!$M$54)","v":""},{"$f":"IF('Blank Weigh Up'!$B$4=\"\",\"\",'Blank Weigh Up'!$B$4)","v":"HMACP MIXTURE DESIGN : WEIGH UP SHEET FOR BLANK SAMPLES"},{"$f":"IF('Blank Weigh Up'!$B$45=\"\",\"\",'Blank Weigh Up'!$B$45)","v":"CUMULATIVE"},{"$f":"IF('Blank Weigh Up'!$C$29=\"\",\"\",'Blank Weigh Up'!$C$29)","v":"Passing"},{"$f":"IF('Blank Weigh Up'!$C$54=\"\",\"\",'Blank Weigh Up'!$C$54)","v":"No. 50"},{"$f":"IF('Blank Weigh Up'!$C$27=\"\",\"\",'Blank Weigh Up'!$C$27)","v":"Sieve Size:"},{"$f":"IF('Blank Weigh Up'!$D$29=\"\",\"\",'Blank Weigh Up'!$D$29)","v":"Retained"},{"$f":"'Blank Weigh Up'!$D$54","v":"No. 200"},{"$f":"'Blank Weigh Up'!$M$21","v":"Bin No.5"}]
[1391,{"$f":"IF('Blank Weigh Up'!$O$54=\"\",\"\",'Blank Weigh Up'!$O$54)","v":""},{"$f":"IF('Blank Weigh Up'!$B$4=\"\",\"\",'Blank Weigh Up'!$B$4)","v":"HMACP MIXTURE DESIGN : WEIGH UP SHEET FOR BLANK SAMPLES"},{"$f":"IF('Blank Weigh Up'!$B$45=\"\",\"\",'Blank Weigh Up'!$B$45)","v":"CUMULATIVE"},{"$f":"IF('Blank Weigh Up'!$C$29=\"\",\"\",'Blank Weigh Up'!$C$29)","v":"Passing"},{"$f":"IF('Blank Weigh Up'!$C$54=\"\",\"\",'Blank Weigh Up'!$C$54)","v":"No. 50"},{"$f":"IF('Blank Weigh Up'!$C$27=\"\",\"\",'Blank Weigh Up'!$C$27)","v":"Sieve Size:"},{"$f":"IF('Blank Weigh Up'!$D$29=\"\",\"\",'Blank Weigh Up'!$D$29)","v":"Retained"},{"$f":"'Blank Weigh Up'!$D$54","v":"No. 200"},{"$f":"'Blank Weigh Up'!$O$21","v":"Bin No.6 "}]
[1392,{"$f":"IF('Blank Weigh Up'!$Q$54=\"\",\"\",'Blank Weigh Up'!$Q$54)","v":""},{"$f":"IF('Blank Weigh Up'!$B$4=\"\",\"\",'Blank Weigh Up'!$B$4)","v":"HMACP MIXTURE DESIGN : WEIGH UP SHEET FOR BLANK SAMPLES"},{"$f":"IF('Blank Weigh Up'!$B$45=\"\",\"\",'Blank Weigh Up'!$B$45)","v":"CUMULATIVE"},{"$f":"IF('Blank Weigh Up'!$C$29=\"\",\"\",'Blank Weigh Up'!$C$29)","v":"Passing"},{"$f":"IF('Blank Weigh Up'!$C$54=\"\",\"\",'Blank Weigh Up'!$C$54)","v":"No. 50"},{"$f":"IF('Blank Weigh Up'!$C$27=\"\",\"\",'Blank Weigh Up'!$C$27)","v":"Sieve Size:"},{"$f":"IF('Blank Weigh Up'!$D$29=\"\",\"\",'Blank Weigh Up'!$D$29)","v":"Retained"},{"$f":"'Blank Weigh Up'!$D$54","v":"No. 200"},{"$f":"'Blank Weigh Up'!$Q$21","v":"Bin No.7 "}]
[1393,{"$f":"IF('Blank Weigh Up'!$S$54=\"\",\"\",'Blank Weigh Up'!$S$54)","v":""},{"$f":"IF('Blank Weigh Up'!$B$4=\"\",\"\",'Blank Weigh Up'!$B$4)","v":"HMACP MIXTURE DESIGN : WEIGH UP SHEET FOR BLANK SAMPLES"},{"$f":"IF('Blank Weigh Up'!$B$45=\"\",\"\",'Blank Weigh Up'!$B$45)","v":"CUMULATIVE"},{"$f":"IF('Blank Weigh Up'!$C$29=\"\",\"\",'Blank Weigh Up'!$C$29)","v":"Passing"},{"$f":"IF('Blank Weigh Up'!$C$54=\"\",\"\",'Blank Weigh Up'!$C$54)","v":"No. 50"},{"$f":"IF('Blank Weigh Up'!$C$27=\"\",\"\",'Blank Weigh Up'!$C$27)","v":"Sieve Size:"},{"$f":"IF('Blank Weigh Up'!$D$29=\"\",\"\",'Blank Weigh Up'!$D$29)","v":"Retained"},{"$f":"'Blank Weigh Up'!$D$54","v":"No. 200"},{"$f":"'Blank Weigh Up'!$S$24","v":"Total Weights"}]
[1394,{"$f":"IF('Blank Weigh Up'!$E$55=\"\",\"\",'Blank Weigh Up'!$E$55)","v":""},{"$f":"IF('Blank Weigh Up'!$B$4=\"\",\"\",'Blank Weigh Up'!$B$4)","v":"HMACP MIXTURE DESIGN : WEIGH UP SHEET FOR BLANK SAMPLES"},{"$f":"IF('Blank Weigh Up'!$B$45=\"\",\"\",'Blank Weigh Up'!$B$45)","v":"CUMULATIVE"},{"$f":"IF('Blank Weigh Up'!$C$29=\"\",\"\",'Blank Weigh Up'!$C$29)","v":"Passing"},{"$f":"IF('Blank Weigh Up'!$C$55=\"\",\"\",'Blank Weigh Up'!$C$55)","v":"No. 200"},{"$f":"IF('Blank Weigh Up'!$C$27=\"\",\"\",'Blank Weigh Up'!$C$27)","v":"Sieve Size:"},{"$f":"IF('Blank Weigh Up'!$D$29=\"\",\"\",'Blank Weigh Up'!$D$29)","v":"Retained"},{"$f":"'Blank Weigh Up'!$D$55","v":"Pan"},{"$f":"'Blank Weigh Up'!$E$21","v":"Bin No.1"}]
[1395,{"$f":"IF('Blank Weigh Up'!$G$55=\"\",\"\",'Blank Weigh Up'!$G$55)","v":""},{"$f":"IF('Blank Weigh Up'!$B$4=\"\",\"\",'Blank Weigh Up'!$B$4)","v":"HMACP MIXTURE DESIGN : WEIGH UP SHEET FOR BLANK SAMPLES"},{"$f":"IF('Blank Weigh Up'!$B$45=\"\",\"\",'Blank Weigh Up'!$B$45)","v":"CUMULATIVE"},{"$f":"IF('Blank Weigh Up'!$C$29=\"\",\"\",'Blank Weigh Up'!$C$29)","v":"Passing"},{"$f":"IF('Blank Weigh Up'!$C$55=\"\",\"\",'Blank Weigh Up'!$C$55)","v":"No. 200"},{"$f":"IF('Blank Weigh Up'!$C$27=\"\",\"\",'Blank Weigh Up'!$C$27)","v":"Sieve Size:"},{"$f":"IF('Blank Weigh Up'!$D$29=\"\",\"\",'Blank Weigh Up'!$D$29)","v":"Retained"},{"$f":"'Blank Weigh Up'!$D$55","v":"Pan"},{"$f":"'Blank Weigh Up'!$G$21","v":"Bin No.2"}]
[1396,{"$f":"IF('Blank Weigh Up'!$I$55=\"\",\"\",'Blank Weigh Up'!$I$55)","v":""},{"$f":"IF('Blank Weigh Up'!$B$4=\"\",\"\",'Blank Weigh Up'!$B$4)","v":"HMACP MIXTURE DESIGN : WEIGH UP SHEET FOR BLANK SAMPLES"},{"$f":"IF('Blank Weigh Up'!$B$45=\"\",\"\",'Blank Weigh Up'!$B$45)","v":"CUMULATIVE"},{"$f":"IF('Blank Weigh Up'!$C$29=\"\",\"\",'Blank Weigh Up'!$C$29)","v":"Passing"},{"$f":"IF('Blank Weigh Up'!$C$55=\"\",\"\",'Blank Weigh Up'!$C$55)","v":"No. 200"},{"$f":"IF('Blank Weigh Up'!$C$27=\"\",\"\",'Blank Weigh Up'!$C$27)","v":"Sieve Size:"},{"$f":"IF('Blank Weigh Up'!$D$29=\"\",\"\",'Blank Weigh Up'!$D$29)","v":"Retained"},{"$f":"'Blank Weigh Up'!$D$55","v":"Pan"},{"$f":"'Blank Weigh Up'!$I$21","v":"Bin No.3"}]
[1397,{"$f":"IF('Blank Weigh Up'!$K$55=\"\",\"\",'Blank Weigh Up'!$K$55)","v":""},{"$f":"IF('Blank Weigh Up'!$B$4=\"\",\"\",'Blank Weigh Up'!$B$4)","v":"HMACP MIXTURE DESIGN : WEIGH UP SHEET FOR BLANK SAMPLES"},{"$f":"IF('Blank Weigh Up'!$B$45=\"\",\"\",'Blank Weigh Up'!$B$45)","v":"CUMULATIVE"},{"$f":"IF('Blank Weigh Up'!$C$29=\"\",\"\",'Blank Weigh Up'!$C$29)","v":"Passing"},{"$f":"IF('Blank Weigh Up'!$C$55=\"\",\"\",'Blank Weigh Up'!$C$55)","v":"No. 200"},{"$f":"IF('Blank Weigh Up'!$C$27=\"\",\"\",'Blank Weigh Up'!$C$27)","v":"Sieve Size:"},{"$f":"IF('Blank Weigh Up'!$D$29=\"\",\"\",'Blank Weigh Up'!$D$29)","v":"Retained"},{"$f":"'Blank Weigh Up'!$D$55","v":"Pan"},{"$f":"'Blank Weigh Up'!$K$21","v":"Bin No.4"}]
[1398,{"$f":"IF('Blank Weigh Up'!$M$55=\"\",\"\",'Blank Weigh Up'!$M$55)","v":""},{"$f":"IF('Blank Weigh Up'!$B$4=\"\",\"\",'Blank Weigh Up'!$B$4)","v":"HMACP MIXTURE DESIGN : WEIGH UP SHEET FOR BLANK SAMPLES"},{"$f":"IF('Blank Weigh Up'!$B$45=\"\",\"\",'Blank Weigh Up'!$B$45)","v":"CUMULATIVE"},{"$f":"IF('Blank Weigh Up'!$C$29=\"\",\"\",'Blank Weigh Up'!$C$29)","v":"Passing"},{"$f":"IF('Blank Weigh Up'!$C$55=\"\",\"\",'Blank Weigh Up'!$C$55)","v":"No. 200"},{"$f":"IF('Blank Weigh Up'!$C$27=\"\",\"\",'Blank Weigh Up'!$C$27)","v":"Sieve Size:"},{"$f":"IF('Blank Weigh Up'!$D$29=\"\",\"\",'Blank Weigh Up'!$D$29)","v":"Retained"},{"$f":"'Blank Weigh Up'!$D$55","v":"Pan"},{"$f":"'Blank Weigh Up'!$M$21","v":"Bin No.5"}]
[1399,{"$f":"IF('Blank Weigh Up'!$O$55=\"\",\"\",'Blank Weigh Up'!$O$55)","v":""},{"$f":"IF('Blank Weigh Up'!$B$4=\"\",\"\",'Blank Weigh Up'!$B$4)","v":"HMACP MIXTURE DESIGN : WEIGH UP SHEET FOR BLANK SAMPLES"},{"$f":"IF('Blank Weigh Up'!$B$45=\"\",\"\",'Blank Weigh Up'!$B$45)","v":"CUMULATIVE"},{"$f":"IF('Blank Weigh Up'!$C$29=\"\",\"\",'Blank Weigh Up'!$C$29)","v":"Passing"},{"$f":"IF('Blank Weigh Up'!$C$55=\"\",\"\",'Blank Weigh Up'!$C$55)","v":"No. 200"},{"$f":"IF('Blank Weigh Up'!$C$27=\"\",\"\",'Blank Weigh Up'!$C$27)","v":"Sieve Size:"},{"$f":"IF('Blank Weigh Up'!$D$29=\"\",\"\",'Blank Weigh Up'!$D$29)","v":"Retained"},{"$f":"'Blank Weigh Up'!$D$55","v":"Pan"},{"$f":"'Blank Weigh Up'!$O$21","v":"Bin No.6 "}]
[1400,{"$f":"IF('Blank Weigh Up'!$Q$55=\"\",\"\",'Blank Weigh Up'!$Q$55)","v":""},{"$f":"IF('Blank Weigh Up'!$B$4=\"\",\"\",'Blank Weigh Up'!$B$4)","v":"HMACP MIXTURE DESIGN : WEIGH UP SHEET FOR BLANK SAMPLES"},{"$f":"IF('Blank Weigh Up'!$B$45=\"\",\"\",'Blank Weigh Up'!$B$45)","v":"CUMULATIVE"},{"$f":"IF('Blank Weigh Up'!$C$29=\"\",\"\",'Blank Weigh Up'!$C$29)","v":"Passing"},{"$f":"IF('Blank Weigh Up'!$C$55=\"\",\"\",'Blank Weigh Up'!$C$55)","v":"No. 200"},{"$f":"IF('Blank Weigh Up'!$C$27=\"\",\"\",'Blank Weigh Up'!$C$27)","v":"Sieve Size:"},{"$f":"IF('Blank Weigh Up'!$D$29=\"\",\"\",'Blank Weigh Up'!$D$29)","v":"Retained"},{"$f":"'Blank Weigh Up'!$D$55","v":"Pan"},{"$f":"'Blank Weigh Up'!$Q$21","v":"Bin No.7 "}]
[1401,{"$f":"IF('Blank Weigh Up'!$S$55=\"\",\"\",'Blank Weigh Up'!$S$55)","v":""},{"$f":"IF('Blank Weigh Up'!$B$4=\"\",\"\",'Blank Weigh Up'!$B$4)","v":"HMACP MIXTURE DESIGN : WEIGH UP SHEET FOR BLANK SAMPLES"},{"$f":"IF('Blank Weigh Up'!$B$45=\"\",\"\",'Blank Weigh Up'!$B$45)","v":"CUMULATIVE"},{"$f":"IF('Blank Weigh Up'!$C$29=\"\",\"\",'Blank Weigh Up'!$C$29)","v":"Passing"},{"$f":"IF('Blank Weigh Up'!$C$55=\"\",\"\",'Blank Weigh Up'!$C$55)","v":"No. 200"},{"$f":"IF('Blank Weigh Up'!$C$27=\"\",\"\",'Blank Weigh Up'!$C$27)","v":"Sieve Size:"},{"$f":"IF('Blank Weigh Up'!$D$29=\"\",\"\",'Blank Weigh Up'!$D$29)","v":"Retained"},{"$f":"'Blank Weigh Up'!$D$55","v":"Pan"},{"$f":"'Blank Weigh Up'!$S$24","v":"Total Weights"}]
[1402,{"$f":"IF('Combined Gradation'!$V$13=\"\",\"\",'Combined Gradation'!$V$13)","v":""},{"$f":"IF('Combined Gradation'!$B$5=\"\",\"\",'Combined Gradation'!$B$5)","v":"2014 HMACP MIXTURE DESIGN : COMBINED GRADATION"},{"$f":"IF('Combined Gradation'!$R$13=\"\",\"\",'Combined Gradation'!$R$13)","v":"WMA Additive in Design?"}]
[1403,{"$f":"IF('Combined Gradation'!$V$15=\"\",\"\",'Combined Gradation'!$V$15)","v":""},{"$f":"IF('Combined Gradation'!$B$5=\"\",\"\",'Combined Gradation'!$B$5)","v":"2014 HMACP MIXTURE DESIGN : COMBINED GRADATION"},{"$f":"IF('Combined Gradation'!$R$15=\"\",\"\",'Combined Gradation'!$R$15)","v":"WMA TECHNOLOGY:"}]
[1404,{"$f":"IF('Combined Gradation'!$S$22=\"\",\"\",'Combined Gradation'!$S$22)","v":"Fractionated RAP"},{"$f":"IF('Combined Gradation'!$B$5=\"\",\"\",'Combined Gradation'!$B$5)","v":"2014 HMACP MIXTURE DESIGN : COMBINED GRADATION"},{"$f":"IF('Combined Gradation'!$Y$22=\"\",\"\",'Combined Gradation'!$Y$22)","v":"Material Type"},{"$f":"IF('Combined Gradation'!$S$21=\"\",\"\",'Combined Gradation'!$S$21)","v":"Bin No.8 "}]
[1405,{"$f":"IF('Combined Gradation'!$U$22=\"\",\"\",'Combined Gradation'!$U$22)","v":"Fractionated RAP"},{"$f":"IF('Combined Gradation'!$B$5=\"\",\"\",'Combined Gradation'!$B$5)","v":"2014 HMACP MIXTURE DESIGN : COMBINED GRADATION"},{"$f":"IF('Combined Gradation'!$Y$22=\"\",\"\",'Combined Gradation'!$Y$22)","v":"Material Type"},{"$f":"IF('Combined Gradation'!$U$21=\"\",\"\",'Combined Gradation'!$U$21)","v":"Bin No.9 "}]
[1406,{"$f":"IF('Combined Gradation'!$W$22=\"\",\"\",'Combined Gradation'!$W$22)","v":"RAS"},{"$f":"IF('Combined Gradation'!$B$5=\"\",\"\",'Combined Gradation'!$B$5)","v":"2014 HMACP MIXTURE DESIGN : COMBINED GRADATION"},{"$f":"IF('Combined Gradation'!$Y$22=\"\",\"\",'Combined Gradation'!$Y$22)","v":"Material Type"},{"$f":"IF('Combined Gradation'!$W$21=\"\",\"\",'Combined Gradation'!$W$21)","v":"Bin No.10 "}]
[1407,{"$f":"IF('Combined Gradation'!$S$23=\"\",\"\",'Combined Gradation'!$S$23)","v":""},{"$f":"IF('Combined Gradation'!$B$5=\"\",\"\",'Combined Gradation'!$B$5)","v":"2014 HMACP MIXTURE DESIGN : COMBINED GRADATION"},{"$f":"IF('Combined Gradation'!$Y$23=\"\",\"\",'Combined Gradation'!$Y$23)","v":"Material Source"},{"$f":"IF('Combined Gradation'!$S$21=\"\",\"\",'Combined Gradation'!$S$21)","v":"Bin No.8 "}]
[1408,{"$f":"IF('Combined Gradation'!$U$23=\"\",\"\",'Combined Gradation'!$U$23)","v":""},{"$f":"IF('Combined Gradation'!$B$5=\"\",\"\",'Combined Gradation'!$B$5)","v":"2014 HMACP MIXTURE DESIGN : COMBINED GRADATION"},{"$f":"IF('Combined Gradation'!$Y$23=\"\",\"\",'Combined Gradation'!$Y$23)","v":"Material Source"},{"$f":"IF('Combined Gradation'!$U$21=\"\",\"\",'Combined Gradation'!$U$21)","v":"Bin No.9 "}]
[1409,{"$f":"IF('Combined Gradation'!$W$23=\"\",\"\",'Combined Gradation'!$W$23)","v":""},{"$f":"IF('Combined Gradation'!$B$5=\"\",\"\",'Combined Gradation'!$B$5)","v":"2014 HMACP MIXTURE DESIGN : COMBINED GRADATION"},{"$f":"IF('Combined Gradation'!$Y$23=\"\",\"\",'Combined Gradation'!$Y$23)","v":"Material Source"},{"$f":"IF('Combined Gradation'!$W$21=\"\",\"\",'Combined Gradation'!$W$21)","v":"Bin No.10 "}]
[1410,{"$f":"IF('Combined Gradation'!$S$24=\"\",\"\",'Combined Gradation'!$S$24)","v":""},{"$f":"IF('Combined Gradation'!$B$5=\"\",\"\",'Combined Gradation'!$B$5)","v":"2014 HMACP MIXTURE DESIGN : COMBINED GRADATION"},{"$f":"IF('Combined Gradation'!$Y$24=\"\",\"\",'Combined Gradation'!$Y$24)","v":"RAS Type"},{"$f":"IF('Combined Gradation'!$S$21=\"\",\"\",'Combined Gradation'!$S$21)","v":"Bin No.8 "}]
[1411,{"$f":"IF('Combined Gradation'!$U$24=\"\",\"\",'Combined Gradation'!$U$24)","v":""},{"$f":"IF('Combined Gradation'!$B$5=\"\",\"\",'Combined Gradation'!$B$5)","v":"2014 HMACP MIXTURE DESIGN : COMBINED GRADATION"},{"$f":"IF('Combined Gradation'!$Y$24=\"\",\"\",'Combined Gradation'!$Y$24)","v":"RAS Type"},{"$f":"IF('Combined Gradation'!$U$21=\"\",\"\",'Combined Gradation'!$U$21)","v":"Bin No.9 "}]
[1412,{"$f":"IF('Combined Gradation'!$W$24=\"\",\"\",'Combined Gradation'!$W$24)","v":""},{"$f":"IF('Combined Gradation'!$B$5=\"\",\"\",'Combined Gradation'!$B$5)","v":"2014 HMACP MIXTURE DESIGN : COMBINED GRADATION"},{"$f":"IF('Combined Gradation'!$Y$24=\"\",\"\",'Combined Gradation'!$Y$24)","v":"RAS Type"},{"$f":"IF('Combined Gradation'!$W$21=\"\",\"\",'Combined Gradation'!$W$21)","v":"Bin No.10 "}]
[1413,{"$f":"IF('Combined Gradation'!$S$26=\"\",\"\",'Combined Gradation'!$S$26)","v":""},{"$f":"IF('Combined Gradation'!$B$5=\"\",\"\",'Combined Gradation'!$B$5)","v":"2014 HMACP MIXTURE DESIGN : COMBINED GRADATION"},{"$f":"IF('Combined Gradation'!$Y$26=\"\",\"\",'Combined Gradation'!$Y$26)","v":"Sample ID"},{"$f":"IF('Combined Gradation'!$S$21=\"\",\"\",'Combined Gradation'!$S$21)","v":"Bin No.8 "}]
[1414,{"$f":"IF('Combined Gradation'!$U$26=\"\",\"\",'Combined Gradation'!$U$26)","v":""},{"$f":"IF('Combined Gradation'!$B$5=\"\",\"\",'Combined Gradation'!$B$5)","v":"2014 HMACP MIXTURE DESIGN : COMBINED GRADATION"},{"$f":"IF('Combined Gradation'!$Y$26=\"\",\"\",'Combined Gradation'!$Y$26)","v":"Sample ID"},{"$f":"IF('Combined Gradation'!$U$21=\"\",\"\",'Combined Gradation'!$U$21)","v":"Bin No.9 "}]
[1415,{"$f":"IF('Combined Gradation'!$W$26=\"\",\"\",'Combined Gradation'!$W$26)","v":""},{"$f":"IF('Combined Gradation'!$B$5=\"\",\"\",'Combined Gradation'!$B$5)","v":"2014 HMACP MIXTURE DESIGN : COMBINED GRADATION"},{"$f":"IF('Combined Gradation'!$Y$26=\"\",\"\",'Combined Gradation'!$Y$26)","v":"Sample ID"},{"$f":"IF('Combined Gradation'!$W$21=\"\",\"\",'Combined Gradation'!$W$21)","v":"Bin No.10 "}]
[1416,{"$f":"IF('Combined Gradation'!$S$30=\"\",\"\",'Combined Gradation'!$S$30)","v":2.25},{"$f":"IF('Combined Gradation'!$B$5=\"\",\"\",'Combined Gradation'!$B$5)","v":"2014 HMACP MIXTURE DESIGN : COMBINED GRADATION"},{"$f":"IF('Combined Gradation'!$S$27=\"\",\"\",'Combined Gradation'!$S$27)","v":"Recycled Asphalt Binder (%)"},{"$f":"IF('Combined Gradation'!$S$21=\"\",\"\",'Combined Gradation'!$S$21)","v":"Bin No.8 "}]
[1417,{"$f":"IF('Combined Gradation'!$U$30=\"\",\"\",'Combined Gradation'!$U$30)","v":1.875},{"$f":"IF('Combined Gradation'!$B$5=\"\",\"\",'Combined Gradation'!$B$5)","v":"2014 HMACP MIXTURE DESIGN : COMBINED GRADATION"},{"$f":"IF('Combined Gradation'!$S$27=\"\",\"\",'Combined Gradation'!$S$27)","v":"Recycled Asphalt Binder (%)"},{"$f":"IF('Combined Gradation'!$U$21=\"\",\"\",'Combined Gradation'!$U$21)","v":"Bin No.9 "}]
[1418,{"$f":"IF('Combined Gradation'!$W$30=\"\",\"\",'Combined Gradation'!$W$30)","v":15},{"$f":"IF('Combined Gradation'!$B$5=\"\",\"\",'Combined Gradation'!$B$5)","v":"2014 HMACP MIXTURE DESIGN : COMBINED GRADATION"},{"$f":"IF('Combined Gradation'!$S$27=\"\",\"\",'Combined Gradation'!$S$27)","v":"Recycled Asphalt Binder (%)"},{"$f":"IF('Combined Gradation'!$W$21=\"\",\"\",'Combined Gradation'!$W$21)","v":"Bin No.10 "}]
[1419,{"$f":"IF('Combined Gradation'!$S$32=\"\",\"\",'Combined Gradation'!$S$32)","v":15.5},{"$f":"IF('Combined Gradation'!$B$5=\"\",\"\",'Combined Gradation'!$B$5)","v":"2014 HMACP MIXTURE DESIGN : COMBINED GRADATION"},{"$f":"IF('Combined Gradation'!$B$32=\"\",\"\",'Combined Gradation'!$B$32)","v":"Individual Bin (%):"},{"$f":"IF('Combined Gradation'!$S$21=\"\",\"\",'Combined Gradation'!$S$21)","v":"Bin No.8 "}]
[1420,{"$f":"IF('Combined Gradation'!$U$32=\"\",\"\",'Combined Gradation'!$U$32)","v":5.2},{"$f":"IF('Combined Gradation'!$B$5=\"\",\"\",'Combined Gradation'!$B$5)","v":"2014 HMACP MIXTURE DESIGN : COMBINED GRADATION"},{"$f":"IF('Combined Gradation'!$B$32=\"\",\"\",'Combined Gradation'!$B$32)","v":"Individual Bin (%):"},{"$f":"IF('Combined Gradation'!$U$21=\"\",\"\",'Combined Gradation'!$U$21)","v":"Bin No.9 "}]
[1421,{"$f":"IF('Combined Gradation'!$W$32=\"\",\"\",'Combined Gradation'!$W$32)","v":4.5},{"$f":"IF('Combined Gradation'!$B$5=\"\",\"\",'Combined Gradation'!$B$5)","v":"2014 HMACP MIXTURE DESIGN : COMBINED GRADATION"},{"$f":"IF('Combined Gradation'!$B$32=\"\",\"\",'Combined Gradation'!$B$32)","v":"Individual Bin (%):"},{"$f":"IF('Combined Gradation'!$W$21=\"\",\"\",'Combined Gradation'!$W$21)","v":"Bin No.10 "}]
[1422,{"$f":"IF('Combined Gradation'!$S$35=\"\",\"\",'Combined Gradation'!$S$35)","v":""},{"$f":"IF('Combined Gradation'!$B$5=\"\",\"\",'Combined Gradation'!$B$5)","v":"2014 HMACP MIXTURE DESIGN : COMBINED GRADATION"},{"$f":"IF('Combined Gradation'!$S$21=\"\",\"\",'Combined Gradation'!$S$21)","v":"Bin No.8 "},{"$f":"IF('Combined Gradation'!$S$34=\"\",\"\",'Combined Gradation'!$S$34)","v":"Cum.% Passing"},{"$f":"IF('Combined Gradation'!$B$34=\"\",\"\",'Combined Gradation'!$B$34)","v":"Sieve Size:"},{"$f":"IF('Combined Gradation'!$B$35=\"\",\"\",'Combined Gradation'!$B$35)","v":"1\""}]
[1423,{"$f":"IF('Combined Gradation'!$T$35=\"\",\"\",'Combined Gradation'!$T$35)","v":""},{"$f":"IF('Combined Gradation'!$B$5=\"\",\"\",'Combined Gradation'!$B$5)","v":"2014 HMACP MIXTURE DESIGN : COMBINED GRADATION"},{"$f":"IF('Combined Gradation'!$S$21=\"\",\"\",'Combined Gradation'!$S$21)","v":"Bin No.8 "},{"$f":"IF('Combined Gradation'!$T$34=\"\",\"\",'Combined Gradation'!$T$34)","v":"Wtd Cum. %"},{"$f":"IF('Combined Gradation'!$B$34=\"\",\"\",'Combined Gradation'!$B$34)","v":"Sieve Size:"},{"$f":"IF('Combined Gradation'!$B$35=\"\",\"\",'Combined Gradation'!$B$35)","v":"1\""}]
[1424,{"$f":"IF('Combined Gradation'!$U$35=\"\",\"\",'Combined Gradation'!$U$35)","v":""},{"$f":"IF('Combined Gradation'!$B$5=\"\",\"\",'Combined Gradation'!$B$5)","v":"2014 HMACP MIXTURE DESIGN : COMBINED GRADATION"},{"$f":"IF('Combined Gradation'!$U$21=\"\",\"\",'Combined Gradation'!$U$21)","v":"Bin No.9 "},{"$f":"IF('Combined Gradation'!$U$34=\"\",\"\",'Combined Gradation'!$U$34)","v":"Cum.% Passing"},{"$f":"IF('Combined Gradation'!$B$34=\"\",\"\",'Combined Gradation'!$B$34)","v":"Sieve Size:"},{"$f":"IF('Combined Gradation'!$B$35=\"\",\"\",'Combined Gradation'!$B$35)","v":"1\""}]
[1425,{"$f":"IF('Combined Gradation'!$V$35=\"\",\"\",'Combined Gradation'!$V$35)","v":""},{"$f":"IF('Combined Gradation'!$B$5=\"\",\"\",'Combined Gradation'!$B$5)","v":"2014 HMACP MIXTURE DESIGN : COMBINED GRADATION"},{"$f":"IF('Combined Gradation'!$U$21=\"\",\"\",'Combined Gradation'!$U$21)","v":"Bin No.9 "},{"$f":"IF('Combined Gradation'!$V$34=\"\",\"\",'Combined Gradation'!$V$34)","v":"Wtd Cum. %"},{"$f":"IF('Combined Gradation'!$B$34=\"\",\"\",'Combined Gradation'!$B$34)","v":"Sieve Size:"},{"$f":"IF('Combined Gradation'!$B$35=\"\",\"\",'Combined Gradation'!$B$35)","v":"1\""}]
[1426,{"$f":"IF('Combined Gradation'!$W$35=\"\",\"\",'Combined Gradation'!$W$35)","v":""},{"$f":"IF('Combined Gradation'!$B$5=\"\",\"\",'Combined Gradation'!$B$5)","v":"2014 HMACP MIXTURE DESIGN : COMBINED GRADATION"},{"$f":"IF('Combined Gradation'!$W$21=\"\",\"\",'Combined Gradation'!$W$21)","v":"Bin No.10 "},{"$f":"IF('Combined Gradation'!$W$34=\"\",\"\",'Combined Gradation'!$W$34)","v":"Cum.% Passing"},{"$f":"IF('Combined Gradation'!$B$34=\"\",\"\",'Combined Gradation'!$B$34)","v":"Sieve Size:"},{"$f":"IF('Combined Gradation'!$B$35=\"\",\"\",'Combined Gradation'!$B$35)","v":"1\""}]
[1427,{"$f":"IF('Combined Gradation'!$X$35=\"\",\"\",'Combined Gradation'!$X$35)","v":""},{"$f":"IF('Combined Gradation'!$B$5=\"\",\"\",'Combined Gradation'!$B$5)","v":"2014 HMACP MIXTURE DESIGN : COMBINED GRADATION"},{"$f":"IF('Combined Gradation'!$W$21=\"\",\"\",'Combined Gradation'!$W$21)","v":"Bin No.10 "},{"$f":"IF('Combined Gradation'!$X$34=\"\",\"\",'Combined Gradation'!$X$34)","v":"Wtd Cum. %"},{"$f":"IF('Combined Gradation'!$B$34=\"\",\"\",'Combined Gradation'!$B$34)","v":"Sieve Size:"},{"$f":"IF('Combined Gradation'!$B$35=\"\",\"\",'Combined Gradation'!$B$35)","v":"1\""}]
[1428,{"$f":"IF('Combined Gradation'!$S$36=\"\",\"\",'Combined Gradation'!$S$36)","v":""},{"$f":"IF('Combined Gradation'!$B$5=\"\",\"\",'Combined Gradation'!$B$5)","v":"2014 HMACP MIXTURE DESIGN : COMBINED GRADATION"},{"$f":"IF('Combined Gradation'!$S$21=\"\",\"\",'Combined Gradation'!$S$21)","v":"Bin No.8 "},{"$f":"IF('Combined Gradation'!$S$34=\"\",\"\",'Combined Gradation'!$S$34)","v":"Cum.% Passing"},{"$f":"IF('Combined Gradation'!$B$34=\"\",\"\",'Combined Gradation'!$B$34)","v":"Sieve Size:"},{"$f":"IF('Combined Gradation'!$B$36=\"\",\"\",'Combined Gradation'!$B$36)","v":"3/4\""}]
[1429,{"$f":"IF('Combined Gradation'!$T$36=\"\",\"\",'Combined Gradation'!$T$36)","v":""},{"$f":"IF('Combined Gradation'!$B$5=\"\",\"\",'Combined Gradation'!$B$5)","v":"2014 HMACP MIXTURE DESIGN : COMBINED GRADATION"},{"$f":"IF('Combined Gradation'!$S$21=\"\",\"\",'Combined Gradation'!$S$21)","v":"Bin No.8 "},{"$f":"IF('Combined Gradation'!$T$34=\"\",\"\",'Combined Gradation'!$T$34)","v":"Wtd Cum. %"},{"$f":"IF('Combined Gradation'!$B$34=\"\",\"\",'Combined Gradation'!$B$34)","v":"Sieve Size:"},{"$f":"IF('Combined Gradation'!$B$36=\"\",\"\",'Combined Gradation'!$B$36)","v":"3/4\""}]
[1430,{"$f":"IF('Combined Gradation'!$U$36=\"\",\"\",'Combined Gradation'!$U$36)","v":""},{"$f":"IF('Combined Gradation'!$B$5=\"\",\"\",'Combined Gradation'!$B$5)","v":"2014 HMACP MIXTURE DESIGN : COMBINED GRADATION"},{"$f":"IF('Combined Gradation'!$U$21=\"\",\"\",'Combined Gradation'!$U$21)","v":"Bin No.9 "},{"$f":"IF('Combined Gradation'!$U$34=\"\",\"\",'Combined Gradation'!$U$34)","v":"Cum.% Passing"},{"$f":"IF('Combined Gradation'!$B$34=\"\",\"\",'Combined Gradation'!$B$34)","v":"Sieve Size:"},{"$f":"IF('Combined Gradation'!$B$36=\"\",\"\",'Combined Gradation'!$B$36)","v":"3/4\""}]
[1431,{"$f":"IF('Combined Gradation'!$V$36=\"\",\"\",'Combined Gradation'!$V$36)","v":""},{"$f":"IF('Combined Gradation'!$B$5=\"\",\"\",'Combined Gradation'!$B$5)","v":"2014 HMACP MIXTURE DESIGN : COMBINED GRADATION"},{"$f":"IF('Combined Gradation'!$U$21=\"\",\"\",'Combined Gradation'!$U$21)","v":"Bin No.9 "},{"$f":"IF('Combined Gradation'!$V$34=\"\",\"\",'Combined Gradation'!$V$34)","v":"Wtd Cum. %"},{"$f":"IF('Combined Gradation'!$B$34=\"\",\"\",'Combined Gradation'!$B$34)","v":"Sieve Size:"},{"$f":"IF('Combined Gradation'!$B$36=\"\",\"\",'Combined Gradation'!$B$36)","v":"3/4\""}]
[1432,{"$f":"IF('Combined Gradation'!$W$36=\"\",\"\",'Combined Gradation'!$W$36)","v":""},{"$f":"IF('Combined Gradation'!$B$5=\"\",\"\",'Combined Gradation'!$B$5)","v":"2014 HMACP MIXTURE DESIGN : COMBINED GRADATION"},{"$f":"IF('Combined Gradation'!$W$21=\"\",\"\",'Combined Gradation'!$W$21)","v":"Bin No.10 "},{"$f":"IF('Combined Gradation'!$W$34=\"\",\"\",'Combined Gradation'!$W$34)","v":"Cum.% Passing"},{"$f":"IF('Combined Gradation'!$B$34=\"\",\"\",'Combined Gradation'!$B$34)","v":"Sieve Size:"},{"$f":"IF('Combined Gradation'!$B$36=\"\",\"\",'Combined Gradation'!$B$36)","v":"3/4\""}]
[1433,{"$f":"IF('Combined Gradation'!$X$36=\"\",\"\",'Combined Gradation'!$X$36)","v":""},{"$f":"IF('Combined Gradation'!$B$5=\"\",\"\",'Combined Gradation'!$B$5)","v":"2014 HMACP MIXTURE DESIGN : COMBINED GRADATION"},{"$f":"IF('Combined Gradation'!$W$21=\"\",\"\",'Combined Gradation'!$W$21)","v":"Bin No.10 "},{"$f":"IF('Combined Gradation'!$X$34=\"\",\"\",'Combined Gradation'!$X$34)","v":"Wtd Cum. %"},{"$f":"IF('Combined Gradation'!$B$34=\"\",\"\",'Combined Gradation'!$B$34)","v":"Sieve Size:"},{"$f":"IF('Combined Gradation'!$B$36=\"\",\"\",'Combined Gradation'!$B$36)","v":"3/4\""}]
[1434,{"$f":"IF('Combined Gradation'!$S$37=\"\",\"\",'Combined Gradation'!$S$37)","v":""},{"$f":"IF('Combined Gradation'!$B$5=\"\",\"\",'Combined Gradation'!$B$5)","v":"2014 HMACP MIXTURE DESIGN : COMBINED GRADATION"},{"$f":"IF('Combined Gradation'!$S$21=\"\",\"\",'Combined Gradation'!$S$21)","v":"Bin No.8 "},{"$f":"IF('Combined Gradation'!$S$34=\"\",\"\",'Combined Gradation'!$S$34)","v":"Cum.% Passing"},{"$f":"IF('Combined Gradation'!$B$34=\"\",\"\",'Combined Gradation'!$B$34)","v":"Sieve Size:"},{"$f":"IF('Combined Gradation'!$B$37=\"\",\"\",'Combined Gradation'!$B$37)","v":"1/2\""}]
[1435,{"$f":"IF('Combined Gradation'!$T$37=\"\",\"\",'Combined Gradation'!$T$37)","v":""},{"$f":"IF('Combined Gradation'!$B$5=\"\",\"\",'Combined Gradation'!$B$5)","v":"2014 HMACP MIXTURE DESIGN : COMBINED GRADATION"},{"$f":"IF('Combined Gradation'!$S$21=\"\",\"\",'Combined Gradation'!$S$21)","v":"Bin No.8 "},{"$f":"IF('Combined Gradation'!$T$34=\"\",\"\",'Combined Gradation'!$T$34)","v":"Wtd Cum. %"},{"$f":"IF('Combined Gradation'!$B$34=\"\",\"\",'Combined Gradation'!$B$34)","v":"Sieve Size:"},{"$f":"IF('Combined Gradation'!$B$37=\"\",\"\",'Combined Gradation'!$B$37)","v":"1/2\""}]
[1436,{"$f":"IF('Combined Gradation'!$U$37=\"\",\"\",'Combined Gradation'!$U$37)","v":""},{"$f":"IF('Combined Gradation'!$B$5=\"\",\"\",'Combined Gradation'!$B$5)","v":"2014 HMACP MIXTURE DESIGN : COMBINED GRADATION"},{"$f":"IF('Combined Gradation'!$U$21=\"\",\"\",'Combined Gradation'!$U$21)","v":"Bin No.9 "},{"$f":"IF('Combined Gradation'!$U$34=\"\",\"\",'Combined Gradation'!$U$34)","v":"Cum.% Passing"},{"$f":"IF('Combined Gradation'!$B$34=\"\",\"\",'Combined Gradation'!$B$34)","v":"Sieve Size:"},{"$f":"IF('Combined Gradation'!$B$37=\"\",\"\",'Combined Gradation'!$B$37)","v":"1/2\""}]
[1437,{"$f":"IF('Combined Gradation'!$V$37=\"\",\"\",'Combined Gradation'!$V$37)","v":""},{"$f":"IF('Combined Gradation'!$B$5=\"\",\"\",'Combined Gradation'!$B$5)","v":"2014 HMACP MIXTURE DESIGN : COMBINED GRADATION"},{"$f":"IF('Combined Gradation'!$U$21=\"\",\"\",'Combined Gradation'!$U$21)","v":"Bin No.9 "},{"$f":"IF('Combined Gradation'!$V$34=\"\",\"\",'Combined Gradation'!$V$34)","v":"Wtd Cum. %"},{"$f":"IF('Combined Gradation'!$B$34=\"\",\"\",'Combined Gradation'!$B$34)","v":"Sieve Size:"},{"$f":"IF('Combined Gradation'!$B$37=\"\",\"\",'Combined Gradation'!$B$37)","v":"1/2\""}]
[1438,{"$f":"IF('Combined Gradation'!$W$37=\"\",\"\",'Combined Gradation'!$W$37)","v":""},{"$f":"IF('Combined Gradation'!$B$5=\"\",\"\",'Combined Gradation'!$B$5)","v":"2014 HMACP MIXTURE DESIGN : COMBINED GRADATION"},{"$f":"IF('Combined Gradation'!$W$21=\"\",\"\",'Combined Gradation'!$W$21)","v":"Bin No.10 "},{"$f":"IF('Combined Gradation'!$W$34=\"\",\"\",'Combined Gradation'!$W$34)","v":"Cum.% Passing"},{"$f":"IF('Combined Gradation'!$B$34=\"\",\"\",'Combined Gradation'!$B$34)","v":"Sieve Size:"},{"$f":"IF('Combined Gradation'!$B$37=\"\",\"\",'Combined Gradation'!$B$37)","v":"1/2\""}]
[1439,{"$f":"IF('Combined Gradation'!$X$37=\"\",\"\",'Combined Gradation'!$X$37)","v":""},{"$f":"IF('Combined Gradation'!$B$5=\"\",\"\",'Combined Gradation'!$B$5)","v":"2014 HMACP MIXTURE DESIGN : COMBINED GRADATION"},{"$f":"IF('Combined Gradation'!$W$21=\"\",\"\",'Combined Gradation'!$W$21)","v":"Bin No.10 "},{"$f":"IF('Combined Gradation'!$X$34=\"\",\"\",'Combined Gradation'!$X$34)","v":"Wtd Cum. %"},{"$f":"IF('Combined Gradation'!$B$34=\"\",\"\",'Combined Gradation'!$B$34)","v":"Sieve Size:"},{"$f":"IF('Combined Gradation'!$B$37=\"\",\"\",'Combined Gradation'!$B$37)","v":"1/2\""}]
[1440,{"$f":"IF('Combined Gradation'!$S$38=\"\",\"\",'Combined Gradation'!$S$38)","v":""},{"$f":"IF('Combined Gradation'!$B$5=\"\",\"\",'Combined Gradation'!$B$5)","v":"2014 HMACP MIXTURE DESIGN : COMBINED GRADATION"},{"$f":"IF('Combined Gradation'!$S$21=\"\",\"\",'Combined Gradation'!$S$21)","v":"Bin No.8 "},{"$f":"IF('Combined Gradation'!$S$34=\"\",\"\",'Combined Gradation'!$S$34)","v":"Cum.% Passing"},{"$f":"IF('Combined Gradation'!$B$34=\"\",\"\",'Combined Gradation'!$B$34)","v":"Sieve Size:"},{"$f":"IF('Combined Gradation'!$B$38=\"\",\"\",'Combined Gradation'!$B$38)","v":"3/8\""}]
[1441,{"$f":"IF('Combined Gradation'!$T$38=\"\",\"\",'Combined Gradation'!$T$38)","v":""},{"$f":"IF('Combined Gradation'!$B$5=\"\",\"\",'Combined Gradation'!$B$5)","v":"2014 HMACP MIXTURE DESIGN : COMBINED GRADATION"},{"$f":"IF('Combined Gradation'!$S$21=\"\",\"\",'Combined Gradation'!$S$21)","v":"Bin No.8 "},{"$f":"IF('Combined Gradation'!$T$34=\"\",\"\",'Combined Gradation'!$T$34)","v":"Wtd Cum. %"},{"$f":"IF('Combined Gradation'!$B$34=\"\",\"\",'Combined Gradation'!$B$34)","v":"Sieve Size:"},{"$f":"IF('Combined Gradation'!$B$38=\"\",\"\",'Combined Gradation'!$B$38)","v":"3/8\""}]
[1442,{"$f":"IF('Combined Gradation'!$U$38=\"\",\"\",'Combined Gradation'!$U$38)","v":""},{"$f":"IF('Combined Gradation'!$B$5=\"\",\"\",'Combined Gradation'!$B$5)","v":"2014 HMACP MIXTURE DESIGN : COMBINED GRADATION"},{"$f":"IF('Combined Gradation'!$U$21=\"\",\"\",'Combined Gradation'!$U$21)","v":"Bin No.9 "},{"$f":"IF('Combined Gradation'!$U$34=\"\",\"\",'Combined Gradation'!$U$34)","v":"Cum.% Passing"},{"$f":"IF('Combined Gradation'!$B$34=\"\",\"\",'Combined Gradation'!$B$34)","v":"Sieve Size:"},{"$f":"IF('Combined Gradation'!$B$38=\"\",\"\",'Combined Gradation'!$B$38)","v":"3/8\""}]
[1443,{"$f":"IF('Combined Gradation'!$V$38=\"\",\"\",'Combined Gradation'!$V$38)","v":""},{"$f":"IF('Combined Gradation'!$B$5=\"\",\"\",'Combined Gradation'!$B$5)","v":"2014 HMACP MIXTURE DESIGN : COMBINED GRADATION"},{"$f":"IF('Combined Gradation'!$U$21=\"\",\"\",'Combined Gradation'!$U$21)","v":"Bin No.9 "},{"$f":"IF('Combined Gradation'!$V$34=\"\",\"\",'Combined Gradation'!$V$34)","v":"Wtd Cum. %"},{"$f":"IF('Combined Gradation'!$B$34=\"\",\"\",'Combined Gradation'!$B$34)","v":"Sieve Size:"},{"$f":"IF('Combined Gradation'!$B$38=\"\",\"\",'Combined Gradation'!$B$38)","v":"3/8\""}]
[1444,{"$f":"IF('Combined Gradation'!$W$38=\"\",\"\",'Combined Gradation'!$W$38)","v":""},{"$f":"IF('Combined Gradation'!$B$5=\"\",\"\",'Combined Gradation'!$B$5)","v":"2014 HMACP MIXTURE DESIGN : COMBINED GRADATION"},{"$f":"IF('Combined Gradation'!$W$21=\"\",\"\",'Combined Gradation'!$W$21)","v":"Bin No.10 "},{"$f":"IF('Combined Gradation'!$W$34=\"\",\"\",'Combined Gradation'!$W$34)","v":"Cum.% Passing"},{"$f":"IF('Combined Gradation'!$B$34=\"\",\"\",'Combined Gradation'!$B$34)","v":"Sieve Size:"},{"$f":"IF('Combined Gradation'!$B$38=\"\",\"\",'Combined Gradation'!$B$38)","v":"3/8\""}]
[1445,{"$f":"IF('Combined Gradation'!$X$38=\"\",\"\",'Combined Gradation'!$X$38)","v":""},{"$f":"IF('Combined Gradation'!$B$5=\"\",\"\",'Combined Gradation'!$B$5)","v":"2014 HMACP MIXTURE DESIGN : COMBINED GRADATION"},{"$f":"IF('Combined Gradation'!$W$21=\"\",\"\",'Combined Gradation'!$W$21)","v":"Bin No.10 "},{"$f":"IF('Combined Gradation'!$X$34=\"\",\"\",'Combined Gradation'!$X$34)","v":"Wtd Cum. %"},{"$f":"IF('Combined Gradation'!$B$34=\"\",\"\",'Combined Gradation'!$B$34)","v":"Sieve Size:"},{"$f":"IF('Combined Gradation'!$B$38=\"\",\"\",'Combined Gradation'!$B$38)","v":"3/8\""}]
[1446,{"$f":"IF('Combined Gradation'!$S$39=\"\",\"\",'Combined Gradation'!$S$39)","v":""},{"$f":"IF('Combined Gradation'!$B$5=\"\",\"\",'Combined Gradation'!$B$5)","v":"2014 HMACP MIXTURE DESIGN : COMBINED GRADATION"},{"$f":"IF('Combined Gradation'!$S$21=\"\",\"\",'Combined Gradation'!$S$21)","v":"Bin No.8 "},{"$f":"IF('Combined Gradation'!$S$34=\"\",\"\",'Combined Gradation'!$S$34)","v":"Cum.% Passing"},{"$f":"IF('Combined Gradation'!$B$34=\"\",\"\",'Combined Gradation'!$B$34)","v":"Sieve Size:"},{"$f":"IF('Combined Gradation'!$B$39=\"\",\"\",'Combined Gradation'!$B$39)","v":"No. 4"}]
[1447,{"$f":"IF('Combined Gradation'!$T$39=\"\",\"\",'Combined Gradation'!$T$39)","v":""},{"$f":"IF('Combined Gradation'!$B$5=\"\",\"\",'Combined Gradation'!$B$5)","v":"2014 HMACP MIXTURE DESIGN : COMBINED GRADATION"},{"$f":"IF('Combined Gradation'!$S$21=\"\",\"\",'Combined Gradation'!$S$21)","v":"Bin No.8 "},{"$f":"IF('Combined Gradation'!$T$34=\"\",\"\",'Combined Gradation'!$T$34)","v":"Wtd Cum. %"},{"$f":"IF('Combined Gradation'!$B$34=\"\",\"\",'Combined Gradation'!$B$34)","v":"Sieve Size:"},{"$f":"IF('Combined Gradation'!$B$39=\"\",\"\",'Combined Gradation'!$B$39)","v":"No. 4"}]
[1448,{"$f":"IF('Combined Gradation'!$U$39=\"\",\"\",'Combined Gradation'!$U$39)","v":""},{"$f":"IF('Combined Gradation'!$B$5=\"\",\"\",'Combined Gradation'!$B$5)","v":"2014 HMACP MIXTURE DESIGN : COMBINED GRADATION"},{"$f":"IF('Combined Gradation'!$U$21=\"\",\"\",'Combined Gradation'!$U$21)","v":"Bin No.9 "},{"$f":"IF('Combined Gradation'!$U$34=\"\",\"\",'Combined Gradation'!$U$34)","v":"Cum.% Passing"},{"$f":"IF('Combined Gradation'!$B$34=\"\",\"\",'Combined Gradation'!$B$34)","v":"Sieve Size:"},{"$f":"IF('Combined Gradation'!$B$39=\"\",\"\",'Combined Gradation'!$B$39)","v":"No. 4"}]
[1449,{"$f":"IF('Combined Gradation'!$V$39=\"\",\"\",'Combined Gradation'!$V$39)","v":""},{"$f":"IF('Combined Gradation'!$B$5=\"\",\"\",'Combined Gradation'!$B$5)","v":"2014 HMACP MIXTURE DESIGN : COMBINED GRADATION"},{"$f":"IF('Combined Gradation'!$U$21=\"\",\"\",'Combined Gradation'!$U$21)","v":"Bin No.9 "},{"$f":"IF('Combined Gradation'!$V$34=\"\",\"\",'Combined Gradation'!$V$34)","v":"Wtd Cum. %"},{"$f":"IF('Combined Gradation'!$B$34=\"\",\"\",'Combined Gradation'!$B$34)","v":"Sieve Size:"},{"$f":"IF('Combined Gradation'!$B$39=\"\",\"\",'Combined Gradation'!$B$39)","v":"No. 4"}]
[1450,{"$f":"IF('Combined Gradation'!$W$39=\"\",\"\",'Combined Gradation'!$W$39)","v":""},{"$f":"IF('Combined Gradation'!$B$5=\"\",\"\",'Combined Gradation'!$B$5)","v":"2014 HMACP MIXTURE DESIGN : COMBINED GRADATION"},{"$f":"IF('Combined Gradation'!$W$21=\"\",\"\",'Combined Gradation'!$W$21)","v":"Bin No.10 "},{"$f":"IF('Combined Gradation'!$W$34=\"\",\"\",'Combined Gradation'!$W$34)","v":"Cum.% Passing"},{"$f":"IF('Combined Gradation'!$B$34=\"\",\"\",'Combined Gradation'!$B$34)","v":"Sieve Size:"},{"$f":"IF('Combined Gradation'!$B$39=\"\",\"\",'Combined Gradation'!$B$39)","v":"No. 4"}]
[1451,{"$f":"IF('Combined Gradation'!$X$39=\"\",\"\",'Combined Gradation'!$X$39)","v":""},{"$f":"IF('Combined Gradation'!$B$5=\"\",\"\",'Combined Gradation'!$B$5)","v":"2014 HMACP MIXTURE DESIGN : COMBINED GRADATION"},{"$f":"IF('Combined Gradation'!$W$21=\"\",\"\",'Combined Gradation'!$W$21)","v":"Bin No.10 "},{"$f":"IF('Combined Gradation'!$X$34=\"\",\"\",'Combined Gradation'!$X$34)","v":"Wtd Cum. %"},{"$f":"IF('Combined Gradation'!$B$34=\"\",\"\",'Combined Gradation'!$B$34)","v":"Sieve Size:"},{"$f":"IF('Combined Gradation'!$B$39=\"\",\"\",'Combined Gradation'!$B$39)","v":"No. 4"}]
[1452,{"$f":"IF('Combined Gradation'!$S$40=\"\",\"\",'Combined Gradation'!$S$40)","v":""},{"$f":"IF('Combined Gradation'!$B$5=\"\",\"\",'Combined Gradation'!$B$5)","v":"2014 HMACP MIXTURE DESIGN : COMBINED GRADATION"},{"$f":"IF('Combined Gradation'!$S$21=\"\",\"\",'Combined Gradation'!$S$21)","v":"Bin No.8 "},{"$f":"IF('Combined Gradation'!$S$34=\"\",\"\",'Combined Gradation'!$S$34)","v":"Cum.% Passing"},{"$f":"IF('Combined Gradation'!$B$34=\"\",\"\",'Combined Gradation'!$B$34)","v":"Sieve Size:"},{"$f":"IF('Combined Gradation'!$B$40=\"\",\"\",'Combined Gradation'!$B$40)","v":"No. 8"}]
[1453,{"$f":"IF('Combined Gradation'!$T$40=\"\",\"\",'Combined Gradation'!$T$40)","v":""},{"$f":"IF('Combined Gradation'!$B$5=\"\",\"\",'Combined Gradation'!$B$5)","v":"2014 HMACP MIXTURE DESIGN : COMBINED GRADATION"},{"$f":"IF('Combined Gradation'!$S$21=\"\",\"\",'Combined Gradation'!$S$21)","v":"Bin No.8 "},{"$f":"IF('Combined Gradation'!$T$34=\"\",\"\",'Combined Gradation'!$T$34)","v":"Wtd Cum. %"},{"$f":"IF('Combined Gradation'!$B$34=\"\",\"\",'Combined Gradation'!$B$34)","v":"Sieve Size:"},{"$f":"IF('Combined Gradation'!$B$40=\"\",\"\",'Combined Gradation'!$B$40)","v":"No. 8"}]
[1454,{"$f":"IF('Combined Gradation'!$U$40=\"\",\"\",'Combined Gradation'!$U$40)","v":""},{"$f":"IF('Combined Gradation'!$B$5=\"\",\"\",'Combined Gradation'!$B$5)","v":"2014 HMACP MIXTURE DESIGN : COMBINED GRADATION"},{"$f":"IF('Combined Gradation'!$U$21=\"\",\"\",'Combined Gradation'!$U$21)","v":"Bin No.9 "},{"$f":"IF('Combined Gradation'!$U$34=\"\",\"\",'Combined Gradation'!$U$34)","v":"Cum.% Passing"},{"$f":"IF('Combined Gradation'!$B$34=\"\",\"\",'Combined Gradation'!$B$34)","v":"Sieve Size:"},{"$f":"IF('Combined Gradation'!$B$40=\"\",\"\",'Combined Gradation'!$B$40)","v":"No. 8"}]
[1455,{"$f":"IF('Combined Gradation'!$V$40=\"\",\"\",'Combined Gradation'!$V$40)","v":""},{"$f":"IF('Combined Gradation'!$B$5=\"\",\"\",'Combined Gradation'!$B$5)","v":"2014 HMACP MIXTURE DESIGN : COMBINED GRADATION"},{"$f":"IF('Combined Gradation'!$U$21=\"\",\"\",'Combined Gradation'!$U$21)","v":"Bin No.9 "},{"$f":"IF('Combined Gradation'!$V$34=\"\",\"\",'Combined Gradation'!$V$34)","v":"Wtd Cum. %"},{"$f":"IF('Combined Gradation'!$B$34=\"\",\"\",'Combined Gradation'!$B$34)","v":"Sieve Size:"},{"$f":"IF('Combined Gradation'!$B$40=\"\",\"\",'Combined Gradation'!$B$40)","v":"No. 8"}]
[1456,{"$f":"IF('Combined Gradation'!$W$40=\"\",\"\",'Combined Gradation'!$W$40)","v":""},{"$f":"IF('Combined Gradation'!$B$5=\"\",\"\",'Combined Gradation'!$B$5)","v":"2014 HMACP MIXTURE DESIGN : COMBINED GRADATION"},{"$f":"IF('Combined Gradation'!$W$21=\"\",\"\",'Combined Gradation'!$W$21)","v":"Bin No.10 "},{"$f":"IF('Combined Gradation'!$W$34=\"\",\"\",'Combined Gradation'!$W$34)","v":"Cum.% Passing"},{"$f":"IF('Combined Gradation'!$B$34=\"\",\"\",'Combined Gradation'!$B$34)","v":"Sieve Size:"},{"$f":"IF('Combined Gradation'!$B$40=\"\",\"\",'Combined Gradation'!$B$40)","v":"No. 8"}]
[1457,{"$f":"IF('Combined Gradation'!$X$40=\"\",\"\",'Combined Gradation'!$X$40)","v":""},{"$f":"IF('Combined Gradation'!$B$5=\"\",\"\",'Combined Gradation'!$B$5)","v":"2014 HMACP MIXTURE DESIGN : COMBINED GRADATION"},{"$f":"IF('Combined Gradation'!$W$21=\"\",\"\",'Combined Gradation'!$W$21)","v":"Bin No.10 "},{"$f":"IF('Combined Gradation'!$X$34=\"\",\"\",'Combined Gradation'!$X$34)","v":"Wtd Cum. %"},{"$f":"IF('Combined Gradation'!$B$34=\"\",\"\",'Combined Gradation'!$B$34)","v":"Sieve Size:"},{"$f":"IF('Combined Gradation'!$B$40=\"\",\"\",'Combined Gradation'!$B$40)","v":"No. 8"}]
[1458,{"$f":"IF('Combined Gradation'!$S$41=\"\",\"\",'Combined Gradation'!$S$41)","v":""},{"$f":"IF('Combined Gradation'!$B$5=\"\",\"\",'Combined Gradation'!$B$5)","v":"2014 HMACP MIXTURE DESIGN : COMBINED GRADATION"},{"$f":"IF('Combined Gradation'!$S$21=\"\",\"\",'Combined Gradation'!$S$21)","v":"Bin No.8 "},{"$f":"IF('Combined Gradation'!$S$34=\"\",\"\",'Combined Gradation'!$S$34)","v":"Cum.% Passing"},{"$f":"IF('Combined Gradation'!$B$34=\"\",\"\",'Combined Gradation'!$B$34)","v":"Sieve Size:"},{"$f":"IF('Combined Gradation'!$B$41=\"\",\"\",'Combined Gradation'!$B$41)","v":"No. 16"}]
[1459,{"$f":"IF('Combined Gradation'!$T$41=\"\",\"\",'Combined Gradation'!$T$41)","v":""},{"$f":"IF('Combined Gradation'!$B$5=\"\",\"\",'Combined Gradation'!$B$5)","v":"2014 HMACP MIXTURE DESIGN : COMBINED GRADATION"},{"$f":"IF('Combined Gradation'!$S$21=\"\",\"\",'Combined Gradation'!$S$21)","v":"Bin No.8 "},{"$f":"IF('Combined Gradation'!$T$34=\"\",\"\",'Combined Gradation'!$T$34)","v":"Wtd Cum. %"},{"$f":"IF('Combined Gradation'!$B$34=\"\",\"\",'Combined Gradation'!$B$34)","v":"Sieve Size:"},{"$f":"IF('Combined Gradation'!$B$41=\"\",\"\",'Combined Gradation'!$B$41)","v":"No. 16"}]
[1460,{"$f":"IF('Combined Gradation'!$U$41=\"\",\"\",'Combined Gradation'!$U$41)","v":""},{"$f":"IF('Combined Gradation'!$B$5=\"\",\"\",'Combined Gradation'!$B$5)","v":"2014 HMACP MIXTURE DESIGN : COMBINED GRADATION"},{"$f":"IF('Combined Gradation'!$U$21=\"\",\"\",'Combined Gradation'!$U$21)","v":"Bin No.9 "},{"$f":"IF('Combined Gradation'!$U$34=\"\",\"\",'Combined Gradation'!$U$34)","v":"Cum.% Passing"},{"$f":"IF('Combined Gradation'!$B$34=\"\",\"\",'Combined Gradation'!$B$34)","v":"Sieve Size:"},{"$f":"IF('Combined Gradation'!$B$41=\"\",\"\",'Combined Gradation'!$B$41)","v":"No. 16"}]
[1461,{"$f":"IF('Combined Gradation'!$V$41=\"\",\"\",'Combined Gradation'!$V$41)","v":""},{"$f":"IF('Combined Gradation'!$B$5=\"\",\"\",'Combined Gradation'!$B$5)","v":"2014 HMACP MIXTURE DESIGN : COMBINED GRADATION"},{"$f":"IF('Combined Gradation'!$U$21=\"\",\"\",'Combined Gradation'!$U$21)","v":"Bin No.9 "},{"$f":"IF('Combined Gradation'!$V$34=\"\",\"\",'Combined Gradation'!$V$34)","v":"Wtd Cum. %"},{"$f":"IF('Combined Gradation'!$B$34=\"\",\"\",'Combined Gradation'!$B$34)","v":"Sieve Size:"},{"$f":"IF('Combined Gradation'!$B$41=\"\",\"\",'Combined Gradation'!$B$41)","v":"No. 16"}]
[1462,{"$f":"IF('Combined Gradation'!$W$41=\"\",\"\",'Combined Gradation'!$W$41)","v":""},{"$f":"IF('Combined Gradation'!$B$5=\"\",\"\",'Combined Gradation'!$B$5)","v":"2014 HMACP MIXTURE DESIGN : COMBINED GRADATION"},{"$f":"IF('Combined Gradation'!$W$21=\"\",\"\",'Combined Gradation'!$W$21)","v":"Bin No.10 "},{"$f":"IF('Combined Gradation'!$W$34=\"\",\"\",'Combined Gradation'!$W$34)","v":"Cum.% Passing"},{"$f":"IF('Combined Gradation'!$B$34=\"\",\"\",'Combined Gradation'!$B$34)","v":"Sieve Size:"},{"$f":"IF('Combined Gradation'!$B$41=\"\",\"\",'Combined Gradation'!$B$41)","v":"No. 16"}]
[1463,{"$f":"IF('Combined Gradation'!$X$41=\"\",\"\",'Combined Gradation'!$X$41)","v":""},{"$f":"IF('Combined Gradation'!$B$5=\"\",\"\",'Combined Gradation'!$B$5)","v":"2014 HMACP MIXTURE DESIGN : COMBINED GRADATION"},{"$f":"IF('Combined Gradation'!$W$21=\"\",\"\",'Combined Gradation'!$W$21)","v":"Bin No.10 "},{"$f":"IF('Combined Gradation'!$X$34=\"\",\"\",'Combined Gradation'!$X$34)","v":"Wtd Cum. %"},{"$f":"IF('Combined Gradation'!$B$34=\"\",\"\",'Combined Gradation'!$B$34)","v":"Sieve Size:"},{"$f":"IF('Combined Gradation'!$B$41=\"\",\"\",'Combined Gradation'!$B$41)","v":"No. 16"}]
[1464,{"$f":"IF('Combined Gradation'!$S$42=\"\",\"\",'Combined Gradation'!$S$42)","v":""},{"$f":"IF('Combined Gradation'!$B$5=\"\",\"\",'Combined Gradation'!$B$5)","v":"2014 HMACP MIXTURE DESIGN : COMBINED GRADATION"},{"$f":"IF('Combined Gradation'!$S$21=\"\",\"\",'Combined Gradation'!$S$21)","v":"Bin No.8 "},{"$f":"IF('Combined Gradation'!$S$34=\"\",\"\",'Combined Gradation'!$S$34)","v":"Cum.% Passing"},{"$f":"IF('Combined Gradation'!$B$34=\"\",\"\",'Combined Gradation'!$B$34)","v":"Sieve Size:"},{"$f":"IF('Combined Gradation'!$B$42=\"\",\"\",'Combined Gradation'!$B$42)","v":"No. 30"}]
[1465,{"$f":"IF('Combined Gradation'!$T$42=\"\",\"\",'Combined Gradation'!$T$42)","v":""},{"$f":"IF('Combined Gradation'!$B$5=\"\",\"\",'Combined Gradation'!$B$5)","v":"2014 HMACP MIXTURE DESIGN : COMBINED GRADATION"},{"$f":"IF('Combined Gradation'!$S$21=\"\",\"\",'Combined Gradation'!$S$21)","v":"Bin No.8 "},{"$f":"IF('Combined Gradation'!$T$34=\"\",\"\",'Combined Gradation'!$T$34)","v":"Wtd Cum. %"},{"$f":"IF('Combined Gradation'!$B$34=\"\",\"\",'Combined Gradation'!$B$34)","v":"Sieve Size:"},{"$f":"IF('Combined Gradation'!$B$42=\"\",\"\",'Combined Gradation'!$B$42)","v":"No. 30"}]
[1466,{"$f":"IF('Combined Gradation'!$U$42=\"\",\"\",'Combined Gradation'!$U$42)","v":""},{"$f":"IF('Combined Gradation'!$B$5=\"\",\"\",'Combined Gradation'!$B$5)","v":"2014 HMACP MIXTURE DESIGN : COMBINED GRADATION"},{"$f":"IF('Combined Gradation'!$U$21=\"\",\"\",'Combined Gradation'!$U$21)","v":"Bin No.9 "},{"$f":"IF('Combined Gradation'!$U$34=\"\",\"\",'Combined Gradation'!$U$34)","v":"Cum.% Passing"},{"$f":"IF('Combined Gradation'!$B$34=\"\",\"\",'Combined Gradation'!$B$34)","v":"Sieve Size:"},{"$f":"IF('Combined Gradation'!$B$42=\"\",\"\",'Combined Gradation'!$B$42)","v":"No. 30"}]
[1467,{"$f":"IF('Combined Gradation'!$V$42=\"\",\"\",'Combined Gradation'!$V$42)","v":""},{"$f":"IF('Combined Gradation'!$B$5=\"\",\"\",'Combined Gradation'!$B$5)","v":"2014 HMACP MIXTURE DESIGN : COMBINED GRADATION"},{"$f":"IF('Combined Gradation'!$U$21=\"\",\"\",'Combined Gradation'!$U$21)","v":"Bin No.9 "},{"$f":"IF('Combined Gradation'!$V$34=\"\",\"\",'Combined Gradation'!$V$34)","v":"Wtd Cum. %"},{"$f":"IF('Combined Gradation'!$B$34=\"\",\"\",'Combined Gradation'!$B$34)","v":"Sieve Size:"},{"$f":"IF('Combined Gradation'!$B$42=\"\",\"\",'Combined Gradation'!$B$42)","v":"No. 30"}]
[1468,{"$f":"IF('Combined Gradation'!$W$42=\"\",\"\",'Combined Gradation'!$W$42)","v":""},{"$f":"IF('Combined Gradation'!$B$5=\"\",\"\",'Combined Gradation'!$B$5)","v":"2014 HMACP MIXTURE DESIGN : COMBINED GRADATION"},{"$f":"IF('Combined Gradation'!$W$21=\"\",\"\",'Combined Gradation'!$W$21)","v":"Bin No.10 "},{"$f":"IF('Combined Gradation'!$W$34=\"\",\"\",'Combined Gradation'!$W$34)","v":"Cum.% Passing"},{"$f":"IF('Combined Gradation'!$B$34=\"\",\"\",'Combined Gradation'!$B$34)","v":"Sieve Size:"},{"$f":"IF('Combined Gradation'!$B$42=\"\",\"\",'Combined Gradation'!$B$42)","v":"No. 30"}]
[1469,{"$f":"IF('Combined Gradation'!$X$42=\"\",\"\",'Combined Gradation'!$X$42)","v":""},{"$f":"IF('Combined Gradation'!$B$5=\"\",\"\",'Combined Gradation'!$B$5)","v":"2014 HMACP MIXTURE DESIGN : COMBINED GRADATION"},{"$f":"IF('Combined Gradation'!$W$21=\"\",\"\",'Combined Gradation'!$W$21)","v":"Bin No.10 "},{"$f":"IF('Combined Gradation'!$X$34=\"\",\"\",'Combined Gradation'!$X$34)","v":"Wtd Cum. %"},{"$f":"IF('Combined Gradation'!$B$34=\"\",\"\",'Combined Gradation'!$B$34)","v":"Sieve Size:"},{"$f":"IF('Combined Gradation'!$B$42=\"\",\"\",'Combined Gradation'!$B$42)","v":"No. 30"}]
[1470,{"$f":"IF('Combined Gradation'!$S$43=\"\",\"\",'Combined Gradation'!$S$43)","v":""},{"$f":"IF('Combined Gradation'!$B$5=\"\",\"\",'Combined Gradation'!$B$5)","v":"2014 HMACP MIXTURE DESIGN : COMBINED GRADATION"},{"$f":"IF('Combined Gradation'!$S$21=\"\",\"\",'Combined Gradation'!$S$21)","v":"Bin No.8 "},{"$f":"IF('Combined Gradation'!$S$34=\"\",\"\",'Combined Gradation'!$S$34)","v":"Cum.% Passing"},{"$f":"IF('Combined Gradation'!$B$34=\"\",\"\",'Combined Gradation'!$B$34)","v":"Sieve Size:"},{"$f":"IF('Combined Gradation'!$B$43=\"\",\"\",'Combined Gradation'!$B$43)","v":"No. 50"}]
[1471,{"$f":"IF('Combined Gradation'!$T$43=\"\",\"\",'Combined Gradation'!$T$43)","v":""},{"$f":"IF('Combined Gradation'!$B$5=\"\",\"\",'Combined Gradation'!$B$5)","v":"2014 HMACP MIXTURE DESIGN : COMBINED GRADATION"},{"$f":"IF('Combined Gradation'!$S$21=\"\",\"\",'Combined Gradation'!$S$21)","v":"Bin No.8 "},{"$f":"IF('Combined Gradation'!$T$34=\"\",\"\",'Combined Gradation'!$T$34)","v":"Wtd Cum. %"},{"$f":"IF('Combined Gradation'!$B$34=\"\",\"\",'Combined Gradation'!$B$34)","v":"Sieve Size:"},{"$f":"IF('Combined Gradation'!$B$43=\"\",\"\",'Combined Gradation'!$B$43)","v":"No. 50"}]
[1472,{"$f":"IF('Combined Gradation'!$U$43=\"\",\"\",'Combined Gradation'!$U$43)","v":""},{"$f":"IF('Combined Gradation'!$B$5=\"\",\"\",'Combined Gradation'!$B$5)","v":"2014 HMACP MIXTURE DESIGN : COMBINED GRADATION"},{"$f":"IF('Combined Gradation'!$U$21=\"\",\"\",'Combined Gradation'!$U$21)","v":"Bin No.9 "},{"$f":"IF('Combined Gradation'!$U$34=\"\",\"\",'Combined Gradation'!$U$34)","v":"Cum.% Passing"},{"$f":"IF('Combined Gradation'!$B$34=\"\",\"\",'Combined Gradation'!$B$34)","v":"Sieve Size:"},{"$f":"IF('Combined Gradation'!$B$43=\"\",\"\",'Combined Gradation'!$B$43)","v":"No. 50"}]
[1473,{"$f":"IF('Combined Gradation'!$V$43=\"\",\"\",'Combined Gradation'!$V$43)","v":""},{"$f":"IF('Combined Gradation'!$B$5=\"\",\"\",'Combined Gradation'!$B$5)","v":"2014 HMACP MIXTURE DESIGN : COMBINED GRADATION"},{"$f":"IF('Combined Gradation'!$U$21=\"\",\"\",'Combined Gradation'!$U$21)","v":"Bin No.9 "},{"$f":"IF('Combined Gradation'!$V$34=\"\",\"\",'Combined Gradation'!$V$34)","v":"Wtd Cum. %"},{"$f":"IF('Combined Gradation'!$B$34=\"\",\"\",'Combined Gradation'!$B$34)","v":"Sieve Size:"},{"$f":"IF('Combined Gradation'!$B$43=\"\",\"\",'Combined Gradation'!$B$43)","v":"No. 50"}]
[1474,{"$f":"IF('Combined Gradation'!$W$43=\"\",\"\",'Combined Gradation'!$W$43)","v":""},{"$f":"IF('Combined Gradation'!$B$5=\"\",\"\",'Combined Gradation'!$B$5)","v":"2014 HMACP MIXTURE DESIGN : COMBINED GRADATION"},{"$f":"IF('Combined Gradation'!$W$21=\"\",\"\",'Combined Gradation'!$W$21)","v":"Bin No.10 "},{"$f":"IF('Combined Gradation'!$W$34=\"\",\"\",'Combined Gradation'!$W$34)","v":"Cum.% Passing"},{"$f":"IF('Combined Gradation'!$B$34=\"\",\"\",'Combined Gradation'!$B$34)","v":"Sieve Size:"},{"$f":"IF('Combined Gradation'!$B$43=\"\",\"\",'Combined Gradation'!$B$43)","v":"No. 50"}]
[1475,{"$f":"IF('Combined Gradation'!$X$43=\"\",\"\",'Combined Gradation'!$X$43)","v":""},{"$f":"IF('Combined Gradation'!$B$5=\"\",\"\",'Combined Gradation'!$B$5)","v":"2014 HMACP MIXTURE DESIGN : COMBINED GRADATION"},{"$f":"IF('Combined Gradation'!$W$21=\"\",\"\",'Combined Gradation'!$W$21)","v":"Bin No.10 "},{"$f":"IF('Combined Gradation'!$X$34=\"\",\"\",'Combined Gradation'!$X$34)","v":"Wtd Cum. %"},{"$f":"IF('Combined Gradation'!$B$34=\"\",\"\",'Combined Gradation'!$B$34)","v":"Sieve Size:"},{"$f":"IF('Combined Gradation'!$B$43=\"\",\"\",'Combined Gradation'!$B$43)","v":"No. 50"}]
[1476,{"$f":"IF('Combined Gradation'!$S$44=\"\",\"\",'Combined Gradation'!$S$44)","v":""},{"$f":"IF('Combined Gradation'!$B$5=\"\",\"\",'Combined Gradation'!$B$5)","v":"2014 HMACP MIXTURE DESIGN : COMBINED GRADATION"},{"$f":"IF('Combined Gradation'!$S$21=\"\",\"\",'Combined Gradation'!$S$21)","v":"Bin No.8 "},{"$f":"IF('Combined Gradation'!$S$34=\"\",\"\",'Combined Gradation'!$S$34)","v":"Cum.% Passing"},{"$f":"IF('Combined Gradation'!$B$34=\"\",\"\",'Combined Gradation'!$B$34)","v":"Sieve Size:"},{"$f":"IF('Combined Gradation'!$B$44=\"\",\"\",'Combined Gradation'!$B$44)","v":"No. 200"}]
[1477,{"$f":"IF('Combined Gradation'!$T$44=\"\",\"\",'Combined Gradation'!$T$44)","v":""},{"$f":"IF('Combined Gradation'!$B$5=\"\",\"\",'Combined Gradation'!$B$5)","v":"2014 HMACP MIXTURE DESIGN : COMBINED GRADATION"},{"$f":"IF('Combined Gradation'!$S$21=\"\",\"\",'Combined Gradation'!$S$21)","v":"Bin No.8 "},{"$f":"IF('Combined Gradation'!$T$34=\"\",\"\",'Combined Gradation'!$T$34)","v":"Wtd Cum. %"},{"$f":"IF('Combined Gradation'!$B$34=\"\",\"\",'Combined Gradation'!$B$34)","v":"Sieve Size:"},{"$f":"IF('Combined Gradation'!$B$44=\"\",\"\",'Combined Gradation'!$B$44)","v":"No. 200"}]
[1478,{"$f":"IF('Combined Gradation'!$U$44=\"\",\"\",'Combined Gradation'!$U$44)","v":""},{"$f":"IF('Combined Gradation'!$B$5=\"\",\"\",'Combined Gradation'!$B$5)","v":"2014 HMACP MIXTURE DESIGN : COMBINED GRADATION"},{"$f":"IF('Combined Gradation'!$U$21=\"\",\"\",'Combined Gradation'!$U$21)","v":"Bin No.9 "},{"$f":"IF('Combined Gradation'!$U$34=\"\",\"\",'Combined Gradation'!$U$34)","v":"Cum.% Passing"},{"$f":"IF('Combined Gradation'!$B$34=\"\",\"\",'Combined Gradation'!$B$34)","v":"Sieve Size:"},{"$f":"IF('Combined Gradation'!$B$44=\"\",\"\",'Combined Gradation'!$B$44)","v":"No. 200"}]
[1479,{"$f":"IF('Combined Gradation'!$V$44=\"\",\"\",'Combined Gradation'!$V$44)","v":""},{"$f":"IF('Combined Gradation'!$B$5=\"\",\"\",'Combined Gradation'!$B$5)","v":"2014 HMACP MIXTURE DESIGN : COMBINED GRADATION"},{"$f":"IF('Combined Gradation'!$U$21=\"\",\"\",'Combined Gradation'!$U$21)","v":"Bin No.9 "},{"$f":"IF('Combined Gradation'!$V$34=\"\",\"\",'Combined Gradation'!$V$34)","v":"Wtd Cum. %"},{"$f":"IF('Combined Gradation'!$B$34=\"\",\"\",'Combined Gradation'!$B$34)","v":"Sieve Size:"},{"$f":"IF('Combined Gradation'!$B$44=\"\",\"\",'Combined Gradation'!$B$44)","v":"No. 200"}]
[1480,{"$f":"IF('Combined Gradation'!$W$44=\"\",\"\",'Combined Gradation'!$W$44)","v":""},{"$f":"IF('Combined Gradation'!$B$5=\"\",\"\",'Combined Gradation'!$B$5)","v":"2014 HMACP MIXTURE DESIGN : COMBINED GRADATION"},{"$f":"IF('Combined Gradation'!$W$21=\"\",\"\",'Combined Gradation'!$W$21)","v":"Bin No.10 "},{"$f":"IF('Combined Gradation'!$W$34=\"\",\"\",'Combined Gradation'!$W$34)","v":"Cum.% Passing"},{"$f":"IF('Combined Gradation'!$B$34=\"\",\"\",'Combined Gradation'!$B$34)","v":"Sieve Size:"},{"$f":"IF('Combined Gradation'!$B$44=\"\",\"\",'Combined Gradation'!$B$44)","v":"No. 200"}]
[1481,{"$f":"IF('Combined Gradation'!$X$44=\"\",\"\",'Combined Gradation'!$X$44)","v":""},{"$f":"IF('Combined Gradation'!$B$5=\"\",\"\",'Combined Gradation'!$B$5)","v":"2014 HMACP MIXTURE DESIGN : COMBINED GRADATION"},{"$f":"IF('Combined Gradation'!$W$21=\"\",\"\",'Combined Gradation'!$W$21)","v":"Bin No.10 "},{"$f":"IF('Combined Gradation'!$X$34=\"\",\"\",'Combined Gradation'!$X$34)","v":"Wtd Cum. %"},{"$f":"IF('Combined Gradation'!$B$34=\"\",\"\",'Combined Gradation'!$B$34)","v":"Sieve Size:"},{"$f":"IF('Combined Gradation'!$B$44=\"\",\"\",'Combined Gradation'!$B$44)","v":"No. 200"}]
[1482,{"$f":"IF('Combined Gradation'!$E$31=\"\",\"\",'Combined Gradation'!$E$31)","v":""},{"$f":"IF('Combined Gradation'!$B$5=\"\",\"\",'Combined Gradation'!$B$5)","v":"2014 HMACP MIXTURE DESIGN : COMBINED GRADATION"},{"$f":"IF('Combined Gradation'!$B$31=\"\",\"\",'Combined Gradation'!$B$31)","v":"Hydrated Lime?:"},{"$f":"IF('Combined Gradation'!$E$21=\"\",\"\",'Combined Gradation'!$E$21)","v":"Bin No.1"}]
[1483,{"$f":"IF('Combined Gradation'!$G$31=\"\",\"\",'Combined Gradation'!$G$31)","v":""},{"$f":"IF('Combined Gradation'!$B$5=\"\",\"\",'Combined Gradation'!$B$5)","v":"2014 HMACP MIXTURE DESIGN : COMBINED GRADATION"},{"$f":"IF('Combined Gradation'!$B$31=\"\",\"\",'Combined Gradation'!$B$31)","v":"Hydrated Lime?:"},{"$f":"IF('Combined Gradation'!$G$21=\"\",\"\",'Combined Gradation'!$G$21)","v":"Bin No.2"}]
[1484,{"$f":"IF('Combined Gradation'!$I$31=\"\",\"\",'Combined Gradation'!$I$31)","v":""},{"$f":"IF('Combined Gradation'!$B$5=\"\",\"\",'Combined Gradation'!$B$5)","v":"2014 HMACP MIXTURE DESIGN : COMBINED GRADATION"},{"$f":"IF('Combined Gradation'!$B$31=\"\",\"\",'Combined Gradation'!$B$31)","v":"Hydrated Lime?:"},{"$f":"IF('Combined Gradation'!$I$21=\"\",\"\",'Combined Gradation'!$I$21)","v":"Bin No.3"}]
[1485,{"$f":"IF('Combined Gradation'!$K$31=\"\",\"\",'Combined Gradation'!$K$31)","v":""},{"$f":"IF('Combined Gradation'!$B$5=\"\",\"\",'Combined Gradation'!$B$5)","v":"2014 HMACP MIXTURE DESIGN : COMBINED GRADATION"},{"$f":"IF('Combined Gradation'!$B$31=\"\",\"\",'Combined Gradation'!$B$31)","v":"Hydrated Lime?:"},{"$f":"IF('Combined Gradation'!$K$21=\"\",\"\",'Combined Gradation'!$K$21)","v":"Bin No.4"}]
[1486,{"$f":"IF('Combined Gradation'!$M$31=\"\",\"\",'Combined Gradation'!$M$31)","v":""},{"$f":"IF('Combined Gradation'!$B$5=\"\",\"\",'Combined Gradation'!$B$5)","v":"2014 HMACP MIXTURE DESIGN : COMBINED GRADATION"},{"$f":"IF('Combined Gradation'!$B$31=\"\",\"\",'Combined Gradation'!$B$31)","v":"Hydrated Lime?:"},{"$f":"IF('Combined Gradation'!$M$21=\"\",\"\",'Combined Gradation'!$M$21)","v":"Bin No.5"}]
[1487,{"$f":"IF('Combined Gradation'!$O$31=\"\",\"\",'Combined Gradation'!$O$31)","v":""},{"$f":"IF('Combined Gradation'!$B$5=\"\",\"\",'Combined Gradation'!$B$5)","v":"2014 HMACP MIXTURE DESIGN : COMBINED GRADATION"},{"$f":"IF('Combined Gradation'!$B$31=\"\",\"\",'Combined Gradation'!$B$31)","v":"Hydrated Lime?:"},{"$f":"IF('Combined Gradation'!$O$21=\"\",\"\",'Combined Gradation'!$O$21)","v":"Bin No.6 "}]
[1488,{"$f":"IF('Combined Gradation'!$Q$31=\"\",\"\",'Combined Gradation'!$Q$31)","v":""},{"$f":"IF('Combined Gradation'!$B$5=\"\",\"\",'Combined Gradation'!$B$5)","v":"2014 HMACP MIXTURE DESIGN : COMBINED GRADATION"},{"$f":"IF('Combined Gradation'!$B$31=\"\",\"\",'Combined Gradation'!$B$31)","v":"Hydrated Lime?:"},{"$f":"IF('Combined Gradation'!$Q$21=\"\",\"\",'Combined Gradation'!$Q$21)","v":"Bin No.7 "}]
[1489,{"$f":"IF('Combined Gradation'!$AB$24=\"\",\"\",'Combined Gradation'!$AB$24)","v":22.287735849056602},{"$f":"IF('Combined Gradation'!$B$5=\"\",\"\",'Combined Gradation'!$B$5)","v":"2014 HMACP MIXTURE DESIGN : COMBINED GRADATION"},{"$f":"IF('Combined Gradation'!$AA$20=\"\",\"\",'Combined Gradation'!$AA$20)","v":"Ratio of Recycled to Total Binder, %"}]
[1490,{"$f":"IF('Combined Gradation'!$L$46=\"\",\"\",'Combined Gradation'!$L$46)","v":""},{"$f":"IF('Combined Gradation'!$B$5=\"\",\"\",'Combined Gradation'!$B$5)","v":"2014 HMACP MIXTURE DESIGN : COMBINED GRADATION"},{"$f":"IF('Combined Gradation'!$I$46=\"\",\"\",'Combined Gradation'!$I$46)","v":"Binder Substitution?"}]
[1491,{"$f":"IF('Combined Gradation'!$Q$46=\"\",\"\",'Combined Gradation'!$Q$46)","v":"PG 76-22"},{"$f":"IF('Combined Gradation'!$B$5=\"\",\"\",'Combined Gradation'!$B$5)","v":"2014 HMACP MIXTURE DESIGN : COMBINED GRADATION"},{"$f":"IF('Combined Gradation'!$M$46=\"\",\"\",'Combined Gradation'!$M$46)","v":"Binder Originally Specified:"}]
[1492,{"$f":"IF('Combined Gradation'!$V$46=\"\",\"\",'Combined Gradation'!$V$46)","v":""},{"$f":"IF('Combined Gradation'!$B$5=\"\",\"\",'Combined Gradation'!$B$5)","v":"2014 HMACP MIXTURE DESIGN : COMBINED GRADATION"},{"$f":"IF('Combined Gradation'!$S$46=\"\",\"\",'Combined Gradation'!$S$46)","v":"Substitute Binder:"}]
[1493,{"$f":"IF('Matl Properties'!$AE$47=\"\",\"\",'Matl Properties'!$AE$47)","v":0.5},{"$f":"IF('Matl Properties'!$B$4=\"\",\"\",'Matl Properties'!$B$4)","v":"HMACP MIXTURE DESIGN : MATERIAL PROPERTIES"},{"$f":"IF('Matl Properties'!$B$46=\"\",\"\",'Matl Properties'!$B$46)","v":"Recycled Materials"},{"$f":"IF('Matl Properties'!$E$47=\"\",\"\",'Matl Properties'!$E$47)","v":"Tex-217-F, Part III"},{"$f":"IF('Matl Properties'!$F$47=\"\",\"\",'Matl Properties'!$F$47)","v":"Max."},{"$f":"IF('Matl Properties'!$G$25=\"\",\"\",'Matl Properties'!$G$25)","v":"Spec. Limit"}]
[1494,{"$f":"IF('Matl Properties'!$I$47=\"\",\"\",'Matl Properties'!$I$47)","v":""},{"$f":"IF('Matl Properties'!$B$4=\"\",\"\",'Matl Properties'!$B$4)","v":"HMACP MIXTURE DESIGN : MATERIAL PROPERTIES"},{"$f":"IF('Matl Properties'!$B$46=\"\",\"\",'Matl Properties'!$B$46)","v":"Recycled Materials"},{"$f":"IF('Matl Properties'!$E$47=\"\",\"\",'Matl Properties'!$E$47)","v":"Tex-217-F, Part III"},{"$f":"IF('Matl Properties'!$I$46=\"\",\"\",'Matl Properties'!$I$46)","v":"Bin No.8"},{"$f":"IF('Matl Properties'!$I$25=\"\",\"\",'Matl Properties'!$I$25)","v":"Result"}]
[1495,{"$f":"IF('Matl Properties'!$J$47=\"\",\"\",'Matl Properties'!$J$47)","v":""},{"$f":"IF('Matl Properties'!$B$4=\"\",\"\",'Matl Properties'!$B$4)","v":"HMACP MIXTURE DESIGN : MATERIAL PROPERTIES"},{"$f":"IF('Matl Properties'!$B$46=\"\",\"\",'Matl Properties'!$B$46)","v":"Recycled Materials"},{"$f":"IF('Matl Properties'!$E$47=\"\",\"\",'Matl Properties'!$E$47)","v":"Tex-217-F, Part III"},{"$f":"IF('Matl Properties'!$I$46=\"\",\"\",'Matl Properties'!$I$46)","v":"Bin No.8"},{"$f":"IF('Matl Properties'!$J$25=\"\",\"\",'Matl Properties'!$J$25)","v":"Sample ID"}]
[1496,{"$f":"IF('Matl Properties'!$L$47=\"\",\"\",'Matl Properties'!$L$47)","v":""},{"$f":"IF('Matl Properties'!$B$4=\"\",\"\",'Matl Properties'!$B$4)","v":"HMACP MIXTURE DESIGN : MATERIAL PROPERTIES"},{"$f":"IF('Matl Properties'!$B$46=\"\",\"\",'Matl Properties'!$B$46)","v":"Recycled Materials"},{"$f":"IF('Matl Properties'!$E$47=\"\",\"\",'Matl Properties'!$E$47)","v":"Tex-217-F, Part III"},{"$f":"IF('Matl Properties'!$L$46=\"\",\"\",'Matl Properties'!$L$46)","v":"Bin No.9"},{"$f":"IF('Matl Properties'!$I$25=\"\",\"\",'Matl Properties'!$I$25)","v":"Result"}]
[1497,{"$f":"IF('Matl Properties'!$M$47=\"\",\"\",'Matl Properties'!$M$47)","v":""},{"$f":"IF('Matl Properties'!$B$4=\"\",\"\",'Matl Properties'!$B$4)","v":"HMACP MIXTURE DESIGN : MATERIAL PROPERTIES"},{"$f":"IF('Matl Properties'!$B$46=\"\",\"\",'Matl Properties'!$B$46)","v":"Recycled Materials"},{"$f":"IF('Matl Properties'!$E$47=\"\",\"\",'Matl Properties'!$E$47)","v":"Tex-217-F, Part III"},{"$f":"IF('Matl Properties'!$L$46=\"\",\"\",'Matl Properties'!$L$46)","v":"Bin No.9"},{"$f":"IF('Matl Properties'!$J$25=\"\",\"\",'Matl Properties'!$J$25)","v":"Sample ID"}]
[1498,{"$f":"IF('Matl Properties'!$O$47=\"\",\"\",'Matl Properties'!$O$47)","v":""},{"$f":"IF('Matl Properties'!$B$4=\"\",\"\",'Matl Properties'!$B$4)","v":"HMACP MIXTURE DESIGN : MATERIAL PROPERTIES"},{"$f":"IF('Matl Properties'!$B$46=\"\",\"\",'Matl Properties'!$B$46)","v":"Recycled Materials"},{"$f":"IF('Matl Properties'!$E$47=\"\",\"\",'Matl Properties'!$E$47)","v":"Tex-217-F, Part III"},{"$f":"IF('Matl Properties'!$O$46=\"\",\"\",'Matl Properties'!$O$46)","v":"Bin No.10"},{"$f":"IF('Matl Properties'!$I$25=\"\",\"\",'Matl Properties'!$I$25)","v":"Result"}]
[1499,{"$f":"IF('Matl Properties'!$P$47=\"\",\"\",'Matl Properties'!$P$47)","v":""},{"$f":"IF('Matl Properties'!$B$4=\"\",\"\",'Matl Properties'!$B$4)","v":"HMACP MIXTURE DESIGN : MATERIAL PROPERTIES"},{"$f":"IF('Matl Properties'!$B$46=\"\",\"\",'Matl Properties'!$B$46)","v":"Recycled Materials"},{"$f":"IF('Matl Properties'!$E$47=\"\",\"\",'Matl Properties'!$E$47)","v":"Tex-217-F, Part III"},{"$f":"IF('Matl Properties'!$O$46=\"\",\"\",'Matl Properties'!$O$46)","v":"Bin No.10"},{"$f":"IF('Matl Properties'!$J$25=\"\",\"\",'Matl Properties'!$J$25)","v":"Sample ID"}]
[1500,{"$f":"IF('Aggregate Classification'!$AF$27=\"\",\"\",'Aggregate Classification'!$AF$27)","v":15.5},{"$f":"IF('Aggregate Classification'!$B$4=\"\",\"\",'Aggregate Classification'!$B$4)","v":"HMACP MIXTURE DESIGN : Aggregate Classification"},{"$f":"IF('Aggregate Classification'!$AF$19=\"\",\"\",'Aggregate Classification'!$AF$19)","v":"Bin No.8 "},{"$f":"IF('Aggregate Classification'!$AF$25=\"\",\"\",'Aggregate Classification'!$AF$25)","v":"Individual Ret., %"},{"$f":"IF('Aggregate Classification'!$B$26=\"\",\"\",'Aggregate Classification'!$B$26)","v":"Passing"},{"$f":"IF('Aggregate Classification'!$B$27=\"\",\"\",'Aggregate Classification'!$B$27)","v":"-"},{"$f":"IF('Aggregate Classification'!$B$25=\"\",\"\",'Aggregate Classification'!$B$25)","v":"Sieve Size:"},{"$f":"IF('Aggregate Classification'!$C$26=\"\",\"\",'Aggregate Classification'!$C$26)","v":"Retained"},{"$f":"'Aggregate Classification'!$C$27","v":"1\""}]
[1501,{"$f":"IF('Aggregate Classification'!$AF$28=\"\",\"\",'Aggregate Classification'!$AF$28)","v":0},{"$f":"IF('Aggregate Classification'!$B$4=\"\",\"\",'Aggregate Classification'!$B$4)","v":"HMACP MIXTURE DESIGN : Aggregate Classification"},{"$f":"IF('Aggregate Classification'!$AF$19=\"\",\"\",'Aggregate Classification'!$AF$19)","v":"Bin No.8 "},{"$f":"IF('Aggregate Classification'!$AB$25=\"\",\"\",'Aggregate Classification'!$AB$25)","v":"Individual Ret., %"},{"$f":"IF('Aggregate Classification'!$B$26=\"\",\"\",'Aggregate Classification'!$B$26)","v":"Passing"},{"$f":"IF('Aggregate Classification'!$B$28=\"\",\"\",'Aggregate Classification'!$B$28)","v":"1\""},{"$f":"IF('Aggregate Classification'!$B$25=\"\",\"\",'Aggregate Classification'!$B$25)","v":"Sieve Size:"},{"$f":"IF('Aggregate Classification'!$C$26=\"\",\"\",'Aggregate Classification'!$C$26)","v":"Retained"},{"$f":"'Aggregate Classification'!$C$28","v":"3/4\""}]
[1502,{"$f":"IF('Aggregate Classification'!$AF$29=\"\",\"\",'Aggregate Classification'!$AF$29)","v":0},{"$f":"IF('Aggregate Classification'!$B$4=\"\",\"\",'Aggregate Classification'!$B$4)","v":"HMACP MIXTURE DESIGN : Aggregate Classification"},{"$f":"IF('Aggregate Classification'!$AF$19=\"\",\"\",'Aggregate Classification'!$AF$19)","v":"Bin No.8 "},{"$f":"IF('Aggregate Classification'!$AB$25=\"\",\"\",'Aggregate Classification'!$AB$25)","v":"Individual Ret., %"},{"$f":"IF('Aggregate Classification'!$B$26=\"\",\"\",'Aggregate Classification'!$B$26)","v":"Passing"},{"$f":"IF('Aggregate Classification'!$B$29=\"\",\"\",'Aggregate Classification'!$B$29)","v":"3/4\""},{"$f":"IF('Aggregate Classification'!$B$25=\"\",\"\",'Aggregate Classification'!$B$25)","v":"Sieve Size:"},{"$f":"IF('Aggregate Classification'!$C$26=\"\",\"\",'Aggregate Classification'!$C$26)","v":"Retained"},{"$f":"'Aggregate Classification'!$C$29","v":"1/2\""}]
[1503,{"$f":"IF('Aggregate Classification'!$AF$30=\"\",\"\",'Aggregate Classification'!$AF$30)","v":0},{"$f":"IF('Aggregate Classification'!$B$4=\"\",\"\",'Aggregate Classification'!$B$4)","v":"HMACP MIXTURE DESIGN : Aggregate Classification"},{"$f":"IF('Aggregate Classification'!$AF$19=\"\",\"\",'Aggregate Classification'!$AF$19)","v":"Bin No.8 "},{"$f":"IF('Aggregate Classification'!$AB$25=\"\",\"\",'Aggregate Classification'!$AB$25)","v":"Individual Ret., %"},{"$f":"IF('Aggregate Classification'!$B$26=\"\",\"\",'Aggregate Classification'!$B$26)","v":"Passing"},{"$f":"IF('Aggregate Classification'!$B$30=\"\",\"\",'Aggregate Classification'!$B$30)","v":"1/2\""},{"$f":"IF('Aggregate Classification'!$B$25=\"\",\"\",'Aggregate Classification'!$B$25)","v":"Sieve Size:"},{"$f":"IF('Aggregate Classification'!$C$26=\"\",\"\",'Aggregate Classification'!$C$26)","v":"Retained"},{"$f":"'Aggregate Classification'!$C$30","v":"3/8\""}]
[1504,{"$f":"IF('Aggregate Classification'!$AF$31=\"\",\"\",'Aggregate Classification'!$AF$31)","v":0},{"$f":"IF('Aggregate Classification'!$B$4=\"\",\"\",'Aggregate Classification'!$B$4)","v":"HMACP MIXTURE DESIGN : Aggregate Classification"},{"$f":"IF('Aggregate Classification'!$AF$19=\"\",\"\",'Aggregate Classification'!$AF$19)","v":"Bin No.8 "},{"$f":"IF('Aggregate Classification'!$AB$25=\"\",\"\",'Aggregate Classification'!$AB$25)","v":"Individual Ret., %"},{"$f":"IF('Aggregate Classification'!$B$26=\"\",\"\",'Aggregate Classification'!$B$26)","v":"Passing"},{"$f":"IF('Aggregate Classification'!$B$31=\"\",\"\",'Aggregate Classification'!$B$31)","v":"3/8\""},{"$f":"IF('Aggregate Classification'!$B$25=\"\",\"\",'Aggregate Classification'!$B$25)","v":"Sieve Size:"},{"$f":"IF('Aggregate Classification'!$C$26=\"\",\"\",'Aggregate Classification'!$C$26)","v":"Retained"},{"$f":"'Aggregate Classification'!$C$31","v":"No. 4"}]
[1505,{"$f":"IF('Aggregate Classification'!$AF$32=\"\",\"\",'Aggregate Classification'!$AF$32)","v":0},{"$f":"IF('Aggregate Classification'!$B$4=\"\",\"\",'Aggregate Classification'!$B$4)","v":"HMACP MIXTURE DESIGN : Aggregate Classification"},{"$f":"IF('Aggregate Classification'!$AF$19=\"\",\"\",'Aggregate Classification'!$AF$19)","v":"Bin No.8 "},{"$f":"IF('Aggregate Classification'!$AB$25=\"\",\"\",'Aggregate Classification'!$AB$25)","v":"Individual Ret., %"},{"$f":"IF('Aggregate Classification'!$B$26=\"\",\"\",'Aggregate Classification'!$B$26)","v":"Passing"},{"$f":"IF('Aggregate Classification'!$B$32=\"\",\"\",'Aggregate Classification'!$B$32)","v":"No. 4"},{"$f":"IF('Aggregate Classification'!$B$25=\"\",\"\",'Aggregate Classification'!$B$25)","v":"Sieve Size:"},{"$f":"IF('Aggregate Classification'!$C$26=\"\",\"\",'Aggregate Classification'!$C$26)","v":"Retained"},{"$f":"'Aggregate Classification'!$C$32","v":"No. 8"}]
[1506,{"$f":"IF('Aggregate Classification'!$AF$33=\"\",\"\",'Aggregate Classification'!$AF$33)","v":0},{"$f":"IF('Aggregate Classification'!$B$4=\"\",\"\",'Aggregate Classification'!$B$4)","v":"HMACP MIXTURE DESIGN : Aggregate Classification"},{"$f":"IF('Aggregate Classification'!$AF$19=\"\",\"\",'Aggregate Classification'!$AF$19)","v":"Bin No.8 "},{"$f":"IF('Aggregate Classification'!$AB$25=\"\",\"\",'Aggregate Classification'!$AB$25)","v":"Individual Ret., %"},{"$f":"IF('Aggregate Classification'!$B$26=\"\",\"\",'Aggregate Classification'!$B$26)","v":"Passing"},{"$f":"IF('Aggregate Classification'!$B$33=\"\",\"\",'Aggregate Classification'!$B$33)","v":"No. 8"},{"$f":"IF('Aggregate Classification'!$B$25=\"\",\"\",'Aggregate Classification'!$B$25)","v":"Sieve Size:"},{"$f":"IF('Aggregate Classification'!$C$26=\"\",\"\",'Aggregate Classification'!$C$26)","v":"Retained"},{"$f":"'Aggregate Classification'!$C$33","v":"No. 16"}]
[1507,{"$f":"IF('Aggregate Classification'!$AF$34=\"\",\"\",'Aggregate Classification'!$AF$34)","v":0},{"$f":"IF('Aggregate Classification'!$B$4=\"\",\"\",'Aggregate Classification'!$B$4)","v":"HMACP MIXTURE DESIGN : Aggregate Classification"},{"$f":"IF('Aggregate Classification'!$AF$19=\"\",\"\",'Aggregate Classification'!$AF$19)","v":"Bin No.8 "},{"$f":"IF('Aggregate Classification'!$AB$25=\"\",\"\",'Aggregate Classification'!$AB$25)","v":"Individual Ret., %"},{"$f":"IF('Aggregate Classification'!$B$26=\"\",\"\",'Aggregate Classification'!$B$26)","v":"Passing"},{"$f":"IF('Aggregate Classification'!$B$34=\"\",\"\",'Aggregate Classification'!$B$34)","v":"No. 16"},{"$f":"IF('Aggregate Classification'!$B$25=\"\",\"\",'Aggregate Classification'!$B$25)","v":"Sieve Size:"},{"$f":"IF('Aggregate Classification'!$C$26=\"\",\"\",'Aggregate Classification'!$C$26)","v":"Retained"},{"$f":"'Aggregate Classification'!$C$34","v":"No. 30"}]
[1508,{"$f":"IF('Aggregate Classification'!$AF$35=\"\",\"\",'Aggregate Classification'!$AF$35)","v":0},{"$f":"IF('Aggregate Classification'!$B$4=\"\",\"\",'Aggregate Classification'!$B$4)","v":"HMACP MIXTURE DESIGN : Aggregate Classification"},{"$f":"IF('Aggregate Classification'!$AF$19=\"\",\"\",'Aggregate Classification'!$AF$19)","v":"Bin No.8 "},{"$f":"IF('Aggregate Classification'!$AB$25=\"\",\"\",'Aggregate Classification'!$AB$25)","v":"Individual Ret., %"},{"$f":"IF('Aggregate Classification'!$B$26=\"\",\"\",'Aggregate Classification'!$B$26)","v":"Passing"},{"$f":"IF('Aggregate Classification'!$B$35=\"\",\"\",'Aggregate Classification'!$B$35)","v":"No. 30"},{"$f":"IF('Aggregate Classification'!$B$25=\"\",\"\",'Aggregate Classification'!$B$25)","v":"Sieve Size:"},{"$f":"IF('Aggregate Classification'!$C$26=\"\",\"\",'Aggregate Classification'!$C$26)","v":"Retained"},{"$f":"'Aggregate Classification'!$C$35","v":"No. 50"}]
[1509,{"$f":"IF('Aggregate Classification'!$AF$36=\"\",\"\",'Aggregate Classification'!$AF$36)","v":0},{"$f":"IF('Aggregate Classification'!$B$4=\"\",\"\",'Aggregate Classification'!$B$4)","v":"HMACP MIXTURE DESIGN : Aggregate Classification"},{"$f":"IF('Aggregate Classification'!$AF$19=\"\",\"\",'Aggregate Classification'!$AF$19)","v":"Bin No.8 "},{"$f":"IF('Aggregate Classification'!$AB$25=\"\",\"\",'Aggregate Classification'!$AB$25)","v":"Individual Ret., %"},{"$f":"IF('Aggregate Classification'!$B$26=\"\",\"\",'Aggregate Classification'!$B$26)","v":"Passing"},{"$f":"IF('Aggregate Classification'!$B$36=\"\",\"\",'Aggregate Classification'!$B$36)","v":"No. 50"},{"$f":"IF('Aggregate Classification'!$B$25=\"\",\"\",'Aggregate Classification'!$B$25)","v":"Sieve Size:"},{"$f":"IF('Aggregate Classification'!$C$26=\"\",\"\",'Aggregate Classification'!$C$26)","v":"Retained"},{"$f":"'Aggregate Classification'!$C$36","v":"No. 200"}]
[1510,{"$f":"IF('Aggregate Classification'!$AF$37=\"\",\"\",'Aggregate Classification'!$AF$37)","v":0},{"$f":"IF('Aggregate Classification'!$B$4=\"\",\"\",'Aggregate Classification'!$B$4)","v":"HMACP MIXTURE DESIGN : Aggregate Classification"},{"$f":"IF('Aggregate Classification'!$AF$19=\"\",\"\",'Aggregate Classification'!$AF$19)","v":"Bin No.8 "},{"$f":"IF('Aggregate Classification'!$AB$25=\"\",\"\",'Aggregate Classification'!$AB$25)","v":"Individual Ret., %"},{"$f":"IF('Aggregate Classification'!$B$26=\"\",\"\",'Aggregate Classification'!$B$26)","v":"Passing"},{"$f":"IF('Aggregate Classification'!$B$37=\"\",\"\",'Aggregate Classification'!$B$37)","v":"No. 200"},{"$f":"IF('Aggregate Classification'!$B$25=\"\",\"\",'Aggregate Classification'!$B$25)","v":"Sieve Size:"},{"$f":"IF('Aggregate Classification'!$C$26=\"\",\"\",'Aggregate Classification'!$C$26)","v":"Retained"},{"$f":"'Aggregate Classification'!$C$37","v":"Pan"}]
[1511,{"$f":"IF('Aggregate Classification'!$AF$38=\"\",\"\",'Aggregate Classification'!$AF$38)","v":15.5},{"$f":"IF('Aggregate Classification'!$B$4=\"\",\"\",'Aggregate Classification'!$B$4)","v":"HMACP MIXTURE DESIGN : Aggregate Classification"},{"$f":"IF('Aggregate Classification'!$AF$19=\"\",\"\",'Aggregate Classification'!$AF$19)","v":"Bin No.8 "},{"$f":"IF('Aggregate Classification'!$AB$25=\"\",\"\",'Aggregate Classification'!$AB$25)","v":"Individual Ret., %"},{"$f":"IF('Aggregate Classification'!$B$38=\"\",\"\",'Aggregate Classification'!$B$38)","v":"Total:"}]
[1512,{"$f":"IF('Aggregate Classification'!$AF$39=\"\",\"\",'Aggregate Classification'!$AF$39)","v":15.5},{"$f":"IF('Aggregate Classification'!$B$4=\"\",\"\",'Aggregate Classification'!$B$4)","v":"HMACP MIXTURE DESIGN : Aggregate Classification"},{"$f":"IF('Aggregate Classification'!$AF$19=\"\",\"\",'Aggregate Classification'!$AF$19)","v":"Bin No.8 "},{"$f":"IF('Aggregate Classification'!$AB$25=\"\",\"\",'Aggregate Classification'!$AB$25)","v":"Individual Ret., %"},{"$f":"IF('Aggregate Classification'!$B$39=\"\",\"\",'Aggregate Classification'!$B$39)","v":"Percent of plus No. 4"}]
[1513,{"$f":"IF('Aggregate Classification'!$AJ$27=\"\",\"\",'Aggregate Classification'!$AJ$27)","v":5.2},{"$f":"IF('Aggregate Classification'!$B$4=\"\",\"\",'Aggregate Classification'!$B$4)","v":"HMACP MIXTURE DESIGN : Aggregate Classification"},{"$f":"IF('Aggregate Classification'!$AJ$19=\"\",\"\",'Aggregate Classification'!$AJ$19)","v":"Bin No.9 "},{"$f":"IF('Aggregate Classification'!$AF$25=\"\",\"\",'Aggregate Classification'!$AF$25)","v":"Individual Ret., %"},{"$f":"IF('Aggregate Classification'!$B$26=\"\",\"\",'Aggregate Classification'!$B$26)","v":"Passing"},{"$f":"IF('Aggregate Classification'!$B$27=\"\",\"\",'Aggregate Classification'!$B$27)","v":"-"},{"$f":"IF('Aggregate Classification'!$B$25=\"\",\"\",'Aggregate Classification'!$B$25)","v":"Sieve Size:"},{"$f":"IF('Aggregate Classification'!$C$26=\"\",\"\",'Aggregate Classification'!$C$26)","v":"Retained"},{"$f":"'Aggregate Classification'!$C$27","v":"1\""}]
[1514,{"$f":"IF('Aggregate Classification'!$AJ$28=\"\",\"\",'Aggregate Classification'!$AJ$28)","v":0},{"$f":"IF('Aggregate Classification'!$B$4=\"\",\"\",'Aggregate Classification'!$B$4)","v":"HMACP MIXTURE DESIGN : Aggregate Classification"},{"$f":"IF('Aggregate Classification'!$AJ$19=\"\",\"\",'Aggregate Classification'!$AJ$19)","v":"Bin No.9 "},{"$f":"IF('Aggregate Classification'!$AF$25=\"\",\"\",'Aggregate Classification'!$AF$25)","v":"Individual Ret., %"},{"$f":"IF('Aggregate Classification'!$B$26=\"\",\"\",'Aggregate Classification'!$B$26)","v":"Passing"},{"$f":"IF('Aggregate Classification'!$B$28=\"\",\"\",'Aggregate Classification'!$B$28)","v":"1\""},{"$f":"IF('Aggregate Classification'!$B$25=\"\",\"\",'Aggregate Classification'!$B$25)","v":"Sieve Size:"},{"$f":"IF('Aggregate Classification'!$C$26=\"\",\"\",'Aggregate Classification'!$C$26)","v":"Retained"},{"$f":"'Aggregate Classification'!$C$28","v":"3/4\""}]
[1515,{"$f":"IF('Aggregate Classification'!$AJ$29=\"\",\"\",'Aggregate Classification'!$AJ$29)","v":0},{"$f":"IF('Aggregate Classification'!$B$4=\"\",\"\",'Aggregate Classification'!$B$4)","v":"HMACP MIXTURE DESIGN : Aggregate Classification"},{"$f":"IF('Aggregate Classification'!$AJ$19=\"\",\"\",'Aggregate Classification'!$AJ$19)","v":"Bin No.9 "},{"$f":"IF('Aggregate Classification'!$AF$25=\"\",\"\",'Aggregate Classification'!$AF$25)","v":"Individual Ret., %"},{"$f":"IF('Aggregate Classification'!$B$26=\"\",\"\",'Aggregate Classification'!$B$26)","v":"Passing"},{"$f":"IF('Aggregate Classification'!$B$29=\"\",\"\",'Aggregate Classification'!$B$29)","v":"3/4\""},{"$f":"IF('Aggregate Classification'!$B$25=\"\",\"\",'Aggregate Classification'!$B$25)","v":"Sieve Size:"},{"$f":"IF('Aggregate Classification'!$C$26=\"\",\"\",'Aggregate Classification'!$C$26)","v":"Retained"},{"$f":"'Aggregate Classification'!$C$29","v":"1/2\""}]
[1516,{"$f":"IF('Aggregate Classification'!$AJ$30=\"\",\"\",'Aggregate Classification'!$AJ$30)","v":0},{"$f":"IF('Aggregate Classification'!$B$4=\"\",\"\",'Aggregate Classification'!$B$4)","v":"HMACP MIXTURE DESIGN : Aggregate Classification"},{"$f":"IF('Aggregate Classification'!$AJ$19=\"\",\"\",'Aggregate Classification'!$AJ$19)","v":"Bin No.9 "},{"$f":"IF('Aggregate Classification'!$AF$25=\"\",\"\",'Aggregate Classification'!$AF$25)","v":"Individual Ret., %"},{"$f":"IF('Aggregate Classification'!$B$26=\"\",\"\",'Aggregate Classification'!$B$26)","v":"Passing"},{"$f":"IF('Aggregate Classification'!$B$30=\"\",\"\",'Aggregate Classification'!$B$30)","v":"1/2\""},{"$f":"IF('Aggregate Classification'!$B$25=\"\",\"\",'Aggregate Classification'!$B$25)","v":"Sieve Size:"},{"$f":"IF('Aggregate Classification'!$C$26=\"\",\"\",'Aggregate Classification'!$C$26)","v":"Retained"},{"$f":"'Aggregate Classification'!$C$30","v":"3/8\""}]
[1517,{"$f":"IF('Aggregate Classification'!$AJ$31=\"\",\"\",'Aggregate Classification'!$AJ$31)","v":0},{"$f":"IF('Aggregate Classification'!$B$4=\"\",\"\",'Aggregate Classification'!$B$4)","v":"HMACP MIXTURE DESIGN : Aggregate Classification"},{"$f":"IF('Aggregate Classification'!$AJ$19=\"\",\"\",'Aggregate Classification'!$AJ$19)","v":"Bin No.9 "},{"$f":"IF('Aggregate Classification'!$AF$25=\"\",\"\",'Aggregate Classification'!$AF$25)","v":"Individual Ret., %"},{"$f":"IF('Aggregate Classification'!$B$26=\"\",\"\",'Aggregate Classification'!$B$26)","v":"Passing"},{"$f":"IF('Aggregate Classification'!$B$31=\"\",\"\",'Aggregate Classification'!$B$31)","v":"3/8\""},{"$f":"IF('Aggregate Classification'!$B$25=\"\",\"\",'Aggregate Classification'!$B$25)","v":"Sieve Size:"},{"$f":"IF('Aggregate Classification'!$C$26=\"\",\"\",'Aggregate Classification'!$C$26)","v":"Retained"},{"$f":"'Aggregate Classification'!$C$31","v":"No. 4"}]
[1518,{"$f":"IF('Aggregate Classification'!$AJ$32=\"\",\"\",'Aggregate Classification'!$AJ$32)","v":0},{"$f":"IF('Aggregate Classification'!$B$4=\"\",\"\",'Aggregate Classification'!$B$4)","v":"HMACP MIXTURE DESIGN : Aggregate Classification"},{"$f":"IF('Aggregate Classification'!$AJ$19=\"\",\"\",'Aggregate Classification'!$AJ$19)","v":"Bin No.9 "},{"$f":"IF('Aggregate Classification'!$AF$25=\"\",\"\",'Aggregate Classification'!$AF$25)","v":"Individual Ret., %"},{"$f":"IF('Aggregate Classification'!$B$26=\"\",\"\",'Aggregate Classification'!$B$26)","v":"Passing"},{"$f":"IF('Aggregate Classification'!$B$32=\"\",\"\",'Aggregate Classification'!$B$32)","v":"No. 4"},{"$f":"IF('Aggregate Classification'!$B$25=\"\",\"\",'Aggregate Classification'!$B$25)","v":"Sieve Size:"},{"$f":"IF('Aggregate Classification'!$C$26=\"\",\"\",'Aggregate Classification'!$C$26)","v":"Retained"},{"$f":"'Aggregate Classification'!$C$32","v":"No. 8"}]
[1519,{"$f":"IF('Aggregate Classification'!$AJ$33=\"\",\"\",'Aggregate Classification'!$AJ$33)","v":0},{"$f":"IF('Aggregate Classification'!$B$4=\"\",\"\",'Aggregate Classification'!$B$4)","v":"HMACP MIXTURE DESIGN : Aggregate Classification"},{"$f":"IF('Aggregate Classification'!$AJ$19=\"\",\"\",'Aggregate Classification'!$AJ$19)","v":"Bin No.9 "},{"$f":"IF('Aggregate Classification'!$AF$25=\"\",\"\",'Aggregate Classification'!$AF$25)","v":"Individual Ret., %"},{"$f":"IF('Aggregate Classification'!$B$26=\"\",\"\",'Aggregate Classification'!$B$26)","v":"Passing"},{"$f":"IF('Aggregate Classification'!$B$33=\"\",\"\",'Aggregate Classification'!$B$33)","v":"No. 8"},{"$f":"IF('Aggregate Classification'!$B$25=\"\",\"\",'Aggregate Classification'!$B$25)","v":"Sieve Size:"},{"$f":"IF('Aggregate Classification'!$C$26=\"\",\"\",'Aggregate Classification'!$C$26)","v":"Retained"},{"$f":"'Aggregate Classification'!$C$33","v":"No. 16"}]
[1520,{"$f":"IF('Aggregate Classification'!$AJ$34=\"\",\"\",'Aggregate Classification'!$AJ$34)","v":0},{"$f":"IF('Aggregate Classification'!$B$4=\"\",\"\",'Aggregate Classification'!$B$4)","v":"HMACP MIXTURE DESIGN : Aggregate Classification"},{"$f":"IF('Aggregate Classification'!$AJ$19=\"\",\"\",'Aggregate Classification'!$AJ$19)","v":"Bin No.9 "},{"$f":"IF('Aggregate Classification'!$AF$25=\"\",\"\",'Aggregate Classification'!$AF$25)","v":"Individual Ret., %"},{"$f":"IF('Aggregate Classification'!$B$26=\"\",\"\",'Aggregate Classification'!$B$26)","v":"Passing"},{"$f":"IF('Aggregate Classification'!$B$34=\"\",\"\",'Aggregate Classification'!$B$34)","v":"No. 16"},{"$f":"IF('Aggregate Classification'!$B$25=\"\",\"\",'Aggregate Classification'!$B$25)","v":"Sieve Size:"},{"$f":"IF('Aggregate Classification'!$C$26=\"\",\"\",'Aggregate Classification'!$C$26)","v":"Retained"},{"$f":"'Aggregate Classification'!$C$34","v":"No. 30"}]
[1521,{"$f":"IF('Aggregate Classification'!$AJ$35=\"\",\"\",'Aggregate Classification'!$AJ$35)","v":0},{"$f":"IF('Aggregate Classification'!$B$4=\"\",\"\",'Aggregate Classification'!$B$4)","v":"HMACP MIXTURE DESIGN : Aggregate Classification"},{"$f":"IF('Aggregate Classification'!$AJ$19=\"\",\"\",'Aggregate Classification'!$AJ$19)","v":"Bin No.9 "},{"$f":"IF('Aggregate Classification'!$AF$25=\"\",\"\",'Aggregate Classification'!$AF$25)","v":"Individual Ret., %"},{"$f":"IF('Aggregate Classification'!$B$26=\"\",\"\",'Aggregate Classification'!$B$26)","v":"Passing"},{"$f":"IF('Aggregate Classification'!$B$35=\"\",\"\",'Aggregate Classification'!$B$35)","v":"No. 30"},{"$f":"IF('Aggregate Classification'!$B$25=\"\",\"\",'Aggregate Classification'!$B$25)","v":"Sieve Size:"},{"$f":"IF('Aggregate Classification'!$C$26=\"\",\"\",'Aggregate Classification'!$C$26)","v":"Retained"},{"$f":"'Aggregate Classification'!$C$35","v":"No. 50"}]
[1522,{"$f":"IF('Aggregate Classification'!$AJ$36=\"\",\"\",'Aggregate Classification'!$AJ$36)","v":0},{"$f":"IF('Aggregate Classification'!$B$4=\"\",\"\",'Aggregate Classification'!$B$4)","v":"HMACP MIXTURE DESIGN : Aggregate Classification"},{"$f":"IF('Aggregate Classification'!$AJ$19=\"\",\"\",'Aggregate Classification'!$AJ$19)","v":"Bin No.9 "},{"$f":"IF('Aggregate Classification'!$AF$25=\"\",\"\",'Aggregate Classification'!$AF$25)","v":"Individual Ret., %"},{"$f":"IF('Aggregate Classification'!$B$26=\"\",\"\",'Aggregate Classification'!$B$26)","v":"Passing"},{"$f":"IF('Aggregate Classification'!$B$36=\"\",\"\",'Aggregate Classification'!$B$36)","v":"No. 50"},{"$f":"IF('Aggregate Classification'!$B$25=\"\",\"\",'Aggregate Classification'!$B$25)","v":"Sieve Size:"},{"$f":"IF('Aggregate Classification'!$C$26=\"\",\"\",'Aggregate Classification'!$C$26)","v":"Retained"},{"$f":"'Aggregate Classification'!$C$36","v":"No. 200"}]
[1523,{"$f":"IF('Aggregate Classification'!$AJ$37=\"\",\"\",'Aggregate Classification'!$AJ$37)","v":0},{"$f":"IF('Aggregate Classification'!$B$4=\"\",\"\",'Aggregate Classification'!$B$4)","v":"HMACP MIXTURE DESIGN : Aggregate Classification"},{"$f":"IF('Aggregate Classification'!$AJ$19=\"\",\"\",'Aggregate Classification'!$AJ$19)","v":"Bin No.9 "},{"$f":"IF('Aggregate Classification'!$AF$25=\"\",\"\",'Aggregate Classification'!$AF$25)","v":"Individual Ret., %"},{"$f":"IF('Aggregate Classification'!$B$26=\"\",\"\",'Aggregate Classification'!$B$26)","v":"Passing"},{"$f":"IF('Aggregate Classification'!$B$37=\"\",\"\",'Aggregate Classification'!$B$37)","v":"No. 200"},{"$f":"IF('Aggregate Classification'!$B$25=\"\",\"\",'Aggregate Classification'!$B$25)","v":"Sieve Size:"},{"$f":"IF('Aggregate Classification'!$C$26=\"\",\"\",'Aggregate Classification'!$C$26)","v":"Retained"},{"$f":"'Aggregate Classification'!$C$37","v":"Pan"}]
[1524,{"$f":"IF('Aggregate Classification'!$AJ$38=\"\",\"\",'Aggregate Classification'!$AJ$38)","v":5.2},{"$f":"IF('Aggregate Classification'!$B$4=\"\",\"\",'Aggregate Classification'!$B$4)","v":"HMACP MIXTURE DESIGN : Aggregate Classification"},{"$f":"IF('Aggregate Classification'!$AJ$19=\"\",\"\",'Aggregate Classification'!$AJ$19)","v":"Bin No.9 "},{"$f":"IF('Aggregate Classification'!$AF$25=\"\",\"\",'Aggregate Classification'!$AF$25)","v":"Individual Ret., %"},{"$f":"IF('Aggregate Classification'!$B$38=\"\",\"\",'Aggregate Classification'!$B$38)","v":"Total:"}]
[1525,{"$f":"IF('Aggregate Classification'!$AJ$39=\"\",\"\",'Aggregate Classification'!$AJ$39)","v":5.2},{"$f":"IF('Aggregate Classification'!$B$4=\"\",\"\",'Aggregate Classification'!$B$4)","v":"HMACP MIXTURE DESIGN : Aggregate Classification"},{"$f":"IF('Aggregate Classification'!$AJ$19=\"\",\"\",'Aggregate Classification'!$AJ$19)","v":"Bin No.9 "},{"$f":"IF('Aggregate Classification'!$AF$25=\"\",\"\",'Aggregate Classification'!$AF$25)","v":"Individual Ret., %"},{"$f":"IF('Aggregate Classification'!$B$39=\"\",\"\",'Aggregate Classification'!$B$39)","v":"Percent of plus No. 4"}]
[1526,{"$f":"IF('Aggregate Classification'!$AN$27=\"\",\"\",'Aggregate Classification'!$AN$27)","v":4.5},{"$f":"IF('Aggregate Classification'!$B$4=\"\",\"\",'Aggregate Classification'!$B$4)","v":"HMACP MIXTURE DESIGN : Aggregate Classification"},{"$f":"IF('Aggregate Classification'!$AN$19=\"\",\"\",'Aggregate Classification'!$AN$19)","v":"Bin No.10 "},{"$f":"IF('Aggregate Classification'!$AN$25=\"\",\"\",'Aggregate Classification'!$AN$25)","v":"Individual Ret., %"},{"$f":"IF('Aggregate Classification'!$B$26=\"\",\"\",'Aggregate Classification'!$B$26)","v":"Passing"},{"$f":"IF('Aggregate Classification'!$B$27=\"\",\"\",'Aggregate Classification'!$B$27)","v":"-"},{"$f":"IF('Aggregate Classification'!$B$25=\"\",\"\",'Aggregate Classification'!$B$25)","v":"Sieve Size:"},{"$f":"IF('Aggregate Classification'!$C$26=\"\",\"\",'Aggregate Classification'!$C$26)","v":"Retained"},{"$f":"'Aggregate Classification'!$C$27","v":"1\""}]
[1527,{"$f":"IF('Aggregate Classification'!$AN$28=\"\",\"\",'Aggregate Classification'!$AN$28)","v":0},{"$f":"IF('Aggregate Classification'!$B$4=\"\",\"\",'Aggregate Classification'!$B$4)","v":"HMACP MIXTURE DESIGN : Aggregate Classification"},{"$f":"IF('Aggregate Classification'!$AN$19=\"\",\"\",'Aggregate Classification'!$AN$19)","v":"Bin No.10 "},{"$f":"IF('Aggregate Classification'!$AN$25=\"\",\"\",'Aggregate Classification'!$AN$25)","v":"Individual Ret., %"},{"$f":"IF('Aggregate Classification'!$B$26=\"\",\"\",'Aggregate Classification'!$B$26)","v":"Passing"},{"$f":"IF('Aggregate Classification'!$B$28=\"\",\"\",'Aggregate Classification'!$B$28)","v":"1\""},{"$f":"IF('Aggregate Classification'!$B$25=\"\",\"\",'Aggregate Classification'!$B$25)","v":"Sieve Size:"},{"$f":"IF('Aggregate Classification'!$C$26=\"\",\"\",'Aggregate Classification'!$C$26)","v":"Retained"},{"$f":"'Aggregate Classification'!$C$28","v":"3/4\""}]
[1528,{"$f":"IF('Aggregate Classification'!$AN$29=\"\",\"\",'Aggregate Classification'!$AN$29)","v":0},{"$f":"IF('Aggregate Classification'!$B$4=\"\",\"\",'Aggregate Classification'!$B$4)","v":"HMACP MIXTURE DESIGN : Aggregate Classification"},{"$f":"IF('Aggregate Classification'!$AN$19=\"\",\"\",'Aggregate Classification'!$AN$19)","v":"Bin No.10 "},{"$f":"IF('Aggregate Classification'!$AN$25=\"\",\"\",'Aggregate Classification'!$AN$25)","v":"Individual Ret., %"},{"$f":"IF('Aggregate Classification'!$B$26=\"\",\"\",'Aggregate Classification'!$B$26)","v":"Passing"},{"$f":"IF('Aggregate Classification'!$B$29=\"\",\"\",'Aggregate Classification'!$B$29)","v":"3/4\""},{"$f":"IF('Aggregate Classification'!$B$25=\"\",\"\",'Aggregate Classification'!$B$25)","v":"Sieve Size:"},{"$f":"IF('Aggregate Classification'!$C$26=\"\",\"\",'Aggregate Classification'!$C$26)","v":"Retained"},{"$f":"'Aggregate Classification'!$C$29","v":"1/2\""}]
[1529,{"$f":"IF('Aggregate Classification'!$AN$30=\"\",\"\",'Aggregate Classification'!$AN$30)","v":0},{"$f":"IF('Aggregate Classification'!$B$4=\"\",\"\",'Aggregate Classification'!$B$4)","v":"HMACP MIXTURE DESIGN : Aggregate Classification"},{"$f":"IF('Aggregate Classification'!$AN$19=\"\",\"\",'Aggregate Classification'!$AN$19)","v":"Bin No.10 "},{"$f":"IF('Aggregate Classification'!$AN$25=\"\",\"\",'Aggregate Classification'!$AN$25)","v":"Individual Ret., %"},{"$f":"IF('Aggregate Classification'!$B$26=\"\",\"\",'Aggregate Classification'!$B$26)","v":"Passing"},{"$f":"IF('Aggregate Classification'!$B$30=\"\",\"\",'Aggregate Classification'!$B$30)","v":"1/2\""},{"$f":"IF('Aggregate Classification'!$B$25=\"\",\"\",'Aggregate Classification'!$B$25)","v":"Sieve Size:"},{"$f":"IF('Aggregate Classification'!$C$26=\"\",\"\",'Aggregate Classification'!$C$26)","v":"Retained"},{"$f":"'Aggregate Classification'!$C$30","v":"3/8\""}]
[1530,{"$f":"IF('Aggregate Classification'!$AN$31=\"\",\"\",'Aggregate Classification'!$AN$31)","v":0},{"$f":"IF('Aggregate Classification'!$B$4=\"\",\"\",'Aggregate Classification'!$B$4)","v":"HMACP MIXTURE DESIGN : Aggregate Classification"},{"$f":"IF('Aggregate Classification'!$AN$19=\"\",\"\",'Aggregate Classification'!$AN$19)","v":"Bin No.10 "},{"$f":"IF('Aggregate Classification'!$AN$25=\"\",\"\",'Aggregate Classification'!$AN$25)","v":"Individual Ret., %"},{"$f":"IF('Aggregate Classification'!$B$26=\"\",\"\",'Aggregate Classification'!$B$26)","v":"Passing"},{"$f":"IF('Aggregate Classification'!$B$31=\"\",\"\",'Aggregate Classification'!$B$31)","v":"3/8\""},{"$f":"IF('Aggregate Classification'!$B$25=\"\",\"\",'Aggregate Classification'!$B$25)","v":"Sieve Size:"},{"$f":"IF('Aggregate Classification'!$C$26=\"\",\"\",'Aggregate Classification'!$C$26)","v":"Retained"},{"$f":"'Aggregate Classification'!$C$31","v":"No. 4"}]
[1531,{"$f":"IF('Aggregate Classification'!$AN$32=\"\",\"\",'Aggregate Classification'!$AN$32)","v":0},{"$f":"IF('Aggregate Classification'!$B$4=\"\",\"\",'Aggregate Classification'!$B$4)","v":"HMACP MIXTURE DESIGN : Aggregate Classification"},{"$f":"IF('Aggregate Classification'!$AN$19=\"\",\"\",'Aggregate Classification'!$AN$19)","v":"Bin No.10 "},{"$f":"IF('Aggregate Classification'!$AN$25=\"\",\"\",'Aggregate Classification'!$AN$25)","v":"Individual Ret., %"},{"$f":"IF('Aggregate Classification'!$B$26=\"\",\"\",'Aggregate Classification'!$B$26)","v":"Passing"},{"$f":"IF('Aggregate Classification'!$B$32=\"\",\"\",'Aggregate Classification'!$B$32)","v":"No. 4"},{"$f":"IF('Aggregate Classification'!$B$25=\"\",\"\",'Aggregate Classification'!$B$25)","v":"Sieve Size:"},{"$f":"IF('Aggregate Classification'!$C$26=\"\",\"\",'Aggregate Classification'!$C$26)","v":"Retained"},{"$f":"'Aggregate Classification'!$C$32","v":"No. 8"}]
[1532,{"$f":"IF('Aggregate Classification'!$AN$33=\"\",\"\",'Aggregate Classification'!$AN$33)","v":0},{"$f":"IF('Aggregate Classification'!$B$4=\"\",\"\",'Aggregate Classification'!$B$4)","v":"HMACP MIXTURE DESIGN : Aggregate Classification"},{"$f":"IF('Aggregate Classification'!$AN$19=\"\",\"\",'Aggregate Classification'!$AN$19)","v":"Bin No.10 "},{"$f":"IF('Aggregate Classification'!$AN$25=\"\",\"\",'Aggregate Classification'!$AN$25)","v":"Individual Ret., %"},{"$f":"IF('Aggregate Classification'!$B$26=\"\",\"\",'Aggregate Classification'!$B$26)","v":"Passing"},{"$f":"IF('Aggregate Classification'!$B$33=\"\",\"\",'Aggregate Classification'!$B$33)","v":"No. 8"},{"$f":"IF('Aggregate Classification'!$B$25=\"\",\"\",'Aggregate Classification'!$B$25)","v":"Sieve Size:"},{"$f":"IF('Aggregate Classification'!$C$26=\"\",\"\",'Aggregate Classification'!$C$26)","v":"Retained"},{"$f":"'Aggregate Classification'!$C$33","v":"No. 16"}]
[1533,{"$f":"IF('Aggregate Classification'!$AN$34=\"\",\"\",'Aggregate Classification'!$AN$34)","v":0},{"$f":"IF('Aggregate Classification'!$B$4=\"\",\"\",'Aggregate Classification'!$B$4)","v":"HMACP MIXTURE DESIGN : Aggregate Classification"},{"$f":"IF('Aggregate Classification'!$AN$19=\"\",\"\",'Aggregate Classification'!$AN$19)","v":"Bin No.10 "},{"$f":"IF('Aggregate Classification'!$AN$25=\"\",\"\",'Aggregate Classification'!$AN$25)","v":"Individual Ret., %"},{"$f":"IF('Aggregate Classification'!$B$26=\"\",\"\",'Aggregate Classification'!$B$26)","v":"Passing"},{"$f":"IF('Aggregate Classification'!$B$34=\"\",\"\",'Aggregate Classification'!$B$34)","v":"No. 16"},{"$f":"IF('Aggregate Classification'!$B$25=\"\",\"\",'Aggregate Classification'!$B$25)","v":"Sieve Size:"},{"$f":"IF('Aggregate Classification'!$C$26=\"\",\"\",'Aggregate Classification'!$C$26)","v":"Retained"},{"$f":"'Aggregate Classification'!$C$34","v":"No. 30"}]
[1534,{"$f":"IF('Aggregate Classification'!$AN$35=\"\",\"\",'Aggregate Classification'!$AN$35)","v":0},{"$f":"IF('Aggregate Classification'!$B$4=\"\",\"\",'Aggregate Classification'!$B$4)","v":"HMACP MIXTURE DESIGN : Aggregate Classification"},{"$f":"IF('Aggregate Classification'!$AN$19=\"\",\"\",'Aggregate Classification'!$AN$19)","v":"Bin No.10 "},{"$f":"IF('Aggregate Classification'!$AN$25=\"\",\"\",'Aggregate Classification'!$AN$25)","v":"Individual Ret., %"},{"$f":"IF('Aggregate Classification'!$B$26=\"\",\"\",'Aggregate Classification'!$B$26)","v":"Passing"},{"$f":"IF('Aggregate Classification'!$B$35=\"\",\"\",'Aggregate Classification'!$B$35)","v":"No. 30"},{"$f":"IF('Aggregate Classification'!$B$25=\"\",\"\",'Aggregate Classification'!$B$25)","v":"Sieve Size:"},{"$f":"IF('Aggregate Classification'!$C$26=\"\",\"\",'Aggregate Classification'!$C$26)","v":"Retained"},{"$f":"'Aggregate Classification'!$C$35","v":"No. 50"}]
[1535,{"$f":"IF('Aggregate Classification'!$AN$36=\"\",\"\",'Aggregate Classification'!$AN$36)","v":0},{"$f":"IF('Aggregate Classification'!$B$4=\"\",\"\",'Aggregate Classification'!$B$4)","v":"HMACP MIXTURE DESIGN : Aggregate Classification"},{"$f":"IF('Aggregate Classification'!$AN$19=\"\",\"\",'Aggregate Classification'!$AN$19)","v":"Bin No.10 "},{"$f":"IF('Aggregate Classification'!$AN$25=\"\",\"\",'Aggregate Classification'!$AN$25)","v":"Individual Ret., %"},{"$f":"IF('Aggregate Classification'!$B$26=\"\",\"\",'Aggregate Classification'!$B$26)","v":"Passing"},{"$f":"IF('Aggregate Classification'!$B$36=\"\",\"\",'Aggregate Classification'!$B$36)","v":"No. 50"},{"$f":"IF('Aggregate Classification'!$B$25=\"\",\"\",'Aggregate Classification'!$B$25)","v":"Sieve Size:"},{"$f":"IF('Aggregate Classification'!$C$26=\"\",\"\",'Aggregate Classification'!$C$26)","v":"Retained"},{"$f":"'Aggregate Classification'!$C$36","v":"No. 200"}]
[1536,{"$f":"IF('Aggregate Classification'!$AN$37=\"\",\"\",'Aggregate Classification'!$AN$37)","v":0},{"$f":"IF('Aggregate Classification'!$B$4=\"\",\"\",'Aggregate Classification'!$B$4)","v":"HMACP MIXTURE DESIGN : Aggregate Classification"},{"$f":"IF('Aggregate Classification'!$AN$19=\"\",\"\",'Aggregate Classification'!$AN$19)","v":"Bin No.10 "},{"$f":"IF('Aggregate Classification'!$AN$25=\"\",\"\",'Aggregate Classification'!$AN$25)","v":"Individual Ret., %"},{"$f":"IF('Aggregate Classification'!$B$26=\"\",\"\",'Aggregate Classification'!$B$26)","v":"Passing"},{"$f":"IF('Aggregate Classification'!$B$37=\"\",\"\",'Aggregate Classification'!$B$37)","v":"No. 200"},{"$f":"IF('Aggregate Classification'!$B$25=\"\",\"\",'Aggregate Classification'!$B$25)","v":"Sieve Size:"},{"$f":"IF('Aggregate Classification'!$C$26=\"\",\"\",'Aggregate Classification'!$C$26)","v":"Retained"},{"$f":"'Aggregate Classification'!$C$37","v":"Pan"}]
[1537,{"$f":"IF('Aggregate Classification'!$AN$38=\"\",\"\",'Aggregate Classification'!$AN$38)","v":4.5},{"$f":"IF('Aggregate Classification'!$B$4=\"\",\"\",'Aggregate Classification'!$B$4)","v":"HMACP MIXTURE DESIGN : Aggregate Classification"},{"$f":"IF('Aggregate Classification'!$AN$19=\"\",\"\",'Aggregate Classification'!$AN$19)","v":"Bin No.10 "},{"$f":"IF('Aggregate Classification'!$AN$25=\"\",\"\",'Aggregate Classification'!$AN$25)","v":"Individual Ret., %"},{"$f":"IF('Aggregate Classification'!$B$38=\"\",\"\",'Aggregate Classification'!$B$38)","v":"Total:"}]
[1538,{"$f":"IF('Aggregate Classification'!$AN$39=\"\",\"\",'Aggregate Classification'!$AN$39)","v":4.5},{"$f":"IF('Aggregate Classification'!$B$4=\"\",\"\",'Aggregate Classification'!$B$4)","v":"HMACP MIXTURE DESIGN : Aggregate Classification"},{"$f":"IF('Aggregate Classification'!$AN$19=\"\",\"\",'Aggregate Classification'!$AN$19)","v":"Bin No.10 "},{"$f":"IF('Aggregate Classification'!$AN$25=\"\",\"\",'Aggregate Classification'!$AN$25)","v":"Individual Ret., %"},{"$f":"IF('Aggregate Classification'!$B$39=\"\",\"\",'Aggregate Classification'!$B$39)","v":"Percent of plus No. 4"}]
[1539,{"$f":"IF('Weigh Up'!$S$31=\"\",\"\",'Weigh Up'!$S$31)","v":0},{"$f":"IF('Weigh Up'!$B$4=\"\",\"\",'Weigh Up'!$B$4)","v":"HMACP MIXTURE DESIGN : WEIGH UP SHEET"},{"$f":"IF('Weigh Up'!$B$31=\"\",\"\",'Weigh Up'!$B$31)","v":"INDIVIDUAL"},{"$f":"IF('Weigh Up'!$C$30=\"\",\"\",'Weigh Up'!$C$30)","v":"Passing"},{"$f":"IF('Weigh Up'!$C$31=\"\",\"\",'Weigh Up'!$C$31)","v":"-"},{"$f":"IF('Weigh Up'!$C$29=\"\",\"\",'Weigh Up'!$C$29)","v":"Sieve Size:"},{"$f":"IF('Weigh Up'!$D$30=\"\",\"\",'Weigh Up'!$D$30)","v":"Retained"},{"$f":"IF('Weigh Up'!$D$31=\"\",\"\",'Weigh Up'!$D$31)","v":"1\""},{"$f":"'Weigh Up'!$S$23","v":"Bin No.8 "}]
[1540,{"$f":"IF('Weigh Up'!$U$31=\"\",\"\",'Weigh Up'!$U$31)","v":0},{"$f":"IF('Weigh Up'!$B$4=\"\",\"\",'Weigh Up'!$B$4)","v":"HMACP MIXTURE DESIGN : WEIGH UP SHEET"},{"$f":"IF('Weigh Up'!$B$31=\"\",\"\",'Weigh Up'!$B$31)","v":"INDIVIDUAL"},{"$f":"IF('Weigh Up'!$C$30=\"\",\"\",'Weigh Up'!$C$30)","v":"Passing"},{"$f":"IF('Weigh Up'!$C$31=\"\",\"\",'Weigh Up'!$C$31)","v":"-"},{"$f":"IF('Weigh Up'!$C$29=\"\",\"\",'Weigh Up'!$C$29)","v":"Sieve Size:"},{"$f":"IF('Weigh Up'!$D$30=\"\",\"\",'Weigh Up'!$D$30)","v":"Retained"},{"$f":"IF('Weigh Up'!$D$31=\"\",\"\",'Weigh Up'!$D$31)","v":"1\""},{"$f":"'Weigh Up'!$U$23","v":"Bin No.9 "}]
[1541,{"$f":"IF('Weigh Up'!$W$31=\"\",\"\",'Weigh Up'!$W$31)","v":0},{"$f":"IF('Weigh Up'!$B$4=\"\",\"\",'Weigh Up'!$B$4)","v":"HMACP MIXTURE DESIGN : WEIGH UP SHEET"},{"$f":"IF('Weigh Up'!$B$31=\"\",\"\",'Weigh Up'!$B$31)","v":"INDIVIDUAL"},{"$f":"IF('Weigh Up'!$C$30=\"\",\"\",'Weigh Up'!$C$30)","v":"Passing"},{"$f":"IF('Weigh Up'!$C$31=\"\",\"\",'Weigh Up'!$C$31)","v":"-"},{"$f":"IF('Weigh Up'!$C$29=\"\",\"\",'Weigh Up'!$C$29)","v":"Sieve Size:"},{"$f":"IF('Weigh Up'!$D$30=\"\",\"\",'Weigh Up'!$D$30)","v":"Retained"},{"$f":"IF('Weigh Up'!$D$31=\"\",\"\",'Weigh Up'!$D$31)","v":"1\""},{"$f":"'Weigh Up'!$W$23","v":"Bin No.10 "}]
[1542,{"$f":"IF('Weigh Up'!$S$32=\"\",\"\",'Weigh Up'!$S$32)","v":0},{"$f":"IF('Weigh Up'!$B$4=\"\",\"\",'Weigh Up'!$B$4)","v":"HMACP MIXTURE DESIGN : WEIGH UP SHEET"},{"$f":"IF('Weigh Up'!$B$31=\"\",\"\",'Weigh Up'!$B$31)","v":"INDIVIDUAL"},{"$f":"IF('Weigh Up'!$C$30=\"\",\"\",'Weigh Up'!$C$30)","v":"Passing"},{"$f":"IF('Weigh Up'!$C$32=\"\",\"\",'Weigh Up'!$C$32)","v":"1\""},{"$f":"IF('Weigh Up'!$C$29=\"\",\"\",'Weigh Up'!$C$29)","v":"Sieve Size:"},{"$f":"IF('Weigh Up'!$D$30=\"\",\"\",'Weigh Up'!$D$30)","v":"Retained"},{"$f":"IF('Weigh Up'!$D$32=\"\",\"\",'Weigh Up'!$D$32)","v":"3/4\""},{"$f":"'Weigh Up'!$S$23","v":"Bin No.8 "}]
[1543,{"$f":"IF('Weigh Up'!$U$32=\"\",\"\",'Weigh Up'!$U$32)","v":0},{"$f":"IF('Weigh Up'!$B$4=\"\",\"\",'Weigh Up'!$B$4)","v":"HMACP MIXTURE DESIGN : WEIGH UP SHEET"},{"$f":"IF('Weigh Up'!$B$31=\"\",\"\",'Weigh Up'!$B$31)","v":"INDIVIDUAL"},{"$f":"IF('Weigh Up'!$C$30=\"\",\"\",'Weigh Up'!$C$30)","v":"Passing"},{"$f":"IF('Weigh Up'!$C$32=\"\",\"\",'Weigh Up'!$C$32)","v":"1\""},{"$f":"IF('Weigh Up'!$C$29=\"\",\"\",'Weigh Up'!$C$29)","v":"Sieve Size:"},{"$f":"IF('Weigh Up'!$D$30=\"\",\"\",'Weigh Up'!$D$30)","v":"Retained"},{"$f":"IF('Weigh Up'!$D$32=\"\",\"\",'Weigh Up'!$D$32)","v":"3/4\""},{"$f":"'Weigh Up'!$U$23","v":"Bin No.9 "}]
[1544,{"$f":"IF('Weigh Up'!$W$32=\"\",\"\",'Weigh Up'!$W$32)","v":0},{"$f":"IF('Weigh Up'!$B$4=\"\",\"\",'Weigh Up'!$B$4)","v":"HMACP MIXTURE DESIGN : WEIGH UP SHEET"},{"$f":"IF('Weigh Up'!$B$31=\"\",\"\",'Weigh Up'!$B$31)","v":"INDIVIDUAL"},{"$f":"IF('Weigh Up'!$C$30=\"\",\"\",'Weigh Up'!$C$30)","v":"Passing"},{"$f":"IF('Weigh Up'!$C$32=\"\",\"\",'Weigh Up'!$C$32)","v":"1\""},{"$f":"IF('Weigh Up'!$C$29=\"\",\"\",'Weigh Up'!$C$29)","v":"Sieve Size:"},{"$f":"IF('Weigh Up'!$D$30=\"\",\"\",'Weigh Up'!$D$30)","v":"Retained"},{"$f":"IF('Weigh Up'!$D$32=\"\",\"\",'Weigh Up'!$D$32)","v":"3/4\""},{"$f":"'Weigh Up'!$W$23","v":"Bin No.10 "}]
[1545,{"$f":"IF('Weigh Up'!$S$33=\"\",\"\",'Weigh Up'!$S$33)","v":0},{"$f":"IF('Weigh Up'!$B$4=\"\",\"\",'Weigh Up'!$B$4)","v":"HMACP MIXTURE DESIGN : WEIGH UP SHEET"},{"$f":"IF('Weigh Up'!$B$31=\"\",\"\",'Weigh Up'!$B$31)","v":"INDIVIDUAL"},{"$f":"IF('Weigh Up'!$C$30=\"\",\"\",'Weigh Up'!$C$30)","v":"Passing"},{"$f":"IF('Weigh Up'!$C$33=\"\",\"\",'Weigh Up'!$C$33)","v":"3/4\""},{"$f":"IF('Weigh Up'!$C$29=\"\",\"\",'Weigh Up'!$C$29)","v":"Sieve Size:"},{"$f":"IF('Weigh Up'!$D$30=\"\",\"\",'Weigh Up'!$D$30)","v":"Retained"},{"$f":"IF('Weigh Up'!$D$33=\"\",\"\",'Weigh Up'!$D$33)","v":"1/2\""},{"$f":"'Weigh Up'!$S$23","v":"Bin No.8 "}]
[1546,{"$f":"IF('Weigh Up'!$U$33=\"\",\"\",'Weigh Up'!$U$33)","v":0},{"$f":"IF('Weigh Up'!$B$4=\"\",\"\",'Weigh Up'!$B$4)","v":"HMACP MIXTURE DESIGN : WEIGH UP SHEET"},{"$f":"IF('Weigh Up'!$B$31=\"\",\"\",'Weigh Up'!$B$31)","v":"INDIVIDUAL"},{"$f":"IF('Weigh Up'!$C$30=\"\",\"\",'Weigh Up'!$C$30)","v":"Passing"},{"$f":"IF('Weigh Up'!$C$33=\"\",\"\",'Weigh Up'!$C$33)","v":"3/4\""},{"$f":"IF('Weigh Up'!$C$29=\"\",\"\",'Weigh Up'!$C$29)","v":"Sieve Size:"},{"$f":"IF('Weigh Up'!$D$30=\"\",\"\",'Weigh Up'!$D$30)","v":"Retained"},{"$f":"IF('Weigh Up'!$D$33=\"\",\"\",'Weigh Up'!$D$33)","v":"1/2\""},{"$f":"'Weigh Up'!$U$23","v":"Bin No.9 "}]
[1547,{"$f":"IF('Weigh Up'!$W$33=\"\",\"\",'Weigh Up'!$W$33)","v":0},{"$f":"IF('Weigh Up'!$B$4=\"\",\"\",'Weigh Up'!$B$4)","v":"HMACP MIXTURE DESIGN : WEIGH UP SHEET"},{"$f":"IF('Weigh Up'!$B$31=\"\",\"\",'Weigh Up'!$B$31)","v":"INDIVIDUAL"},{"$f":"IF('Weigh Up'!$C$30=\"\",\"\",'Weigh Up'!$C$30)","v":"Passing"},{"$f":"IF('Weigh Up'!$C$33=\"\",\"\",'Weigh Up'!$C$33)","v":"3/4\""},{"$f":"IF('Weigh Up'!$C$29=\"\",\"\",'Weigh Up'!$C$29)","v":"Sieve Size:"},{"$f":"IF('Weigh Up'!$D$30=\"\",\"\",'Weigh Up'!$D$30)","v":"Retained"},{"$f":"IF('Weigh Up'!$D$33=\"\",\"\",'Weigh Up'!$D$33)","v":"1/2\""},{"$f":"'Weigh Up'!$W$23","v":"Bin No.10 "}]
[1548,{"$f":"IF('Weigh Up'!$S$34=\"\",\"\",'Weigh Up'!$S$34)","v":0},{"$f":"IF('Weigh Up'!$B$4=\"\",\"\",'Weigh Up'!$B$4)","v":"HMACP MIXTURE DESIGN : WEIGH UP SHEET"},{"$f":"IF('Weigh Up'!$B$31=\"\",\"\",'Weigh Up'!$B$31)","v":"INDIVIDUAL"},{"$f":"IF('Weigh Up'!$C$30=\"\",\"\",'Weigh Up'!$C$30)","v":"Passing"},{"$f":"IF('Weigh Up'!$C$34=\"\",\"\",'Weigh Up'!$C$34)","v":"1/2\""},{"$f":"IF('Weigh Up'!$C$29=\"\",\"\",'Weigh Up'!$C$29)","v":"Sieve Size:"},{"$f":"IF('Weigh Up'!$D$30=\"\",\"\",'Weigh Up'!$D$30)","v":"Retained"},{"$f":"IF('Weigh Up'!$D$34=\"\",\"\",'Weigh Up'!$D$34)","v":"3/8\""},{"$f":"'Weigh Up'!$S$23","v":"Bin No.8 "}]
[1549,{"$f":"IF('Weigh Up'!$U$34=\"\",\"\",'Weigh Up'!$U$34)","v":0},{"$f":"IF('Weigh Up'!$B$4=\"\",\"\",'Weigh Up'!$B$4)","v":"HMACP MIXTURE DESIGN : WEIGH UP SHEET"},{"$f":"IF('Weigh Up'!$B$31=\"\",\"\",'Weigh Up'!$B$31)","v":"INDIVIDUAL"},{"$f":"IF('Weigh Up'!$C$30=\"\",\"\",'Weigh Up'!$C$30)","v":"Passing"},{"$f":"IF('Weigh Up'!$C$34=\"\",\"\",'Weigh Up'!$C$34)","v":"1/2\""},{"$f":"IF('Weigh Up'!$C$29=\"\",\"\",'Weigh Up'!$C$29)","v":"Sieve Size:"},{"$f":"IF('Weigh Up'!$D$30=\"\",\"\",'Weigh Up'!$D$30)","v":"Retained"},{"$f":"IF('Weigh Up'!$D$34=\"\",\"\",'Weigh Up'!$D$34)","v":"3/8\""},{"$f":"'Weigh Up'!$U$23","v":"Bin No.9 "}]
[1550,{"$f":"IF('Weigh Up'!$W$34=\"\",\"\",'Weigh Up'!$W$34)","v":0},{"$f":"IF('Weigh Up'!$B$4=\"\",\"\",'Weigh Up'!$B$4)","v":"HMACP MIXTURE DESIGN : WEIGH UP SHEET"},{"$f":"IF('Weigh Up'!$B$31=\"\",\"\",'Weigh Up'!$B$31)","v":"INDIVIDUAL"},{"$f":"IF('Weigh Up'!$C$30=\"\",\"\",'Weigh Up'!$C$30)","v":"Passing"},{"$f":"IF('Weigh Up'!$C$34=\"\",\"\",'Weigh Up'!$C$34)","v":"1/2\""},{"$f":"IF('Weigh Up'!$C$29=\"\",\"\",'Weigh Up'!$C$29)","v":"Sieve Size:"},{"$f":"IF('Weigh Up'!$D$30=\"\",\"\",'Weigh Up'!$D$30)","v":"Retained"},{"$f":"IF('Weigh Up'!$D$34=\"\",\"\",'Weigh Up'!$D$34)","v":"3/8\""},{"$f":"'Weigh Up'!$W$23","v":"Bin No.10 "}]
[1551,{"$f":"IF('Weigh Up'!$S$35=\"\",\"\",'Weigh Up'!$S$35)","v":0},{"$f":"IF('Weigh Up'!$B$4=\"\",\"\",'Weigh Up'!$B$4)","v":"HMACP MIXTURE DESIGN : WEIGH UP SHEET"},{"$f":"IF('Weigh Up'!$B$31=\"\",\"\",'Weigh Up'!$B$31)","v":"INDIVIDUAL"},{"$f":"IF('Weigh Up'!$C$30=\"\",\"\",'Weigh Up'!$C$30)","v":"Passing"},{"$f":"IF('Weigh Up'!$C$35=\"\",\"\",'Weigh Up'!$C$35)","v":"3/8\""},{"$f":"IF('Weigh Up'!$C$29=\"\",\"\",'Weigh Up'!$C$29)","v":"Sieve Size:"},{"$f":"IF('Weigh Up'!$D$30=\"\",\"\",'Weigh Up'!$D$30)","v":"Retained"},{"$f":"IF('Weigh Up'!$D$35=\"\",\"\",'Weigh Up'!$D$35)","v":"No. 4"},{"$f":"'Weigh Up'!$S$23","v":"Bin No.8 "}]
[1552,{"$f":"IF('Weigh Up'!$U$35=\"\",\"\",'Weigh Up'!$U$35)","v":0},{"$f":"IF('Weigh Up'!$B$4=\"\",\"\",'Weigh Up'!$B$4)","v":"HMACP MIXTURE DESIGN : WEIGH UP SHEET"},{"$f":"IF('Weigh Up'!$B$31=\"\",\"\",'Weigh Up'!$B$31)","v":"INDIVIDUAL"},{"$f":"IF('Weigh Up'!$C$30=\"\",\"\",'Weigh Up'!$C$30)","v":"Passing"},{"$f":"IF('Weigh Up'!$C$35=\"\",\"\",'Weigh Up'!$C$35)","v":"3/8\""},{"$f":"IF('Weigh Up'!$C$29=\"\",\"\",'Weigh Up'!$C$29)","v":"Sieve Size:"},{"$f":"IF('Weigh Up'!$D$30=\"\",\"\",'Weigh Up'!$D$30)","v":"Retained"},{"$f":"IF('Weigh Up'!$D$35=\"\",\"\",'Weigh Up'!$D$35)","v":"No. 4"},{"$f":"'Weigh Up'!$U$23","v":"Bin No.9 "}]
[1553,{"$f":"IF('Weigh Up'!$W$35=\"\",\"\",'Weigh Up'!$W$35)","v":0},{"$f":"IF('Weigh Up'!$B$4=\"\",\"\",'Weigh Up'!$B$4)","v":"HMACP MIXTURE DESIGN : WEIGH UP SHEET"},{"$f":"IF('Weigh Up'!$B$31=\"\",\"\",'Weigh Up'!$B$31)","v":"INDIVIDUAL"},{"$f":"IF('Weigh Up'!$C$30=\"\",\"\",'Weigh Up'!$C$30)","v":"Passing"},{"$f":"IF('Weigh Up'!$C$35=\"\",\"\",'Weigh Up'!$C$35)","v":"3/8\""},{"$f":"IF('Weigh Up'!$C$29=\"\",\"\",'Weigh Up'!$C$29)","v":"Sieve Size:"},{"$f":"IF('Weigh Up'!$D$30=\"\",\"\",'Weigh Up'!$D$30)","v":"Retained"},{"$f":"IF('Weigh Up'!$D$35=\"\",\"\",'Weigh Up'!$D$35)","v":"No. 4"},{"$f":"'Weigh Up'!$W$23","v":"Bin No.10 "}]
[1554,{"$f":"IF('Weigh Up'!$S$36=\"\",\"\",'Weigh Up'!$S$36)","v":0},{"$f":"IF('Weigh Up'!$B$4=\"\",\"\",'Weigh Up'!$B$4)","v":"HMACP MIXTURE DESIGN : WEIGH UP SHEET"},{"$f":"IF('Weigh Up'!$B$31=\"\",\"\",'Weigh Up'!$B$31)","v":"INDIVIDUAL"},{"$f":"IF('Weigh Up'!$C$30=\"\",\"\",'Weigh Up'!$C$30)","v":"Passing"},{"$f":"IF('Weigh Up'!$C$36=\"\",\"\",'Weigh Up'!$C$36)","v":"No. 4"},{"$f":"IF('Weigh Up'!$C$29=\"\",\"\",'Weigh Up'!$C$29)","v":"Sieve Size:"},{"$f":"IF('Weigh Up'!$D$30=\"\",\"\",'Weigh Up'!$D$30)","v":"Retained"},{"$f":"IF('Weigh Up'!$D$36=\"\",\"\",'Weigh Up'!$D$36)","v":"No. 8"},{"$f":"'Weigh Up'!$S$23","v":"Bin No.8 "}]
[1555,{"$f":"IF('Weigh Up'!$U$36=\"\",\"\",'Weigh Up'!$U$36)","v":0},{"$f":"IF('Weigh Up'!$B$4=\"\",\"\",'Weigh Up'!$B$4)","v":"HMACP MIXTURE DESIGN : WEIGH UP SHEET"},{"$f":"IF('Weigh Up'!$B$31=\"\",\"\",'Weigh Up'!$B$31)","v":"INDIVIDUAL"},{"$f":"IF('Weigh Up'!$C$30=\"\",\"\",'Weigh Up'!$C$30)","v":"Passing"},{"$f":"IF('Weigh Up'!$C$36=\"\",\"\",'Weigh Up'!$C$36)","v":"No. 4"},{"$f":"IF('Weigh Up'!$C$29=\"\",\"\",'Weigh Up'!$C$29)","v":"Sieve Size:"},{"$f":"IF('Weigh Up'!$D$30=\"\",\"\",'Weigh Up'!$D$30)","v":"Retained"},{"$f":"IF('Weigh Up'!$D$36=\"\",\"\",'Weigh Up'!$D$36)","v":"No. 8"},{"$f":"'Weigh Up'!$U$23","v":"Bin No.9 "}]
[1556,{"$f":"IF('Weigh Up'!$W$36=\"\",\"\",'Weigh Up'!$W$36)","v":0},{"$f":"IF('Weigh Up'!$B$4=\"\",\"\",'Weigh Up'!$B$4)","v":"HMACP MIXTURE DESIGN : WEIGH UP SHEET"},{"$f":"IF('Weigh Up'!$B$31=\"\",\"\",'Weigh Up'!$B$31)","v":"INDIVIDUAL"},{"$f":"IF('Weigh Up'!$C$30=\"\",\"\",'Weigh Up'!$C$30)","v":"Passing"},{"$f":"IF('Weigh Up'!$C$36=\"\",\"\",'Weigh Up'!$C$36)","v":"No. 4"},{"$f":"IF('Weigh Up'!$C$29=\"\",\"\",'Weigh Up'!$C$29)","v":"Sieve Size:"},{"$f":"IF('Weigh Up'!$D$30=\"\",\"\",'Weigh Up'!$D$30)","v":"Retained"},{"$f":"IF('Weigh Up'!$D$36=\"\",\"\",'Weigh Up'!$D$36)","v":"No. 8"},{"$f":"'Weigh Up'!$W$23","v":"Bin No.10 "}]
[1557,{"$f":"IF('Weigh Up'!$S$37=\"\",\"\",'Weigh Up'!$S$37)","v":0},{"$f":"IF('Weigh Up'!$B$4=\"\",\"\",'Weigh Up'!$B$4)","v":"HMACP MIXTURE DESIGN : WEIGH UP SHEET"},{"$f":"IF('Weigh Up'!$B$31=\"\",\"\",'Weigh Up'!$B$31)","v":"INDIVIDUAL"},{"$f":"IF('Weigh Up'!$C$30=\"\",\"\",'Weigh Up'!$C$30)","v":"Passing"},{"$f":"IF('Weigh Up'!$C$37=\"\",\"\",'Weigh Up'!$C$37)","v":"No. 8"},{"$f":"IF('Weigh Up'!$C$29=\"\",\"\",'Weigh Up'!$C$29)","v":"Sieve Size:"},{"$f":"IF('Weigh Up'!$D$30=\"\",\"\",'Weigh Up'!$D$30)","v":"Retained"},{"$f":"IF('Weigh Up'!$D$37=\"\",\"\",'Weigh Up'!$D$37)","v":"No. 16"},{"$f":"'Weigh Up'!$S$23","v":"Bin No.8 "}]
[1558,{"$f":"IF('Weigh Up'!$U$37=\"\",\"\",'Weigh Up'!$U$37)","v":0},{"$f":"IF('Weigh Up'!$B$4=\"\",\"\",'Weigh Up'!$B$4)","v":"HMACP MIXTURE DESIGN : WEIGH UP SHEET"},{"$f":"IF('Weigh Up'!$B$31=\"\",\"\",'Weigh Up'!$B$31)","v":"INDIVIDUAL"},{"$f":"IF('Weigh Up'!$C$30=\"\",\"\",'Weigh Up'!$C$30)","v":"Passing"},{"$f":"IF('Weigh Up'!$C$37=\"\",\"\",'Weigh Up'!$C$37)","v":"No. 8"},{"$f":"IF('Weigh Up'!$C$29=\"\",\"\",'Weigh Up'!$C$29)","v":"Sieve Size:"},{"$f":"IF('Weigh Up'!$D$30=\"\",\"\",'Weigh Up'!$D$30)","v":"Retained"},{"$f":"IF('Weigh Up'!$D$37=\"\",\"\",'Weigh Up'!$D$37)","v":"No. 16"},{"$f":"'Weigh Up'!$U$23","v":"Bin No.9 "}]
[1559,{"$f":"IF('Weigh Up'!$W$37=\"\",\"\",'Weigh Up'!$W$37)","v":0},{"$f":"IF('Weigh Up'!$B$4=\"\",\"\",'Weigh Up'!$B$4)","v":"HMACP MIXTURE DESIGN : WEIGH UP SHEET"},{"$f":"IF('Weigh Up'!$B$31=\"\",\"\",'Weigh Up'!$B$31)","v":"INDIVIDUAL"},{"$f":"IF('Weigh Up'!$C$30=\"\",\"\",'Weigh Up'!$C$30)","v":"Passing"},{"$f":"IF('Weigh Up'!$C$37=\"\",\"\",'Weigh Up'!$C$37)","v":"No. 8"},{"$f":"IF('Weigh Up'!$C$29=\"\",\"\",'Weigh Up'!$C$29)","v":"Sieve Size:"},{"$f":"IF('Weigh Up'!$D$30=\"\",\"\",'Weigh Up'!$D$30)","v":"Retained"},{"$f":"IF('Weigh Up'!$D$37=\"\",\"\",'Weigh Up'!$D$37)","v":"No. 16"},{"$f":"'Weigh Up'!$W$23","v":"Bin No.10 "}]
[1560,{"$f":"IF('Weigh Up'!$S$38=\"\",\"\",'Weigh Up'!$S$38)","v":0},{"$f":"IF('Weigh Up'!$B$4=\"\",\"\",'Weigh Up'!$B$4)","v":"HMACP MIXTURE DESIGN : WEIGH UP SHEET"},{"$f":"IF('Weigh Up'!$B$31=\"\",\"\",'Weigh Up'!$B$31)","v":"INDIVIDUAL"},{"$f":"IF('Weigh Up'!$C$30=\"\",\"\",'Weigh Up'!$C$30)","v":"Passing"},{"$f":"IF('Weigh Up'!$C$38=\"\",\"\",'Weigh Up'!$C$38)","v":"No. 16"},{"$f":"IF('Weigh Up'!$C$29=\"\",\"\",'Weigh Up'!$C$29)","v":"Sieve Size:"},{"$f":"IF('Weigh Up'!$D$30=\"\",\"\",'Weigh Up'!$D$30)","v":"Retained"},{"$f":"IF('Weigh Up'!$D$38=\"\",\"\",'Weigh Up'!$D$38)","v":"No. 30"},{"$f":"'Weigh Up'!$S$23","v":"Bin No.8 "}]
[1561,{"$f":"IF('Weigh Up'!$U$38=\"\",\"\",'Weigh Up'!$U$38)","v":0},{"$f":"IF('Weigh Up'!$B$4=\"\",\"\",'Weigh Up'!$B$4)","v":"HMACP MIXTURE DESIGN : WEIGH UP SHEET"},{"$f":"IF('Weigh Up'!$B$31=\"\",\"\",'Weigh Up'!$B$31)","v":"INDIVIDUAL"},{"$f":"IF('Weigh Up'!$C$30=\"\",\"\",'Weigh Up'!$C$30)","v":"Passing"},{"$f":"IF('Weigh Up'!$C$38=\"\",\"\",'Weigh Up'!$C$38)","v":"No. 16"},{"$f":"IF('Weigh Up'!$C$29=\"\",\"\",'Weigh Up'!$C$29)","v":"Sieve Size:"},{"$f":"IF('Weigh Up'!$D$30=\"\",\"\",'Weigh Up'!$D$30)","v":"Retained"},{"$f":"IF('Weigh Up'!$D$38=\"\",\"\",'Weigh Up'!$D$38)","v":"No. 30"},{"$f":"'Weigh Up'!$U$23","v":"Bin No.9 "}]
[1562,{"$f":"IF('Weigh Up'!$W$38=\"\",\"\",'Weigh Up'!$W$38)","v":0},{"$f":"IF('Weigh Up'!$B$4=\"\",\"\",'Weigh Up'!$B$4)","v":"HMACP MIXTURE DESIGN : WEIGH UP SHEET"},{"$f":"IF('Weigh Up'!$B$31=\"\",\"\",'Weigh Up'!$B$31)","v":"INDIVIDUAL"},{"$f":"IF('Weigh Up'!$C$30=\"\",\"\",'Weigh Up'!$C$30)","v":"Passing"},{"$f":"IF('Weigh Up'!$C$38=\"\",\"\",'Weigh Up'!$C$38)","v":"No. 16"},{"$f":"IF('Weigh Up'!$C$29=\"\",\"\",'Weigh Up'!$C$29)","v":"Sieve Size:"},{"$f":"IF('Weigh Up'!$D$30=\"\",\"\",'Weigh Up'!$D$30)","v":"Retained"},{"$f":"IF('Weigh Up'!$D$38=\"\",\"\",'Weigh Up'!$D$38)","v":"No. 30"},{"$f":"'Weigh Up'!$W$23","v":"Bin No.10 "}]
[1563,{"$f":"IF('Weigh Up'!$S$39=\"\",\"\",'Weigh Up'!$S$39)","v":0},{"$f":"IF('Weigh Up'!$B$4=\"\",\"\",'Weigh Up'!$B$4)","v":"HMACP MIXTURE DESIGN : WEIGH UP SHEET"},{"$f":"IF('Weigh Up'!$B$31=\"\",\"\",'Weigh Up'!$B$31)","v":"INDIVIDUAL"},{"$f":"IF('Weigh Up'!$C$30=\"\",\"\",'Weigh Up'!$C$30)","v":"Passing"},{"$f":"IF('Weigh Up'!$C$39=\"\",\"\",'Weigh Up'!$C$39)","v":"No. 30"},{"$f":"IF('Weigh Up'!$C$29=\"\",\"\",'Weigh Up'!$C$29)","v":"Sieve Size:"},{"$f":"IF('Weigh Up'!$D$30=\"\",\"\",'Weigh Up'!$D$30)","v":"Retained"},{"$f":"IF('Weigh Up'!$D$39=\"\",\"\",'Weigh Up'!$D$39)","v":"No. 50"},{"$f":"'Weigh Up'!$S$23","v":"Bin No.8 "}]
[1564,{"$f":"IF('Weigh Up'!$U$39=\"\",\"\",'Weigh Up'!$U$39)","v":0},{"$f":"IF('Weigh Up'!$B$4=\"\",\"\",'Weigh Up'!$B$4)","v":"HMACP MIXTURE DESIGN : WEIGH UP SHEET"},{"$f":"IF('Weigh Up'!$B$31=\"\",\"\",'Weigh Up'!$B$31)","v":"INDIVIDUAL"},{"$f":"IF('Weigh Up'!$C$30=\"\",\"\",'Weigh Up'!$C$30)","v":"Passing"},{"$f":"IF('Weigh Up'!$C$39=\"\",\"\",'Weigh Up'!$C$39)","v":"No. 30"},{"$f":"IF('Weigh Up'!$C$29=\"\",\"\",'Weigh Up'!$C$29)","v":"Sieve Size:"},{"$f":"IF('Weigh Up'!$D$30=\"\",\"\",'Weigh Up'!$D$30)","v":"Retained"},{"$f":"IF('Weigh Up'!$D$39=\"\",\"\",'Weigh Up'!$D$39)","v":"No. 50"},{"$f":"'Weigh Up'!$U$23","v":"Bin No.9 "}]
[1565,{"$f":"IF('Weigh Up'!$W$39=\"\",\"\",'Weigh Up'!$W$39)","v":0},{"$f":"IF('Weigh Up'!$B$4=\"\",\"\",'Weigh Up'!$B$4)","v":"HMACP MIXTURE DESIGN : WEIGH UP SHEET"},{"$f":"IF('Weigh Up'!$B$31=\"\",\"\",'Weigh Up'!$B$31)","v":"INDIVIDUAL"},{"$f":"IF('Weigh Up'!$C$30=\"\",\"\",'Weigh Up'!$C$30)","v":"Passing"},{"$f":"IF('Weigh Up'!$C$39=\"\",\"\",'Weigh Up'!$C$39)","v":"No. 30"},{"$f":"IF('Weigh Up'!$C$29=\"\",\"\",'Weigh Up'!$C$29)","v":"Sieve Size:"},{"$f":"IF('Weigh Up'!$D$30=\"\",\"\",'Weigh Up'!$D$30)","v":"Retained"},{"$f":"IF('Weigh Up'!$D$39=\"\",\"\",'Weigh Up'!$D$39)","v":"No. 50"},{"$f":"'Weigh Up'!$W$23","v":"Bin No.10 "}]
[1566,{"$f":"IF('Weigh Up'!$S$40=\"\",\"\",'Weigh Up'!$S$40)","v":0},{"$f":"IF('Weigh Up'!$B$4=\"\",\"\",'Weigh Up'!$B$4)","v":"HMACP MIXTURE DESIGN : WEIGH UP SHEET"},{"$f":"IF('Weigh Up'!$B$31=\"\",\"\",'Weigh Up'!$B$31)","v":"INDIVIDUAL"},{"$f":"IF('Weigh Up'!$C$30=\"\",\"\",'Weigh Up'!$C$30)","v":"Passing"},{"$f":"IF('Weigh Up'!$C$40=\"\",\"\",'Weigh Up'!$C$40)","v":"No. 50"},{"$f":"IF('Weigh Up'!$C$29=\"\",\"\",'Weigh Up'!$C$29)","v":"Sieve Size:"},{"$f":"IF('Weigh Up'!$D$30=\"\",\"\",'Weigh Up'!$D$30)","v":"Retained"},{"$f":"IF('Weigh Up'!$D$40=\"\",\"\",'Weigh Up'!$D$40)","v":"No. 200"},{"$f":"'Weigh Up'!$S$23","v":"Bin No.8 "}]
[1567,{"$f":"IF('Weigh Up'!$U$40=\"\",\"\",'Weigh Up'!$U$40)","v":0},{"$f":"IF('Weigh Up'!$B$4=\"\",\"\",'Weigh Up'!$B$4)","v":"HMACP MIXTURE DESIGN : WEIGH UP SHEET"},{"$f":"IF('Weigh Up'!$B$31=\"\",\"\",'Weigh Up'!$B$31)","v":"INDIVIDUAL"},{"$f":"IF('Weigh Up'!$C$30=\"\",\"\",'Weigh Up'!$C$30)","v":"Passing"},{"$f":"IF('Weigh Up'!$C$40=\"\",\"\",'Weigh Up'!$C$40)","v":"No. 50"},{"$f":"IF('Weigh Up'!$C$29=\"\",\"\",'Weigh Up'!$C$29)","v":"Sieve Size:"},{"$f":"IF('Weigh Up'!$D$30=\"\",\"\",'Weigh Up'!$D$30)","v":"Retained"},{"$f":"IF('Weigh Up'!$D$40=\"\",\"\",'Weigh Up'!$D$40)","v":"No. 200"},{"$f":"'Weigh Up'!$U$23","v":"Bin No.9 "}]
[1568,{"$f":"IF('Weigh Up'!$W$40=\"\",\"\",'Weigh Up'!$W$40)","v":0},{"$f":"IF('Weigh Up'!$B$4=\"\",\"\",'Weigh Up'!$B$4)","v":"HMACP MIXTURE DESIGN : WEIGH UP SHEET"},{"$f":"IF('Weigh Up'!$B$31=\"\",\"\",'Weigh Up'!$B$31)","v":"INDIVIDUAL"},{"$f":"IF('Weigh Up'!$C$30=\"\",\"\",'Weigh Up'!$C$30)","v":"Passing"},{"$f":"IF('Weigh Up'!$C$40=\"\",\"\",'Weigh Up'!$C$40)","v":"No. 50"},{"$f":"IF('Weigh Up'!$C$29=\"\",\"\",'Weigh Up'!$C$29)","v":"Sieve Size:"},{"$f":"IF('Weigh Up'!$D$30=\"\",\"\",'Weigh Up'!$D$30)","v":"Retained"},{"$f":"IF('Weigh Up'!$D$40=\"\",\"\",'Weigh Up'!$D$40)","v":"No. 200"},{"$f":"'Weigh Up'!$W$23","v":"Bin No.10 "}]
[1569,{"$f":"IF('Weigh Up'!$S$41=\"\",\"\",'Weigh Up'!$S$41)","v":0},{"$f":"IF('Weigh Up'!$B$4=\"\",\"\",'Weigh Up'!$B$4)","v":"HMACP MIXTURE DESIGN : WEIGH UP SHEET"},{"$f":"IF('Weigh Up'!$B$31=\"\",\"\",'Weigh Up'!$B$31)","v":"INDIVIDUAL"},{"$f":"IF('Weigh Up'!$C$30=\"\",\"\",'Weigh Up'!$C$30)","v":"Passing"},{"$f":"IF('Weigh Up'!$C$41=\"\",\"\",'Weigh Up'!$C$41)","v":"No. 200"},{"$f":"IF('Weigh Up'!$C$29=\"\",\"\",'Weigh Up'!$C$29)","v":"Sieve Size:"},{"$f":"IF('Weigh Up'!$D$30=\"\",\"\",'Weigh Up'!$D$30)","v":"Retained"},{"$f":"IF('Weigh Up'!$D$41=\"\",\"\",'Weigh Up'!$D$41)","v":"Pan"},{"$f":"'Weigh Up'!$S$23","v":"Bin No.8 "}]
[1570,{"$f":"IF('Weigh Up'!$U$41=\"\",\"\",'Weigh Up'!$U$41)","v":0},{"$f":"IF('Weigh Up'!$B$4=\"\",\"\",'Weigh Up'!$B$4)","v":"HMACP MIXTURE DESIGN : WEIGH UP SHEET"},{"$f":"IF('Weigh Up'!$B$31=\"\",\"\",'Weigh Up'!$B$31)","v":"INDIVIDUAL"},{"$f":"IF('Weigh Up'!$C$30=\"\",\"\",'Weigh Up'!$C$30)","v":"Passing"},{"$f":"IF('Weigh Up'!$C$41=\"\",\"\",'Weigh Up'!$C$41)","v":"No. 200"},{"$f":"IF('Weigh Up'!$C$29=\"\",\"\",'Weigh Up'!$C$29)","v":"Sieve Size:"},{"$f":"IF('Weigh Up'!$D$30=\"\",\"\",'Weigh Up'!$D$30)","v":"Retained"},{"$f":"IF('Weigh Up'!$D$41=\"\",\"\",'Weigh Up'!$D$41)","v":"Pan"},{"$f":"'Weigh Up'!$U$23","v":"Bin No.9 "}]
[1571,{"$f":"IF('Weigh Up'!$W$41=\"\",\"\",'Weigh Up'!$W$41)","v":0},{"$f":"IF('Weigh Up'!$B$4=\"\",\"\",'Weigh Up'!$B$4)","v":"HMACP MIXTURE DESIGN : WEIGH UP SHEET"},{"$f":"IF('Weigh Up'!$B$31=\"\",\"\",'Weigh Up'!$B$31)","v":"INDIVIDUAL"},{"$f":"IF('Weigh Up'!$C$30=\"\",\"\",'Weigh Up'!$C$30)","v":"Passing"},{"$f":"IF('Weigh Up'!$C$41=\"\",\"\",'Weigh Up'!$C$41)","v":"No. 200"},{"$f":"IF('Weigh Up'!$C$29=\"\",\"\",'Weigh Up'!$C$29)","v":"Sieve Size:"},{"$f":"IF('Weigh Up'!$D$30=\"\",\"\",'Weigh Up'!$D$30)","v":"Retained"},{"$f":"IF('Weigh Up'!$D$41=\"\",\"\",'Weigh Up'!$D$41)","v":"Pan"},{"$f":"'Weigh Up'!$W$23","v":"Bin No.10 "}]
[1572,{"$f":"IF('Weigh Up'!$S$42=\"\",\"\",'Weigh Up'!$S$42)","v":0},{"$f":"IF('Weigh Up'!$B$4=\"\",\"\",'Weigh Up'!$B$4)","v":"HMACP MIXTURE DESIGN : WEIGH UP SHEET"},{"$f":"IF('Weigh Up'!$B$31=\"\",\"\",'Weigh Up'!$B$31)","v":"INDIVIDUAL"},{"$f":"IF('Weigh Up'!$C$42=\"\",\"\",'Weigh Up'!$C$42)","v":"Totals"},{"$f":"'Weigh Up'!$S$23","v":"Bin No.8 "},{"$f":"'Weigh Up'!$S$29","v":"Fractionated RAP Weight"}]
[1573,{"$f":"IF('Weigh Up'!$U$42=\"\",\"\",'Weigh Up'!$U$42)","v":0},{"$f":"IF('Weigh Up'!$B$4=\"\",\"\",'Weigh Up'!$B$4)","v":"HMACP MIXTURE DESIGN : WEIGH UP SHEET"},{"$f":"IF('Weigh Up'!$B$31=\"\",\"\",'Weigh Up'!$B$31)","v":"INDIVIDUAL"},{"$f":"IF('Weigh Up'!$C$42=\"\",\"\",'Weigh Up'!$C$42)","v":"Totals"},{"$f":"'Weigh Up'!$U$23","v":"Bin No.9 "},{"$f":"'Weigh Up'!$U$29","v":"Fractionated RAP Weight"}]
[1574,{"$f":"IF('Weigh Up'!$W$42=\"\",\"\",'Weigh Up'!$W$42)","v":0},{"$f":"IF('Weigh Up'!$B$4=\"\",\"\",'Weigh Up'!$B$4)","v":"HMACP MIXTURE DESIGN : WEIGH UP SHEET"},{"$f":"IF('Weigh Up'!$B$31=\"\",\"\",'Weigh Up'!$B$31)","v":"INDIVIDUAL"},{"$f":"IF('Weigh Up'!$C$42=\"\",\"\",'Weigh Up'!$C$42)","v":"Totals"},{"$f":"'Weigh Up'!$W$23","v":"Bin No.10 "},{"$f":"'Weigh Up'!$W$29","v":"RAS Weight"}]
[1575,{"$f":"IF('Weigh Up'!$S$45=\"\",\"\",'Weigh Up'!$S$45)","v":0},{"$f":"IF('Weigh Up'!$B$4=\"\",\"\",'Weigh Up'!$B$4)","v":"HMACP MIXTURE DESIGN : WEIGH UP SHEET"},{"$f":"IF('Weigh Up'!$B$45=\"\",\"\",'Weigh Up'!$B$45)","v":"CUMULATIVE"},{"$f":"IF('Weigh Up'!$C$30=\"\",\"\",'Weigh Up'!$C$30)","v":"Passing"},{"$f":"IF('Weigh Up'!$C$31=\"\",\"\",'Weigh Up'!$C$31)","v":"-"},{"$f":"IF('Weigh Up'!$C$29=\"\",\"\",'Weigh Up'!$C$29)","v":"Sieve Size:"},{"$f":"IF('Weigh Up'!$D$30=\"\",\"\",'Weigh Up'!$D$30)","v":"Retained"},{"$f":"IF('Weigh Up'!$D$31=\"\",\"\",'Weigh Up'!$D$31)","v":"1\""},{"$f":"'Weigh Up'!$S$23","v":"Bin No.8 "}]
[1576,{"$f":"IF('Weigh Up'!$U$45=\"\",\"\",'Weigh Up'!$U$45)","v":0},{"$f":"IF('Weigh Up'!$B$4=\"\",\"\",'Weigh Up'!$B$4)","v":"HMACP MIXTURE DESIGN : WEIGH UP SHEET"},{"$f":"IF('Weigh Up'!$B$45=\"\",\"\",'Weigh Up'!$B$45)","v":"CUMULATIVE"},{"$f":"IF('Weigh Up'!$C$30=\"\",\"\",'Weigh Up'!$C$30)","v":"Passing"},{"$f":"IF('Weigh Up'!$C$31=\"\",\"\",'Weigh Up'!$C$31)","v":"-"},{"$f":"IF('Weigh Up'!$C$29=\"\",\"\",'Weigh Up'!$C$29)","v":"Sieve Size:"},{"$f":"IF('Weigh Up'!$D$30=\"\",\"\",'Weigh Up'!$D$30)","v":"Retained"},{"$f":"IF('Weigh Up'!$D$31=\"\",\"\",'Weigh Up'!$D$31)","v":"1\""},{"$f":"'Weigh Up'!$U$23","v":"Bin No.9 "}]
[1577,{"$f":"IF('Weigh Up'!$W$45=\"\",\"\",'Weigh Up'!$W$45)","v":0},{"$f":"IF('Weigh Up'!$B$4=\"\",\"\",'Weigh Up'!$B$4)","v":"HMACP MIXTURE DESIGN : WEIGH UP SHEET"},{"$f":"IF('Weigh Up'!$B$45=\"\",\"\",'Weigh Up'!$B$45)","v":"CUMULATIVE"},{"$f":"IF('Weigh Up'!$C$30=\"\",\"\",'Weigh Up'!$C$30)","v":"Passing"},{"$f":"IF('Weigh Up'!$C$31=\"\",\"\",'Weigh Up'!$C$31)","v":"-"},{"$f":"IF('Weigh Up'!$C$29=\"\",\"\",'Weigh Up'!$C$29)","v":"Sieve Size:"},{"$f":"IF('Weigh Up'!$D$30=\"\",\"\",'Weigh Up'!$D$30)","v":"Retained"},{"$f":"IF('Weigh Up'!$D$31=\"\",\"\",'Weigh Up'!$D$31)","v":"1\""},{"$f":"'Weigh Up'!$W$23","v":"Bin No.10 "}]
[1578,{"$f":"IF('Weigh Up'!$S$46=\"\",\"\",'Weigh Up'!$S$46)","v":0},{"$f":"IF('Weigh Up'!$B$4=\"\",\"\",'Weigh Up'!$B$4)","v":"HMACP MIXTURE DESIGN : WEIGH UP SHEET"},{"$f":"IF('Weigh Up'!$B$45=\"\",\"\",'Weigh Up'!$B$45)","v":"CUMULATIVE"},{"$f":"IF('Weigh Up'!$C$30=\"\",\"\",'Weigh Up'!$C$30)","v":"Passing"},{"$f":"IF('Weigh Up'!$C$32=\"\",\"\",'Weigh Up'!$C$32)","v":"1\""},{"$f":"IF('Weigh Up'!$C$29=\"\",\"\",'Weigh Up'!$C$29)","v":"Sieve Size:"},{"$f":"IF('Weigh Up'!$D$30=\"\",\"\",'Weigh Up'!$D$30)","v":"Retained"},{"$f":"IF('Weigh Up'!$D$32=\"\",\"\",'Weigh Up'!$D$32)","v":"3/4\""},{"$f":"'Weigh Up'!$S$23","v":"Bin No.8 "}]
[1579,{"$f":"IF('Weigh Up'!$U$46=\"\",\"\",'Weigh Up'!$U$46)","v":0},{"$f":"IF('Weigh Up'!$B$4=\"\",\"\",'Weigh Up'!$B$4)","v":"HMACP MIXTURE DESIGN : WEIGH UP SHEET"},{"$f":"IF('Weigh Up'!$B$45=\"\",\"\",'Weigh Up'!$B$45)","v":"CUMULATIVE"},{"$f":"IF('Weigh Up'!$C$30=\"\",\"\",'Weigh Up'!$C$30)","v":"Passing"},{"$f":"IF('Weigh Up'!$C$32=\"\",\"\",'Weigh Up'!$C$32)","v":"1\""},{"$f":"IF('Weigh Up'!$C$29=\"\",\"\",'Weigh Up'!$C$29)","v":"Sieve Size:"},{"$f":"IF('Weigh Up'!$D$30=\"\",\"\",'Weigh Up'!$D$30)","v":"Retained"},{"$f":"IF('Weigh Up'!$D$32=\"\",\"\",'Weigh Up'!$D$32)","v":"3/4\""},{"$f":"'Weigh Up'!$U$23","v":"Bin No.9 "}]
[1580,{"$f":"IF('Weigh Up'!$W$46=\"\",\"\",'Weigh Up'!$W$46)","v":0},{"$f":"IF('Weigh Up'!$B$4=\"\",\"\",'Weigh Up'!$B$4)","v":"HMACP MIXTURE DESIGN : WEIGH UP SHEET"},{"$f":"IF('Weigh Up'!$B$45=\"\",\"\",'Weigh Up'!$B$45)","v":"CUMULATIVE"},{"$f":"IF('Weigh Up'!$C$30=\"\",\"\",'Weigh Up'!$C$30)","v":"Passing"},{"$f":"IF('Weigh Up'!$C$32=\"\",\"\",'Weigh Up'!$C$32)","v":"1\""},{"$f":"IF('Weigh Up'!$C$29=\"\",\"\",'Weigh Up'!$C$29)","v":"Sieve Size:"},{"$f":"IF('Weigh Up'!$D$30=\"\",\"\",'Weigh Up'!$D$30)","v":"Retained"},{"$f":"IF('Weigh Up'!$D$32=\"\",\"\",'Weigh Up'!$D$32)","v":"3/4\""},{"$f":"'Weigh Up'!$W$23","v":"Bin No.10 "}]
[1581,{"$f":"IF('Weigh Up'!$S$47=\"\",\"\",'Weigh Up'!$S$47)","v":0},{"$f":"IF('Weigh Up'!$B$4=\"\",\"\",'Weigh Up'!$B$4)","v":"HMACP MIXTURE DESIGN : WEIGH UP SHEET"},{"$f":"IF('Weigh Up'!$B$45=\"\",\"\",'Weigh Up'!$B$45)","v":"CUMULATIVE"},{"$f":"IF('Weigh Up'!$C$30=\"\",\"\",'Weigh Up'!$C$30)","v":"Passing"},{"$f":"IF('Weigh Up'!$C$33=\"\",\"\",'Weigh Up'!$C$33)","v":"3/4\""},{"$f":"IF('Weigh Up'!$C$29=\"\",\"\",'Weigh Up'!$C$29)","v":"Sieve Size:"},{"$f":"IF('Weigh Up'!$D$30=\"\",\"\",'Weigh Up'!$D$30)","v":"Retained"},{"$f":"IF('Weigh Up'!$D$33=\"\",\"\",'Weigh Up'!$D$33)","v":"1/2\""},{"$f":"'Weigh Up'!$S$23","v":"Bin No.8 "}]
[1582,{"$f":"IF('Weigh Up'!$U$47=\"\",\"\",'Weigh Up'!$U$47)","v":0},{"$f":"IF('Weigh Up'!$B$4=\"\",\"\",'Weigh Up'!$B$4)","v":"HMACP MIXTURE DESIGN : WEIGH UP SHEET"},{"$f":"IF('Weigh Up'!$B$45=\"\",\"\",'Weigh Up'!$B$45)","v":"CUMULATIVE"},{"$f":"IF('Weigh Up'!$C$30=\"\",\"\",'Weigh Up'!$C$30)","v":"Passing"},{"$f":"IF('Weigh Up'!$C$33=\"\",\"\",'Weigh Up'!$C$33)","v":"3/4\""},{"$f":"IF('Weigh Up'!$C$29=\"\",\"\",'Weigh Up'!$C$29)","v":"Sieve Size:"},{"$f":"IF('Weigh Up'!$D$30=\"\",\"\",'Weigh Up'!$D$30)","v":"Retained"},{"$f":"IF('Weigh Up'!$D$33=\"\",\"\",'Weigh Up'!$D$33)","v":"1/2\""},{"$f":"'Weigh Up'!$U$23","v":"Bin No.9 "}]
[1583,{"$f":"IF('Weigh Up'!$W$47=\"\",\"\",'Weigh Up'!$W$47)","v":0},{"$f":"IF('Weigh Up'!$B$4=\"\",\"\",'Weigh Up'!$B$4)","v":"HMACP MIXTURE DESIGN : WEIGH UP SHEET"},{"$f":"IF('Weigh Up'!$B$45=\"\",\"\",'Weigh Up'!$B$45)","v":"CUMULATIVE"},{"$f":"IF('Weigh Up'!$C$30=\"\",\"\",'Weigh Up'!$C$30)","v":"Passing"},{"$f":"IF('Weigh Up'!$C$33=\"\",\"\",'Weigh Up'!$C$33)","v":"3/4\""},{"$f":"IF('Weigh Up'!$C$29=\"\",\"\",'Weigh Up'!$C$29)","v":"Sieve Size:"},{"$f":"IF('Weigh Up'!$D$30=\"\",\"\",'Weigh Up'!$D$30)","v":"Retained"},{"$f":"IF('Weigh Up'!$D$33=\"\",\"\",'Weigh Up'!$D$33)","v":"1/2\""},{"$f":"'Weigh Up'!$W$23","v":"Bin No.10 "}]
[1584,{"$f":"IF('Weigh Up'!$S$48=\"\",\"\",'Weigh Up'!$S$48)","v":0},{"$f":"IF('Weigh Up'!$B$4=\"\",\"\",'Weigh Up'!$B$4)","v":"HMACP MIXTURE DESIGN : WEIGH UP SHEET"},{"$f":"IF('Weigh Up'!$B$45=\"\",\"\",'Weigh Up'!$B$45)","v":"CUMULATIVE"},{"$f":"IF('Weigh Up'!$C$30=\"\",\"\",'Weigh Up'!$C$30)","v":"Passing"},{"$f":"IF('Weigh Up'!$C$34=\"\",\"\",'Weigh Up'!$C$34)","v":"1/2\""},{"$f":"IF('Weigh Up'!$C$29=\"\",\"\",'Weigh Up'!$C$29)","v":"Sieve Size:"},{"$f":"IF('Weigh Up'!$D$30=\"\",\"\",'Weigh Up'!$D$30)","v":"Retained"},{"$f":"IF('Weigh Up'!$D$34=\"\",\"\",'Weigh Up'!$D$34)","v":"3/8\""},{"$f":"'Weigh Up'!$S$23","v":"Bin No.8 "}]
[1585,{"$f":"IF('Weigh Up'!$U$48=\"\",\"\",'Weigh Up'!$U$48)","v":0},{"$f":"IF('Weigh Up'!$B$4=\"\",\"\",'Weigh Up'!$B$4)","v":"HMACP MIXTURE DESIGN : WEIGH UP SHEET"},{"$f":"IF('Weigh Up'!$B$45=\"\",\"\",'Weigh Up'!$B$45)","v":"CUMULATIVE"},{"$f":"IF('Weigh Up'!$C$30=\"\",\"\",'Weigh Up'!$C$30)","v":"Passing"},{"$f":"IF('Weigh Up'!$C$34=\"\",\"\",'Weigh Up'!$C$34)","v":"1/2\""},{"$f":"IF('Weigh Up'!$C$29=\"\",\"\",'Weigh Up'!$C$29)","v":"Sieve Size:"},{"$f":"IF('Weigh Up'!$D$30=\"\",\"\",'Weigh Up'!$D$30)","v":"Retained"},{"$f":"IF('Weigh Up'!$D$34=\"\",\"\",'Weigh Up'!$D$34)","v":"3/8\""},{"$f":"'Weigh Up'!$U$23","v":"Bin No.9 "}]
[1586,{"$f":"IF('Weigh Up'!$W$48=\"\",\"\",'Weigh Up'!$W$48)","v":0},{"$f":"IF('Weigh Up'!$B$4=\"\",\"\",'Weigh Up'!$B$4)","v":"HMACP MIXTURE DESIGN : WEIGH UP SHEET"},{"$f":"IF('Weigh Up'!$B$45=\"\",\"\",'Weigh Up'!$B$45)","v":"CUMULATIVE"},{"$f":"IF('Weigh Up'!$C$30=\"\",\"\",'Weigh Up'!$C$30)","v":"Passing"},{"$f":"IF('Weigh Up'!$C$34=\"\",\"\",'Weigh Up'!$C$34)","v":"1/2\""},{"$f":"IF('Weigh Up'!$C$29=\"\",\"\",'Weigh Up'!$C$29)","v":"Sieve Size:"},{"$f":"IF('Weigh Up'!$D$30=\"\",\"\",'Weigh Up'!$D$30)","v":"Retained"},{"$f":"IF('Weigh Up'!$D$34=\"\",\"\",'Weigh Up'!$D$34)","v":"3/8\""},{"$f":"'Weigh Up'!$W$23","v":"Bin No.10 "}]
[1587,{"$f":"IF('Weigh Up'!$S$49=\"\",\"\",'Weigh Up'!$S$49)","v":0},{"$f":"IF('Weigh Up'!$B$4=\"\",\"\",'Weigh Up'!$B$4)","v":"HMACP MIXTURE DESIGN : WEIGH UP SHEET"},{"$f":"IF('Weigh Up'!$B$45=\"\",\"\",'Weigh Up'!$B$45)","v":"CUMULATIVE"},{"$f":"IF('Weigh Up'!$C$30=\"\",\"\",'Weigh Up'!$C$30)","v":"Passing"},{"$f":"IF('Weigh Up'!$C$35=\"\",\"\",'Weigh Up'!$C$35)","v":"3/8\""},{"$f":"IF('Weigh Up'!$C$29=\"\",\"\",'Weigh Up'!$C$29)","v":"Sieve Size:"},{"$f":"IF('Weigh Up'!$D$30=\"\",\"\",'Weigh Up'!$D$30)","v":"Retained"},{"$f":"IF('Weigh Up'!$D$35=\"\",\"\",'Weigh Up'!$D$35)","v":"No. 4"},{"$f":"'Weigh Up'!$S$23","v":"Bin No.8 "}]
[1588,{"$f":"IF('Weigh Up'!$U$49=\"\",\"\",'Weigh Up'!$U$49)","v":0},{"$f":"IF('Weigh Up'!$B$4=\"\",\"\",'Weigh Up'!$B$4)","v":"HMACP MIXTURE DESIGN : WEIGH UP SHEET"},{"$f":"IF('Weigh Up'!$B$45=\"\",\"\",'Weigh Up'!$B$45)","v":"CUMULATIVE"},{"$f":"IF('Weigh Up'!$C$30=\"\",\"\",'Weigh Up'!$C$30)","v":"Passing"},{"$f":"IF('Weigh Up'!$C$35=\"\",\"\",'Weigh Up'!$C$35)","v":"3/8\""},{"$f":"IF('Weigh Up'!$C$29=\"\",\"\",'Weigh Up'!$C$29)","v":"Sieve Size:"},{"$f":"IF('Weigh Up'!$D$30=\"\",\"\",'Weigh Up'!$D$30)","v":"Retained"},{"$f":"IF('Weigh Up'!$D$35=\"\",\"\",'Weigh Up'!$D$35)","v":"No. 4"},{"$f":"'Weigh Up'!$U$23","v":"Bin No.9 "}]
[1589,{"$f":"IF('Weigh Up'!$W$49=\"\",\"\",'Weigh Up'!$W$49)","v":0},{"$f":"IF('Weigh Up'!$B$4=\"\",\"\",'Weigh Up'!$B$4)","v":"HMACP MIXTURE DESIGN : WEIGH UP SHEET"},{"$f":"IF('Weigh Up'!$B$45=\"\",\"\",'Weigh Up'!$B$45)","v":"CUMULATIVE"},{"$f":"IF('Weigh Up'!$C$30=\"\",\"\",'Weigh Up'!$C$30)","v":"Passing"},{"$f":"IF('Weigh Up'!$C$35=\"\",\"\",'Weigh Up'!$C$35)","v":"3/8\""},{"$f":"IF('Weigh Up'!$C$29=\"\",\"\",'Weigh Up'!$C$29)","v":"Sieve Size:"},{"$f":"IF('Weigh Up'!$D$30=\"\",\"\",'Weigh Up'!$D$30)","v":"Retained"},{"$f":"IF('Weigh Up'!$D$35=\"\",\"\",'Weigh Up'!$D$35)","v":"No. 4"},{"$f":"'Weigh Up'!$W$23","v":"Bin No.10 "}]
[1590,{"$f":"IF('Weigh Up'!$S$50=\"\",\"\",'Weigh Up'!$S$50)","v":0},{"$f":"IF('Weigh Up'!$B$4=\"\",\"\",'Weigh Up'!$B$4)","v":"HMACP MIXTURE DESIGN : WEIGH UP SHEET"},{"$f":"IF('Weigh Up'!$B$45=\"\",\"\",'Weigh Up'!$B$45)","v":"CUMULATIVE"},{"$f":"IF('Weigh Up'!$C$30=\"\",\"\",'Weigh Up'!$C$30)","v":"Passing"},{"$f":"IF('Weigh Up'!$C$36=\"\",\"\",'Weigh Up'!$C$36)","v":"No. 4"},{"$f":"IF('Weigh Up'!$C$29=\"\",\"\",'Weigh Up'!$C$29)","v":"Sieve Size:"},{"$f":"IF('Weigh Up'!$D$30=\"\",\"\",'Weigh Up'!$D$30)","v":"Retained"},{"$f":"IF('Weigh Up'!$D$36=\"\",\"\",'Weigh Up'!$D$36)","v":"No. 8"},{"$f":"'Weigh Up'!$S$23","v":"Bin No.8 "}]
[1591,{"$f":"IF('Weigh Up'!$U$50=\"\",\"\",'Weigh Up'!$U$50)","v":0},{"$f":"IF('Weigh Up'!$B$4=\"\",\"\",'Weigh Up'!$B$4)","v":"HMACP MIXTURE DESIGN : WEIGH UP SHEET"},{"$f":"IF('Weigh Up'!$B$45=\"\",\"\",'Weigh Up'!$B$45)","v":"CUMULATIVE"},{"$f":"IF('Weigh Up'!$C$30=\"\",\"\",'Weigh Up'!$C$30)","v":"Passing"},{"$f":"IF('Weigh Up'!$C$36=\"\",\"\",'Weigh Up'!$C$36)","v":"No. 4"},{"$f":"IF('Weigh Up'!$C$29=\"\",\"\",'Weigh Up'!$C$29)","v":"Sieve Size:"},{"$f":"IF('Weigh Up'!$D$30=\"\",\"\",'Weigh Up'!$D$30)","v":"Retained"},{"$f":"IF('Weigh Up'!$D$36=\"\",\"\",'Weigh Up'!$D$36)","v":"No. 8"},{"$f":"'Weigh Up'!$U$23","v":"Bin No.9 "}]
[1592,{"$f":"IF('Weigh Up'!$W$50=\"\",\"\",'Weigh Up'!$W$50)","v":0},{"$f":"IF('Weigh Up'!$B$4=\"\",\"\",'Weigh Up'!$B$4)","v":"HMACP MIXTURE DESIGN : WEIGH UP SHEET"},{"$f":"IF('Weigh Up'!$B$45=\"\",\"\",'Weigh Up'!$B$45)","v":"CUMULATIVE"},{"$f":"IF('Weigh Up'!$C$30=\"\",\"\",'Weigh Up'!$C$30)","v":"Passing"},{"$f":"IF('Weigh Up'!$C$36=\"\",\"\",'Weigh Up'!$C$36)","v":"No. 4"},{"$f":"IF('Weigh Up'!$C$29=\"\",\"\",'Weigh Up'!$C$29)","v":"Sieve Size:"},{"$f":"IF('Weigh Up'!$D$30=\"\",\"\",'Weigh Up'!$D$30)","v":"Retained"},{"$f":"IF('Weigh Up'!$D$36=\"\",\"\",'Weigh Up'!$D$36)","v":"No. 8"},{"$f":"'Weigh Up'!$W$23","v":"Bin No.10 "}]
[1593,{"$f":"IF('Weigh Up'!$S$51=\"\",\"\",'Weigh Up'!$S$51)","v":0},{"$f":"IF('Weigh Up'!$B$4=\"\",\"\",'Weigh Up'!$B$4)","v":"HMACP MIXTURE DESIGN : WEIGH UP SHEET"},{"$f":"IF('Weigh Up'!$B$45=\"\",\"\",'Weigh Up'!$B$45)","v":"CUMULATIVE"},{"$f":"IF('Weigh Up'!$C$30=\"\",\"\",'Weigh Up'!$C$30)","v":"Passing"},{"$f":"IF('Weigh Up'!$C$37=\"\",\"\",'Weigh Up'!$C$37)","v":"No. 8"},{"$f":"IF('Weigh Up'!$C$29=\"\",\"\",'Weigh Up'!$C$29)","v":"Sieve Size:"},{"$f":"IF('Weigh Up'!$D$30=\"\",\"\",'Weigh Up'!$D$30)","v":"Retained"},{"$f":"IF('Weigh Up'!$D$37=\"\",\"\",'Weigh Up'!$D$37)","v":"No. 16"},{"$f":"'Weigh Up'!$S$23","v":"Bin No.8 "}]
[1594,{"$f":"IF('Weigh Up'!$U$51=\"\",\"\",'Weigh Up'!$U$51)","v":0},{"$f":"IF('Weigh Up'!$B$4=\"\",\"\",'Weigh Up'!$B$4)","v":"HMACP MIXTURE DESIGN : WEIGH UP SHEET"},{"$f":"IF('Weigh Up'!$B$45=\"\",\"\",'Weigh Up'!$B$45)","v":"CUMULATIVE"},{"$f":"IF('Weigh Up'!$C$30=\"\",\"\",'Weigh Up'!$C$30)","v":"Passing"},{"$f":"IF('Weigh Up'!$C$37=\"\",\"\",'Weigh Up'!$C$37)","v":"No. 8"},{"$f":"IF('Weigh Up'!$C$29=\"\",\"\",'Weigh Up'!$C$29)","v":"Sieve Size:"},{"$f":"IF('Weigh Up'!$D$30=\"\",\"\",'Weigh Up'!$D$30)","v":"Retained"},{"$f":"IF('Weigh Up'!$D$37=\"\",\"\",'Weigh Up'!$D$37)","v":"No. 16"},{"$f":"'Weigh Up'!$U$23","v":"Bin No.9 "}]
[1595,{"$f":"IF('Weigh Up'!$W$51=\"\",\"\",'Weigh Up'!$W$51)","v":0},{"$f":"IF('Weigh Up'!$B$4=\"\",\"\",'Weigh Up'!$B$4)","v":"HMACP MIXTURE DESIGN : WEIGH UP SHEET"},{"$f":"IF('Weigh Up'!$B$45=\"\",\"\",'Weigh Up'!$B$45)","v":"CUMULATIVE"},{"$f":"IF('Weigh Up'!$C$30=\"\",\"\",'Weigh Up'!$C$30)","v":"Passing"},{"$f":"IF('Weigh Up'!$C$37=\"\",\"\",'Weigh Up'!$C$37)","v":"No. 8"},{"$f":"IF('Weigh Up'!$C$29=\"\",\"\",'Weigh Up'!$C$29)","v":"Sieve Size:"},{"$f":"IF('Weigh Up'!$D$30=\"\",\"\",'Weigh Up'!$D$30)","v":"Retained"},{"$f":"IF('Weigh Up'!$D$37=\"\",\"\",'Weigh Up'!$D$37)","v":"No. 16"},{"$f":"'Weigh Up'!$W$23","v":"Bin No.10 "}]
[1596,{"$f":"IF('Weigh Up'!$S$52=\"\",\"\",'Weigh Up'!$S$52)","v":0},{"$f":"IF('Weigh Up'!$B$4=\"\",\"\",'Weigh Up'!$B$4)","v":"HMACP MIXTURE DESIGN : WEIGH UP SHEET"},{"$f":"IF('Weigh Up'!$B$45=\"\",\"\",'Weigh Up'!$B$45)","v":"CUMULATIVE"},{"$f":"IF('Weigh Up'!$C$30=\"\",\"\",'Weigh Up'!$C$30)","v":"Passing"},{"$f":"IF('Weigh Up'!$C$38=\"\",\"\",'Weigh Up'!$C$38)","v":"No. 16"},{"$f":"IF('Weigh Up'!$C$29=\"\",\"\",'Weigh Up'!$C$29)","v":"Sieve Size:"},{"$f":"IF('Weigh Up'!$D$30=\"\",\"\",'Weigh Up'!$D$30)","v":"Retained"},{"$f":"IF('Weigh Up'!$D$38=\"\",\"\",'Weigh Up'!$D$38)","v":"No. 30"},{"$f":"'Weigh Up'!$S$23","v":"Bin No.8 "}]
[1597,{"$f":"IF('Weigh Up'!$U$52=\"\",\"\",'Weigh Up'!$U$52)","v":0},{"$f":"IF('Weigh Up'!$B$4=\"\",\"\",'Weigh Up'!$B$4)","v":"HMACP MIXTURE DESIGN : WEIGH UP SHEET"},{"$f":"IF('Weigh Up'!$B$45=\"\",\"\",'Weigh Up'!$B$45)","v":"CUMULATIVE"},{"$f":"IF('Weigh Up'!$C$30=\"\",\"\",'Weigh Up'!$C$30)","v":"Passing"},{"$f":"IF('Weigh Up'!$C$38=\"\",\"\",'Weigh Up'!$C$38)","v":"No. 16"},{"$f":"IF('Weigh Up'!$C$29=\"\",\"\",'Weigh Up'!$C$29)","v":"Sieve Size:"},{"$f":"IF('Weigh Up'!$D$30=\"\",\"\",'Weigh Up'!$D$30)","v":"Retained"},{"$f":"IF('Weigh Up'!$D$38=\"\",\"\",'Weigh Up'!$D$38)","v":"No. 30"},{"$f":"'Weigh Up'!$U$23","v":"Bin No.9 "}]
[1598,{"$f":"IF('Weigh Up'!$W$52=\"\",\"\",'Weigh Up'!$W$52)","v":0},{"$f":"IF('Weigh Up'!$B$4=\"\",\"\",'Weigh Up'!$B$4)","v":"HMACP MIXTURE DESIGN : WEIGH UP SHEET"},{"$f":"IF('Weigh Up'!$B$45=\"\",\"\",'Weigh Up'!$B$45)","v":"CUMULATIVE"},{"$f":"IF('Weigh Up'!$C$30=\"\",\"\",'Weigh Up'!$C$30)","v":"Passing"},{"$f":"IF('Weigh Up'!$C$38=\"\",\"\",'Weigh Up'!$C$38)","v":"No. 16"},{"$f":"IF('Weigh Up'!$C$29=\"\",\"\",'Weigh Up'!$C$29)","v":"Sieve Size:"},{"$f":"IF('Weigh Up'!$D$30=\"\",\"\",'Weigh Up'!$D$30)","v":"Retained"},{"$f":"IF('Weigh Up'!$D$38=\"\",\"\",'Weigh Up'!$D$38)","v":"No. 30"},{"$f":"'Weigh Up'!$W$23","v":"Bin No.10 "}]
[1599,{"$f":"IF('Weigh Up'!$S$53=\"\",\"\",'Weigh Up'!$S$53)","v":0},{"$f":"IF('Weigh Up'!$B$4=\"\",\"\",'Weigh Up'!$B$4)","v":"HMACP MIXTURE DESIGN : WEIGH UP SHEET"},{"$f":"IF('Weigh Up'!$B$45=\"\",\"\",'Weigh Up'!$B$45)","v":"CUMULATIVE"},{"$f":"IF('Weigh Up'!$C$30=\"\",\"\",'Weigh Up'!$C$30)","v":"Passing"},{"$f":"IF('Weigh Up'!$C$39=\"\",\"\",'Weigh Up'!$C$39)","v":"No. 30"},{"$f":"IF('Weigh Up'!$C$29=\"\",\"\",'Weigh Up'!$C$29)","v":"Sieve Size:"},{"$f":"IF('Weigh Up'!$D$30=\"\",\"\",'Weigh Up'!$D$30)","v":"Retained"},{"$f":"IF('Weigh Up'!$D$39=\"\",\"\",'Weigh Up'!$D$39)","v":"No. 50"},{"$f":"'Weigh Up'!$S$23","v":"Bin No.8 "}]
[1600,{"$f":"IF('Weigh Up'!$U$53=\"\",\"\",'Weigh Up'!$U$53)","v":0},{"$f":"IF('Weigh Up'!$B$4=\"\",\"\",'Weigh Up'!$B$4)","v":"HMACP MIXTURE DESIGN : WEIGH UP SHEET"},{"$f":"IF('Weigh Up'!$B$45=\"\",\"\",'Weigh Up'!$B$45)","v":"CUMULATIVE"},{"$f":"IF('Weigh Up'!$C$30=\"\",\"\",'Weigh Up'!$C$30)","v":"Passing"},{"$f":"IF('Weigh Up'!$C$39=\"\",\"\",'Weigh Up'!$C$39)","v":"No. 30"},{"$f":"IF('Weigh Up'!$C$29=\"\",\"\",'Weigh Up'!$C$29)","v":"Sieve Size:"},{"$f":"IF('Weigh Up'!$D$30=\"\",\"\",'Weigh Up'!$D$30)","v":"Retained"},{"$f":"IF('Weigh Up'!$D$39=\"\",\"\",'Weigh Up'!$D$39)","v":"No. 50"},{"$f":"'Weigh Up'!$U$23","v":"Bin No.9 "}]
[1601,{"$f":"IF('Weigh Up'!$W$53=\"\",\"\",'Weigh Up'!$W$53)","v":0},{"$f":"IF('Weigh Up'!$B$4=\"\",\"\",'Weigh Up'!$B$4)","v":"HMACP MIXTURE DESIGN : WEIGH UP SHEET"},{"$f":"IF('Weigh Up'!$B$45=\"\",\"\",'Weigh Up'!$B$45)","v":"CUMULATIVE"},{"$f":"IF('Weigh Up'!$C$30=\"\",\"\",'Weigh Up'!$C$30)","v":"Passing"},{"$f":"IF('Weigh Up'!$C$39=\"\",\"\",'Weigh Up'!$C$39)","v":"No. 30"},{"$f":"IF('Weigh Up'!$C$29=\"\",\"\",'Weigh Up'!$C$29)","v":"Sieve Size:"},{"$f":"IF('Weigh Up'!$D$30=\"\",\"\",'Weigh Up'!$D$30)","v":"Retained"},{"$f":"IF('Weigh Up'!$D$39=\"\",\"\",'Weigh Up'!$D$39)","v":"No. 50"},{"$f":"'Weigh Up'!$W$23","v":"Bin No.10 "}]
[1602,{"$f":"IF('Weigh Up'!$S$54=\"\",\"\",'Weigh Up'!$S$54)","v":0},{"$f":"IF('Weigh Up'!$B$4=\"\",\"\",'Weigh Up'!$B$4)","v":"HMACP MIXTURE DESIGN : WEIGH UP SHEET"},{"$f":"IF('Weigh Up'!$B$45=\"\",\"\",'Weigh Up'!$B$45)","v":"CUMULATIVE"},{"$f":"IF('Weigh Up'!$C$30=\"\",\"\",'Weigh Up'!$C$30)","v":"Passing"},{"$f":"IF('Weigh Up'!$C$40=\"\",\"\",'Weigh Up'!$C$40)","v":"No. 50"},{"$f":"IF('Weigh Up'!$C$29=\"\",\"\",'Weigh Up'!$C$29)","v":"Sieve Size:"},{"$f":"IF('Weigh Up'!$D$30=\"\",\"\",'Weigh Up'!$D$30)","v":"Retained"},{"$f":"IF('Weigh Up'!$D$40=\"\",\"\",'Weigh Up'!$D$40)","v":"No. 200"},{"$f":"'Weigh Up'!$S$23","v":"Bin No.8 "}]
[1603,{"$f":"IF('Weigh Up'!$U$54=\"\",\"\",'Weigh Up'!$U$45)","v":0},{"$f":"IF('Weigh Up'!$B$4=\"\",\"\",'Weigh Up'!$B$4)","v":"HMACP MIXTURE DESIGN : WEIGH UP SHEET"},{"$f":"IF('Weigh Up'!$B$45=\"\",\"\",'Weigh Up'!$B$45)","v":"CUMULATIVE"},{"$f":"IF('Weigh Up'!$C$30=\"\",\"\",'Weigh Up'!$C$30)","v":"Passing"},{"$f":"IF('Weigh Up'!$C$40=\"\",\"\",'Weigh Up'!$C$40)","v":"No. 50"},{"$f":"IF('Weigh Up'!$C$29=\"\",\"\",'Weigh Up'!$C$29)","v":"Sieve Size:"},{"$f":"IF('Weigh Up'!$D$30=\"\",\"\",'Weigh Up'!$D$30)","v":"Retained"},{"$f":"IF('Weigh Up'!$D$40=\"\",\"\",'Weigh Up'!$D$40)","v":"No. 200"},{"$f":"'Weigh Up'!$U$23","v":"Bin No.9 "}]
[1604,{"$f":"IF('Weigh Up'!$W$54=\"\",\"\",'Weigh Up'!$W$54)","v":0},{"$f":"IF('Weigh Up'!$B$4=\"\",\"\",'Weigh Up'!$B$4)","v":"HMACP MIXTURE DESIGN : WEIGH UP SHEET"},{"$f":"IF('Weigh Up'!$B$45=\"\",\"\",'Weigh Up'!$B$45)","v":"CUMULATIVE"},{"$f":"IF('Weigh Up'!$C$30=\"\",\"\",'Weigh Up'!$C$30)","v":"Passing"},{"$f":"IF('Weigh Up'!$C$40=\"\",\"\",'Weigh Up'!$C$40)","v":"No. 50"},{"$f":"IF('Weigh Up'!$C$29=\"\",\"\",'Weigh Up'!$C$29)","v":"Sieve Size:"},{"$f":"IF('Weigh Up'!$D$30=\"\",\"\",'Weigh Up'!$D$30)","v":"Retained"},{"$f":"IF('Weigh Up'!$D$40=\"\",\"\",'Weigh Up'!$D$40)","v":"No. 200"},{"$f":"'Weigh Up'!$W$23","v":"Bin No.10 "}]
[1605,{"$f":"IF('Weigh Up'!$S$55=\"\",\"\",'Weigh Up'!$S$55)","v":0},{"$f":"IF('Weigh Up'!$B$4=\"\",\"\",'Weigh Up'!$B$4)","v":"HMACP MIXTURE DESIGN : WEIGH UP SHEET"},{"$f":"IF('Weigh Up'!$B$45=\"\",\"\",'Weigh Up'!$B$45)","v":"CUMULATIVE"},{"$f":"IF('Weigh Up'!$C$30=\"\",\"\",'Weigh Up'!$C$30)","v":"Passing"},{"$f":"IF('Weigh Up'!$C$41=\"\",\"\",'Weigh Up'!$C$41)","v":"No. 200"},{"$f":"IF('Weigh Up'!$C$29=\"\",\"\",'Weigh Up'!$C$29)","v":"Sieve Size:"},{"$f":"IF('Weigh Up'!$D$30=\"\",\"\",'Weigh Up'!$D$30)","v":"Retained"},{"$f":"IF('Weigh Up'!$D$41=\"\",\"\",'Weigh Up'!$D$41)","v":"Pan"},{"$f":"'Weigh Up'!$S$23","v":"Bin No.8 "}]
[1606,{"$f":"IF('Weigh Up'!$U$55=\"\",\"\",'Weigh Up'!$U$55)","v":0},{"$f":"IF('Weigh Up'!$B$4=\"\",\"\",'Weigh Up'!$B$4)","v":"HMACP MIXTURE DESIGN : WEIGH UP SHEET"},{"$f":"IF('Weigh Up'!$B$45=\"\",\"\",'Weigh Up'!$B$45)","v":"CUMULATIVE"},{"$f":"IF('Weigh Up'!$C$30=\"\",\"\",'Weigh Up'!$C$30)","v":"Passing"},{"$f":"IF('Weigh Up'!$C$41=\"\",\"\",'Weigh Up'!$C$41)","v":"No. 200"},{"$f":"IF('Weigh Up'!$C$29=\"\",\"\",'Weigh Up'!$C$29)","v":"Sieve Size:"},{"$f":"IF('Weigh Up'!$D$30=\"\",\"\",'Weigh Up'!$D$30)","v":"Retained"},{"$f":"IF('Weigh Up'!$D$41=\"\",\"\",'Weigh Up'!$D$41)","v":"Pan"},{"$f":"'Weigh Up'!$U$23","v":"Bin No.9 "}]
[1607,{"$f":"IF('Weigh Up'!$W$55=\"\",\"\",'Weigh Up'!$W$55)","v":0},{"$f":"IF('Weigh Up'!$B$4=\"\",\"\",'Weigh Up'!$B$4)","v":"HMACP MIXTURE DESIGN : WEIGH UP SHEET"},{"$f":"IF('Weigh Up'!$B$45=\"\",\"\",'Weigh Up'!$B$45)","v":"CUMULATIVE"},{"$f":"IF('Weigh Up'!$C$30=\"\",\"\",'Weigh Up'!$C$30)","v":"Passing"},{"$f":"IF('Weigh Up'!$C$41=\"\",\"\",'Weigh Up'!$C$41)","v":"No. 200"},{"$f":"IF('Weigh Up'!$C$29=\"\",\"\",'Weigh Up'!$C$29)","v":"Sieve Size:"},{"$f":"IF('Weigh Up'!$D$30=\"\",\"\",'Weigh Up'!$D$30)","v":"Retained"},{"$f":"IF('Weigh Up'!$D$41=\"\",\"\",'Weigh Up'!$D$41)","v":"Pan"},{"$f":"'Weigh Up'!$W$23","v":"Bin No.10 "}]
[1608,{"$f":"IF(Summary!$C$26=\"\",\"\",Summary!$C$26)","v":""},{"$f":"IF(Summary!$B$4=\"\",\"\",Summary!$B$4)","v":"HMACP MIXTURE DESIGN : SUMMARY SHEET"},{"$f":"IF(Summary!$A$26=\"\",\"\",Summary!$A$26)","v":1},{"$f":"IF(Summary!$C$24=\"\",\"\",Summary!$C$24)","v":"Binder Ratio (%)"}]
[1609,{"$f":"IF(Summary!$C$27=\"\",\"\",Summary!$C$27)","v":""},{"$f":"IF(Summary!$B$4=\"\",\"\",Summary!$B$4)","v":"HMACP MIXTURE DESIGN : SUMMARY SHEET"},{"$f":"IF(Summary!$A$27=\"\",\"\",Summary!$A$27)","v":2},{"$f":"IF(Summary!$C$24=\"\",\"\",Summary!$C$24)","v":"Binder Ratio (%)"}]
[1610,{"$f":"IF(Summary!$C$28=\"\",\"\",Summary!$C$28)","v":""},{"$f":"IF(Summary!$B$4=\"\",\"\",Summary!$B$4)","v":"HMACP MIXTURE DESIGN : SUMMARY SHEET"},{"$f":"IF(Summary!$A$28=\"\",\"\",Summary!$A$28)","v":3},{"$f":"IF(Summary!$C$24=\"\",\"\",Summary!$C$24)","v":"Binder Ratio (%)"}]
[1611,{"$f":"IF(Summary!$C$29=\"\",\"\",Summary!$C$29)","v":""},{"$f":"IF(Summary!$B$4=\"\",\"\",Summary!$B$4)","v":"HMACP MIXTURE DESIGN : SUMMARY SHEET"},{"$f":"IF(Summary!$A$29=\"\",\"\",Summary!$A$29)","v":4},{"$f":"IF(Summary!$C$24=\"\",\"\",Summary!$C$24)","v":"Binder Ratio (%)"}]
[1612,{"$f":"IF(Summary!$C$30=\"\",\"\",Summary!$C$30)","v":""},{"$f":"IF(Summary!$B$4=\"\",\"\",Summary!$B$4)","v":"HMACP MIXTURE DESIGN : SUMMARY SHEET"},{"$f":"IF(Summary!$A$30=\"\",\"\",Summary!$A$30)","v":5},{"$f":"IF(Summary!$C$24=\"\",\"\",Summary!$C$24)","v":"Binder Ratio (%)"}]
[1613,{"$f":"IF(Summary!$F$72=\"\",\"\",Summary!$F$72)","v":""},{"$f":"IF(Summary!$B$4=\"\",\"\",Summary!$B$4)","v":"HMACP MIXTURE DESIGN : SUMMARY SHEET"},{"$f":"IF(Summary!$B$72=\"\",\"\",Summary!$B$72)","v":"Binder Ratio @ OAC:"}]
[1614,{"$f":"IF('Matl Properties'!$AE$48=\"\",\"\",'Matl Properties'!$AE$48)","v":5},{"$f":"IF('Matl Properties'!$B$4=\"\",\"\",'Matl Properties'!$B$4)","v":"HMACP MIXTURE DESIGN : MATERIAL PROPERTIES"},{"$f":"IF('Matl Properties'!$B$46=\"\",\"\",'Matl Properties'!$B$46)","v":"Recycled Materials"},{"$f":"IF('Matl Properties'!$E$48=\"\",\"\",'Matl Properties'!$E$48)","v":"Tex-406-A, Part I"},{"$f":"IF('Matl Properties'!$F$48=\"\",\"\",'Matl Properties'!$F$48)","v":"Max."},{"$f":"IF('Matl Properties'!$G$25=\"\",\"\",'Matl Properties'!$G$25)","v":"Spec. Limit"}]
[1615,{"$f":"IF('Matl Properties'!$I$48=\"\",\"\",'Matl Properties'!$I$48)","v":""},{"$f":"IF('Matl Properties'!$B$4=\"\",\"\",'Matl Properties'!$B$4)","v":"HMACP MIXTURE DESIGN : MATERIAL PROPERTIES"},{"$f":"IF('Matl Properties'!$B$46=\"\",\"\",'Matl Properties'!$B$46)","v":"Recycled Materials"},{"$f":"IF('Matl Properties'!$E$48=\"\",\"\",'Matl Properties'!$E$48)","v":"Tex-406-A, Part I"},{"$f":"IF('Matl Properties'!$I$46=\"\",\"\",'Matl Properties'!$I$46)","v":"Bin No.8"},{"$f":"IF('Matl Properties'!$I$25=\"\",\"\",'Matl Properties'!$I$25)","v":"Result"}]
[1616,{"$f":"IF('Matl Properties'!$J$48=\"\",\"\",'Matl Properties'!$J$48)","v":""},{"$f":"IF('Matl Properties'!$B$4=\"\",\"\",'Matl Properties'!$B$4)","v":"HMACP MIXTURE DESIGN : MATERIAL PROPERTIES"},{"$f":"IF('Matl Properties'!$B$46=\"\",\"\",'Matl Properties'!$B$46)","v":"Recycled Materials"},{"$f":"IF('Matl Properties'!$E$48=\"\",\"\",'Matl Properties'!$E$48)","v":"Tex-406-A, Part I"},{"$f":"IF('Matl Properties'!$I$46=\"\",\"\",'Matl Properties'!$I$46)","v":"Bin No.8"},{"$f":"IF('Matl Properties'!$J$25=\"\",\"\",'Matl Properties'!$J$25)","v":"Sample ID"}]
[1617,{"$f":"IF('Matl Properties'!$L$48=\"\",\"\",'Matl Properties'!$L$48)","v":""},{"$f":"IF('Matl Properties'!$B$4=\"\",\"\",'Matl Properties'!$B$4)","v":"HMACP MIXTURE DESIGN : MATERIAL PROPERTIES"},{"$f":"IF('Matl Properties'!$B$46=\"\",\"\",'Matl Properties'!$B$46)","v":"Recycled Materials"},{"$f":"IF('Matl Properties'!$E$48=\"\",\"\",'Matl Properties'!$E$48)","v":"Tex-406-A, Part I"},{"$f":"IF('Matl Properties'!$L$46=\"\",\"\",'Matl Properties'!$L$46)","v":"Bin No.9"},{"$f":"IF('Matl Properties'!$I$25=\"\",\"\",'Matl Properties'!$I$25)","v":"Result"}]
[1618,{"$f":"IF('Matl Properties'!$M$48=\"\",\"\",'Matl Properties'!$M$48)","v":""},{"$f":"IF('Matl Properties'!$B$4=\"\",\"\",'Matl Properties'!$B$4)","v":"HMACP MIXTURE DESIGN : MATERIAL PROPERTIES"},{"$f":"IF('Matl Properties'!$B$46=\"\",\"\",'Matl Properties'!$B$46)","v":"Recycled Materials"},{"$f":"IF('Matl Properties'!$E$48=\"\",\"\",'Matl Properties'!$E$48)","v":"Tex-406-A, Part I"},{"$f":"IF('Matl Properties'!$L$46=\"\",\"\",'Matl Properties'!$L$46)","v":"Bin No.9"},{"$f":"IF('Matl Properties'!$J$25=\"\",\"\",'Matl Properties'!$J$25)","v":"Sample ID"}]
[1619,{"$f":"IF('Matl Properties'!$O$48=\"\",\"\",'Matl Properties'!$O$48)","v":""},{"$f":"IF('Matl Properties'!$B$4=\"\",\"\",'Matl Properties'!$B$4)","v":"HMACP MIXTURE DESIGN : MATERIAL PROPERTIES"},{"$f":"IF('Matl Properties'!$B$46=\"\",\"\",'Matl Properties'!$B$46)","v":"Recycled Materials"},{"$f":"IF('Matl Properties'!$E$48=\"\",\"\",'Matl Properties'!$E$48)","v":"Tex-406-A, Part I"},{"$f":"IF('Matl Properties'!$O$46=\"\",\"\",'Matl Properties'!$O$46)","v":"Bin No.10"},{"$f":"IF('Matl Properties'!$I$25=\"\",\"\",'Matl Properties'!$I$25)","v":"Result"}]
[1620,{"$f":"IF('Matl Properties'!$P$48=\"\",\"\",'Matl Properties'!$P$48)","v":""},{"$f":"IF('Matl Properties'!$B$4=\"\",\"\",'Matl Properties'!$B$4)","v":"HMACP MIXTURE DESIGN : MATERIAL PROPERTIES"},{"$f":"IF('Matl Properties'!$B$46=\"\",\"\",'Matl Properties'!$B$46)","v":"Recycled Materials"},{"$f":"IF('Matl Properties'!$E$48=\"\",\"\",'Matl Properties'!$E$48)","v":"Tex-406-A, Part I"},{"$f":"IF('Matl Properties'!$O$46=\"\",\"\",'Matl Properties'!$O$46)","v":"Bin No.10"},{"$f":"IF('Matl Properties'!$J$25=\"\",\"\",'Matl Properties'!$J$25)","v":"Sample ID"}]
[1621,{"$f":"IF('Matl Properties'!$AE$49=\"\",\"\",'Matl Properties'!$AE$49)","v":5},{"$f":"IF('Matl Properties'!$B$4=\"\",\"\",'Matl Properties'!$B$4)","v":"HMACP MIXTURE DESIGN : MATERIAL PROPERTIES"},{"$f":"IF('Matl Properties'!$B$46=\"\",\"\",'Matl Properties'!$B$46)","v":"Recycled Materials"},{"$f":"IF('Matl Properties'!$E$49=\"\",\"\",'Matl Properties'!$E$49)","v":"Tex-106-E"},{"$f":"IF('Matl Properties'!$F$49=\"\",\"\",'Matl Properties'!$F$48)","v":"Max."},{"$f":"IF('Matl Properties'!$G$25=\"\",\"\",'Matl Properties'!$G$25)","v":"Spec. Limit"}]
[1622,{"$f":"IF('Matl Properties'!$I$49=\"\",\"\",'Matl Properties'!$I$49)","v":""},{"$f":"IF('Matl Properties'!$B$4=\"\",\"\",'Matl Properties'!$B$4)","v":"HMACP MIXTURE DESIGN : MATERIAL PROPERTIES"},{"$f":"IF('Matl Properties'!$B$46=\"\",\"\",'Matl Properties'!$B$46)","v":"Recycled Materials"},{"$f":"IF('Matl Properties'!$E$49=\"\",\"\",'Matl Properties'!$E$49)","v":"Tex-106-E"},{"$f":"IF('Matl Properties'!$I$46=\"\",\"\",'Matl Properties'!$I$46)","v":"Bin No.8"},{"$f":"IF('Matl Properties'!$I$25=\"\",\"\",'Matl Properties'!$I$25)","v":"Result"}]
[1623,{"$f":"IF('Matl Properties'!$J$49=\"\",\"\",'Matl Properties'!$J$49)","v":""},{"$f":"IF('Matl Properties'!$B$4=\"\",\"\",'Matl Properties'!$B$4)","v":"HMACP MIXTURE DESIGN : MATERIAL PROPERTIES"},{"$f":"IF('Matl Properties'!$B$46=\"\",\"\",'Matl Properties'!$B$46)","v":"Recycled Materials"},{"$f":"IF('Matl Properties'!$E$49=\"\",\"\",'Matl Properties'!$E$49)","v":"Tex-106-E"},{"$f":"IF('Matl Properties'!$I$46=\"\",\"\",'Matl Properties'!$I$46)","v":"Bin No.8"},{"$f":"IF('Matl Properties'!$J$25=\"\",\"\",'Matl Properties'!$J$25)","v":"Sample ID"}]
[1624,{"$f":"IF('Matl Properties'!$L$49=\"\",\"\",'Matl Properties'!$L$49)","v":""},{"$f":"IF('Matl Properties'!$B$4=\"\",\"\",'Matl Properties'!$B$4)","v":"HMACP MIXTURE DESIGN : MATERIAL PROPERTIES"},{"$f":"IF('Matl Properties'!$B$46=\"\",\"\",'Matl Properties'!$B$46)","v":"Recycled Materials"},{"$f":"IF('Matl Properties'!$E$49=\"\",\"\",'Matl Properties'!$E$49)","v":"Tex-106-E"},{"$f":"IF('Matl Properties'!$L$46=\"\",\"\",'Matl Properties'!$L$46)","v":"Bin No.9"},{"$f":"IF('Matl Properties'!$I$25=\"\",\"\",'Matl Properties'!$I$25)","v":"Result"}]
[1625,{"$f":"IF('Matl Properties'!$M$49=\"\",\"\",'Matl Properties'!$M$49)","v":""},{"$f":"IF('Matl Properties'!$B$4=\"\",\"\",'Matl Properties'!$B$4)","v":"HMACP MIXTURE DESIGN : MATERIAL PROPERTIES"},{"$f":"IF('Matl Properties'!$B$46=\"\",\"\",'Matl Properties'!$B$46)","v":"Recycled Materials"},{"$f":"IF('Matl Properties'!$E$49=\"\",\"\",'Matl Properties'!$E$49)","v":"Tex-106-E"},{"$f":"IF('Matl Properties'!$L$46=\"\",\"\",'Matl Properties'!$L$46)","v":"Bin No.9"},{"$f":"IF('Matl Properties'!$J$25=\"\",\"\",'Matl Properties'!$J$25)","v":"Sample ID"}]
[1626,{"$f":"IF('Matl Properties'!$O$49=\"\",\"\",'Matl Properties'!$O$49)","v":""},{"$f":"IF('Matl Properties'!$B$4=\"\",\"\",'Matl Properties'!$B$4)","v":"HMACP MIXTURE DESIGN : MATERIAL PROPERTIES"},{"$f":"IF('Matl Properties'!$B$46=\"\",\"\",'Matl Properties'!$B$46)","v":"Recycled Materials"},{"$f":"IF('Matl Properties'!$E$49=\"\",\"\",'Matl Properties'!$E$49)","v":"Tex-106-E"},{"$f":"IF('Matl Properties'!$O$46=\"\",\"\",'Matl Properties'!$O$46)","v":"Bin No.10"},{"$f":"IF('Matl Properties'!$I$25=\"\",\"\",'Matl Properties'!$I$25)","v":"Result"}]
[1627,{"$f":"IF('Matl Properties'!$P$49=\"\",\"\",'Matl Properties'!$P$49)","v":""},{"$f":"IF('Matl Properties'!$B$4=\"\",\"\",'Matl Properties'!$B$4)","v":"HMACP MIXTURE DESIGN : MATERIAL PROPERTIES"},{"$f":"IF('Matl Properties'!$B$46=\"\",\"\",'Matl Properties'!$B$46)","v":"Recycled Materials"},{"$f":"IF('Matl Properties'!$E$49=\"\",\"\",'Matl Properties'!$E$49)","v":"Tex-106-E"},{"$f":"IF('Matl Properties'!$O$46=\"\",\"\",'Matl Properties'!$O$46)","v":"Bin No.10"},{"$f":"IF('Matl Properties'!$J$25=\"\",\"\",'Matl Properties'!$J$25)","v":"Sample ID"}]
[1628,{"$f":"IF('Bulk Gravity'!$AF$27=\"\",\"\",'Bulk Gravity'!$AF$27)","v":""},{"$f":"IF('Bulk Gravity'!$B$4=\"\",\"\",'Bulk Gravity'!$B$4)","v":"HMACP MIXTURE DESIGN : BULK GRAVITY"},{"$f":"IF('Bulk Gravity'!$AF$19=\"\",\"\",'Bulk Gravity'!$AF$19)","v":"Bin No.8"},{"$f":"IF('Bulk Gravity'!$AF$25=\"\",\"\",'Bulk Gravity'!$AF$25)","v":"Individual Ret., %"},{"$f":"IF('Bulk Gravity'!$B$26=\"\",\"\",'Bulk Gravity'!$B$26)","v":"Passing"},{"$f":"IF('Bulk Gravity'!$B$27=\"\",\"\",'Bulk Gravity'!$B$27)","v":""},{"$f":"IF('Bulk Gravity'!$B$25=\"\",\"\",'Bulk Gravity'!$B$25)","v":"Sieve Size:"},{"$f":"IF('Bulk Gravity'!$C$26=\"\",\"\",'Bulk Gravity'!$C$26)","v":"Retained"},{"$f":"'Bulk Gravity'!$C$27","v":"1\""}]
[1629,{"$f":"IF('Bulk Gravity'!$AG$27=\"\",\"\",'Bulk Gravity'!$AG$27)","v":""},{"$f":"IF('Bulk Gravity'!$B$4=\"\",\"\",'Bulk Gravity'!$B$4)","v":"HMACP MIXTURE DESIGN : BULK GRAVITY"},{"$f":"IF('Bulk Gravity'!$AF$19=\"\",\"\",'Bulk Gravity'!$AF$19)","v":"Bin No.8"},{"$f":"IF('Bulk Gravity'!$AG$25=\"\",\"\",'Bulk Gravity'!$AG$25)","v":"Bulk SG"},{"$f":"IF('Bulk Gravity'!$B$26=\"\",\"\",'Bulk Gravity'!$B$26)","v":"Passing"},{"$f":"IF('Bulk Gravity'!$B$27=\"\",\"\",'Bulk Gravity'!$B$27)","v":""},{"$f":"IF('Bulk Gravity'!$B$25=\"\",\"\",'Bulk Gravity'!$B$25)","v":"Sieve Size:"},{"$f":"IF('Bulk Gravity'!$C$26=\"\",\"\",'Bulk Gravity'!$C$26)","v":"Retained"},{"$f":"'Bulk Gravity'!$C$27","v":"1\""}]
[1630,{"$f":"IF('Bulk Gravity'!$AF$28=\"\",\"\",'Bulk Gravity'!$AF$28)","v":0},{"$f":"IF('Bulk Gravity'!$B$4=\"\",\"\",'Bulk Gravity'!$B$4)","v":"HMACP MIXTURE DESIGN : BULK GRAVITY"},{"$f":"IF('Bulk Gravity'!$AF$19=\"\",\"\",'Bulk Gravity'!$AF$19)","v":"Bin No.8"},{"$f":"IF('Bulk Gravity'!$AF$25=\"\",\"\",'Bulk Gravity'!$AF$25)","v":"Individual Ret., %"},{"$f":"IF('Bulk Gravity'!$B$26=\"\",\"\",'Bulk Gravity'!$B$26)","v":"Passing"},{"$f":"IF('Bulk Gravity'!$B$28=\"\",\"\",'Bulk Gravity'!$B$28)","v":"1\""},{"$f":"IF('Bulk Gravity'!$B$25=\"\",\"\",'Bulk Gravity'!$B$25)","v":"Sieve Size:"},{"$f":"IF('Bulk Gravity'!$C$26=\"\",\"\",'Bulk Gravity'!$C$26)","v":"Retained"},{"$f":"'Bulk Gravity'!$C$28","v":"3/4\""}]
[1631,{"$f":"IF('Bulk Gravity'!$AG$28=\"\",\"\",'Bulk Gravity'!$AG$28)","v":""},{"$f":"IF('Bulk Gravity'!$B$4=\"\",\"\",'Bulk Gravity'!$B$4)","v":"HMACP MIXTURE DESIGN : BULK GRAVITY"},{"$f":"IF('Bulk Gravity'!$AF$19=\"\",\"\",'Bulk Gravity'!$AF$19)","v":"Bin No.8"},{"$f":"IF('Bulk Gravity'!$AG$25=\"\",\"\",'Bulk Gravity'!$AG$25)","v":"Bulk SG"},{"$f":"IF('Bulk Gravity'!$B$26=\"\",\"\",'Bulk Gravity'!$B$26)","v":"Passing"},{"$f":"IF('Bulk Gravity'!$B$28=\"\",\"\",'Bulk Gravity'!$B$28)","v":"1\""},{"$f":"IF('Bulk Gravity'!$B$25=\"\",\"\",'Bulk Gravity'!$B$25)","v":"Sieve Size:"},{"$f":"IF('Bulk Gravity'!$C$26=\"\",\"\",'Bulk Gravity'!$C$26)","v":"Retained"},{"$f":"'Bulk Gravity'!$C$28","v":"3/4\""}]
[1632,{"$f":"IF('Bulk Gravity'!$AF$29=\"\",\"\",'Bulk Gravity'!$AF$29)","v":0},{"$f":"IF('Bulk Gravity'!$B$4=\"\",\"\",'Bulk Gravity'!$B$4)","v":"HMACP MIXTURE DESIGN : BULK GRAVITY"},{"$f":"IF('Bulk Gravity'!$AF$19=\"\",\"\",'Bulk Gravity'!$AF$19)","v":"Bin No.8"},{"$f":"IF('Bulk Gravity'!$AF$25=\"\",\"\",'Bulk Gravity'!$AF$25)","v":"Individual Ret., %"},{"$f":"IF('Bulk Gravity'!$B$26=\"\",\"\",'Bulk Gravity'!$B$26)","v":"Passing"},{"$f":"IF('Bulk Gravity'!$B$29=\"\",\"\",'Bulk Gravity'!$B$29)","v":"3/4\""},{"$f":"IF('Bulk Gravity'!$B$25=\"\",\"\",'Bulk Gravity'!$B$25)","v":"Sieve Size:"},{"$f":"IF('Bulk Gravity'!$C$26=\"\",\"\",'Bulk Gravity'!$C$26)","v":"Retained"},{"$f":"'Bulk Gravity'!$C$29","v":"1/2\""}]
[1633,{"$f":"IF('Bulk Gravity'!$AG$29=\"\",\"\",'Bulk Gravity'!$AG$29)","v":""},{"$f":"IF('Bulk Gravity'!$B$4=\"\",\"\",'Bulk Gravity'!$B$4)","v":"HMACP MIXTURE DESIGN : BULK GRAVITY"},{"$f":"IF('Bulk Gravity'!$AF$19=\"\",\"\",'Bulk Gravity'!$AF$19)","v":"Bin No.8"},{"$f":"IF('Bulk Gravity'!$AG$25=\"\",\"\",'Bulk Gravity'!$AG$25)","v":"Bulk SG"},{"$f":"IF('Bulk Gravity'!$B$26=\"\",\"\",'Bulk Gravity'!$B$26)","v":"Passing"},{"$f":"IF('Bulk Gravity'!$B$29=\"\",\"\",'Bulk Gravity'!$B$29)","v":"3/4\""},{"$f":"IF('Bulk Gravity'!$B$25=\"\",\"\",'Bulk Gravity'!$B$25)","v":"Sieve Size:"},{"$f":"IF('Bulk Gravity'!$C$26=\"\",\"\",'Bulk Gravity'!$C$26)","v":"Retained"},{"$f":"'Bulk Gravity'!$C$29","v":"1/2\""}]
[1634,{"$f":"IF('Bulk Gravity'!$AF$30=\"\",\"\",'Bulk Gravity'!$AF$30)","v":0},{"$f":"IF('Bulk Gravity'!$B$4=\"\",\"\",'Bulk Gravity'!$B$4)","v":"HMACP MIXTURE DESIGN : BULK GRAVITY"},{"$f":"IF('Bulk Gravity'!$AF$19=\"\",\"\",'Bulk Gravity'!$AF$19)","v":"Bin No.8"},{"$f":"IF('Bulk Gravity'!$AF$25=\"\",\"\",'Bulk Gravity'!$AF$25)","v":"Individual Ret., %"},{"$f":"IF('Bulk Gravity'!$B$26=\"\",\"\",'Bulk Gravity'!$B$26)","v":"Passing"},{"$f":"IF('Bulk Gravity'!$B$30=\"\",\"\",'Bulk Gravity'!$B$30)","v":"1/2\""},{"$f":"IF('Bulk Gravity'!$B$25=\"\",\"\",'Bulk Gravity'!$B$25)","v":"Sieve Size:"},{"$f":"IF('Bulk Gravity'!$C$26=\"\",\"\",'Bulk Gravity'!$C$26)","v":"Retained"},{"$f":"'Bulk Gravity'!$C$30","v":"3/8\""}]
[1635,{"$f":"IF('Bulk Gravity'!$AG$30=\"\",\"\",'Bulk Gravity'!$AG$30)","v":""},{"$f":"IF('Bulk Gravity'!$B$4=\"\",\"\",'Bulk Gravity'!$B$4)","v":"HMACP MIXTURE DESIGN : BULK GRAVITY"},{"$f":"IF('Bulk Gravity'!$AF$19=\"\",\"\",'Bulk Gravity'!$AF$19)","v":"Bin No.8"},{"$f":"IF('Bulk Gravity'!$AG$25=\"\",\"\",'Bulk Gravity'!$AG$25)","v":"Bulk SG"},{"$f":"IF('Bulk Gravity'!$B$26=\"\",\"\",'Bulk Gravity'!$B$26)","v":"Passing"},{"$f":"IF('Bulk Gravity'!$B$30=\"\",\"\",'Bulk Gravity'!$B$30)","v":"1/2\""},{"$f":"IF('Bulk Gravity'!$B$25=\"\",\"\",'Bulk Gravity'!$B$25)","v":"Sieve Size:"},{"$f":"IF('Bulk Gravity'!$C$26=\"\",\"\",'Bulk Gravity'!$C$26)","v":"Retained"},{"$f":"'Bulk Gravity'!$C$30","v":"3/8\""}]
[1636,{"$f":"IF('Bulk Gravity'!$AF$31=\"\",\"\",'Bulk Gravity'!$AF$31)","v":0},{"$f":"IF('Bulk Gravity'!$B$4=\"\",\"\",'Bulk Gravity'!$B$4)","v":"HMACP MIXTURE DESIGN : BULK GRAVITY"},{"$f":"IF('Bulk Gravity'!$AF$19=\"\",\"\",'Bulk Gravity'!$AF$19)","v":"Bin No.8"},{"$f":"IF('Bulk Gravity'!$AF$25=\"\",\"\",'Bulk Gravity'!$AF$25)","v":"Individual Ret., %"},{"$f":"IF('Bulk Gravity'!$B$26=\"\",\"\",'Bulk Gravity'!$B$26)","v":"Passing"},{"$f":"IF('Bulk Gravity'!$B$31=\"\",\"\",'Bulk Gravity'!$B$31)","v":"3/8\""},{"$f":"IF('Bulk Gravity'!$B$25=\"\",\"\",'Bulk Gravity'!$B$25)","v":"Sieve Size:"},{"$f":"IF('Bulk Gravity'!$C$26=\"\",\"\",'Bulk Gravity'!$C$26)","v":"Retained"},{"$f":"'Bulk Gravity'!$C$31","v":"No. 4"}]
[1637,{"$f":"IF('Bulk Gravity'!$AG$31=\"\",\"\",'Bulk Gravity'!$AG$31)","v":""},{"$f":"IF('Bulk Gravity'!$B$4=\"\",\"\",'Bulk Gravity'!$B$4)","v":"HMACP MIXTURE DESIGN : BULK GRAVITY"},{"$f":"IF('Bulk Gravity'!$AF$19=\"\",\"\",'Bulk Gravity'!$AF$19)","v":"Bin No.8"},{"$f":"IF('Bulk Gravity'!$AG$25=\"\",\"\",'Bulk Gravity'!$AG$25)","v":"Bulk SG"},{"$f":"IF('Bulk Gravity'!$B$26=\"\",\"\",'Bulk Gravity'!$B$26)","v":"Passing"},{"$f":"IF('Bulk Gravity'!$B$31=\"\",\"\",'Bulk Gravity'!$B$31)","v":"3/8\""},{"$f":"IF('Bulk Gravity'!$B$25=\"\",\"\",'Bulk Gravity'!$B$25)","v":"Sieve Size:"},{"$f":"IF('Bulk Gravity'!$C$26=\"\",\"\",'Bulk Gravity'!$C$26)","v":"Retained"},{"$f":"'Bulk Gravity'!$C$31","v":"No. 4"}]
[1638,{"$f":"IF('Bulk Gravity'!$AF$32=\"\",\"\",'Bulk Gravity'!$AF$32)","v":0},{"$f":"IF('Bulk Gravity'!$B$4=\"\",\"\",'Bulk Gravity'!$B$4)","v":"HMACP MIXTURE DESIGN : BULK GRAVITY"},{"$f":"IF('Bulk Gravity'!$AF$19=\"\",\"\",'Bulk Gravity'!$AF$19)","v":"Bin No.8"},{"$f":"IF('Bulk Gravity'!$AF$25=\"\",\"\",'Bulk Gravity'!$AF$25)","v":"Individual Ret., %"},{"$f":"IF('Bulk Gravity'!$B$26=\"\",\"\",'Bulk Gravity'!$B$26)","v":"Passing"},{"$f":"IF('Bulk Gravity'!$B$32=\"\",\"\",'Bulk Gravity'!$B$32)","v":"No. 4"},{"$f":"IF('Bulk Gravity'!$B$25=\"\",\"\",'Bulk Gravity'!$B$25)","v":"Sieve Size:"},{"$f":"IF('Bulk Gravity'!$C$26=\"\",\"\",'Bulk Gravity'!$C$26)","v":"Retained"},{"$f":"'Bulk Gravity'!$C$32","v":"No. 8"}]
[1639,{"$f":"IF('Bulk Gravity'!$AG$32=\"\",\"\",'Bulk Gravity'!$AG$32)","v":""},{"$f":"IF('Bulk Gravity'!$B$4=\"\",\"\",'Bulk Gravity'!$B$4)","v":"HMACP MIXTURE DESIGN : BULK GRAVITY"},{"$f":"IF('Bulk Gravity'!$AF$19=\"\",\"\",'Bulk Gravity'!$AF$19)","v":"Bin No.8"},{"$f":"IF('Bulk Gravity'!$AG$25=\"\",\"\",'Bulk Gravity'!$AG$25)","v":"Bulk SG"},{"$f":"IF('Bulk Gravity'!$B$26=\"\",\"\",'Bulk Gravity'!$B$26)","v":"Passing"},{"$f":"IF('Bulk Gravity'!$B$32=\"\",\"\",'Bulk Gravity'!$B$32)","v":"No. 4"},{"$f":"IF('Bulk Gravity'!$B$25=\"\",\"\",'Bulk Gravity'!$B$25)","v":"Sieve Size:"},{"$f":"IF('Bulk Gravity'!$C$26=\"\",\"\",'Bulk Gravity'!$C$26)","v":"Retained"},{"$f":"'Bulk Gravity'!$C$32","v":"No. 8"}]
[1640,{"$f":"IF('Bulk Gravity'!$AF$33=\"\",\"\",'Bulk Gravity'!$AF$33)","v":0},{"$f":"IF('Bulk Gravity'!$B$4=\"\",\"\",'Bulk Gravity'!$B$4)","v":"HMACP MIXTURE DESIGN : BULK GRAVITY"},{"$f":"IF('Bulk Gravity'!$AF$19=\"\",\"\",'Bulk Gravity'!$AF$19)","v":"Bin No.8"},{"$f":"IF('Bulk Gravity'!$AF$25=\"\",\"\",'Bulk Gravity'!$AF$25)","v":"Individual Ret., %"},{"$f":"IF('Bulk Gravity'!$B$26=\"\",\"\",'Bulk Gravity'!$B$26)","v":"Passing"},{"$f":"IF('Bulk Gravity'!$B$33=\"\",\"\",'Bulk Gravity'!$B$33)","v":"No. 8"},{"$f":"IF('Bulk Gravity'!$B$25=\"\",\"\",'Bulk Gravity'!$B$25)","v":"Sieve Size:"},{"$f":"IF('Bulk Gravity'!$C$26=\"\",\"\",'Bulk Gravity'!$C$26)","v":"Retained"},{"$f":"'Bulk Gravity'!$C$33","v":"No. 16"}]
[1641,{"$f":"IF('Bulk Gravity'!$AG$33=\"\",\"\",'Bulk Gravity'!$AG$33)","v":""},{"$f":"IF('Bulk Gravity'!$B$4=\"\",\"\",'Bulk Gravity'!$B$4)","v":"HMACP MIXTURE DESIGN : BULK GRAVITY"},{"$f":"IF('Bulk Gravity'!$AF$19=\"\",\"\",'Bulk Gravity'!$AF$19)","v":"Bin No.8"},{"$f":"IF('Bulk Gravity'!$AG$25=\"\",\"\",'Bulk Gravity'!$AG$25)","v":"Bulk SG"},{"$f":"IF('Bulk Gravity'!$B$26=\"\",\"\",'Bulk Gravity'!$B$26)","v":"Passing"},{"$f":"IF('Bulk Gravity'!$B$33=\"\",\"\",'Bulk Gravity'!$B$33)","v":"No. 8"},{"$f":"IF('Bulk Gravity'!$B$25=\"\",\"\",'Bulk Gravity'!$B$25)","v":"Sieve Size:"},{"$f":"IF('Bulk Gravity'!$C$26=\"\",\"\",'Bulk Gravity'!$C$26)","v":"Retained"},{"$f":"'Bulk Gravity'!$C$33","v":"No. 16"}]
[1642,{"$f":"IF('Bulk Gravity'!$AF$34=\"\",\"\",'Bulk Gravity'!$AF$34)","v":0},{"$f":"IF('Bulk Gravity'!$B$4=\"\",\"\",'Bulk Gravity'!$B$4)","v":"HMACP MIXTURE DESIGN : BULK GRAVITY"},{"$f":"IF('Bulk Gravity'!$AF$19=\"\",\"\",'Bulk Gravity'!$AF$19)","v":"Bin No.8"},{"$f":"IF('Bulk Gravity'!$AF$25=\"\",\"\",'Bulk Gravity'!$AF$25)","v":"Individual Ret., %"},{"$f":"IF('Bulk Gravity'!$B$26=\"\",\"\",'Bulk Gravity'!$B$26)","v":"Passing"},{"$f":"IF('Bulk Gravity'!$B$34=\"\",\"\",'Bulk Gravity'!$B$34)","v":"No. 16"},{"$f":"IF('Bulk Gravity'!$B$25=\"\",\"\",'Bulk Gravity'!$B$25)","v":"Sieve Size:"},{"$f":"IF('Bulk Gravity'!$C$26=\"\",\"\",'Bulk Gravity'!$C$26)","v":"Retained"},{"$f":"'Bulk Gravity'!$C$34","v":"No. 30"}]
[1643,{"$f":"IF('Bulk Gravity'!$AG$34=\"\",\"\",'Bulk Gravity'!$AG$34)","v":""},{"$f":"IF('Bulk Gravity'!$B$4=\"\",\"\",'Bulk Gravity'!$B$4)","v":"HMACP MIXTURE DESIGN : BULK GRAVITY"},{"$f":"IF('Bulk Gravity'!$AF$19=\"\",\"\",'Bulk Gravity'!$AF$19)","v":"Bin No.8"},{"$f":"IF('Bulk Gravity'!$AG$25=\"\",\"\",'Bulk Gravity'!$AG$25)","v":"Bulk SG"},{"$f":"IF('Bulk Gravity'!$B$26=\"\",\"\",'Bulk Gravity'!$B$26)","v":"Passing"},{"$f":"IF('Bulk Gravity'!$B$34=\"\",\"\",'Bulk Gravity'!$B$34)","v":"No. 16"},{"$f":"IF('Bulk Gravity'!$B$25=\"\",\"\",'Bulk Gravity'!$B$25)","v":"Sieve Size:"},{"$f":"IF('Bulk Gravity'!$C$26=\"\",\"\",'Bulk Gravity'!$C$26)","v":"Retained"},{"$f":"'Bulk Gravity'!$C$34","v":"No. 30"}]
[1644,{"$f":"IF('Bulk Gravity'!$AF$35=\"\",\"\",'Bulk Gravity'!$AF$35)","v":0},{"$f":"IF('Bulk Gravity'!$B$4=\"\",\"\",'Bulk Gravity'!$B$4)","v":"HMACP MIXTURE DESIGN : BULK GRAVITY"},{"$f":"IF('Bulk Gravity'!$AF$19=\"\",\"\",'Bulk Gravity'!$AF$19)","v":"Bin No.8"},{"$f":"IF('Bulk Gravity'!$AF$25=\"\",\"\",'Bulk Gravity'!$AF$25)","v":"Individual Ret., %"},{"$f":"IF('Bulk Gravity'!$B$26=\"\",\"\",'Bulk Gravity'!$B$26)","v":"Passing"},{"$f":"IF('Bulk Gravity'!$B$35=\"\",\"\",'Bulk Gravity'!$B$35)","v":"No. 30"},{"$f":"IF('Bulk Gravity'!$B$25=\"\",\"\",'Bulk Gravity'!$B$25)","v":"Sieve Size:"},{"$f":"IF('Bulk Gravity'!$C$26=\"\",\"\",'Bulk Gravity'!$C$26)","v":"Retained"},{"$f":"'Bulk Gravity'!$C$35","v":"No. 50"}]
[1645,{"$f":"IF('Bulk Gravity'!$AG$35=\"\",\"\",'Bulk Gravity'!$AG$35)","v":""},{"$f":"IF('Bulk Gravity'!$B$4=\"\",\"\",'Bulk Gravity'!$B$4)","v":"HMACP MIXTURE DESIGN : BULK GRAVITY"},{"$f":"IF('Bulk Gravity'!$AF$19=\"\",\"\",'Bulk Gravity'!$AF$19)","v":"Bin No.8"},{"$f":"IF('Bulk Gravity'!$AG$25=\"\",\"\",'Bulk Gravity'!$AG$25)","v":"Bulk SG"},{"$f":"IF('Bulk Gravity'!$B$26=\"\",\"\",'Bulk Gravity'!$B$26)","v":"Passing"},{"$f":"IF('Bulk Gravity'!$B$35=\"\",\"\",'Bulk Gravity'!$B$35)","v":"No. 30"},{"$f":"IF('Bulk Gravity'!$B$25=\"\",\"\",'Bulk Gravity'!$B$25)","v":"Sieve Size:"},{"$f":"IF('Bulk Gravity'!$C$26=\"\",\"\",'Bulk Gravity'!$C$26)","v":"Retained"},{"$f":"'Bulk Gravity'!$C$35","v":"No. 50"}]
[1646,{"$f":"IF('Bulk Gravity'!$AF$36=\"\",\"\",'Bulk Gravity'!$AF$36)","v":0},{"$f":"IF('Bulk Gravity'!$B$4=\"\",\"\",'Bulk Gravity'!$B$4)","v":"HMACP MIXTURE DESIGN : BULK GRAVITY"},{"$f":"IF('Bulk Gravity'!$AF$19=\"\",\"\",'Bulk Gravity'!$AF$19)","v":"Bin No.8"},{"$f":"IF('Bulk Gravity'!$AF$25=\"\",\"\",'Bulk Gravity'!$AF$25)","v":"Individual Ret., %"},{"$f":"IF('Bulk Gravity'!$B$26=\"\",\"\",'Bulk Gravity'!$B$26)","v":"Passing"},{"$f":"IF('Bulk Gravity'!$B$36=\"\",\"\",'Bulk Gravity'!$B$36)","v":"No. 50"},{"$f":"IF('Bulk Gravity'!$B$25=\"\",\"\",'Bulk Gravity'!$B$25)","v":"Sieve Size:"},{"$f":"IF('Bulk Gravity'!$C$26=\"\",\"\",'Bulk Gravity'!$C$26)","v":"Retained"},{"$f":"'Bulk Gravity'!$C$36","v":"No. 200"}]
[1647,{"$f":"IF('Bulk Gravity'!$AG$36=\"\",\"\",'Bulk Gravity'!$AG$36)","v":""},{"$f":"IF('Bulk Gravity'!$B$4=\"\",\"\",'Bulk Gravity'!$B$4)","v":"HMACP MIXTURE DESIGN : BULK GRAVITY"},{"$f":"IF('Bulk Gravity'!$AF$19=\"\",\"\",'Bulk Gravity'!$AF$19)","v":"Bin No.8"},{"$f":"IF('Bulk Gravity'!$AG$25=\"\",\"\",'Bulk Gravity'!$AG$25)","v":"Bulk SG"},{"$f":"IF('Bulk Gravity'!$B$26=\"\",\"\",'Bulk Gravity'!$B$26)","v":"Passing"},{"$f":"IF('Bulk Gravity'!$B$36=\"\",\"\",'Bulk Gravity'!$B$36)","v":"No. 50"},{"$f":"IF('Bulk Gravity'!$B$25=\"\",\"\",'Bulk Gravity'!$B$25)","v":"Sieve Size:"},{"$f":"IF('Bulk Gravity'!$C$26=\"\",\"\",'Bulk Gravity'!$C$26)","v":"Retained"},{"$f":"'Bulk Gravity'!$C$36","v":"No. 200"}]
[1648,{"$f":"IF('Bulk Gravity'!$AF$37=\"\",\"\",'Bulk Gravity'!$AF$37)","v":0},{"$f":"IF('Bulk Gravity'!$B$4=\"\",\"\",'Bulk Gravity'!$B$4)","v":"HMACP MIXTURE DESIGN : BULK GRAVITY"},{"$f":"IF('Bulk Gravity'!$AF$19=\"\",\"\",'Bulk Gravity'!$AF$19)","v":"Bin No.8"},{"$f":"IF('Bulk Gravity'!$AF$25=\"\",\"\",'Bulk Gravity'!$AF$25)","v":"Individual Ret., %"},{"$f":"IF('Bulk Gravity'!$B$26=\"\",\"\",'Bulk Gravity'!$B$26)","v":"Passing"},{"$f":"IF('Bulk Gravity'!$B$37=\"\",\"\",'Bulk Gravity'!$B$37)","v":"No. 200"},{"$f":"IF('Bulk Gravity'!$B$25=\"\",\"\",'Bulk Gravity'!$B$25)","v":"Sieve Size:"},{"$f":"IF('Bulk Gravity'!$C$26=\"\",\"\",'Bulk Gravity'!$C$26)","v":"Retained"},{"$f":"'Bulk Gravity'!$C$37","v":"Pan"}]
[1649,{"$f":"IF('Bulk Gravity'!$AG$37=\"\",\"\",'Bulk Gravity'!$AG$37)","v":""},{"$f":"IF('Bulk Gravity'!$B$4=\"\",\"\",'Bulk Gravity'!$B$4)","v":"HMACP MIXTURE DESIGN : BULK GRAVITY"},{"$f":"IF('Bulk Gravity'!$AF$19=\"\",\"\",'Bulk Gravity'!$AF$19)","v":"Bin No.8"},{"$f":"IF('Bulk Gravity'!$AG$25=\"\",\"\",'Bulk Gravity'!$AG$25)","v":"Bulk SG"},{"$f":"IF('Bulk Gravity'!$B$26=\"\",\"\",'Bulk Gravity'!$B$26)","v":"Passing"},{"$f":"IF('Bulk Gravity'!$B$37=\"\",\"\",'Bulk Gravity'!$B$37)","v":"No. 200"},{"$f":"IF('Bulk Gravity'!$B$25=\"\",\"\",'Bulk Gravity'!$B$25)","v":"Sieve Size:"},{"$f":"IF('Bulk Gravity'!$C$26=\"\",\"\",'Bulk Gravity'!$C$26)","v":"Retained"},{"$f":"'Bulk Gravity'!$C$37","v":"Pan"}]
[1650,{"$f":"IF('Bulk Gravity'!$AF$38=\"\",\"\",'Bulk Gravity'!$AF$38)","v":0},{"$f":"IF('Bulk Gravity'!$B$4=\"\",\"\",'Bulk Gravity'!$B$4)","v":"HMACP MIXTURE DESIGN : BULK GRAVITY"},{"$f":"IF('Bulk Gravity'!$AF$19=\"\",\"\",'Bulk Gravity'!$AF$19)","v":"Bin No.8"},{"$f":"IF('Bulk Gravity'!$AF$25=\"\",\"\",'Bulk Gravity'!$AF$25)","v":"Individual Ret., %"},{"$f":"IF('Bulk Gravity'!$B$38=\"\",\"\",'Bulk Gravity'!$B$38)","v":"Totals"}]
[1651,{"$f":"IF('Bulk Gravity'!$AG$38=\"\",\"\",'Bulk Gravity'!$AG$38)","v":""},{"$f":"IF('Bulk Gravity'!$B$4=\"\",\"\",'Bulk Gravity'!$B$4)","v":"HMACP MIXTURE DESIGN : BULK GRAVITY"},{"$f":"IF('Bulk Gravity'!$AF$19=\"\",\"\",'Bulk Gravity'!$AF$19)","v":"Bin No.8"},{"$f":"IF('Bulk Gravity'!$AG$25=\"\",\"\",'Bulk Gravity'!$AG$25)","v":"Bulk SG"},{"$f":"IF('Bulk Gravity'!$B$38=\"\",\"\",'Bulk Gravity'!$B$38)","v":"Totals"}]
[1652,{"$f":"IF('Bulk Gravity'!$AJ$27=\"\",\"\",'Bulk Gravity'!$AJ$27)","v":""},{"$f":"IF('Bulk Gravity'!$B$4=\"\",\"\",'Bulk Gravity'!$B$4)","v":"HMACP MIXTURE DESIGN : BULK GRAVITY"},{"$f":"IF('Bulk Gravity'!$AJ$19=\"\",\"\",'Bulk Gravity'!$AJ$19)","v":"Bin No.9 "},{"$f":"IF('Bulk Gravity'!$AJ$25=\"\",\"\",'Bulk Gravity'!$AJ$25)","v":"Individual Ret., %"},{"$f":"IF('Bulk Gravity'!$B$26=\"\",\"\",'Bulk Gravity'!$B$26)","v":"Passing"},{"$f":"IF('Bulk Gravity'!$B$27=\"\",\"\",'Bulk Gravity'!$B$27)","v":""},{"$f":"IF('Bulk Gravity'!$B$25=\"\",\"\",'Bulk Gravity'!$B$25)","v":"Sieve Size:"},{"$f":"IF('Bulk Gravity'!$C$26=\"\",\"\",'Bulk Gravity'!$C$26)","v":"Retained"},{"$f":"'Bulk Gravity'!$C$27","v":"1\""}]
[1653,{"$f":"IF('Bulk Gravity'!$AK$27=\"\",\"\",'Bulk Gravity'!$AK$27)","v":""},{"$f":"IF('Bulk Gravity'!$B$4=\"\",\"\",'Bulk Gravity'!$B$4)","v":"HMACP MIXTURE DESIGN : BULK GRAVITY"},{"$f":"IF('Bulk Gravity'!$AJ$19=\"\",\"\",'Bulk Gravity'!$AJ$19)","v":"Bin No.9 "},{"$f":"IF('Bulk Gravity'!$AK$25=\"\",\"\",'Bulk Gravity'!$AK$25)","v":"Bulk SG"},{"$f":"IF('Bulk Gravity'!$B$26=\"\",\"\",'Bulk Gravity'!$B$26)","v":"Passing"},{"$f":"IF('Bulk Gravity'!$B$27=\"\",\"\",'Bulk Gravity'!$B$27)","v":""},{"$f":"IF('Bulk Gravity'!$B$25=\"\",\"\",'Bulk Gravity'!$B$25)","v":"Sieve Size:"},{"$f":"IF('Bulk Gravity'!$C$26=\"\",\"\",'Bulk Gravity'!$C$26)","v":"Retained"},{"$f":"'Bulk Gravity'!$C$27","v":"1\""}]
[1654,{"$f":"IF('Bulk Gravity'!$AJ$28=\"\",\"\",'Bulk Gravity'!$AJ$28)","v":0},{"$f":"IF('Bulk Gravity'!$B$4=\"\",\"\",'Bulk Gravity'!$B$4)","v":"HMACP MIXTURE DESIGN : BULK GRAVITY"},{"$f":"IF('Bulk Gravity'!$AJ$19=\"\",\"\",'Bulk Gravity'!$AJ$19)","v":"Bin No.9 "},{"$f":"IF('Bulk Gravity'!$AJ$25=\"\",\"\",'Bulk Gravity'!$AJ$25)","v":"Individual Ret., %"},{"$f":"IF('Bulk Gravity'!$B$26=\"\",\"\",'Bulk Gravity'!$B$26)","v":"Passing"},{"$f":"IF('Bulk Gravity'!$B$28=\"\",\"\",'Bulk Gravity'!$B$28)","v":"1\""},{"$f":"IF('Bulk Gravity'!$B$25=\"\",\"\",'Bulk Gravity'!$B$25)","v":"Sieve Size:"},{"$f":"IF('Bulk Gravity'!$C$26=\"\",\"\",'Bulk Gravity'!$C$26)","v":"Retained"},{"$f":"'Bulk Gravity'!$C$28","v":"3/4\""}]
[1655,{"$f":"IF('Bulk Gravity'!$AK$28=\"\",\"\",'Bulk Gravity'!$AK$28)","v":""},{"$f":"IF('Bulk Gravity'!$B$4=\"\",\"\",'Bulk Gravity'!$B$4)","v":"HMACP MIXTURE DESIGN : BULK GRAVITY"},{"$f":"IF('Bulk Gravity'!$AJ$19=\"\",\"\",'Bulk Gravity'!$AJ$19)","v":"Bin No.9 "},{"$f":"IF('Bulk Gravity'!$AK$25=\"\",\"\",'Bulk Gravity'!$AK$25)","v":"Bulk SG"},{"$f":"IF('Bulk Gravity'!$B$26=\"\",\"\",'Bulk Gravity'!$B$26)","v":"Passing"},{"$f":"IF('Bulk Gravity'!$B$28=\"\",\"\",'Bulk Gravity'!$B$28)","v":"1\""},{"$f":"IF('Bulk Gravity'!$B$25=\"\",\"\",'Bulk Gravity'!$B$25)","v":"Sieve Size:"},{"$f":"IF('Bulk Gravity'!$C$26=\"\",\"\",'Bulk Gravity'!$C$26)","v":"Retained"},{"$f":"'Bulk Gravity'!$C$28","v":"3/4\""}]
[1656,{"$f":"IF('Bulk Gravity'!$AJ$29=\"\",\"\",'Bulk Gravity'!$AJ$29)","v":0},{"$f":"IF('Bulk Gravity'!$B$4=\"\",\"\",'Bulk Gravity'!$B$4)","v":"HMACP MIXTURE DESIGN : BULK GRAVITY"},{"$f":"IF('Bulk Gravity'!$AJ$19=\"\",\"\",'Bulk Gravity'!$AJ$19)","v":"Bin No.9 "},{"$f":"IF('Bulk Gravity'!$AJ$25=\"\",\"\",'Bulk Gravity'!$AJ$25)","v":"Individual Ret., %"},{"$f":"IF('Bulk Gravity'!$B$26=\"\",\"\",'Bulk Gravity'!$B$26)","v":"Passing"},{"$f":"IF('Bulk Gravity'!$B$29=\"\",\"\",'Bulk Gravity'!$B$29)","v":"3/4\""},{"$f":"IF('Bulk Gravity'!$B$25=\"\",\"\",'Bulk Gravity'!$B$25)","v":"Sieve Size:"},{"$f":"IF('Bulk Gravity'!$C$26=\"\",\"\",'Bulk Gravity'!$C$26)","v":"Retained"},{"$f":"'Bulk Gravity'!$C$29","v":"1/2\""}]
[1657,{"$f":"IF('Bulk Gravity'!$AK$29=\"\",\"\",'Bulk Gravity'!$AK$29)","v":""},{"$f":"IF('Bulk Gravity'!$B$4=\"\",\"\",'Bulk Gravity'!$B$4)","v":"HMACP MIXTURE DESIGN : BULK GRAVITY"},{"$f":"IF('Bulk Gravity'!$AJ$19=\"\",\"\",'Bulk Gravity'!$AJ$19)","v":"Bin No.9 "},{"$f":"IF('Bulk Gravity'!$AK$25=\"\",\"\",'Bulk Gravity'!$AK$25)","v":"Bulk SG"},{"$f":"IF('Bulk Gravity'!$B$26=\"\",\"\",'Bulk Gravity'!$B$26)","v":"Passing"},{"$f":"IF('Bulk Gravity'!$B$29=\"\",\"\",'Bulk Gravity'!$B$29)","v":"3/4\""},{"$f":"IF('Bulk Gravity'!$B$25=\"\",\"\",'Bulk Gravity'!$B$25)","v":"Sieve Size:"},{"$f":"IF('Bulk Gravity'!$C$26=\"\",\"\",'Bulk Gravity'!$C$26)","v":"Retained"},{"$f":"'Bulk Gravity'!$C$29","v":"1/2\""}]
[1658,{"$f":"IF('Bulk Gravity'!$AJ$30=\"\",\"\",'Bulk Gravity'!$AJ$30)","v":0},{"$f":"IF('Bulk Gravity'!$B$4=\"\",\"\",'Bulk Gravity'!$B$4)","v":"HMACP MIXTURE DESIGN : BULK GRAVITY"},{"$f":"IF('Bulk Gravity'!$AJ$19=\"\",\"\",'Bulk Gravity'!$AJ$19)","v":"Bin No.9 "},{"$f":"IF('Bulk Gravity'!$AJ$25=\"\",\"\",'Bulk Gravity'!$AJ$25)","v":"Individual Ret., %"},{"$f":"IF('Bulk Gravity'!$B$26=\"\",\"\",'Bulk Gravity'!$B$26)","v":"Passing"},{"$f":"IF('Bulk Gravity'!$B$30=\"\",\"\",'Bulk Gravity'!$B$30)","v":"1/2\""},{"$f":"IF('Bulk Gravity'!$B$25=\"\",\"\",'Bulk Gravity'!$B$25)","v":"Sieve Size:"},{"$f":"IF('Bulk Gravity'!$C$26=\"\",\"\",'Bulk Gravity'!$C$26)","v":"Retained"},{"$f":"'Bulk Gravity'!$C$30","v":"3/8\""}]
[1659,{"$f":"IF('Bulk Gravity'!$AK$30=\"\",\"\",'Bulk Gravity'!$AK$30)","v":""},{"$f":"IF('Bulk Gravity'!$B$4=\"\",\"\",'Bulk Gravity'!$B$4)","v":"HMACP MIXTURE DESIGN : BULK GRAVITY"},{"$f":"IF('Bulk Gravity'!$AJ$19=\"\",\"\",'Bulk Gravity'!$AJ$19)","v":"Bin No.9 "},{"$f":"IF('Bulk Gravity'!$AK$25=\"\",\"\",'Bulk Gravity'!$AK$25)","v":"Bulk SG"},{"$f":"IF('Bulk Gravity'!$B$26=\"\",\"\",'Bulk Gravity'!$B$26)","v":"Passing"},{"$f":"IF('Bulk Gravity'!$B$30=\"\",\"\",'Bulk Gravity'!$B$30)","v":"1/2\""},{"$f":"IF('Bulk Gravity'!$B$25=\"\",\"\",'Bulk Gravity'!$B$25)","v":"Sieve Size:"},{"$f":"IF('Bulk Gravity'!$C$26=\"\",\"\",'Bulk Gravity'!$C$26)","v":"Retained"},{"$f":"'Bulk Gravity'!$C$30","v":"3/8\""}]
[1660,{"$f":"IF('Bulk Gravity'!$AJ$31=\"\",\"\",'Bulk Gravity'!$AJ$31)","v":0},{"$f":"IF('Bulk Gravity'!$B$4=\"\",\"\",'Bulk Gravity'!$B$4)","v":"HMACP MIXTURE DESIGN : BULK GRAVITY"},{"$f":"IF('Bulk Gravity'!$AJ$19=\"\",\"\",'Bulk Gravity'!$AJ$19)","v":"Bin No.9 "},{"$f":"IF('Bulk Gravity'!$AJ$25=\"\",\"\",'Bulk Gravity'!$AJ$25)","v":"Individual Ret., %"},{"$f":"IF('Bulk Gravity'!$B$26=\"\",\"\",'Bulk Gravity'!$B$26)","v":"Passing"},{"$f":"IF('Bulk Gravity'!$B$31=\"\",\"\",'Bulk Gravity'!$B$31)","v":"3/8\""},{"$f":"IF('Bulk Gravity'!$B$25=\"\",\"\",'Bulk Gravity'!$B$25)","v":"Sieve Size:"},{"$f":"IF('Bulk Gravity'!$C$26=\"\",\"\",'Bulk Gravity'!$C$26)","v":"Retained"},{"$f":"'Bulk Gravity'!$C$31","v":"No. 4"}]
[1661,{"$f":"IF('Bulk Gravity'!$AK$31=\"\",\"\",'Bulk Gravity'!$AK$31)","v":""},{"$f":"IF('Bulk Gravity'!$B$4=\"\",\"\",'Bulk Gravity'!$B$4)","v":"HMACP MIXTURE DESIGN : BULK GRAVITY"},{"$f":"IF('Bulk Gravity'!$AJ$19=\"\",\"\",'Bulk Gravity'!$AJ$19)","v":"Bin No.9 "},{"$f":"IF('Bulk Gravity'!$AK$25=\"\",\"\",'Bulk Gravity'!$AK$25)","v":"Bulk SG"},{"$f":"IF('Bulk Gravity'!$B$26=\"\",\"\",'Bulk Gravity'!$B$26)","v":"Passing"},{"$f":"IF('Bulk Gravity'!$B$31=\"\",\"\",'Bulk Gravity'!$B$31)","v":"3/8\""},{"$f":"IF('Bulk Gravity'!$B$25=\"\",\"\",'Bulk Gravity'!$B$25)","v":"Sieve Size:"},{"$f":"IF('Bulk Gravity'!$C$26=\"\",\"\",'Bulk Gravity'!$C$26)","v":"Retained"},{"$f":"'Bulk Gravity'!$C$31","v":"No. 4"}]
[1662,{"$f":"IF('Bulk Gravity'!$AJ$32=\"\",\"\",'Bulk Gravity'!$AJ$32)","v":0},{"$f":"IF('Bulk Gravity'!$B$4=\"\",\"\",'Bulk Gravity'!$B$4)","v":"HMACP MIXTURE DESIGN : BULK GRAVITY"},{"$f":"IF('Bulk Gravity'!$AJ$19=\"\",\"\",'Bulk Gravity'!$AJ$19)","v":"Bin No.9 "},{"$f":"IF('Bulk Gravity'!$AJ$25=\"\",\"\",'Bulk Gravity'!$AJ$25)","v":"Individual Ret., %"},{"$f":"IF('Bulk Gravity'!$B$26=\"\",\"\",'Bulk Gravity'!$B$26)","v":"Passing"},{"$f":"IF('Bulk Gravity'!$B$32=\"\",\"\",'Bulk Gravity'!$B$32)","v":"No. 4"},{"$f":"IF('Bulk Gravity'!$B$25=\"\",\"\",'Bulk Gravity'!$B$25)","v":"Sieve Size:"},{"$f":"IF('Bulk Gravity'!$C$26=\"\",\"\",'Bulk Gravity'!$C$26)","v":"Retained"},{"$f":"'Bulk Gravity'!$C$32","v":"No. 8"}]
[1663,{"$f":"IF('Bulk Gravity'!$AK$32=\"\",\"\",'Bulk Gravity'!$AK$32)","v":""},{"$f":"IF('Bulk Gravity'!$B$4=\"\",\"\",'Bulk Gravity'!$B$4)","v":"HMACP MIXTURE DESIGN : BULK GRAVITY"},{"$f":"IF('Bulk Gravity'!$AJ$19=\"\",\"\",'Bulk Gravity'!$AJ$19)","v":"Bin No.9 "},{"$f":"IF('Bulk Gravity'!$AK$25=\"\",\"\",'Bulk Gravity'!$AK$25)","v":"Bulk SG"},{"$f":"IF('Bulk Gravity'!$B$26=\"\",\"\",'Bulk Gravity'!$B$26)","v":"Passing"},{"$f":"IF('Bulk Gravity'!$B$32=\"\",\"\",'Bulk Gravity'!$B$32)","v":"No. 4"},{"$f":"IF('Bulk Gravity'!$B$25=\"\",\"\",'Bulk Gravity'!$B$25)","v":"Sieve Size:"},{"$f":"IF('Bulk Gravity'!$C$26=\"\",\"\",'Bulk Gravity'!$C$26)","v":"Retained"},{"$f":"'Bulk Gravity'!$C$32","v":"No. 8"}]
[1664,{"$f":"IF('Bulk Gravity'!$AJ$33=\"\",\"\",'Bulk Gravity'!$AJ$33)","v":0},{"$f":"IF('Bulk Gravity'!$B$4=\"\",\"\",'Bulk Gravity'!$B$4)","v":"HMACP MIXTURE DESIGN : BULK GRAVITY"},{"$f":"IF('Bulk Gravity'!$AJ$19=\"\",\"\",'Bulk Gravity'!$AJ$19)","v":"Bin No.9 "},{"$f":"IF('Bulk Gravity'!$AJ$25=\"\",\"\",'Bulk Gravity'!$AJ$25)","v":"Individual Ret., %"},{"$f":"IF('Bulk Gravity'!$B$26=\"\",\"\",'Bulk Gravity'!$B$26)","v":"Passing"},{"$f":"IF('Bulk Gravity'!$B$33=\"\",\"\",'Bulk Gravity'!$B$33)","v":"No. 8"},{"$f":"IF('Bulk Gravity'!$B$25=\"\",\"\",'Bulk Gravity'!$B$25)","v":"Sieve Size:"},{"$f":"IF('Bulk Gravity'!$C$26=\"\",\"\",'Bulk Gravity'!$C$26)","v":"Retained"},{"$f":"'Bulk Gravity'!$C$33","v":"No. 16"}]
[1665,{"$f":"IF('Bulk Gravity'!$AK$33=\"\",\"\",'Bulk Gravity'!$AK$33)","v":""},{"$f":"IF('Bulk Gravity'!$B$4=\"\",\"\",'Bulk Gravity'!$B$4)","v":"HMACP MIXTURE DESIGN : BULK GRAVITY"},{"$f":"IF('Bulk Gravity'!$AJ$19=\"\",\"\",'Bulk Gravity'!$AJ$19)","v":"Bin No.9 "},{"$f":"IF('Bulk Gravity'!$AK$25=\"\",\"\",'Bulk Gravity'!$AK$25)","v":"Bulk SG"},{"$f":"IF('Bulk Gravity'!$B$26=\"\",\"\",'Bulk Gravity'!$B$26)","v":"Passing"},{"$f":"IF('Bulk Gravity'!$B$33=\"\",\"\",'Bulk Gravity'!$B$33)","v":"No. 8"},{"$f":"IF('Bulk Gravity'!$B$25=\"\",\"\",'Bulk Gravity'!$B$25)","v":"Sieve Size:"},{"$f":"IF('Bulk Gravity'!$C$26=\"\",\"\",'Bulk Gravity'!$C$26)","v":"Retained"},{"$f":"'Bulk Gravity'!$C$33","v":"No. 16"}]
[1666,{"$f":"IF('Bulk Gravity'!$AJ$34=\"\",\"\",'Bulk Gravity'!$AJ$34)","v":0},{"$f":"IF('Bulk Gravity'!$B$4=\"\",\"\",'Bulk Gravity'!$B$4)","v":"HMACP MIXTURE DESIGN : BULK GRAVITY"},{"$f":"IF('Bulk Gravity'!$AJ$19=\"\",\"\",'Bulk Gravity'!$AJ$19)","v":"Bin No.9 "},{"$f":"IF('Bulk Gravity'!$AJ$25=\"\",\"\",'Bulk Gravity'!$AJ$25)","v":"Individual Ret., %"},{"$f":"IF('Bulk Gravity'!$B$26=\"\",\"\",'Bulk Gravity'!$B$26)","v":"Passing"},{"$f":"IF('Bulk Gravity'!$B$34=\"\",\"\",'Bulk Gravity'!$B$34)","v":"No. 16"},{"$f":"IF('Bulk Gravity'!$B$25=\"\",\"\",'Bulk Gravity'!$B$25)","v":"Sieve Size:"},{"$f":"IF('Bulk Gravity'!$C$26=\"\",\"\",'Bulk Gravity'!$C$26)","v":"Retained"},{"$f":"'Bulk Gravity'!$C$34","v":"No. 30"}]
[1667,{"$f":"IF('Bulk Gravity'!$AK$34=\"\",\"\",'Bulk Gravity'!$AK$34)","v":""},{"$f":"IF('Bulk Gravity'!$B$4=\"\",\"\",'Bulk Gravity'!$B$4)","v":"HMACP MIXTURE DESIGN : BULK GRAVITY"},{"$f":"IF('Bulk Gravity'!$AJ$19=\"\",\"\",'Bulk Gravity'!$AJ$19)","v":"Bin No.9 "},{"$f":"IF('Bulk Gravity'!$AK$25=\"\",\"\",'Bulk Gravity'!$AK$25)","v":"Bulk SG"},{"$f":"IF('Bulk Gravity'!$B$26=\"\",\"\",'Bulk Gravity'!$B$26)","v":"Passing"},{"$f":"IF('Bulk Gravity'!$B$34=\"\",\"\",'Bulk Gravity'!$B$34)","v":"No. 16"},{"$f":"IF('Bulk Gravity'!$B$25=\"\",\"\",'Bulk Gravity'!$B$25)","v":"Sieve Size:"},{"$f":"IF('Bulk Gravity'!$C$26=\"\",\"\",'Bulk Gravity'!$C$26)","v":"Retained"},{"$f":"'Bulk Gravity'!$C$34","v":"No. 30"}]
[1668,{"$f":"IF('Bulk Gravity'!$AJ$35=\"\",\"\",'Bulk Gravity'!$AJ$35)","v":0},{"$f":"IF('Bulk Gravity'!$B$4=\"\",\"\",'Bulk Gravity'!$B$4)","v":"HMACP MIXTURE DESIGN : BULK GRAVITY"},{"$f":"IF('Bulk Gravity'!$AJ$19=\"\",\"\",'Bulk Gravity'!$AJ$19)","v":"Bin No.9 "},{"$f":"IF('Bulk Gravity'!$AJ$25=\"\",\"\",'Bulk Gravity'!$AJ$25)","v":"Individual Ret., %"},{"$f":"IF('Bulk Gravity'!$B$26=\"\",\"\",'Bulk Gravity'!$B$26)","v":"Passing"},{"$f":"IF('Bulk Gravity'!$B$35=\"\",\"\",'Bulk Gravity'!$B$35)","v":"No. 30"},{"$f":"IF('Bulk Gravity'!$B$25=\"\",\"\",'Bulk Gravity'!$B$25)","v":"Sieve Size:"},{"$f":"IF('Bulk Gravity'!$C$26=\"\",\"\",'Bulk Gravity'!$C$26)","v":"Retained"},{"$f":"'Bulk Gravity'!$C$35","v":"No. 50"}]
[1669,{"$f":"IF('Bulk Gravity'!$AK$35=\"\",\"\",'Bulk Gravity'!$AK$35)","v":""},{"$f":"IF('Bulk Gravity'!$B$4=\"\",\"\",'Bulk Gravity'!$B$4)","v":"HMACP MIXTURE DESIGN : BULK GRAVITY"},{"$f":"IF('Bulk Gravity'!$AJ$19=\"\",\"\",'Bulk Gravity'!$AJ$19)","v":"Bin No.9 "},{"$f":"IF('Bulk Gravity'!$AK$25=\"\",\"\",'Bulk Gravity'!$AK$25)","v":"Bulk SG"},{"$f":"IF('Bulk Gravity'!$B$26=\"\",\"\",'Bulk Gravity'!$B$26)","v":"Passing"},{"$f":"IF('Bulk Gravity'!$B$35=\"\",\"\",'Bulk Gravity'!$B$35)","v":"No. 30"},{"$f":"IF('Bulk Gravity'!$B$25=\"\",\"\",'Bulk Gravity'!$B$25)","v":"Sieve Size:"},{"$f":"IF('Bulk Gravity'!$C$26=\"\",\"\",'Bulk Gravity'!$C$26)","v":"Retained"},{"$f":"'Bulk Gravity'!$C$35","v":"No. 50"}]
[1670,{"$f":"IF('Bulk Gravity'!$AJ$36=\"\",\"\",'Bulk Gravity'!$AJ$36)","v":0},{"$f":"IF('Bulk Gravity'!$B$4=\"\",\"\",'Bulk Gravity'!$B$4)","v":"HMACP MIXTURE DESIGN : BULK GRAVITY"},{"$f":"IF('Bulk Gravity'!$AJ$19=\"\",\"\",'Bulk Gravity'!$AJ$19)","v":"Bin No.9 "},{"$f":"IF('Bulk Gravity'!$AJ$25=\"\",\"\",'Bulk Gravity'!$AJ$25)","v":"Individual Ret., %"},{"$f":"IF('Bulk Gravity'!$B$26=\"\",\"\",'Bulk Gravity'!$B$26)","v":"Passing"},{"$f":"IF('Bulk Gravity'!$B$36=\"\",\"\",'Bulk Gravity'!$B$36)","v":"No. 50"},{"$f":"IF('Bulk Gravity'!$B$25=\"\",\"\",'Bulk Gravity'!$B$25)","v":"Sieve Size:"},{"$f":"IF('Bulk Gravity'!$C$26=\"\",\"\",'Bulk Gravity'!$C$26)","v":"Retained"},{"$f":"'Bulk Gravity'!$C$36","v":"No. 200"}]
[1671,{"$f":"IF('Bulk Gravity'!$AK$36=\"\",\"\",'Bulk Gravity'!$AK$36)","v":""},{"$f":"IF('Bulk Gravity'!$B$4=\"\",\"\",'Bulk Gravity'!$B$4)","v":"HMACP MIXTURE DESIGN : BULK GRAVITY"},{"$f":"IF('Bulk Gravity'!$AJ$19=\"\",\"\",'Bulk Gravity'!$AJ$19)","v":"Bin No.9 "},{"$f":"IF('Bulk Gravity'!$AK$25=\"\",\"\",'Bulk Gravity'!$AK$25)","v":"Bulk SG"},{"$f":"IF('Bulk Gravity'!$B$26=\"\",\"\",'Bulk Gravity'!$B$26)","v":"Passing"},{"$f":"IF('Bulk Gravity'!$B$36=\"\",\"\",'Bulk Gravity'!$B$36)","v":"No. 50"},{"$f":"IF('Bulk Gravity'!$B$25=\"\",\"\",'Bulk Gravity'!$B$25)","v":"Sieve Size:"},{"$f":"IF('Bulk Gravity'!$C$26=\"\",\"\",'Bulk Gravity'!$C$26)","v":"Retained"},{"$f":"'Bulk Gravity'!$C$36","v":"No. 200"}]
[1672,{"$f":"IF('Bulk Gravity'!$AJ$37=\"\",\"\",'Bulk Gravity'!$AJ$37)","v":0},{"$f":"IF('Bulk Gravity'!$B$4=\"\",\"\",'Bulk Gravity'!$B$4)","v":"HMACP MIXTURE DESIGN : BULK GRAVITY"},{"$f":"IF('Bulk Gravity'!$AJ$19=\"\",\"\",'Bulk Gravity'!$AJ$19)","v":"Bin No.9 "},{"$f":"IF('Bulk Gravity'!$AJ$25=\"\",\"\",'Bulk Gravity'!$AJ$25)","v":"Individual Ret., %"},{"$f":"IF('Bulk Gravity'!$B$26=\"\",\"\",'Bulk Gravity'!$B$26)","v":"Passing"},{"$f":"IF('Bulk Gravity'!$B$37=\"\",\"\",'Bulk Gravity'!$B$37)","v":"No. 200"},{"$f":"IF('Bulk Gravity'!$B$25=\"\",\"\",'Bulk Gravity'!$B$25)","v":"Sieve Size:"},{"$f":"IF('Bulk Gravity'!$C$26=\"\",\"\",'Bulk Gravity'!$C$26)","v":"Retained"},{"$f":"'Bulk Gravity'!$C$37","v":"Pan"}]
[1673,{"$f":"IF('Bulk Gravity'!$AK$37=\"\",\"\",'Bulk Gravity'!$AK$37)","v":""},{"$f":"IF('Bulk Gravity'!$B$4=\"\",\"\",'Bulk Gravity'!$B$4)","v":"HMACP MIXTURE DESIGN : BULK GRAVITY"},{"$f":"IF('Bulk Gravity'!$AJ$19=\"\",\"\",'Bulk Gravity'!$AJ$19)","v":"Bin No.9 "},{"$f":"IF('Bulk Gravity'!$AK$25=\"\",\"\",'Bulk Gravity'!$AK$25)","v":"Bulk SG"},{"$f":"IF('Bulk Gravity'!$B$26=\"\",\"\",'Bulk Gravity'!$B$26)","v":"Passing"},{"$f":"IF('Bulk Gravity'!$B$37=\"\",\"\",'Bulk Gravity'!$B$37)","v":"No. 200"},{"$f":"IF('Bulk Gravity'!$B$25=\"\",\"\",'Bulk Gravity'!$B$25)","v":"Sieve Size:"},{"$f":"IF('Bulk Gravity'!$C$26=\"\",\"\",'Bulk Gravity'!$C$26)","v":"Retained"},{"$f":"'Bulk Gravity'!$C$37","v":"Pan"}]
[1674,{"$f":"IF('Bulk Gravity'!$AJ$38=\"\",\"\",'Bulk Gravity'!$AJ$38)","v":0},{"$f":"IF('Bulk Gravity'!$B$4=\"\",\"\",'Bulk Gravity'!$B$4)","v":"HMACP MIXTURE DESIGN : BULK GRAVITY"},{"$f":"IF('Bulk Gravity'!$AJ$19=\"\",\"\",'Bulk Gravity'!$AJ$19)","v":"Bin No.9 "},{"$f":"IF('Bulk Gravity'!$AJ$25=\"\",\"\",'Bulk Gravity'!$AJ$25)","v":"Individual Ret., %"},{"$f":"IF('Bulk Gravity'!$B$38=\"\",\"\",'Bulk Gravity'!$B$38)","v":"Totals"}]
[1675,{"$f":"IF('Bulk Gravity'!$AK$38=\"\",\"\",'Bulk Gravity'!$AK$38)","v":""},{"$f":"IF('Bulk Gravity'!$B$4=\"\",\"\",'Bulk Gravity'!$B$4)","v":"HMACP MIXTURE DESIGN : BULK GRAVITY"},{"$f":"IF('Bulk Gravity'!$AJ$19=\"\",\"\",'Bulk Gravity'!$AJ$19)","v":"Bin No.9 "},{"$f":"IF('Bulk Gravity'!$AK$25=\"\",\"\",'Bulk Gravity'!$AK$25)","v":"Bulk SG"},{"$f":"IF('Bulk Gravity'!$B$38=\"\",\"\",'Bulk Gravity'!$B$38)","v":"Totals"}]
[1676,{"$f":"IF('Bulk Gravity'!$AN$27=\"\",\"\",'Bulk Gravity'!$AN$27)","v":""},{"$f":"IF('Bulk Gravity'!$B$4=\"\",\"\",'Bulk Gravity'!$B$4)","v":"HMACP MIXTURE DESIGN : BULK GRAVITY"},{"$f":"IF('Bulk Gravity'!$AN$19=\"\",\"\",'Bulk Gravity'!$AN$19)","v":"Bin No.10 "},{"$f":"IF('Bulk Gravity'!$AJ$25=\"\",\"\",'Bulk Gravity'!$AJ$25)","v":"Individual Ret., %"},{"$f":"IF('Bulk Gravity'!$B$26=\"\",\"\",'Bulk Gravity'!$B$26)","v":"Passing"},{"$f":"IF('Bulk Gravity'!$B$27=\"\",\"\",'Bulk Gravity'!$B$27)","v":""},{"$f":"IF('Bulk Gravity'!$B$25=\"\",\"\",'Bulk Gravity'!$B$25)","v":"Sieve Size:"},{"$f":"IF('Bulk Gravity'!$C$26=\"\",\"\",'Bulk Gravity'!$C$26)","v":"Retained"},{"$f":"'Bulk Gravity'!$C$27","v":"1\""}]
[1677,{"$f":"IF('Bulk Gravity'!$AO$27=\"\",\"\",'Bulk Gravity'!$AO$27)","v":""},{"$f":"IF('Bulk Gravity'!$B$4=\"\",\"\",'Bulk Gravity'!$B$4)","v":"HMACP MIXTURE DESIGN : BULK GRAVITY"},{"$f":"IF('Bulk Gravity'!$AN$19=\"\",\"\",'Bulk Gravity'!$AN$19)","v":"Bin No.10 "},{"$f":"IF('Bulk Gravity'!$AK$25=\"\",\"\",'Bulk Gravity'!$AK$25)","v":"Bulk SG"},{"$f":"IF('Bulk Gravity'!$B$26=\"\",\"\",'Bulk Gravity'!$B$26)","v":"Passing"},{"$f":"IF('Bulk Gravity'!$B$27=\"\",\"\",'Bulk Gravity'!$B$27)","v":""},{"$f":"IF('Bulk Gravity'!$B$25=\"\",\"\",'Bulk Gravity'!$B$25)","v":"Sieve Size:"},{"$f":"IF('Bulk Gravity'!$C$26=\"\",\"\",'Bulk Gravity'!$C$26)","v":"Retained"},{"$f":"'Bulk Gravity'!$C$27","v":"1\""}]
[1678,{"$f":"IF('Bulk Gravity'!$AN$28=\"\",\"\",'Bulk Gravity'!$AN$28)","v":0},{"$f":"IF('Bulk Gravity'!$B$4=\"\",\"\",'Bulk Gravity'!$B$4)","v":"HMACP MIXTURE DESIGN : BULK GRAVITY"},{"$f":"IF('Bulk Gravity'!$AN$19=\"\",\"\",'Bulk Gravity'!$AN$19)","v":"Bin No.10 "},{"$f":"IF('Bulk Gravity'!$AJ$25=\"\",\"\",'Bulk Gravity'!$AJ$25)","v":"Individual Ret., %"},{"$f":"IF('Bulk Gravity'!$B$26=\"\",\"\",'Bulk Gravity'!$B$26)","v":"Passing"},{"$f":"IF('Bulk Gravity'!$B$28=\"\",\"\",'Bulk Gravity'!$B$28)","v":"1\""},{"$f":"IF('Bulk Gravity'!$B$25=\"\",\"\",'Bulk Gravity'!$B$25)","v":"Sieve Size:"},{"$f":"IF('Bulk Gravity'!$C$26=\"\",\"\",'Bulk Gravity'!$C$26)","v":"Retained"},{"$f":"'Bulk Gravity'!$C$28","v":"3/4\""}]
[1679,{"$f":"IF('Bulk Gravity'!$AO$28=\"\",\"\",'Bulk Gravity'!$AO$28)","v":""},{"$f":"IF('Bulk Gravity'!$B$4=\"\",\"\",'Bulk Gravity'!$B$4)","v":"HMACP MIXTURE DESIGN : BULK GRAVITY"},{"$f":"IF('Bulk Gravity'!$AN$19=\"\",\"\",'Bulk Gravity'!$AN$19)","v":"Bin No.10 "},{"$f":"IF('Bulk Gravity'!$AK$25=\"\",\"\",'Bulk Gravity'!$AK$25)","v":"Bulk SG"},{"$f":"IF('Bulk Gravity'!$B$26=\"\",\"\",'Bulk Gravity'!$B$26)","v":"Passing"},{"$f":"IF('Bulk Gravity'!$B$28=\"\",\"\",'Bulk Gravity'!$B$28)","v":"1\""},{"$f":"IF('Bulk Gravity'!$B$25=\"\",\"\",'Bulk Gravity'!$B$25)","v":"Sieve Size:"},{"$f":"IF('Bulk Gravity'!$C$26=\"\",\"\",'Bulk Gravity'!$C$26)","v":"Retained"},{"$f":"'Bulk Gravity'!$C$28","v":"3/4\""}]
[1680,{"$f":"IF('Bulk Gravity'!$AN$29=\"\",\"\",'Bulk Gravity'!$AN$29)","v":0},{"$f":"IF('Bulk Gravity'!$B$4=\"\",\"\",'Bulk Gravity'!$B$4)","v":"HMACP MIXTURE DESIGN : BULK GRAVITY"},{"$f":"IF('Bulk Gravity'!$AN$19=\"\",\"\",'Bulk Gravity'!$AN$19)","v":"Bin No.10 "},{"$f":"IF('Bulk Gravity'!$AJ$25=\"\",\"\",'Bulk Gravity'!$AJ$25)","v":"Individual Ret., %"},{"$f":"IF('Bulk Gravity'!$B$26=\"\",\"\",'Bulk Gravity'!$B$26)","v":"Passing"},{"$f":"IF('Bulk Gravity'!$B$29=\"\",\"\",'Bulk Gravity'!$B$29)","v":"3/4\""},{"$f":"IF('Bulk Gravity'!$B$25=\"\",\"\",'Bulk Gravity'!$B$25)","v":"Sieve Size:"},{"$f":"IF('Bulk Gravity'!$C$26=\"\",\"\",'Bulk Gravity'!$C$26)","v":"Retained"},{"$f":"'Bulk Gravity'!$C$29","v":"1/2\""}]
[1681,{"$f":"IF('Bulk Gravity'!$AO$29=\"\",\"\",'Bulk Gravity'!$AO$29)","v":""},{"$f":"IF('Bulk Gravity'!$B$4=\"\",\"\",'Bulk Gravity'!$B$4)","v":"HMACP MIXTURE DESIGN : BULK GRAVITY"},{"$f":"IF('Bulk Gravity'!$AN$19=\"\",\"\",'Bulk Gravity'!$AN$19)","v":"Bin No.10 "},{"$f":"IF('Bulk Gravity'!$AK$25=\"\",\"\",'Bulk Gravity'!$AK$25)","v":"Bulk SG"},{"$f":"IF('Bulk Gravity'!$B$26=\"\",\"\",'Bulk Gravity'!$B$26)","v":"Passing"},{"$f":"IF('Bulk Gravity'!$B$29=\"\",\"\",'Bulk Gravity'!$B$29)","v":"3/4\""},{"$f":"IF('Bulk Gravity'!$B$25=\"\",\"\",'Bulk Gravity'!$B$25)","v":"Sieve Size:"},{"$f":"IF('Bulk Gravity'!$C$26=\"\",\"\",'Bulk Gravity'!$C$26)","v":"Retained"},{"$f":"'Bulk Gravity'!$C$29","v":"1/2\""}]
[1682,{"$f":"IF('Bulk Gravity'!$AN$30=\"\",\"\",'Bulk Gravity'!$AN$30)","v":0},{"$f":"IF('Bulk Gravity'!$B$4=\"\",\"\",'Bulk Gravity'!$B$4)","v":"HMACP MIXTURE DESIGN : BULK GRAVITY"},{"$f":"IF('Bulk Gravity'!$AN$19=\"\",\"\",'Bulk Gravity'!$AN$19)","v":"Bin No.10 "},{"$f":"IF('Bulk Gravity'!$AJ$25=\"\",\"\",'Bulk Gravity'!$AJ$25)","v":"Individual Ret., %"},{"$f":"IF('Bulk Gravity'!$B$26=\"\",\"\",'Bulk Gravity'!$B$26)","v":"Passing"},{"$f":"IF('Bulk Gravity'!$B$30=\"\",\"\",'Bulk Gravity'!$B$30)","v":"1/2\""},{"$f":"IF('Bulk Gravity'!$B$25=\"\",\"\",'Bulk Gravity'!$B$25)","v":"Sieve Size:"},{"$f":"IF('Bulk Gravity'!$C$26=\"\",\"\",'Bulk Gravity'!$C$26)","v":"Retained"},{"$f":"'Bulk Gravity'!$C$30","v":"3/8\""}]
[1683,{"$f":"IF('Bulk Gravity'!$AO$30=\"\",\"\",'Bulk Gravity'!$AO$30)","v":""},{"$f":"IF('Bulk Gravity'!$B$4=\"\",\"\",'Bulk Gravity'!$B$4)","v":"HMACP MIXTURE DESIGN : BULK GRAVITY"},{"$f":"IF('Bulk Gravity'!$AN$19=\"\",\"\",'Bulk Gravity'!$AN$19)","v":"Bin No.10 "},{"$f":"IF('Bulk Gravity'!$AK$25=\"\",\"\",'Bulk Gravity'!$AK$25)","v":"Bulk SG"},{"$f":"IF('Bulk Gravity'!$B$26=\"\",\"\",'Bulk Gravity'!$B$26)","v":"Passing"},{"$f":"IF('Bulk Gravity'!$B$30=\"\",\"\",'Bulk Gravity'!$B$30)","v":"1/2\""},{"$f":"IF('Bulk Gravity'!$B$25=\"\",\"\",'Bulk Gravity'!$B$25)","v":"Sieve Size:"},{"$f":"IF('Bulk Gravity'!$C$26=\"\",\"\",'Bulk Gravity'!$C$26)","v":"Retained"},{"$f":"'Bulk Gravity'!$C$30","v":"3/8\""}]
[1684,{"$f":"IF('Bulk Gravity'!$AN$31=\"\",\"\",'Bulk Gravity'!$AN$31)","v":0},{"$f":"IF('Bulk Gravity'!$B$4=\"\",\"\",'Bulk Gravity'!$B$4)","v":"HMACP MIXTURE DESIGN : BULK GRAVITY"},{"$f":"IF('Bulk Gravity'!$AN$19=\"\",\"\",'Bulk Gravity'!$AN$19)","v":"Bin No.10 "},{"$f":"IF('Bulk Gravity'!$AJ$25=\"\",\"\",'Bulk Gravity'!$AJ$25)","v":"Individual Ret., %"},{"$f":"IF('Bulk Gravity'!$B$26=\"\",\"\",'Bulk Gravity'!$B$26)","v":"Passing"},{"$f":"IF('Bulk Gravity'!$B$31=\"\",\"\",'Bulk Gravity'!$B$31)","v":"3/8\""},{"$f":"IF('Bulk Gravity'!$B$25=\"\",\"\",'Bulk Gravity'!$B$25)","v":"Sieve Size:"},{"$f":"IF('Bulk Gravity'!$C$26=\"\",\"\",'Bulk Gravity'!$C$26)","v":"Retained"},{"$f":"'Bulk Gravity'!$C$31","v":"No. 4"}]
[1685,{"$f":"IF('Bulk Gravity'!$AO$31=\"\",\"\",'Bulk Gravity'!$AO$31)","v":""},{"$f":"IF('Bulk Gravity'!$B$4=\"\",\"\",'Bulk Gravity'!$B$4)","v":"HMACP MIXTURE DESIGN : BULK GRAVITY"},{"$f":"IF('Bulk Gravity'!$AN$19=\"\",\"\",'Bulk Gravity'!$AN$19)","v":"Bin No.10 "},{"$f":"IF('Bulk Gravity'!$AK$25=\"\",\"\",'Bulk Gravity'!$AK$25)","v":"Bulk SG"},{"$f":"IF('Bulk Gravity'!$B$26=\"\",\"\",'Bulk Gravity'!$B$26)","v":"Passing"},{"$f":"IF('Bulk Gravity'!$B$31=\"\",\"\",'Bulk Gravity'!$B$31)","v":"3/8\""},{"$f":"IF('Bulk Gravity'!$B$25=\"\",\"\",'Bulk Gravity'!$B$25)","v":"Sieve Size:"},{"$f":"IF('Bulk Gravity'!$C$26=\"\",\"\",'Bulk Gravity'!$C$26)","v":"Retained"},{"$f":"'Bulk Gravity'!$C$31","v":"No. 4"}]
[1686,{"$f":"IF('Bulk Gravity'!$AN$32=\"\",\"\",'Bulk Gravity'!$AN$32)","v":0},{"$f":"IF('Bulk Gravity'!$B$4=\"\",\"\",'Bulk Gravity'!$B$4)","v":"HMACP MIXTURE DESIGN : BULK GRAVITY"},{"$f":"IF('Bulk Gravity'!$AN$19=\"\",\"\",'Bulk Gravity'!$AN$19)","v":"Bin No.10 "},{"$f":"IF('Bulk Gravity'!$AJ$25=\"\",\"\",'Bulk Gravity'!$AJ$25)","v":"Individual Ret., %"},{"$f":"IF('Bulk Gravity'!$B$26=\"\",\"\",'Bulk Gravity'!$B$26)","v":"Passing"},{"$f":"IF('Bulk Gravity'!$B$32=\"\",\"\",'Bulk Gravity'!$B$32)","v":"No. 4"},{"$f":"IF('Bulk Gravity'!$B$25=\"\",\"\",'Bulk Gravity'!$B$25)","v":"Sieve Size:"},{"$f":"IF('Bulk Gravity'!$C$26=\"\",\"\",'Bulk Gravity'!$C$26)","v":"Retained"},{"$f":"'Bulk Gravity'!$C$32","v":"No. 8"}]
[1687,{"$f":"IF('Bulk Gravity'!$AO$32=\"\",\"\",'Bulk Gravity'!$AO$32)","v":""},{"$f":"IF('Bulk Gravity'!$B$4=\"\",\"\",'Bulk Gravity'!$B$4)","v":"HMACP MIXTURE DESIGN : BULK GRAVITY"},{"$f":"IF('Bulk Gravity'!$AN$19=\"\",\"\",'Bulk Gravity'!$AN$19)","v":"Bin No.10 "},{"$f":"IF('Bulk Gravity'!$AK$25=\"\",\"\",'Bulk Gravity'!$AK$25)","v":"Bulk SG"},{"$f":"IF('Bulk Gravity'!$B$26=\"\",\"\",'Bulk Gravity'!$B$26)","v":"Passing"},{"$f":"IF('Bulk Gravity'!$B$32=\"\",\"\",'Bulk Gravity'!$B$32)","v":"No. 4"},{"$f":"IF('Bulk Gravity'!$B$25=\"\",\"\",'Bulk Gravity'!$B$25)","v":"Sieve Size:"},{"$f":"IF('Bulk Gravity'!$C$26=\"\",\"\",'Bulk Gravity'!$C$26)","v":"Retained"},{"$f":"'Bulk Gravity'!$C$32","v":"No. 8"}]
[1688,{"$f":"IF('Bulk Gravity'!$AN$33=\"\",\"\",'Bulk Gravity'!$AN$33)","v":0},{"$f":"IF('Bulk Gravity'!$B$4=\"\",\"\",'Bulk Gravity'!$B$4)","v":"HMACP MIXTURE DESIGN : BULK GRAVITY"},{"$f":"IF('Bulk Gravity'!$AN$19=\"\",\"\",'Bulk Gravity'!$AN$19)","v":"Bin No.10 "},{"$f":"IF('Bulk Gravity'!$AJ$25=\"\",\"\",'Bulk Gravity'!$AJ$25)","v":"Individual Ret., %"},{"$f":"IF('Bulk Gravity'!$B$26=\"\",\"\",'Bulk Gravity'!$B$26)","v":"Passing"},{"$f":"IF('Bulk Gravity'!$B$33=\"\",\"\",'Bulk Gravity'!$B$33)","v":"No. 8"},{"$f":"IF('Bulk Gravity'!$B$25=\"\",\"\",'Bulk Gravity'!$B$25)","v":"Sieve Size:"},{"$f":"IF('Bulk Gravity'!$C$26=\"\",\"\",'Bulk Gravity'!$C$26)","v":"Retained"},{"$f":"'Bulk Gravity'!$C$33","v":"No. 16"}]
[1689,{"$f":"IF('Bulk Gravity'!$AO$33=\"\",\"\",'Bulk Gravity'!$AO$33)","v":""},{"$f":"IF('Bulk Gravity'!$B$4=\"\",\"\",'Bulk Gravity'!$B$4)","v":"HMACP MIXTURE DESIGN : BULK GRAVITY"},{"$f":"IF('Bulk Gravity'!$AN$19=\"\",\"\",'Bulk Gravity'!$AN$19)","v":"Bin No.10 "},{"$f":"IF('Bulk Gravity'!$AK$25=\"\",\"\",'Bulk Gravity'!$AK$25)","v":"Bulk SG"},{"$f":"IF('Bulk Gravity'!$B$26=\"\",\"\",'Bulk Gravity'!$B$26)","v":"Passing"},{"$f":"IF('Bulk Gravity'!$B$33=\"\",\"\",'Bulk Gravity'!$B$33)","v":"No. 8"},{"$f":"IF('Bulk Gravity'!$B$25=\"\",\"\",'Bulk Gravity'!$B$25)","v":"Sieve Size:"},{"$f":"IF('Bulk Gravity'!$C$26=\"\",\"\",'Bulk Gravity'!$C$26)","v":"Retained"},{"$f":"'Bulk Gravity'!$C$33","v":"No. 16"}]
[1690,{"$f":"IF('Bulk Gravity'!$AN$34=\"\",\"\",'Bulk Gravity'!$AN$34)","v":0},{"$f":"IF('Bulk Gravity'!$B$4=\"\",\"\",'Bulk Gravity'!$B$4)","v":"HMACP MIXTURE DESIGN : BULK GRAVITY"},{"$f":"IF('Bulk Gravity'!$AN$19=\"\",\"\",'Bulk Gravity'!$AN$19)","v":"Bin No.10 "},{"$f":"IF('Bulk Gravity'!$AJ$25=\"\",\"\",'Bulk Gravity'!$AJ$25)","v":"Individual Ret., %"},{"$f":"IF('Bulk Gravity'!$B$26=\"\",\"\",'Bulk Gravity'!$B$26)","v":"Passing"},{"$f":"IF('Bulk Gravity'!$B$34=\"\",\"\",'Bulk Gravity'!$B$34)","v":"No. 16"},{"$f":"IF('Bulk Gravity'!$B$25=\"\",\"\",'Bulk Gravity'!$B$25)","v":"Sieve Size:"},{"$f":"IF('Bulk Gravity'!$C$26=\"\",\"\",'Bulk Gravity'!$C$26)","v":"Retained"},{"$f":"'Bulk Gravity'!$C$34","v":"No. 30"}]
[1691,{"$f":"IF('Bulk Gravity'!$AO$34=\"\",\"\",'Bulk Gravity'!$AO$34)","v":""},{"$f":"IF('Bulk Gravity'!$B$4=\"\",\"\",'Bulk Gravity'!$B$4)","v":"HMACP MIXTURE DESIGN : BULK GRAVITY"},{"$f":"IF('Bulk Gravity'!$AN$19=\"\",\"\",'Bulk Gravity'!$AN$19)","v":"Bin No.10 "},{"$f":"IF('Bulk Gravity'!$AK$25=\"\",\"\",'Bulk Gravity'!$AK$25)","v":"Bulk SG"},{"$f":"IF('Bulk Gravity'!$B$26=\"\",\"\",'Bulk Gravity'!$B$26)","v":"Passing"},{"$f":"IF('Bulk Gravity'!$B$34=\"\",\"\",'Bulk Gravity'!$B$34)","v":"No. 16"},{"$f":"IF('Bulk Gravity'!$B$25=\"\",\"\",'Bulk Gravity'!$B$25)","v":"Sieve Size:"},{"$f":"IF('Bulk Gravity'!$C$26=\"\",\"\",'Bulk Gravity'!$C$26)","v":"Retained"},{"$f":"'Bulk Gravity'!$C$34","v":"No. 30"}]
[1692,{"$f":"IF('Bulk Gravity'!$AN$35=\"\",\"\",'Bulk Gravity'!$AN$35)","v":0},{"$f":"IF('Bulk Gravity'!$B$4=\"\",\"\",'Bulk Gravity'!$B$4)","v":"HMACP MIXTURE DESIGN : BULK GRAVITY"},{"$f":"IF('Bulk Gravity'!$AN$19=\"\",\"\",'Bulk Gravity'!$AN$19)","v":"Bin No.10 "},{"$f":"IF('Bulk Gravity'!$AJ$25=\"\",\"\",'Bulk Gravity'!$AJ$25)","v":"Individual Ret., %"},{"$f":"IF('Bulk Gravity'!$B$26=\"\",\"\",'Bulk Gravity'!$B$26)","v":"Passing"},{"$f":"IF('Bulk Gravity'!$B$35=\"\",\"\",'Bulk Gravity'!$B$35)","v":"No. 30"},{"$f":"IF('Bulk Gravity'!$B$25=\"\",\"\",'Bulk Gravity'!$B$25)","v":"Sieve Size:"},{"$f":"IF('Bulk Gravity'!$C$26=\"\",\"\",'Bulk Gravity'!$C$26)","v":"Retained"},{"$f":"'Bulk Gravity'!$C$35","v":"No. 50"}]
[1693,{"$f":"IF('Bulk Gravity'!$AO$35=\"\",\"\",'Bulk Gravity'!$AO$35)","v":""},{"$f":"IF('Bulk Gravity'!$B$4=\"\",\"\",'Bulk Gravity'!$B$4)","v":"HMACP MIXTURE DESIGN : BULK GRAVITY"},{"$f":"IF('Bulk Gravity'!$AN$19=\"\",\"\",'Bulk Gravity'!$AN$19)","v":"Bin No.10 "},{"$f":"IF('Bulk Gravity'!$AK$25=\"\",\"\",'Bulk Gravity'!$AK$25)","v":"Bulk SG"},{"$f":"IF('Bulk Gravity'!$B$26=\"\",\"\",'Bulk Gravity'!$B$26)","v":"Passing"},{"$f":"IF('Bulk Gravity'!$B$35=\"\",\"\",'Bulk Gravity'!$B$35)","v":"No. 30"},{"$f":"IF('Bulk Gravity'!$B$25=\"\",\"\",'Bulk Gravity'!$B$25)","v":"Sieve Size:"},{"$f":"IF('Bulk Gravity'!$C$26=\"\",\"\",'Bulk Gravity'!$C$26)","v":"Retained"},{"$f":"'Bulk Gravity'!$C$35","v":"No. 50"}]
[1694,{"$f":"IF('Bulk Gravity'!$AN$36=\"\",\"\",'Bulk Gravity'!$AN$36)","v":0},{"$f":"IF('Bulk Gravity'!$B$4=\"\",\"\",'Bulk Gravity'!$B$4)","v":"HMACP MIXTURE DESIGN : BULK GRAVITY"},{"$f":"IF('Bulk Gravity'!$AN$19=\"\",\"\",'Bulk Gravity'!$AN$19)","v":"Bin No.10 "},{"$f":"IF('Bulk Gravity'!$AJ$25=\"\",\"\",'Bulk Gravity'!$AJ$25)","v":"Individual Ret., %"},{"$f":"IF('Bulk Gravity'!$B$26=\"\",\"\",'Bulk Gravity'!$B$26)","v":"Passing"},{"$f":"IF('Bulk Gravity'!$B$36=\"\",\"\",'Bulk Gravity'!$B$36)","v":"No. 50"},{"$f":"IF('Bulk Gravity'!$B$25=\"\",\"\",'Bulk Gravity'!$B$25)","v":"Sieve Size:"},{"$f":"IF('Bulk Gravity'!$C$26=\"\",\"\",'Bulk Gravity'!$C$26)","v":"Retained"},{"$f":"'Bulk Gravity'!$C$36","v":"No. 200"}]
[1695,{"$f":"IF('Bulk Gravity'!$AO$36=\"\",\"\",'Bulk Gravity'!$AO$36)","v":""},{"$f":"IF('Bulk Gravity'!$B$4=\"\",\"\",'Bulk Gravity'!$B$4)","v":"HMACP MIXTURE DESIGN : BULK GRAVITY"},{"$f":"IF('Bulk Gravity'!$AN$19=\"\",\"\",'Bulk Gravity'!$AN$19)","v":"Bin No.10 "},{"$f":"IF('Bulk Gravity'!$AK$25=\"\",\"\",'Bulk Gravity'!$AK$25)","v":"Bulk SG"},{"$f":"IF('Bulk Gravity'!$B$26=\"\",\"\",'Bulk Gravity'!$B$26)","v":"Passing"},{"$f":"IF('Bulk Gravity'!$B$36=\"\",\"\",'Bulk Gravity'!$B$36)","v":"No. 50"},{"$f":"IF('Bulk Gravity'!$B$25=\"\",\"\",'Bulk Gravity'!$B$25)","v":"Sieve Size:"},{"$f":"IF('Bulk Gravity'!$C$26=\"\",\"\",'Bulk Gravity'!$C$26)","v":"Retained"},{"$f":"'Bulk Gravity'!$C$36","v":"No. 200"}]
[1696,{"$f":"IF('Bulk Gravity'!$AN$37=\"\",\"\",'Bulk Gravity'!$AN$37)","v":0},{"$f":"IF('Bulk Gravity'!$B$4=\"\",\"\",'Bulk Gravity'!$B$4)","v":"HMACP MIXTURE DESIGN : BULK GRAVITY"},{"$f":"IF('Bulk Gravity'!$AN$19=\"\",\"\",'Bulk Gravity'!$AN$19)","v":"Bin No.10 "},{"$f":"IF('Bulk Gravity'!$AJ$25=\"\",\"\",'Bulk Gravity'!$AJ$25)","v":"Individual Ret., %"},{"$f":"IF('Bulk Gravity'!$B$26=\"\",\"\",'Bulk Gravity'!$B$26)","v":"Passing"},{"$f":"IF('Bulk Gravity'!$B$37=\"\",\"\",'Bulk Gravity'!$B$37)","v":"No. 200"},{"$f":"IF('Bulk Gravity'!$B$25=\"\",\"\",'Bulk Gravity'!$B$25)","v":"Sieve Size:"},{"$f":"IF('Bulk Gravity'!$C$26=\"\",\"\",'Bulk Gravity'!$C$26)","v":"Retained"},{"$f":"'Bulk Gravity'!$C$37","v":"Pan"}]
[1697,{"$f":"IF('Bulk Gravity'!$AO$37=\"\",\"\",'Bulk Gravity'!$AO$37)","v":""},{"$f":"IF('Bulk Gravity'!$B$4=\"\",\"\",'Bulk Gravity'!$B$4)","v":"HMACP MIXTURE DESIGN : BULK GRAVITY"},{"$f":"IF('Bulk Gravity'!$AN$19=\"\",\"\",'Bulk Gravity'!$AN$19)","v":"Bin No.10 "},{"$f":"IF('Bulk Gravity'!$AK$25=\"\",\"\",'Bulk Gravity'!$AK$25)","v":"Bulk SG"},{"$f":"IF('Bulk Gravity'!$B$26=\"\",\"\",'Bulk Gravity'!$B$26)","v":"Passing"},{"$f":"IF('Bulk Gravity'!$B$37=\"\",\"\",'Bulk Gravity'!$B$37)","v":"No. 200"},{"$f":"IF('Bulk Gravity'!$B$25=\"\",\"\",'Bulk Gravity'!$B$25)","v":"Sieve Size:"},{"$f":"IF('Bulk Gravity'!$C$26=\"\",\"\",'Bulk Gravity'!$C$26)","v":"Retained"},{"$f":"'Bulk Gravity'!$C$37","v":"Pan"}]
[1698,{"$f":"IF('Bulk Gravity'!$AN$38=\"\",\"\",'Bulk Gravity'!$AN$38)","v":0},{"$f":"IF('Bulk Gravity'!$B$4=\"\",\"\",'Bulk Gravity'!$B$4)","v":"HMACP MIXTURE DESIGN : BULK GRAVITY"},{"$f":"IF('Bulk Gravity'!$AN$19=\"\",\"\",'Bulk Gravity'!$AN$19)","v":"Bin No.10 "},{"$f":"IF('Bulk Gravity'!$AJ$25=\"\",\"\",'Bulk Gravity'!$AJ$25)","v":"Individual Ret., %"},{"$f":"IF('Bulk Gravity'!$B$38=\"\",\"\",'Bulk Gravity'!$B$38)","v":"Totals"}]
[1699,{"$f":"IF('Bulk Gravity'!$AO$38=\"\",\"\",'Bulk Gravity'!$AO$38)","v":""},{"$f":"IF('Bulk Gravity'!$B$4=\"\",\"\",'Bulk Gravity'!$B$4)","v":"HMACP MIXTURE DESIGN : BULK GRAVITY"},{"$f":"IF('Bulk Gravity'!$AN$19=\"\",\"\",'Bulk Gravity'!$AN$19)","v":"Bin No.10 "},{"$f":"IF('Bulk Gravity'!$AK$25=\"\",\"\",'Bulk Gravity'!$AK$25)","v":"Bulk SG"},{"$f":"IF('Bulk Gravity'!$B$38=\"\",\"\",'Bulk Gravity'!$B$38)","v":"Totals"}]
[1700,{"$f":"IF('Matl Properties'!$AE$37=\"\",\"\",'Matl Properties'!$AE$37)","v":""},{"$f":"IF('Matl Properties'!$B$4=\"\",\"\",'Matl Properties'!$B$4)","v":"HMACP MIXTURE DESIGN : MATERIAL PROPERTIES"},{"$f":"IF('Matl Properties'!$B$35=\"\",\"\",'Matl Properties'!$B$35)","v":"Fine Aggregate"},{"$f":"IF('Matl Properties'!$E$37=\"\",\"\",'Matl Properties'!$E$37)","v":"AASHTO T330"},{"$f":"IF('Matl Properties'!$F$37=\"\",\"\",'Matl Properties'!$F$37)","v":"Max."},{"$f":"IF('Matl Properties'!$G$25=\"\",\"\",'Matl Properties'!$G$25)","v":"Spec. Limit"}]
[1701,{"$f":"IF('Matl Properties'!$I$37=\"\",\"\",'Matl Properties'!$I$37)","v":""},{"$f":"IF('Matl Properties'!$B$4=\"\",\"\",'Matl Properties'!$B$4)","v":"HMACP MIXTURE DESIGN : MATERIAL PROPERTIES"},{"$f":"IF('Matl Properties'!$B$35=\"\",\"\",'Matl Properties'!$B$35)","v":"Fine Aggregate"},{"$f":"IF('Matl Properties'!$E$37=\"\",\"\",'Matl Properties'!$E$37)","v":"AASHTO T330"},{"$f":"IF('Matl Properties'!$I$19=\"\",\"\",'Matl Properties'!$I$19)","v":"Bin No.1"},{"$f":"IF('Matl Properties'!$I$25=\"\",\"\",'Matl Properties'!$I$25)","v":"Result"}]
[1702,{"$f":"IF('Matl Properties'!$J$37=\"\",\"\",'Matl Properties'!$J$37)","v":""},{"$f":"IF('Matl Properties'!$B$4=\"\",\"\",'Matl Properties'!$B$4)","v":"HMACP MIXTURE DESIGN : MATERIAL PROPERTIES"},{"$f":"IF('Matl Properties'!$B$35=\"\",\"\",'Matl Properties'!$B$35)","v":"Fine Aggregate"},{"$f":"IF('Matl Properties'!$E$37=\"\",\"\",'Matl Properties'!$E$37)","v":"AASHTO T330"},{"$f":"IF('Matl Properties'!$I$19=\"\",\"\",'Matl Properties'!$I$19)","v":"Bin No.1"},{"$f":"IF('Matl Properties'!$J$25=\"\",\"\",'Matl Properties'!$J$25)","v":"Sample ID"}]
[1703,{"$f":"IF('Matl Properties'!$L$37=\"\",\"\",'Matl Properties'!$L$37)","v":""},{"$f":"IF('Matl Properties'!$B$4=\"\",\"\",'Matl Properties'!$B$4)","v":"HMACP MIXTURE DESIGN : MATERIAL PROPERTIES"},{"$f":"IF('Matl Properties'!$B$35=\"\",\"\",'Matl Properties'!$B$35)","v":"Fine Aggregate"},{"$f":"IF('Matl Properties'!$E$37=\"\",\"\",'Matl Properties'!$E$37)","v":"AASHTO T330"},{"$f":"IF('Matl Properties'!$L$19=\"\",\"\",'Matl Properties'!$L$19)","v":"Bin No.2"},{"$f":"IF('Matl Properties'!$L$25=\"\",\"\",'Matl Properties'!$L$25)","v":"Result"}]
[1704,{"$f":"IF('Matl Properties'!$M$37=\"\",\"\",'Matl Properties'!$M$37)","v":""},{"$f":"IF('Matl Properties'!$B$4=\"\",\"\",'Matl Properties'!$B$4)","v":"HMACP MIXTURE DESIGN : MATERIAL PROPERTIES"},{"$f":"IF('Matl Properties'!$B$35=\"\",\"\",'Matl Properties'!$B$35)","v":"Fine Aggregate"},{"$f":"IF('Matl Properties'!$E$37=\"\",\"\",'Matl Properties'!$E$37)","v":"AASHTO T330"},{"$f":"IF('Matl Properties'!$L$19=\"\",\"\",'Matl Properties'!$L$19)","v":"Bin No.2"},{"$f":"IF('Matl Properties'!$M$25=\"\",\"\",'Matl Properties'!$M$25)","v":"Sample ID"}]
[1705,{"$f":"IF('Matl Properties'!$O$37=\"\",\"\",'Matl Properties'!$O$37)","v":""},{"$f":"IF('Matl Properties'!$B$4=\"\",\"\",'Matl Properties'!$B$4)","v":"HMACP MIXTURE DESIGN : MATERIAL PROPERTIES"},{"$f":"IF('Matl Properties'!$B$35=\"\",\"\",'Matl Properties'!$B$35)","v":"Fine Aggregate"},{"$f":"IF('Matl Properties'!$E$37=\"\",\"\",'Matl Properties'!$E$37)","v":"AASHTO T330"},{"$f":"IF('Matl Properties'!$O$19=\"\",\"\",'Matl Properties'!$O$19)","v":"Bin No.3"},{"$f":"IF('Matl Properties'!$O$25=\"\",\"\",'Matl Properties'!$O$25)","v":"Result"}]
[1706,{"$f":"IF('Matl Properties'!$P$37=\"\",\"\",'Matl Properties'!$P$37)","v":""},{"$f":"IF('Matl Properties'!$B$4=\"\",\"\",'Matl Properties'!$B$4)","v":"HMACP MIXTURE DESIGN : MATERIAL PROPERTIES"},{"$f":"IF('Matl Properties'!$B$35=\"\",\"\",'Matl Properties'!$B$35)","v":"Fine Aggregate"},{"$f":"IF('Matl Properties'!$E$37=\"\",\"\",'Matl Properties'!$E$37)","v":"AASHTO T330"},{"$f":"IF('Matl Properties'!$O$19=\"\",\"\",'Matl Properties'!$O$19)","v":"Bin No.3"},{"$f":"IF('Matl Properties'!$P$25=\"\",\"\",'Matl Properties'!$P$25)","v":"Sample ID"}]
[1707,{"$f":"IF('Matl Properties'!$R$37=\"\",\"\",'Matl Properties'!$R$37)","v":""},{"$f":"IF('Matl Properties'!$B$4=\"\",\"\",'Matl Properties'!$B$4)","v":"HMACP MIXTURE DESIGN : MATERIAL PROPERTIES"},{"$f":"IF('Matl Properties'!$B$35=\"\",\"\",'Matl Properties'!$B$35)","v":"Fine Aggregate"},{"$f":"IF('Matl Properties'!$E$37=\"\",\"\",'Matl Properties'!$E$37)","v":"AASHTO T330"},{"$f":"IF('Matl Properties'!$R$19=\"\",\"\",'Matl Properties'!$R$19)","v":"Bin No.4"},{"$f":"IF('Matl Properties'!$R$25=\"\",\"\",'Matl Properties'!$R$25)","v":"Result"}]
[1708,{"$f":"IF('Matl Properties'!$S$37=\"\",\"\",'Matl Properties'!$S$37)","v":""},{"$f":"IF('Matl Properties'!$B$4=\"\",\"\",'Matl Properties'!$B$4)","v":"HMACP MIXTURE DESIGN : MATERIAL PROPERTIES"},{"$f":"IF('Matl Properties'!$B$35=\"\",\"\",'Matl Properties'!$B$35)","v":"Fine Aggregate"},{"$f":"IF('Matl Properties'!$E$37=\"\",\"\",'Matl Properties'!$E$37)","v":"AASHTO T330"},{"$f":"IF('Matl Properties'!$R$19=\"\",\"\",'Matl Properties'!$R$19)","v":"Bin No.4"},{"$f":"IF('Matl Properties'!$S$25=\"\",\"\",'Matl Properties'!$S$25)","v":"Sample ID"}]
[1709,{"$f":"IF('Matl Properties'!$U$37=\"\",\"\",'Matl Properties'!$U$37)","v":""},{"$f":"IF('Matl Properties'!$B$4=\"\",\"\",'Matl Properties'!$B$4)","v":"HMACP MIXTURE DESIGN : MATERIAL PROPERTIES"},{"$f":"IF('Matl Properties'!$B$35=\"\",\"\",'Matl Properties'!$B$35)","v":"Fine Aggregate"},{"$f":"IF('Matl Properties'!$E$37=\"\",\"\",'Matl Properties'!$E$37)","v":"AASHTO T330"},{"$f":"IF('Matl Properties'!$U$19=\"\",\"\",'Matl Properties'!$U$19)","v":"Bin No.5"},{"$f":"IF('Matl Properties'!$U$25=\"\",\"\",'Matl Properties'!$U$25)","v":"Result"}]
[1710,{"$f":"IF('Matl Properties'!$V$37=\"\",\"\",'Matl Properties'!$V$37)","v":""},{"$f":"IF('Matl Properties'!$B$4=\"\",\"\",'Matl Properties'!$B$4)","v":"HMACP MIXTURE DESIGN : MATERIAL PROPERTIES"},{"$f":"IF('Matl Properties'!$B$35=\"\",\"\",'Matl Properties'!$B$35)","v":"Fine Aggregate"},{"$f":"IF('Matl Properties'!$E$37=\"\",\"\",'Matl Properties'!$E$37)","v":"AASHTO T330"},{"$f":"IF('Matl Properties'!$U$19=\"\",\"\",'Matl Properties'!$U$19)","v":"Bin No.5"},{"$f":"IF('Matl Properties'!$V$25=\"\",\"\",'Matl Properties'!$V$25)","v":"Sample ID"}]
[1711,{"$f":"IF('Matl Properties'!$X$37=\"\",\"\",'Matl Properties'!$X$37)","v":""},{"$f":"IF('Matl Properties'!$B$4=\"\",\"\",'Matl Properties'!$B$4)","v":"HMACP MIXTURE DESIGN : MATERIAL PROPERTIES"},{"$f":"IF('Matl Properties'!$B$35=\"\",\"\",'Matl Properties'!$B$35)","v":"Fine Aggregate"},{"$f":"IF('Matl Properties'!$E$37=\"\",\"\",'Matl Properties'!$E$37)","v":"AASHTO T330"},{"$f":"IF('Matl Properties'!$X$19=\"\",\"\",'Matl Properties'!$X$19)","v":"Bin No.6 "},{"$f":"IF('Matl Properties'!$X$25=\"\",\"\",'Matl Properties'!$X$25)","v":"Result"}]
[1712,{"$f":"IF('Matl Properties'!$Y$37=\"\",\"\",'Matl Properties'!$Y$37)","v":""},{"$f":"IF('Matl Properties'!$B$4=\"\",\"\",'Matl Properties'!$B$4)","v":"HMACP MIXTURE DESIGN : MATERIAL PROPERTIES"},{"$f":"IF('Matl Properties'!$B$35=\"\",\"\",'Matl Properties'!$B$35)","v":"Fine Aggregate"},{"$f":"IF('Matl Properties'!$E$37=\"\",\"\",'Matl Properties'!$E$37)","v":"AASHTO T330"},{"$f":"IF('Matl Properties'!$X$19=\"\",\"\",'Matl Properties'!$X$19)","v":"Bin No.6 "},{"$f":"IF('Matl Properties'!$Y$25=\"\",\"\",'Matl Properties'!$Y$25)","v":"Sample ID"}]
[1713,{"$f":"IF('Matl Properties'!$AA$37=\"\",\"\",'Matl Properties'!$AA$37)","v":""},{"$f":"IF('Matl Properties'!$B$4=\"\",\"\",'Matl Properties'!$B$4)","v":"HMACP MIXTURE DESIGN : MATERIAL PROPERTIES"},{"$f":"IF('Matl Properties'!$B$35=\"\",\"\",'Matl Properties'!$B$35)","v":"Fine Aggregate"},{"$f":"IF('Matl Properties'!$E$37=\"\",\"\",'Matl Properties'!$E$37)","v":"AASHTO T330"},{"$f":"IF('Matl Properties'!$AA$19=\"\",\"\",'Matl Properties'!$AA$19)","v":"Bin No.7 "},{"$f":"IF('Matl Properties'!$AA$25=\"\",\"\",'Matl Properties'!$AA$25)","v":"Result"}]
[1714,{"$f":"IF('Matl Properties'!$AB$37=\"\",\"\",'Matl Properties'!$AB$37)","v":""},{"$f":"IF('Matl Properties'!$B$4=\"\",\"\",'Matl Properties'!$B$4)","v":"HMACP MIXTURE DESIGN : MATERIAL PROPERTIES"},{"$f":"IF('Matl Properties'!$B$35=\"\",\"\",'Matl Properties'!$B$35)","v":"Fine Aggregate"},{"$f":"IF('Matl Properties'!$E$37=\"\",\"\",'Matl Properties'!$E$37)","v":"AASHTO T330"},{"$f":"IF('Matl Properties'!$AA$19=\"\",\"\",'Matl Properties'!$AA$19)","v":"Bin No.7 "},{"$f":"IF('Matl Properties'!$AB$25=\"\",\"\",'Matl Properties'!$AB$25)","v":"Sample ID"}]
[1715,{"$f":"IF('Matl Properties'!$H$50=\"\",\"\",'Matl Properties'!$H$50)","v":""},{"$f":"IF('Matl Properties'!$B$4=\"\",\"\",'Matl Properties'!$B$4)","v":"HMACP MIXTURE DESIGN : MATERIAL PROPERTIES"},{"$f":"IF('Matl Properties'!$B$46=\"\",\"\",'Matl Properties'!$B$46)","v":"Recycled Materials"},{"$f":"IF('Matl Properties'!$B$50=\"\",\"\",'Matl Properties'!$B$50)","v":"User Defined Testing"},{"$f":"IF('Matl Properties'!$G$25=\"\",\"\",'Matl Properties'!$G$25)","v":"Spec. Limit"}]
[1716,{"$f":"IF('Matl Properties'!$E$50=\"\",\"\",'Matl Properties'!$E$50)","v":""},{"$f":"IF('Matl Properties'!$B$4=\"\",\"\",'Matl Properties'!$B$4)","v":"HMACP MIXTURE DESIGN : MATERIAL PROPERTIES"},{"$f":"IF('Matl Properties'!$B$46=\"\",\"\",'Matl Properties'!$B$46)","v":"Recycled Materials"},{"$f":"IF('Matl Properties'!$B$50=\"\",\"\",'Matl Properties'!$B$50)","v":"User Defined Testing"},{"$f":"IF('Matl Properties'!$E$25=\"\",\"\",'Matl Properties'!$E$25)","v":"Test Method"}]
[1717,{"$f":"IF('Matl Properties'!$F$50=\"\",\"\",'Matl Properties'!$F$50)","v":""},{"$f":"IF('Matl Properties'!$B$4=\"\",\"\",'Matl Properties'!$B$4)","v":"HMACP MIXTURE DESIGN : MATERIAL PROPERTIES"},{"$f":"IF('Matl Properties'!$B$46=\"\",\"\",'Matl Properties'!$B$46)","v":"Recycled Materials"},{"$f":"IF('Matl Properties'!$B$50=\"\",\"\",'Matl Properties'!$B$50)","v":"User Defined Testing"},{"$f":"IF('Matl Properties'!$F$25=\"\",\"\",'Matl Properties'!$F$25)","v":"Spec. Min or Max"}]
[1718,{"$f":"IF('Matl Properties'!$I$50=\"\",\"\",'Matl Properties'!$I$50)","v":""},{"$f":"IF('Matl Properties'!$B$4=\"\",\"\",'Matl Properties'!$B$4)","v":"HMACP MIXTURE DESIGN : MATERIAL PROPERTIES"},{"$f":"IF('Matl Properties'!$B$46=\"\",\"\",'Matl Properties'!$B$46)","v":"Recycled Materials"},{"$f":"IF('Matl Properties'!$B$50=\"\",\"\",'Matl Properties'!$B$50)","v":"User Defined Testing"},{"$f":"IF('Matl Properties'!$I$46=\"\",\"\",'Matl Properties'!$I$46)","v":"Bin No.8"},{"$f":"IF('Matl Properties'!$I$25=\"\",\"\",'Matl Properties'!$I$25)","v":"Result"}]
[1719,{"$f":"IF('Matl Properties'!$J$50=\"\",\"\",'Matl Properties'!$J$50)","v":""},{"$f":"IF('Matl Properties'!$B$4=\"\",\"\",'Matl Properties'!$B$4)","v":"HMACP MIXTURE DESIGN : MATERIAL PROPERTIES"},{"$f":"IF('Matl Properties'!$B$46=\"\",\"\",'Matl Properties'!$B$46)","v":"Recycled Materials"},{"$f":"IF('Matl Properties'!$B$50=\"\",\"\",'Matl Properties'!$B$50)","v":"User Defined Testing"},{"$f":"IF('Matl Properties'!$I$46=\"\",\"\",'Matl Properties'!$I$46)","v":"Bin No.8"},{"$f":"IF('Matl Properties'!$J$25=\"\",\"\",'Matl Properties'!$J$25)","v":"Sample ID"}]
[1720,{"$f":"IF('Matl Properties'!$L$50=\"\",\"\",'Matl Properties'!$L$50)","v":""},{"$f":"IF('Matl Properties'!$B$4=\"\",\"\",'Matl Properties'!$B$4)","v":"HMACP MIXTURE DESIGN : MATERIAL PROPERTIES"},{"$f":"IF('Matl Properties'!$B$46=\"\",\"\",'Matl Properties'!$B$46)","v":"Recycled Materials"},{"$f":"IF('Matl Properties'!$B$50=\"\",\"\",'Matl Properties'!$B$50)","v":"User Defined Testing"},{"$f":"IF('Matl Properties'!$L$46=\"\",\"\",'Matl Properties'!$L$46)","v":"Bin No.9"},{"$f":"IF('Matl Properties'!$I$25=\"\",\"\",'Matl Properties'!$I$25)","v":"Result"}]
[1721,{"$f":"IF('Matl Properties'!$M$50=\"\",\"\",'Matl Properties'!$M$50)","v":""},{"$f":"IF('Matl Properties'!$B$4=\"\",\"\",'Matl Properties'!$B$4)","v":"HMACP MIXTURE DESIGN : MATERIAL PROPERTIES"},{"$f":"IF('Matl Properties'!$B$46=\"\",\"\",'Matl Properties'!$B$46)","v":"Recycled Materials"},{"$f":"IF('Matl Properties'!$B$50=\"\",\"\",'Matl Properties'!$B$50)","v":"User Defined Testing"},{"$f":"IF('Matl Properties'!$L$46=\"\",\"\",'Matl Properties'!$L$46)","v":"Bin No.9"},{"$f":"IF('Matl Properties'!$J$25=\"\",\"\",'Matl Properties'!$J$25)","v":"Sample ID"}]
[1722,{"$f":"IF('Matl Properties'!$O$50=\"\",\"\",'Matl Properties'!$O$50)","v":""},{"$f":"IF('Matl Properties'!$B$4=\"\",\"\",'Matl Properties'!$B$4)","v":"HMACP MIXTURE DESIGN : MATERIAL PROPERTIES"},{"$f":"IF('Matl Properties'!$B$46=\"\",\"\",'Matl Properties'!$B$46)","v":"Recycled Materials"},{"$f":"IF('Matl Properties'!$B$50=\"\",\"\",'Matl Properties'!$B$50)","v":"User Defined Testing"},{"$f":"IF('Matl Properties'!$O$46=\"\",\"\",'Matl Properties'!$O$46)","v":"Bin No.10"},{"$f":"IF('Matl Properties'!$I$25=\"\",\"\",'Matl Properties'!$I$25)","v":"Result"}]
[1723,{"$f":"IF('Matl Properties'!$P$50=\"\",\"\",'Matl Properties'!$P$50)","v":""},{"$f":"IF('Matl Properties'!$B$4=\"\",\"\",'Matl Properties'!$B$4)","v":"HMACP MIXTURE DESIGN : MATERIAL PROPERTIES"},{"$f":"IF('Matl Properties'!$B$46=\"\",\"\",'Matl Properties'!$B$46)","v":"Recycled Materials"},{"$f":"IF('Matl Properties'!$B$50=\"\",\"\",'Matl Properties'!$B$50)","v":"User Defined Testing"},{"$f":"IF('Matl Properties'!$O$46=\"\",\"\",'Matl Properties'!$O$46)","v":"Bin No.10"},{"$f":"IF('Matl Properties'!$J$25=\"\",\"\",'Matl Properties'!$J$25)","v":"Sample ID"}]
[1724,{"$f":"IF('Matl Properties'!$I$34=\"\",\"\",'Matl Properties'!$I$34)","v":""},{"$f":"IF('Matl Properties'!$B$4=\"\",\"\",'Matl Properties'!$B$4)","v":"HMACP MIXTURE DESIGN : MATERIAL PROPERTIES"},{"$f":"IF('Matl Properties'!$B$26=\"\",\"\",'Matl Properties'!$B$26)","v":"Stockpile"},{"$f":"IF('Matl Properties'!$E$34=\"\",\"\",'Matl Properties'!$E$34)","v":"Tex-461-A"},{"$f":"IF('Matl Properties'!$I$19=\"\",\"\",'Matl Properties'!$I$19)","v":"Bin No.1"},{"$f":"IF('Matl Properties'!$I$25=\"\",\"\",'Matl Properties'!$I$25)","v":"Result"}]
[1725,{"$f":"IF('Matl Properties'!$J$34=\"\",\"\",'Matl Properties'!$J$34)","v":""},{"$f":"IF('Matl Properties'!$B$4=\"\",\"\",'Matl Properties'!$B$4)","v":"HMACP MIXTURE DESIGN : MATERIAL PROPERTIES"},{"$f":"IF('Matl Properties'!$B$26=\"\",\"\",'Matl Properties'!$B$26)","v":"Stockpile"},{"$f":"IF('Matl Properties'!$E$34=\"\",\"\",'Matl Properties'!$E$34)","v":"Tex-461-A"},{"$f":"IF('Matl Properties'!$I$19=\"\",\"\",'Matl Properties'!$I$19)","v":"Bin No.1"},{"$f":"IF('Matl Properties'!$J$25=\"\",\"\",'Matl Properties'!$J$25)","v":"Sample ID"}]
[1726,{"$f":"IF('Matl Properties'!$L$34=\"\",\"\",'Matl Properties'!$L$34)","v":""},{"$f":"IF('Matl Properties'!$B$4=\"\",\"\",'Matl Properties'!$B$4)","v":"HMACP MIXTURE DESIGN : MATERIAL PROPERTIES"},{"$f":"IF('Matl Properties'!$B$26=\"\",\"\",'Matl Properties'!$B$26)","v":"Stockpile"},{"$f":"IF('Matl Properties'!$E$34=\"\",\"\",'Matl Properties'!$E$34)","v":"Tex-461-A"},{"$f":"IF('Matl Properties'!$L$19=\"\",\"\",'Matl Properties'!$L$19)","v":"Bin No.2"},{"$f":"IF('Matl Properties'!$L$25=\"\",\"\",'Matl Properties'!$L$25)","v":"Result"}]
[1727,{"$f":"IF('Matl Properties'!$M$34=\"\",\"\",'Matl Properties'!$M$34)","v":""},{"$f":"IF('Matl Properties'!$B$4=\"\",\"\",'Matl Properties'!$B$4)","v":"HMACP MIXTURE DESIGN : MATERIAL PROPERTIES"},{"$f":"IF('Matl Properties'!$B$26=\"\",\"\",'Matl Properties'!$B$26)","v":"Stockpile"},{"$f":"IF('Matl Properties'!$E$34=\"\",\"\",'Matl Properties'!$E$34)","v":"Tex-461-A"},{"$f":"IF('Matl Properties'!$L$19=\"\",\"\",'Matl Properties'!$L$19)","v":"Bin No.2"},{"$f":"IF('Matl Properties'!$M$25=\"\",\"\",'Matl Properties'!$M$25)","v":"Sample ID"}]
[1728,{"$f":"IF('Matl Properties'!$O$34=\"\",\"\",'Matl Properties'!$O$34)","v":""},{"$f":"IF('Matl Properties'!$B$4=\"\",\"\",'Matl Properties'!$B$4)","v":"HMACP MIXTURE DESIGN : MATERIAL PROPERTIES"},{"$f":"IF('Matl Properties'!$B$26=\"\",\"\",'Matl Properties'!$B$26)","v":"Stockpile"},{"$f":"IF('Matl Properties'!$E$34=\"\",\"\",'Matl Properties'!$E$34)","v":"Tex-461-A"},{"$f":"IF('Matl Properties'!$O$19=\"\",\"\",'Matl Properties'!$O$19)","v":"Bin No.3"},{"$f":"IF('Matl Properties'!$O$25=\"\",\"\",'Matl Properties'!$O$25)","v":"Result"}]
[1729,{"$f":"IF('Matl Properties'!$P$34=\"\",\"\",'Matl Properties'!$P$34)","v":""},{"$f":"IF('Matl Properties'!$B$4=\"\",\"\",'Matl Properties'!$B$4)","v":"HMACP MIXTURE DESIGN : MATERIAL PROPERTIES"},{"$f":"IF('Matl Properties'!$B$26=\"\",\"\",'Matl Properties'!$B$26)","v":"Stockpile"},{"$f":"IF('Matl Properties'!$E$34=\"\",\"\",'Matl Properties'!$E$34)","v":"Tex-461-A"},{"$f":"IF('Matl Properties'!$O$19=\"\",\"\",'Matl Properties'!$O$19)","v":"Bin No.3"},{"$f":"IF('Matl Properties'!$P$25=\"\",\"\",'Matl Properties'!$P$25)","v":"Sample ID"}]
[1730,{"$f":"IF('Matl Properties'!$R$34=\"\",\"\",'Matl Properties'!$R$34)","v":""},{"$f":"IF('Matl Properties'!$B$4=\"\",\"\",'Matl Properties'!$B$4)","v":"HMACP MIXTURE DESIGN : MATERIAL PROPERTIES"},{"$f":"IF('Matl Properties'!$B$26=\"\",\"\",'Matl Properties'!$B$26)","v":"Stockpile"},{"$f":"IF('Matl Properties'!$E$34=\"\",\"\",'Matl Properties'!$E$34)","v":"Tex-461-A"},{"$f":"IF('Matl Properties'!$R$19=\"\",\"\",'Matl Properties'!$R$19)","v":"Bin No.4"},{"$f":"IF('Matl Properties'!$R$25=\"\",\"\",'Matl Properties'!$R$25)","v":"Result"}]
[1731,{"$f":"IF('Matl Properties'!$S$34=\"\",\"\",'Matl Properties'!$S$34)","v":""},{"$f":"IF('Matl Properties'!$B$4=\"\",\"\",'Matl Properties'!$B$4)","v":"HMACP MIXTURE DESIGN : MATERIAL PROPERTIES"},{"$f":"IF('Matl Properties'!$B$26=\"\",\"\",'Matl Properties'!$B$26)","v":"Stockpile"},{"$f":"IF('Matl Properties'!$E$34=\"\",\"\",'Matl Properties'!$E$34)","v":"Tex-461-A"},{"$f":"IF('Matl Properties'!$R$19=\"\",\"\",'Matl Properties'!$R$19)","v":"Bin No.4"},{"$f":"IF('Matl Properties'!$S$25=\"\",\"\",'Matl Properties'!$S$25)","v":"Sample ID"}]
[1732,{"$f":"IF('Matl Properties'!$U$34=\"\",\"\",'Matl Properties'!$U$34)","v":""},{"$f":"IF('Matl Properties'!$B$4=\"\",\"\",'Matl Properties'!$B$4)","v":"HMACP MIXTURE DESIGN : MATERIAL PROPERTIES"},{"$f":"IF('Matl Properties'!$B$26=\"\",\"\",'Matl Properties'!$B$26)","v":"Stockpile"},{"$f":"IF('Matl Properties'!$E$34=\"\",\"\",'Matl Properties'!$E$34)","v":"Tex-461-A"},{"$f":"IF('Matl Properties'!$U$19=\"\",\"\",'Matl Properties'!$U$19)","v":"Bin No.5"},{"$f":"IF('Matl Properties'!$U$25=\"\",\"\",'Matl Properties'!$U$25)","v":"Result"}]
[1733,{"$f":"IF('Matl Properties'!$V$34=\"\",\"\",'Matl Properties'!$V$34)","v":""},{"$f":"IF('Matl Properties'!$B$4=\"\",\"\",'Matl Properties'!$B$4)","v":"HMACP MIXTURE DESIGN : MATERIAL PROPERTIES"},{"$f":"IF('Matl Properties'!$B$26=\"\",\"\",'Matl Properties'!$B$26)","v":"Stockpile"},{"$f":"IF('Matl Properties'!$E$34=\"\",\"\",'Matl Properties'!$E$34)","v":"Tex-461-A"},{"$f":"IF('Matl Properties'!$U$19=\"\",\"\",'Matl Properties'!$U$19)","v":"Bin No.5"},{"$f":"IF('Matl Properties'!$V$25=\"\",\"\",'Matl Properties'!$V$25)","v":"Sample ID"}]
[1734,{"$f":"IF('Matl Properties'!$X$34=\"\",\"\",'Matl Properties'!$X$34)","v":""},{"$f":"IF('Matl Properties'!$B$4=\"\",\"\",'Matl Properties'!$B$4)","v":"HMACP MIXTURE DESIGN : MATERIAL PROPERTIES"},{"$f":"IF('Matl Properties'!$B$26=\"\",\"\",'Matl Properties'!$B$26)","v":"Stockpile"},{"$f":"IF('Matl Properties'!$E$34=\"\",\"\",'Matl Properties'!$E$34)","v":"Tex-461-A"},{"$f":"IF('Matl Properties'!$X$19=\"\",\"\",'Matl Properties'!$X$19)","v":"Bin No.6 "},{"$f":"IF('Matl Properties'!$X$25=\"\",\"\",'Matl Properties'!$X$25)","v":"Result"}]
[1735,{"$f":"IF('Matl Properties'!$Y$34=\"\",\"\",'Matl Properties'!$Y$34)","v":""},{"$f":"IF('Matl Properties'!$B$4=\"\",\"\",'Matl Properties'!$B$4)","v":"HMACP MIXTURE DESIGN : MATERIAL PROPERTIES"},{"$f":"IF('Matl Properties'!$B$26=\"\",\"\",'Matl Properties'!$B$26)","v":"Stockpile"},{"$f":"IF('Matl Properties'!$E$34=\"\",\"\",'Matl Properties'!$E$34)","v":"Tex-461-A"},{"$f":"IF('Matl Properties'!$X$19=\"\",\"\",'Matl Properties'!$X$19)","v":"Bin No.6 "},{"$f":"IF('Matl Properties'!$Y$25=\"\",\"\",'Matl Properties'!$Y$25)","v":"Sample ID"}]
[1736,{"$f":"IF('Matl Properties'!$AA$34=\"\",\"\",'Matl Properties'!$AA$34)","v":""},{"$f":"IF('Matl Properties'!$B$4=\"\",\"\",'Matl Properties'!$B$4)","v":"HMACP MIXTURE DESIGN : MATERIAL PROPERTIES"},{"$f":"IF('Matl Properties'!$B$26=\"\",\"\",'Matl Properties'!$B$26)","v":"Stockpile"},{"$f":"IF('Matl Properties'!$E$34=\"\",\"\",'Matl Properties'!$E$34)","v":"Tex-461-A"},{"$f":"IF('Matl Properties'!$AA$19=\"\",\"\",'Matl Properties'!$AA$19)","v":"Bin No.7 "},{"$f":"IF('Matl Properties'!$AA$25=\"\",\"\",'Matl Properties'!$AA$25)","v":"Result"}]
[1737,{"$f":"IF('Matl Properties'!$AB$34=\"\",\"\",'Matl Properties'!$AB$34)","v":""},{"$f":"IF('Matl Properties'!$B$4=\"\",\"\",'Matl Properties'!$B$4)","v":"HMACP MIXTURE DESIGN : MATERIAL PROPERTIES"},{"$f":"IF('Matl Properties'!$B$26=\"\",\"\",'Matl Properties'!$B$26)","v":"Stockpile"},{"$f":"IF('Matl Properties'!$E$34=\"\",\"\",'Matl Properties'!$E$34)","v":"Tex-461-A"},{"$f":"IF('Matl Properties'!$AA$19=\"\",\"\",'Matl Properties'!$AA$19)","v":"Bin No.7 "},{"$f":"IF('Matl Properties'!$AB$25=\"\",\"\",'Matl Properties'!$AB$25)","v":"Sample ID"}]
[1738,{"$f":"IF('Combined Gradation'!$T$16=\"\",\"\",'Combined Gradation'!$T$16)","v":""},{"$f":"IF('Combined Gradation'!$B$5=\"\",\"\",'Combined Gradation'!$B$5)","v":"2014 HMACP MIXTURE DESIGN : COMBINED GRADATION"},{"$f":"IF('Combined Gradation'!$R$16=\"\",\"\",'Combined Gradation'!$R$16)","v":"WMA"},{"$f":"IF('Combined Gradation'!$S$16=\"\",\"\",'Combined Gradation'!$S$16)","v":"RATE:"}]
[1739,{"$f":"IF('Combined Gradation'!$V$16=\"\",\"\",'Combined Gradation'!$V$16)","v":""},{"$f":"IF('Combined Gradation'!$B$5=\"\",\"\",'Combined Gradation'!$B$5)","v":"2014 HMACP MIXTURE DESIGN : COMBINED GRADATION"},{"$f":"IF('Combined Gradation'!$R$16=\"\",\"\",'Combined Gradation'!$R$16)","v":"WMA"},{"$f":"IF('Combined Gradation'!$U$16=\"\",\"\",'Combined Gradation'!$U$16)","v":"UNITS:"}]
[1740,{"$f":"IF(Summary!$Y$78=\"\",\"\",Summary!$Y$78)","v":""},{"$f":"IF(Summary!$B$4=\"\",\"\",Summary!$B$4)","v":"HMACP MIXTURE DESIGN : SUMMARY SHEET"},{"$f":"IF(Summary!$V$78=\"\",\"\",Summary!$V$78)","v":"Mixing Temp,ºF:"}]
[1741,{"$f":"IF(Summary!$Y$79=\"\",\"\",Summary!$Y$79)","v":""},{"$f":"IF(Summary!$B$4=\"\",\"\",Summary!$B$4)","v":"HMACP MIXTURE DESIGN : SUMMARY SHEET"},{"$f":"IF(Summary!$V$79=\"\",\"\",Summary!$V$79)","v":"Molding Temp,ºF:"}]
[1742,{"$f":"IF(Summary!$E$53=\"\",\"\",Summary!$E$53)","v":""},{"$f":"IF(Summary!$B$4=\"\",\"\",Summary!$B$4)","v":"HMACP MIXTURE DESIGN : SUMMARY SHEET"},{"$f":"IF(Summary!$A$53=\"\",\"\",Summary!$A$53)","v":1},{"$f":"IF(Summary!$D$52=\"\",\"\",Summary!$D$52)","v":"Height (mm)"}]
[1743,{"$f":"IF(Summary!$E$54=\"\",\"\",Summary!$E$54)","v":""},{"$f":"IF(Summary!$B$4=\"\",\"\",Summary!$B$4)","v":"HMACP MIXTURE DESIGN : SUMMARY SHEET"},{"$f":"IF(Summary!$A$54=\"\",\"\",Summary!$A$54)","v":2},{"$f":"IF(Summary!$D$52=\"\",\"\",Summary!$D$52)","v":"Height (mm)"}]
[1744,{"$f":"IF(Summary!$E$55=\"\",\"\",Summary!$E$55)","v":""},{"$f":"IF(Summary!$B$4=\"\",\"\",Summary!$B$4)","v":"HMACP MIXTURE DESIGN : SUMMARY SHEET"},{"$f":"IF(Summary!$A$55=\"\",\"\",Summary!$A$55)","v":3},{"$f":"IF(Summary!$D$52=\"\",\"\",Summary!$D$52)","v":"Height (mm)"}]
[1745,{"$f":"IF(Summary!$E$56=\"\",\"\",Summary!$E$56)","v":""},{"$f":"IF(Summary!$B$4=\"\",\"\",Summary!$B$4)","v":"HMACP MIXTURE DESIGN : SUMMARY SHEET"},{"$f":"IF(Summary!$A$56=\"\",\"\",Summary!$A$56)","v":4},{"$f":"IF(Summary!$D$52=\"\",\"\",Summary!$D$52)","v":"Height (mm)"}]
[1746,{"$f":"IF(Summary!$E$57=\"\",\"\",Summary!$E$57)","v":""},{"$f":"IF(Summary!$B$4=\"\",\"\",Summary!$B$4)","v":"HMACP MIXTURE DESIGN : SUMMARY SHEET"},{"$f":"IF(Summary!$A$57=\"\",\"\",Summary!$A$57)","v":5},{"$f":"IF(Summary!$D$52=\"\",\"\",Summary!$D$52)","v":"Height (mm)"}]
[1747,{"$f":"IF(Summary!$E$58=\"\",\"\",Summary!$E$58)","v":""},{"$f":"IF(Summary!$B$4=\"\",\"\",Summary!$B$4)","v":"HMACP MIXTURE DESIGN : SUMMARY SHEET"},{"$f":"IF(Summary!$A$58=\"\",\"\",Summary!$A$58)","v":6},{"$f":"IF(Summary!$D$52=\"\",\"\",Summary!$D$52)","v":"Height (mm)"}]
[1748,{"$f":"IF(Summary!$E$59=\"\",\"\",Summary!$E$59)","v":""},{"$f":"IF(Summary!$B$4=\"\",\"\",Summary!$B$4)","v":"HMACP MIXTURE DESIGN : SUMMARY SHEET"},{"$f":"IF(Summary!$A$59=\"\",\"\",Summary!$A$59)","v":7},{"$f":"IF(Summary!$D$52=\"\",\"\",Summary!$D$52)","v":"Height (mm)"}]
[1749,{"$f":"IF(Summary!$E$60=\"\",\"\",Summary!$E$60)","v":""},{"$f":"IF(Summary!$B$4=\"\",\"\",Summary!$B$4)","v":"HMACP MIXTURE DESIGN : SUMMARY SHEET"},{"$f":"IF(Summary!$A$60=\"\",\"\",Summary!$A$60)","v":8},{"$f":"IF(Summary!$D$52=\"\",\"\",Summary!$D$52)","v":"Height (mm)"}]
[1750,{"$f":"IF(Summary!$E$61=\"\",\"\",Summary!$E$61)","v":""},{"$f":"IF(Summary!$B$4=\"\",\"\",Summary!$B$4)","v":"HMACP MIXTURE DESIGN : SUMMARY SHEET"},{"$f":"IF(Summary!$A$61=\"\",\"\",Summary!$A$61)","v":9},{"$f":"IF(Summary!$D$52=\"\",\"\",Summary!$D$52)","v":"Height (mm)"}]
[1751,{"$f":"IF(Summary!$E$62=\"\",\"\",Summary!$E$62)","v":""},{"$f":"IF(Summary!$B$4=\"\",\"\",Summary!$B$4)","v":"HMACP MIXTURE DESIGN : SUMMARY SHEET"},{"$f":"IF(Summary!$A$62=\"\",\"\",Summary!$A$62)","v":10},{"$f":"IF(Summary!$D$52=\"\",\"\",Summary!$D$52)","v":"Height (mm)"}]
[1752,{"$f":"IF('Aggregate Classification'!$D$41=\"\",\"\",'Aggregate Classification'!$D$41)","v":""},{"$f":"IF('Aggregate Classification'!$B$4=\"\",\"\",'Aggregate Classification'!$B$4)","v":"HMACP MIXTURE DESIGN : Aggregate Classification"},{"$f":"IF('Aggregate Classification'!$D$19=\"\",\"\",'Aggregate Classification'!$D$19)","v":"Bin No.1"},{"$f":"IF('Aggregate Classification'!$D$25=\"\",\"\",'Aggregate Classification'!$D$25)","v":"Individual Ret., %"},{"$f":"IF('Aggregate Classification'!$B$41=\"\",\"\",'Aggregate Classification'!$B$41)","v":"Percent of plus No. 8"}]
[1753,{"$f":"IF('Aggregate Classification'!$H$41=\"\",\"\",'Aggregate Classification'!$H$41)","v":""},{"$f":"IF('Aggregate Classification'!$B$4=\"\",\"\",'Aggregate Classification'!$B$4)","v":"HMACP MIXTURE DESIGN : Aggregate Classification"},{"$f":"IF('Aggregate Classification'!$H$19=\"\",\"\",'Aggregate Classification'!$H$19)","v":"Bin No.2"},{"$f":"IF('Aggregate Classification'!$D$25=\"\",\"\",'Aggregate Classification'!$D$25)","v":"Individual Ret., %"},{"$f":"IF('Aggregate Classification'!$B$41=\"\",\"\",'Aggregate Classification'!$B$41)","v":"Percent of plus No. 8"}]
[1754,{"$f":"IF('Aggregate Classification'!$L$41=\"\",\"\",'Aggregate Classification'!$L$41)","v":""},{"$f":"IF('Aggregate Classification'!$B$4=\"\",\"\",'Aggregate Classification'!$B$4)","v":"HMACP MIXTURE DESIGN : Aggregate Classification"},{"$f":"IF('Aggregate Classification'!$L$19=\"\",\"\",'Aggregate Classification'!$L$19)","v":"Bin No.3"},{"$f":"IF('Aggregate Classification'!$D$25=\"\",\"\",'Aggregate Classification'!$D$25)","v":"Individual Ret., %"},{"$f":"IF('Aggregate Classification'!$B$41=\"\",\"\",'Aggregate Classification'!$B$41)","v":"Percent of plus No. 8"}]
[1755,{"$f":"IF('Aggregate Classification'!$P$41=\"\",\"\",'Aggregate Classification'!$P$41)","v":""},{"$f":"IF('Aggregate Classification'!$B$4=\"\",\"\",'Aggregate Classification'!$B$4)","v":"HMACP MIXTURE DESIGN : Aggregate Classification"},{"$f":"IF('Aggregate Classification'!$P$19=\"\",\"\",'Aggregate Classification'!$P$19)","v":"Bin No.4"},{"$f":"IF('Aggregate Classification'!$D$25=\"\",\"\",'Aggregate Classification'!$D$25)","v":"Individual Ret., %"},{"$f":"IF('Aggregate Classification'!$B$41=\"\",\"\",'Aggregate Classification'!$B$41)","v":"Percent of plus No. 8"}]
[1756,{"$f":"IF('Aggregate Classification'!$T$41=\"\",\"\",'Aggregate Classification'!$T$41)","v":""},{"$f":"IF('Aggregate Classification'!$B$4=\"\",\"\",'Aggregate Classification'!$B$4)","v":"HMACP MIXTURE DESIGN : Aggregate Classification"},{"$f":"IF('Aggregate Classification'!$T$19=\"\",\"\",'Aggregate Classification'!$T$19)","v":"Bin No.5"},{"$f":"IF('Aggregate Classification'!$D$25=\"\",\"\",'Aggregate Classification'!$D$25)","v":"Individual Ret., %"},{"$f":"IF('Aggregate Classification'!$B$41=\"\",\"\",'Aggregate Classification'!$B$41)","v":"Percent of plus No. 8"}]
[1757,{"$f":"IF('Aggregate Classification'!$X$41=\"\",\"\",'Aggregate Classification'!$X$41)","v":""},{"$f":"IF('Aggregate Classification'!$B$4=\"\",\"\",'Aggregate Classification'!$B$4)","v":"HMACP MIXTURE DESIGN : Aggregate Classification"},{"$f":"IF('Aggregate Classification'!$X$19=\"\",\"\",'Aggregate Classification'!$X$19)","v":"Bin No.6 "},{"$f":"IF('Aggregate Classification'!$D$25=\"\",\"\",'Aggregate Classification'!$D$25)","v":"Individual Ret., %"},{"$f":"IF('Aggregate Classification'!$B$41=\"\",\"\",'Aggregate Classification'!$B$41)","v":"Percent of plus No. 8"}]
[1758,{"$f":"IF('Aggregate Classification'!$AB$41=\"\",\"\",'Aggregate Classification'!$AB$41)","v":""},{"$f":"IF('Aggregate Classification'!$B$4=\"\",\"\",'Aggregate Classification'!$B$4)","v":"HMACP MIXTURE DESIGN : Aggregate Classification"},{"$f":"IF('Aggregate Classification'!$AB$19=\"\",\"\",'Aggregate Classification'!$AB$19)","v":"Bin No.7 "},{"$f":"IF('Aggregate Classification'!$D$25=\"\",\"\",'Aggregate Classification'!$D$25)","v":"Individual Ret., %"},{"$f":"IF('Aggregate Classification'!$B$41=\"\",\"\",'Aggregate Classification'!$B$41)","v":"Percent of plus No. 8"}]
[1759,{"$f":"IF('Aggregate Classification'!$AF$41=\"\",\"\",'Aggregate Classification'!$AF$41)","v":15.5},{"$f":"IF('Aggregate Classification'!$B$4=\"\",\"\",'Aggregate Classification'!$B$4)","v":"HMACP MIXTURE DESIGN : Aggregate Classification"},{"$f":"IF('Aggregate Classification'!$AF$19=\"\",\"\",'Aggregate Classification'!$AF$19)","v":"Bin No.8 "},{"$f":"IF('Aggregate Classification'!$D$25=\"\",\"\",'Aggregate Classification'!$D$25)","v":"Individual Ret., %"},{"$f":"IF('Aggregate Classification'!$B$41=\"\",\"\",'Aggregate Classification'!$B$41)","v":"Percent of plus No. 8"}]
[1760,{"$f":"IF('Aggregate Classification'!$AJ$41=\"\",\"\",'Aggregate Classification'!$AJ$41)","v":5.2},{"$f":"IF('Aggregate Classification'!$B$4=\"\",\"\",'Aggregate Classification'!$B$4)","v":"HMACP MIXTURE DESIGN : Aggregate Classification"},{"$f":"IF('Aggregate Classification'!$AJ$19=\"\",\"\",'Aggregate Classification'!$AJ$19)","v":"Bin No.9 "},{"$f":"IF('Aggregate Classification'!$D$25=\"\",\"\",'Aggregate Classification'!$D$25)","v":"Individual Ret., %"},{"$f":"IF('Aggregate Classification'!$B$41=\"\",\"\",'Aggregate Classification'!$B$41)","v":"Percent of plus No. 8"}]
[1761,{"$f":"IF('Aggregate Classification'!$AN$41=\"\",\"\",'Aggregate Classification'!$AN$41)","v":4.5},{"$f":"IF('Aggregate Classification'!$B$4=\"\",\"\",'Aggregate Classification'!$B$4)","v":"HMACP MIXTURE DESIGN : Aggregate Classification"},{"$f":"IF('Aggregate Classification'!$AN$19=\"\",\"\",'Aggregate Classification'!$AN$19)","v":"Bin No.10 "},{"$f":"IF('Aggregate Classification'!$D$25=\"\",\"\",'Aggregate Classification'!$D$25)","v":"Individual Ret., %"},{"$f":"IF('Aggregate Classification'!$B$41=\"\",\"\",'Aggregate Classification'!$B$41)","v":"Percent of plus No. 8"}]
[1762,{"$f":"IF(Summary!$X$84=\"\",\"\",Summary!$X$84)","v":""},{"$f":"IF(Summary!$B$4=\"\",\"\",Summary!$B$4)","v":"HMACP MIXTURE DESIGN : SUMMARY SHEET"},{"$f":"IF(Summary!$V$81=\"\",\"\",Summary!$V$81)","v":"Additional Mixture Evaluation"},{"$f":"IF(Summary!$V$84=\"\",\"\",Summary!$V$84)","v":"Hamburg Wheel"},{"$f":"IF(Summary!$X$82=\"\",\"\",Summary!$X$82)","v":"AC%"}]
[1763,{"$f":"IF(Summary!$Y$84=\"\",\"\",Summary!$Y$84)","v":""},{"$f":"IF(Summary!$B$4=\"\",\"\",Summary!$B$4)","v":"HMACP MIXTURE DESIGN : SUMMARY SHEET"},{"$f":"IF(Summary!$V$81=\"\",\"\",Summary!$V$81)","v":"Additional Mixture Evaluation"},{"$f":"IF(Summary!$V$84=\"\",\"\",Summary!$V$84)","v":"Hamburg Wheel"},{"$f":"IF(Summary!$Y$82=\"\",\"\",Summary!$Y$82)","v":"Number of passes"}]
[1764,{"$f":"IF(Summary!$AA$84=\"\",\"\",Summary!$AA$84)","v":""},{"$f":"IF(Summary!$B$4=\"\",\"\",Summary!$B$4)","v":"HMACP MIXTURE DESIGN : SUMMARY SHEET"},{"$f":"IF(Summary!$V$81=\"\",\"\",Summary!$V$81)","v":"Additional Mixture Evaluation"},{"$f":"IF(Summary!$V$84=\"\",\"\",Summary!$V$84)","v":"Hamburg Wheel"},{"$f":"IF(Summary!$AA$82=\"\",\"\",Summary!$AA$82)","v":"Rut depth (mm)"}]
[1765,{"$f":"IF(Summary!$X$85=\"\",\"\",Summary!$X$85)","v":""},{"$f":"IF(Summary!$B$4=\"\",\"\",Summary!$B$4)","v":"HMACP MIXTURE DESIGN : SUMMARY SHEET"},{"$f":"IF(Summary!$V$81=\"\",\"\",Summary!$V$81)","v":"Additional Mixture Evaluation"},{"$f":"IF(Summary!$V$85=\"\",\"\",Summary!$V$85)","v":"Overlay Test"},{"$f":"IF(Summary!$X$82=\"\",\"\",Summary!$X$82)","v":"AC%"}]
[1766,{"$f":"IF(Summary!$Y$85=\"\",\"\",Summary!$Y$85)","v":""},{"$f":"IF(Summary!$B$4=\"\",\"\",Summary!$B$4)","v":"HMACP MIXTURE DESIGN : SUMMARY SHEET"},{"$f":"IF(Summary!$V$81=\"\",\"\",Summary!$V$81)","v":"Additional Mixture Evaluation"},{"$f":"IF(Summary!$V$85=\"\",\"\",Summary!$V$85)","v":"Overlay Test"},{"$f":"IF(Summary!$Y$82=\"\",\"\",Summary!$Y$82)","v":"Number of passes"}]
[1767,{"$f":"IF('Combined Gradation'!$V$14=\"\",\"\",'Combined Gradation'!$V$14)","v":""},{"$f":"IF('Combined Gradation'!$B$5=\"\",\"\",'Combined Gradation'!$B$5)","v":"2014 HMACP MIXTURE DESIGN : COMBINED GRADATION"},{"$f":"IF('Combined Gradation'!$R$14=\"\",\"\",'Combined Gradation'!$R$14)","v":"Target Discharge Temp., ºF:"}]
[1768,{"$f":"IF('Combined Gradation'!$S$31=\"\",\"\",'Combined Gradation'!$S$31)","v":15},{"$f":"IF('Combined Gradation'!$B$5=\"\",\"\",'Combined Gradation'!$B$5)","v":"2014 HMACP MIXTURE DESIGN : COMBINED GRADATION"},{"$f":"IF('Combined Gradation'!$S$27=\"\",\"\",'Combined Gradation'!$S$27)","v":"Recycled Asphalt Binder (%)"},{"$f":"IF('Combined Gradation'!$S$21=\"\",\"\",'Combined Gradation'!$S$21)","v":"Bin No.8 "},{"$f":"IF('Combined Gradation'!$T$31=\"\",\"\",'Combined Gradation'!$T$31)","v":"% of Tot. Mix"}]
[1769,{"$f":"IF('Combined Gradation'!$U$31=\"\",\"\",'Combined Gradation'!$U$31)","v":5},{"$f":"IF('Combined Gradation'!$B$5=\"\",\"\",'Combined Gradation'!$B$5)","v":"2014 HMACP MIXTURE DESIGN : COMBINED GRADATION"},{"$f":"IF('Combined Gradation'!$S$27=\"\",\"\",'Combined Gradation'!$S$27)","v":"Recycled Asphalt Binder (%)"},{"$f":"IF('Combined Gradation'!$U$21=\"\",\"\",'Combined Gradation'!$U$21)","v":"Bin No.9 "},{"$f":"IF('Combined Gradation'!$T$31=\"\",\"\",'Combined Gradation'!$T$31)","v":"% of Tot. Mix"}]
[1770,{"$f":"IF('Combined Gradation'!$W$31=\"\",\"\",'Combined Gradation'!$W$31)","v":5},{"$f":"IF('Combined Gradation'!$B$5=\"\",\"\",'Combined Gradation'!$B$5)","v":"2014 HMACP MIXTURE DESIGN : COMBINED GRADATION"},{"$f":"IF('Combined Gradation'!$S$27=\"\",\"\",'Combined Gradation'!$S$27)","v":"Recycled Asphalt Binder (%)"},{"$f":"IF('Combined Gradation'!$W$21=\"\",\"\",'Combined Gradation'!$W$21)","v":"Bin No.10 "},{"$f":"IF('Combined Gradation'!$T$31=\"\",\"\",'Combined Gradation'!$T$31)","v":"% of Tot. Mix"}]
[1771,{"$f":"IF(Summary!$W$46=\"\",\"\",Summary!$W$46)","v":""},{"$f":"IF(Summary!$B$4=\"\",\"\",Summary!$B$4)","v":"HMACP MIXTURE DESIGN : SUMMARY SHEET"},{"$f":"IF(Summary!$W$42=\"\",\"\",Summary!$W$42)","v":"Mixture Evaluation @ Optimum Asphalt Content"},{"$f":"IF(Summary!$W$43=\"\",\"\",Summary!$W$43)","v":"Indirect Tensile Strength (psi)"}]
[1772,{"$f":"IF(Summary!$Y$46=\"\",\"\",Summary!$Y$46)","v":""},{"$f":"IF(Summary!$B$4=\"\",\"\",Summary!$B$4)","v":"HMACP MIXTURE DESIGN : SUMMARY SHEET"},{"$f":"IF(Summary!$W$42=\"\",\"\",Summary!$W$42)","v":"Mixture Evaluation @ Optimum Asphalt Content"},{"$f":"IF(Summary!$Y$43=\"\",\"\",Summary!$Y$43)","v":"Hamburg Wheel Tracking Test"},{"$f":"IF(Summary!$Y$44=\"\",\"\",Summary!$Y$44)","v":"Number of cycles"}]
[1773,{"$f":"IF(Summary!$AA$46=\"\",\"\",Summary!$AA$46)","v":""},{"$f":"IF(Summary!$B$4=\"\",\"\",Summary!$B$4)","v":"HMACP MIXTURE DESIGN : SUMMARY SHEET"},{"$f":"IF(Summary!$W$42=\"\",\"\",Summary!$W$42)","v":"Mixture Evaluation @ Optimum Asphalt Content"},{"$f":"IF(Summary!$Y$43=\"\",\"\",Summary!$Y$43)","v":"Hamburg Wheel Tracking Test"},{"$f":"IF(Summary!$AA$44=\"\",\"\",Summary!$AA$44)","v":"Rut depth (mm)"}]
[1774,{"$f":"IF(Summary!$AC$46=\"\",\"\",Summary!$AC$46)","v":""},{"$f":"IF(Summary!$B$4=\"\",\"\",Summary!$B$4)","v":"HMACP MIXTURE DESIGN : SUMMARY SHEET"},{"$f":"IF(Summary!$W$42=\"\",\"\",Summary!$W$42)","v":"Mixture Evaluation @ Optimum Asphalt Content"},{"$f":"IF(Summary!$AC$43=\"\",\"\",Summary!$AC$43)","v":"Overlay Test"},{"$f":"IF(Summary!$AC$44=\"\",\"\",Summary!$AC$44)","v":"Min. Number of Cycles"}]
[1775,{"$f":"IF('Combined Gradation'!$D$77=\"\",\"\",'Combined Gradation'!$D$77)","v":""},"Tested By ",{"$f":"IF('Combined Gradation'!$B$77=\"\",\"\",'Combined Gradation'!$B$77)","v":"TX207PI"}]
[1776,{"$f":"IF('Combined Gradation'!$J$77=\"\",\"\",'Combined Gradation'!$J$77)","v":""},"Tested Date ",{"$f":"IF('Combined Gradation'!$B$77=\"\",\"\",'Combined Gradation'!$B$77)","v":"TX207PI"}]
[1777,{"$f":"IF('Combined Gradation'!$D$79=\"\",\"\",'Combined Gradation'!$D$79)","v":""},"Tested By ",{"$f":"IF('Combined Gradation'!$B$79=\"\",\"\",'Combined Gradation'!$B$79)","v":"TX207PVI"}]
[1778,{"$f":"IF('Combined Gradation'!$J$79=\"\",\"\",'Combined Gradation'!$J$79)","v":""},"Tested Date ",{"$f":"IF('Combined Gradation'!$B$79=\"\",\"\",'Combined Gradation'!$B$79)","v":"TX207PVI"}]
[1779,{"$f":"IF('Combined Gradation'!$D$81=\"\",\"\",'Combined Gradation'!$D$81)","v":""},"Tested By ",{"$f":"IF('Combined Gradation'!$B$81=\"\",\"\",'Combined Gradation'!$B$81)","v":"TX207PVIII"}]
[1780,{"$f":"IF('Combined Gradation'!$J$81=\"\",\"\",'Combined Gradation'!$J$81)","v":""},"Tested Date ",{"$f":"IF('Combined Gradation'!$B$81=\"\",\"\",'Combined Gradation'!$B$81)","v":"TX207PVIII"}]
[1781,{"$f":"IF(Summary!$AH$26=\"\",\"\",Summary!$AH$26)","v":""},{"$f":"IF(Summary!$B$4=\"\",\"\",Summary!$B$4)","v":"HMACP MIXTURE DESIGN : SUMMARY SHEET"},{"$f":"IF(Summary!$W$22=\"\",\"\",Summary!$W$22)","v":"Mixture Evaluation @ Optimum Asphalt Content"},{"$f":"IF(Summary!$AF$23=\"\",\"\",Summary!$AF$23)","v":"Overlay Test"},{"$f":"IF(Summary!$AH$24=\"\",\"\",Summary!$AH$24)","v":"Min. Critical Fracture Energy (in-lb/in2)"}]
[1782,{"$f":"IF(Summary!$AJ$26=\"\",\"\",Summary!$AJ$26)","v":""},{"$f":"IF(Summary!$B$4=\"\",\"\",Summary!$B$4)","v":"HMACP MIXTURE DESIGN : SUMMARY SHEET"},{"$f":"IF(Summary!$W$22=\"\",\"\",Summary!$W$22)","v":"Mixture Evaluation @ Optimum Asphalt Content"},{"$f":"IF(Summary!$AF$23=\"\",\"\",Summary!$AF$23)","v":"Overlay Test"},{"$f":"IF(Summary!$AJ$24=\"\",\"\",Summary!$AJ$24)","v":"Max. Crack Progression Rate"}]
[1783,{"$f":"IF(Summary!$AE$46=\"\",\"\",Summary!$AE$46)","v":""},{"$f":"IF(Summary!$B$4=\"\",\"\",Summary!$B$4)","v":"HMACP MIXTURE DESIGN : SUMMARY SHEET"},{"$f":"IF(Summary!$W$42=\"\",\"\",Summary!$W$42)","v":"Mixture Evaluation @ Optimum Asphalt Content"},{"$f":"IF(Summary!$AC$43=\"\",\"\",Summary!$AC$43)","v":"Overlay Test"},{"$f":"IF(Summary!$AE$44=\"\",\"\",Summary!$AE$44)","v":"Min. Critical Fracture Energy (in-lb/in2)"}]
[1784,{"$f":"IF(Summary!$AG$46=\"\",\"\",Summary!$AG$46)","v":""},{"$f":"IF(Summary!$B$4=\"\",\"\",Summary!$B$4)","v":"HMACP MIXTURE DESIGN : SUMMARY SHEET"},{"$f":"IF(Summary!$W$42=\"\",\"\",Summary!$W$42)","v":"Mixture Evaluation @ Optimum Asphalt Content"},{"$f":"IF(Summary!$AC$43=\"\",\"\",Summary!$AC$43)","v":"Overlay Test"},{"$f":"IF(Summary!$AG$44=\"\",\"\",Summary!$AG$44)","v":"Max. Crack Propagation Rate"}]
[1785,{"$f":"IF(testperson12=\"\",\"\",testperson12)","v":""},"Tested By ","TX227PII"]
[1786,{"$f":"IF(testdate12=\"\",\"\",testdate12)","v":""},"Tested Date ","TX227PII"]

{"sheet":"Summary","index":9,"n_rows":85,"n_cols":49,"rows_kept":85,"cut":false,"hidden":false,"merged":[[63,48,65,48],[25,31,29,32],[78,21,78,23],[67,21,67,22],[67,24,67,25],[77,21,77,23],[75,25,75,26],[72,25,72,26],[69,21,69,22],[73,21,73,22],[73,25,73,26],[74,25,74,26],[74,21,74,22],[75,21,75,22],[71,25,71,26],[69,25,69,26],[71,21,71,22],[25,26,29,27],[42,28,42,33],[45,32,48,33],[21,48,30,48],[41,48,62,48],[28,28,28,30],[25,28,25,30],[54,20,55,21],[45,30,48,31],[41,22,41,33],[43,28,44,29],[43,30,44,31],[43,32,44,33],[23,31,24,32],[23,33,24,34],[52,19,53,19],[29,28,29,30],[27,28,27,30],[54,19,55,19],[50,22,61,24],[22,22,24,23],[50,20,51,21],[52,38,53,38],[54,38,55,38],[56,38,57,38],[58,38,59,38],[60,38,61,38],[22,31,22,36],[25,35,29,36],[56,19,57,19],[23,28,24,30],[25,20,25,21],[28,20,28,21],[39,22,39,25],[58,19,59,19],[60,19,61,19],[52,20,53,21],[43,24,44,25],[43,26,44,27],[45,22,48,23],[60,20,61,21],[56,20,57,21],[58,20,59,21],[25,22,29,23],[25,33,29,34],[23,35,24,36],[31,48,40,48],[41,9,48,21],[45,24,48,25],[45,26,48,27],[45,28,48,29],[42,22,44,23],[42,24,42,27],[43,3,43,4],[41,5,42,6],[45,7,46,8],[39,1,39,4],[41,7,42,8],[33,9,33,10],[33,7,33,8],[36,9,36,10],[35,9,35,10],[39,6,39,8],[28,3,28,4],[34,7,34,8],[35,7,35,8],[29,20,29,21],[37,1,37,2],[43,1,44,2],[41,1,42,2],[45,3,45,4],[31,1,32,2],[29,5,29,6],[45,1,46,2],[44,3,44,4],[46,3,46,4],[33,3,33,4],[35,3,35,4],[34,1,34,2],[35,1,35,2],[33,1,33,2],[39,10,39,20],[31,3,32,4],[31,5,32,6],[34,3,34,4],[33,5,37,6],[43,7,44,8],[28,5,28,6],[25,5,25,6],[23,5,24,6],[26,5,26,6],[27,5,27,6],[26,28,26,30],[31,9,32,10],[19,20,19,27],[23,7,24,8],[23,20,24,21],[28,7,28,8],[22,24,22,27],[23,24,24,25],[23,26,24,27],[27,20,27,21],[21,22,21,36],[26,20,26,21],[27,7,27,8],[29,7,29,8],[29,11,29,12],[29,9,29,10],[31,7,32,8],[27,9,27,10],[50,9,51,10],[50,11,51,12],[47,5,48,6],[47,3,47,4],[50,5,50,6],[61,7,61,8],[58,7,58,8],[59,7,59,8],[60,14,61,14],[54,9,55,10],[55,11,55,12],[54,13,55,13],[56,14,57,14],[54,14,55,14],[56,13,57,13],[58,13,59,13],[60,13,61,13],[51,5,51,6],[58,11,58,12],[56,11,56,12],[57,11,57,12],[54,7,54,8],[55,7,55,8],[52,13,53,13],[50,1,51,2],[41,3,42,4],[36,7,36,8],[37,3,37,4],[47,7,48,8],[52,7,52,8],[53,7,53,8],[50,3,50,4],[51,3,51,4],[48,3,48,4],[50,7,51,8],[47,1,48,2],[45,5,46,6],[43,5,44,6],[36,1,36,2],[5,10,5,12],[6,10,6,12],[7,1,7,3],[8,1,8,3],[7,10,7,12],[8,10,8,12],[25,11,25,12],[23,3,24,4],[25,3,25,4],[23,1,24,1],[23,2,24,2],[25,7,25,8],[25,9,25,10],[18,8,18,9],[19,8,19,9],[19,4,19,5],[22,1,22,21],[23,19,24,19],[14,1,14,3],[16,1,16,3],[18,20,18,26],[16,11,16,12],[14,7,14,9],[14,10,14,12],[16,9,16,10],[16,7,16,8],[9,1,9,3],[10,1,10,3],[11,1,11,3],[13,4,13,12],[9,10,9,12],[10,10,10,12],[11,10,11,12],[9,7,9,9],[10,7,10,9],[11,7,11,9],[16,5,16,6],[13,1,13,3],[12,1,12,3],[12,4,12,12],[78,1,78,4],[78,5,78,6],[78,10,79,12],[58,1,59,2],[56,7,56,8],[57,7,57,8],[56,1,57,2],[60,1,61,2],[60,7,60,8],[72,10,72,11],[67,1,67,4],[67,5,67,6],[70,5,70,6],[70,1,70,4],[5,1,5,3],[6,1,6,3],[52,1,53,2],[52,14,53,14],[52,15,53,15],[6,7,6,9],[7,7,7,9],[8,7,8,9],[26,7,26,8],[7,4,7,6],[8,4,8,6],[9,4,9,6],[10,4,10,6],[11,4,11,6],[14,4,14,6],[23,9,24,10],[18,4,18,5],[26,3,26,4],[26,11,26,12],[23,11,24,12],[18,1,18,3],[5,4,5,6],[6,4,6,6],[5,7,5,9],[60,15,61,15],[61,11,61,12],[59,11,59,12],[60,11,60,12],[58,14,59,14],[58,15,59,15],[16,23,16,24],[16,20,16,22],[52,9,53,10],[50,18,51,18],[50,19,51,19],[52,18,53,18],[52,16,53,16],[25,24,29,25],[60,17,61,17],[60,16,61,16],[60,9,61,10],[60,18,61,18],[52,17,53,17],[28,11,28,12],[26,9,26,10],[28,9,28,10],[27,11,27,12],[23,18,24,18],[27,3,27,4],[34,9,34,10],[37,9,37,10],[19,1,19,3],[36,3,36,4],[37,7,37,8],[29,3,29,4],[58,18,59,18],[58,17,59,17],[54,11,54,12],[53,11,53,12],[58,16,59,16],[56,9,57,10],[58,9,59,10],[56,18,57,18],[56,16,57,16],[56,15,57,15],[54,15,55,15],[54,16,55,16],[54,17,55,17],[56,17,57,17],[54,18,55,18],[52,11,52,12],[54,1,55,2],[80,21,80,27],[71,5,71,6],[74,8,74,12],[72,21,72,22],[68,21,68,26],[77,10,77,11],[77,1,77,4],[77,5,77,6],[76,10,76,11],[71,1,71,4],[72,1,72,4],[71,10,71,11],[68,1,68,4],[80,1,81,12],[73,5,73,6],[73,1,73,4],[72,5,72,6],[68,5,68,6],[68,8,68,11],[76,1,76,4],[76,5,76,6],[75,5,75,6],[74,1,74,6],[75,1,75,4],[84,24,84,25],[83,26,83,27],[84,26,84,27],[81,26,82,27],[81,24,82,25],[81,21,82,22],[81,23,82,23],[83,21,83,22],[84,21,84,22],[83,24,83,25],[64,20,64,21],[65,20,65,21],[63,1,63,21],[69,1,69,4],[69,5,69,6],[65,9,65,10],[65,11,65,12],[65,7,65,8],[65,1,65,2],[65,3,65,4],[65,5,65,6],[64,1,64,2],[64,3,64,4],[64,7,64,8],[64,9,64,10],[64,11,64,12],[64,5,64,6]]}
[null,"TEXAS DEPARTMENT OF TRANSPORTATION"]
[null,{"$f":"IF(location=\"\",\"\",location)","v":""}]
[]
[null,"HMACP MIXTURE DESIGN : SUMMARY SHEET"]
[]
[null,"SAMPLE ID:",null,null,{"$f":"IF(sampleid=\"\",\"\",sampleid)","v":""},null,null,"SAMPLE DATE:",null,null,{"$f":"IF(sampleddate=\"\",\"\",sampleddate)","v":""}]
[null,"LOT NUMBER:",null,null,{"$f":"IF(testnumber=\"\",\"\",testnumber)","v":""},null,null,"LETTING DATE:",null,null,{"$f":"IF(lettingdate=\"\",\"\",lettingdate)","v":""}]
[null,"SAMPLE STATUS:",null,null,{"$f":"IF(status=\"\",\"\",status)","v":""},null,null,"CONTROLLING CSJ:",null,null,{"$f":"IF(ccsj=\"\",\"\",ccsj)","v":""}]
[null,"COUNTY:",null,null,{"$f":"IF(county=\"\",\"\",county)","v":""},null,null,"SPEC YEAR:",null,null,{"$f":"+IF(specyear=\"\",\"\",specyear)","v":"2014"}]
[null,"SAMPLED BY:",null,null,{"$f":"IF(sampledby=\"\",\"\",sampledby)","v":""},null,null,"SPEC ITEM:",null,null,{"$f":"IF(specitem=\"\",\"\",specitem)","v":""}]
[null,"SAMPLE LOCATION:",null,null,{"$f":"IF(samplelocation=\"\",\"\",samplelocation)","v":""},null,null,"SPECIAL PROVISION:",null,null,{"$f":"IF(specialprovision=\"\",\"\",specialprovision)","v":""}]
[null,"MATERIAL CODE:",null,null,{"$f":"IF(material=\"\",\"\",material)","v":""},null,null,"MIX TYPE:",null,null,{"$f":"IF(Grade=\"\",\"\",Grade)","v":"SS-3074-BMD-SP-C"}]
[null,"MATERIAL NAME:",null,null,{"$f":"IF(matl_nm=\"\",\"\",matl_nm)","v":""}]
[null,"PRODUCER:",null,null,{"$f":"IF(producer=\"\",\"\",producer)","v":""}]
[null,"AREA ENGINEER:",null,null,{"$f":"IF(areaengineer=\"\",\"\",areaengineer)","v":""},null,null,"PROJECT MANAGER:",null,null,{"$f":"IF(projectmanager=\"\",\"\",projectmanager)","v":""}]
[]
[null,"COURSE\\LIFT:",null,null,{"$f":"IF(courselift=\"\",\"\",courselift)","v":"Surface"},"STATION:",null,{"$f":"IF(station=\"\",\"\",station)","v":""},null,"DIST. FROM CL:",null,{"$f":"IF(distfromcl=\"\",\"\",distfromcl)","v":""},null,null,null,null,null,null,null,null,"CONTRACTOR DESIGN # :",null,null,{"$f":"IF(condesignnum=\"\",\"\",condesignnum)","v":""}]
[null,{"$f":"IF('Bulk Gravity'!P43=\"\",\"\",\"**Aggregate bulk specific gravities vary by 0.300 or more. Design by volume is required if using TGC.\")","v":""}]
[null,"Target Density, %:",null,null,null,null,{"$f":"IF(ISBLANK(TargDen),\"\",IF(Denscheck=1,\"< Not meeting spec\",\"\"))","v":""},null,"Fiber Content, %:",null,{"$f":"IF(ISBLANK(percentfiber),\"\",percentfiber)","v":""},{"$f":"IF(ISBLANK(percentfiber), \"\", IF(RAS>=3,IF(OR(percentfiber<0.1,percentfiber>0.5),\"<0.1-0.5%\",\"\"),IF(OR(percentfiber<0.2,percentfiber>0.5),\"<0.2-0.5%\",\"\")))","v":""},null,null,null,null,null,null,null,null,"Note: This mix design requires an asphalt content of at least",null,null,null,null,null,null,{"$f":"IFERROR(ROUNDUP(BinderRatio/100,3),\"\")","v":0.04}]
[null,"Number of Gyrations:",null,null,null,null,{"$f":"IF(ISBLANK(Gyrations),\"\",IF(GyrCheck=1,\"< Not meeting spec\",\"\"))","v":""},null,"CRM* Content, %:",null,{"$f":"IF(ISBLANK(percentrubber),\"\",percentrubber)","v":""},{"$f":"IF(ISBLANK(percentrubber),\"\",IF(percentrubber<15,\"<< 15 min\",\"\"))","v":""},null,null,null,null,null,null,null,null,"to meet the Maximum Ratio of Recycled to Total Binder requirement."]
[null,null,null,null,null,null,null,null,"*Crumb Rubber Modifier"]
[null,null,null,null,null,null,null,null,null,null,null,null,null,null,null,null,null,null,null,null,null,null,"Mixture Evaluation @ Optimum Asphalt Content",null,null,null,null,null,null,null,null,null,null,null,null,null,null,null,null,null,null,null,null,null,null,null,null,null,"trip1"]
[null,"TEST SPECIMENS",null,null,null,null,null,null,null,null,null,null,null,null,null,null,null,null,null,null,null,null,"Indirect Tensile Strength (psi)",null,"Hamburg Wheel Tracking Test",null,null,null,null,null,null,"Overlay Test"]
[null,"Asphalt Content (%)","Binder Ratio (%)","Specific Gravity Of Specimen (Ga)",null,"Maximum Specific Gravity (Gr)",null,"Effective Gravity (Ge)",null,"Theo. Max. Specific Gravity (Gt)",null,"Density from Gt (Percent)",null,null,null,null,null,null,"Maxium Specific Gravity (Gr)","Theo. Max. Specific Gravity (Gt)","VMA (Percent)",null,null,null,"Number of cycles",null,"Rut depth (mm)",null,null,null,null,"Min. Number of Cycles",null,"Min. Critical Fracture Energy (in-lb/in2)",null,"Max. Crack Progression Rate"]
[]
[1,null,{"$f":"IF(OR(version<5,B26=\"\"),\"\",RecBinder/B26*100)","v":""},null,null,null,null,{"$f":"IF(F26=\"\",\"\",(100-B26)/((100/F26)-(B26/SGAsph)))","v":""},null,{"$f":"IF(OR(B26=0,B26=\"\"),\"\",(100/(((100-B26)/EffSG)+(B26/SGAsph))))","v":""},null,{"$f":"IF(ISERROR(100*(D26/J26)),\"\",100*(D26/J26))","v":""},null,{"$f":"IF(L26>=TargDen,1,0)","v":1},{"$f":"IF(L26<TargDen,1,0)","v":0},{"$f":"IF(AND(N26=1,O25=1),1,0)","v":0},{"$f":"IF(P26=1,B26-((L26-TargDen)/(L26-L25)*(B26-B25)),0)","v":0},{"$f":"IF(P26=1,U26-((L26-TargDen)/(L26-L25)*(U26-U25)),0)","v":0},{"$f":"IF($P26=1,FORECAST(TargDen,F25:F26,$L25:$L26),\"\")","v":""},{"$f":"IF($P26=1,FORECAST(TargDen,J25:J26,$L25:$L26),\"\")","v":""},{"$f":"IF(OR(B26=0,B26=\"\"),\"\",(100-D26*100/J26+D26*B26/SGAsph))","v":""}]
[2,null,{"$f":"IF(OR(version<5,B27=\"\"),\"\",RecBinder/B27*100)","v":""},null,null,null,null,{"$f":"IF(F27=\"\",\"\",(100-B27)/((100/F27)-(B27/SGAsph)))","v":""},null,{"$f":"IF(OR(B27=0,B27=\"\"),\"\",(100/(((100-B27)/EffSG)+(B27/SGAsph))))","v":""},null,{"$f":"IF(ISERROR(100*(D27/J27)),\"\",100*(D27/J27))","v":""},null,{"$f":"IF(L27>=TargDen,1,0)","v":1},{"$f":"IF(L27<TargDen,1,0)","v":0},{"$f":"IF(AND(N27=1,O26=1),1,0)","v":0},{"$f":"IF(P27=1,B27-((L27-TargDen)/(L27-L26)*(B27-B26)),0)","v":0},{"$f":"IF(P27=1,U27-((L27-TargDen)/(L27-L26)*(U27-U26)),0)","v":0},{"$f":"IF($P27=1,FORECAST(TargDen,F26:F27,$L26:$L27),\"\")","v":""},{"$f":"IF($P27=1,FORECAST(TargDen,J26:J27,$L26:$L27),\"\")","v":""},{"$f":"IF(OR(B27=0,B27=\"\"),\"\",(100-D27*100/J27+D27*B27/SGAsph))","v":""}]
[3,null,{"$f":"IF(OR(version<5,B28=\"\"),\"\",RecBinder/B28*100)","v":""},null,null,null,null,{"$f":"IF(F28=\"\",\"\",(100-B28)/((100/F28)-(B28/SGAsph)))","v":""},null,{"$f":"IF(OR(B28=0,B28=\"\"),\"\",(100/(((100-B28)/EffSG)+(B28/SGAsph))))","v":""},null,{"$f":"IF(ISERROR(100*(D28/J28)),\"\",100*(D28/J28))","v":""},null,{"$f":"IF(L28>=TargDen,1,0)","v":1},{"$f":"IF(L28<TargDen,1,0)","v":0},{"$f":"IF(AND(N28=1,O27=1),1,0)","v":0},{"$f":"IF(P28=1,B28-((L28-TargDen)/(L28-L27)*(B28-B27)),0)","v":0},{"$f":"IF(P28=1,U28-((L28-TargDen)/(L28-L27)*(U28-U27)),0)","v":0},{"$f":"IF($P28=1,FORECAST(TargDen,F27:F28,$L27:$L28),\"\")","v":""},{"$f":"IF($P28=1,FORECAST(TargDen,J27:J28,$L27:$L28),\"\")","v":""},{"$f":"IF(OR(B28=0,B28=\"\"),\"\",(100-D28*100/J28+D28*B28/SGAsph))","v":""}]
[4,null,{"$f":"IF(OR(version<5,B29=\"\"),\"\",RecBinder/B29*100)","v":""},null,null,null,null,{"$f":"IF(F29=\"\",\"\",(100-B29)/((100/F29)-(B29/SGAsph)))","v":""},null,{"$f":"IF(OR(B29=0,B29=\"\"),\"\",(100/(((100-B29)/EffSG)+(B29/SGAsph))))","v":""},null,{"$f":"IF(ISERROR(100*(D29/J29)),\"\",100*(D29/J29))","v":""},null,{"$f":"IF(L29>=TargDen,1,0)","v":1},{"$f":"IF(L29<TargDen,1,0)","v":0},{"$f":"IF(AND(N29=1,O28=1),1,0)","v":0},{"$f":"IF(P29=1,B29-((L29-TargDen)/(L29-L28)*(B29-B28)),0)","v":0},{"$f":"IF(P29=1,U29-((L29-TargDen)/(L29-L28)*(U29-U28)),0)","v":0},{"$f":"IF($P29=1,FORECAST(TargDen,F28:F29,$L28:$L29),\"\")","v":""},{"$f":"IF($P29=1,FORECAST(TargDen,J28:J29,$L28:$L29),\"\")","v":""},{"$f":"IF(OR(B29=0,B29=\"\"),\"\",(100-D29*100/J29+D29*B29/SGAsph))","v":""}]
[5,null,{"$f":"IF(OR(version<5,B30=\"\"),\"\",RecBinder/B30*100)","v":""},null,null,null,null,{"$f":"IF(F30=\"\",\"\",(100-B30)/((100/F30)-(B30/SGAsph)))","v":""},null,{"$f":"IF(OR(B30=0,B30=\"\"),\"\",(100/(((100-B30)/EffSG)+(B30/SGAsph))))","v":""},null,{"$f":"IF(ISERROR(100*(D30/J30)),\"\",100*(D30/J30))","v":""},null,{"$f":"IF(L30>=TargDen,1,0)","v":1},{"$f":"IF(L30<TargDen,1,0)","v":0},{"$f":"IF(AND(N30=1,O29=1),1,0)","v":0},{"$f":"IF(P30=1,B30-((L30-TargDen)/(L30-L29)*(B30-B29)),0)","v":0},{"$f":"IF(P30=1,U30-((L30-TargDen)/(L30-L29)*(U30-U29)),0)","v":0},{"$f":"IF($P30=1,FORECAST(TargDen,F29:F30,$L29:$L30),\"\")","v":""},{"$f":"IF($P30=1,FORECAST(TargDen,J29:J30,$L29:$L30),\"\")","v":""},{"$f":"IF(OR(B30=0,B30=\"\"),\"\",(100-D30*100/J30+D30*B30/SGAsph))","v":""}]
[null,null,null,null,null,null,null,null,null,null,null,null,null,null,null,null,null,null,null,null,null,null,{"$f":"IF(ISBLANK(W26),\"\",IF(OR(W26<MinIDT,W26>MaxIDT),\"^ Not meeting spec\",\"\"))","v":""},null,null,null,null,null,null,null,null,{"$f":"IF($AF$26=\"\",\"\",IF(AF26<MinOT,\"^ Not meeting spec\",\"\"))","v":""},null,{"$f":"IF($AH$26=\"\",\"\",IF(AH26<MinCFE,\"^ Not meeting spec\",\"\"))","v":""},null,{"$f":"IF($AJ$26=\"\",\"\",IF(AJ26>MaxCPR,\"^ Not meeting spec\",\"\"))","v":""}]
[null,"Asphalt Content (%)",null,"Maximum Specific Gravity (Gr)",null,"Effective Gravity (Ge)",null,"Theo. Max. Specific Gravity (Gt)",null,{"$f":"IF(LEFT(Grade,8) = \"ITEM3001\",\"Film Thickness (microns)\",\"VMA (Percent)\")","v":"VMA (Percent)"},null,null,null,null,null,null,null,null,null,null,null,null,null,null,null,null,null,null,null,null,null,null,null,null,null,null,null,null,null,null,null,null,null,null,null,null,null,null,"These rows are the trip2 range, which are not used for the 2014 spec"]
[]
[1,{"$f":"IF(B36=\"\",\"\",B36-1)","v":""},null,{"$f":"IF(B34=\"\",\"\",100/(((100-B34)/$F$34)+(B34/'Combined Gradation'!$S$48)))","v":""},null,{"$f":"IF(D36=\"\",\"\",(100-B36)/((100/D36)-(B36/SGAsph)))","v":""},null,{"$f":"IF(OR(B34=0,B34=\"\"),\"\",(100/(((100-B34)/EffSG)+(B34/SGAsph))))","v":""},null,{"$f":"IF(OR(Gsb=\"\",filmac3=\"\",filmgr3=\"\"),\"\",IF(LEFT(Grade,8) = \"ITEM3001\",film1,0))","v":""}]
[2,{"$f":"IF(B36=\"\",\"\",B36-0.5)","v":""},null,{"$f":"IF(B35=\"\",\"\",100/(((100-B35)/$F$34)+(B35/'Combined Gradation'!$S$48)))","v":""},null,null,null,{"$f":"IF(OR(B35=0,B35=\"\"),\"\",(100/(((100-B35)/EffSG)+(B35/SGAsph))))","v":""},null,{"$f":"IF(OR(Gsb=\"\",filmac3=\"\",filmgr3=\"\"),\"\",IF(LEFT(Grade,8) = \"ITEM3001\",film2,0))","v":""}]
[3,null,null,null,null,null,null,{"$f":"IF(OR(B36=0,B36=\"\"),\"\",(100/(((100-B36)/EffSG)+(B36/SGAsph))))","v":""},null,{"$f":"IF(OR(Gsb=\"\",filmac3=\"\",filmgr3=\"\"),\"\",IF(LEFT(Grade,8) = \"ITEM3001\",film3,0))","v":""}]
[4,{"$f":"IF(B36=\"\",\"\",B36+0.5)","v":""},null,{"$f":"IF(B37=\"\",\"\",100/(((100-B37)/$F$34)+(B37/'Combined Gradation'!$S$48)))","v":""},null,null,null,{"$f":"IF(OR(B37=0,B37=\"\"),\"\",(100/(((100-B37)/EffSG)+(B37/SGAsph))))","v":""},null,{"$f":"IF(OR(Gsb=\"\",filmac3=\"\",filmgr3=\"\"),\"\",IF(LEFT(Grade,8) = \"ITEM3001\",film4,0))","v":""}]
[5,{"$f":"IF(B36=\"\",\"\",B36+1)","v":""},null,{"$f":"IF(B38=\"\",\"\",100/(((100-B38)/$F$34)+(B38/'Combined Gradation'!$S$48)))","v":""},null,null,null,{"$f":"IF(OR(B38=0,B38=\"\"),\"\",(100/(((100-B38)/EffSG)+(B38/SGAsph))))","v":""},null,{"$f":"IF(OR(Gsb=\"\",filmac3=\"\",filmgr3=\"\"),\"\",IF(LEFT(Grade,8) = \"ITEM3001\",film5,0))","v":""}]
[]
[null,"Min Film Thickness (microns)",null,null,null,{"$f":"IF(OR(Gsb=\"\",filmac3=\"\",filmgr3=\"\"),\"\",9)","v":""},"AC @ Min Film Thickness:",null,null,{"$f":"IF(OR(Gsb=\"\",filmac3=\"\",filmgr3=\"\"),\"\",(9*SUM('Film Thickness'!I22:J31)*SGAsph*(100+Pba)+1000*Pba)/(9*SUM('Film Thickness'!I22:J31)*SGAsph*(1+Pba/100)+1000+10*Pba))","v":""},"Max Film Thickness (microns)",null,null,null,null,null,null,null,null,null,null,{"$f":"IF(OR(Gsb=\"\",filmac3=\"\",filmgr3=\"\"),\"\",11)","v":""},"AC @ Max Film Thickness:",null,null,null,{"$f":"IF(OR(Gsb=\"\",filmac3=\"\",filmgr3=\"\"),\"\",(11*SUM('Film Thickness'!I22:J31)*SGAsph*(100+Pba)+1000*Pba)/(11*SUM('Film Thickness'!I22:J31)*SGAsph*(1+Pba/100)+1000+10*Pba))","v":""}]
[]
[null,"Asphalt Content (%)",null,"Lab Measured Gr",null,"Effective Specific Gravity (Ge)",null,"Backcalculated Gr",null,{"$f":"IF(VLOOKUP(Grade,MIX_RANGE,20),\"Select two asphalt contents around the anticipated OAC.\"&\" Select the asphalt contents within the allowed tolerances in accordance with specifications\",\"Select three asphalt contents starting from 2.0 to 3.0% and produce a mixture with the design gradation.\") &\" Measure Gr at each selected asphalt content.\" &\" Gr values determined at these lower asphalt contents are used to backcalculate Gr values at the higher asphalt contents in the table below used for laboratory molds.\"","v":"Select three asphalt contents starting from 2.0 to 3.0% and produce a mixture with the design gradation. Measure Gr at each selected asphalt content. Gr values determined at these lower asphalt contents are used to backcalculate Gr values at the higher asphalt contents in the table below used for laboratory molds."},null,null,null,null,null,null,null,null,null,null,null,null,"Mixture Evaluation @ Optimum Asphalt Content",null,null,null,null,null,null,null,null,null,null,null,null,null,null,null,null,null,null,null,null,null,null,null,null,null,"trip3"]
[null,null,null,null,null,null,null,null,null,null,null,null,null,null,null,null,null,null,null,null,null,null,"Indirect Tensile Strength (psi)",null,"Hamburg Wheel Tracking Test",null,null,null,"Overlay Test"]
[1,null,null,null,null,{"$f":"IF(OR(D44=0,D45=0),\"\",(100-B44)/((100/(AVERAGE(D44:E45)))-(B44/SGAsph)))","v":""},null,{"$f":"IF(ISERROR(((100*AVERAGE(F44:G49))/(100-B44+((AVERAGE(F44:G49)*B44)/SGAsph)))),\"\",((100*AVERAGE(F44:G49))/(100-B44+((AVERAGE(F44:G49)*B44)/SGAsph))))","v":""},null,null,null,null,null,null,null,null,null,null,null,null,null,null,null,null,"Number of cycles",null,"Rut depth (mm)",null,"Min. Number of Cycles",null,"Min. Critical Fracture Energy (in-lb/in2)",null,"Max. Crack Propagation Rate"]
[2]
[3,null,null,null,null,{"$f":"IF(OR(D46=0,D47=0),\"\",(100-B46)/((100/(AVERAGE(D46:E47)))-(B46/SGAsph)))","v":""},null,{"$f":"IF(ISERROR(((100*AVERAGE(F44:G49))/(100-B46+((AVERAGE(F44:G49)*B46)/SGAsph)))),\"\",((100*AVERAGE(F44:G49))/(100-B46+((AVERAGE(F44:G49)*B46)/SGAsph))))","v":""}]
[4]
[5,null,null,null,null,{"$f":"IF(OR(D48=0,D49=0),\"\",(100-B48)/((100/(AVERAGE(D48:E49)))-(B48/SGAsph)))","v":""},null,{"$f":"IF(ISERROR(((100*AVERAGE(F44:G49))/(100-B48+((AVERAGE(F44:G49)*B48)/SGAsph)))),\"\",((100*AVERAGE(F44:G49))/(100-B48+((AVERAGE(F44:G49)*B48)/SGAsph))))","v":""}]
[6]
[null,null,null,null,null,null,null,null,null,null,null,null,null,null,null,null,null,null,null,null,null,null,{"$f":"IF(ISBLANK(W46),\"\",IF(OR(W46<MinIDT,W46>MaxIDT),\"^ Not meeting spec\",\"\"))","v":""},null,null,null,null,null,{"$f":"IF($AC$46=\"\",\"\",IF(AC46<MinOT,\"^ Not meeting spec\",\"\"))","v":""},null,{"$f":"IF($AE$46=\"\",\"\",IF(AE46<MinCFE,\"^ Not meeting spec\",\"\"))","v":""},null,{"$f":"IF($AG$46=\"\",\"\",IF(AG46>MaxCPR,\"^ Not meeting spec\",\"\"))","v":""}]
[null,"Asphalt Content (%)",null,"Height (in)",null,"Diameter (in)",null,"Dry Weight (grams)",null,"Backcalculated Gr",null,"Ga",null,null,null,null,null,null,"Maximum Specific Gravity (Gr)","Gt","Density from Backcalculated Gr (%)",null,"Dimensional analysis procedure. Selected asphalt contents in this table are used for laboratory molded specimens using the Superpave Gyratory Compactor."]
[null,null,null,"Height (mm)",null,"Radius (mm)",null,null,null,null,null,null,null,null,null,null,null,null,null,null,null,null,null,null,null,null,null,null,null,null,null,null,null,null,null,null,"Ge","Gt"]
[1,null,null,null,null,null,{"$f":"IF(E53<>\"\",75,\"\")","v":""},null,null,{"$f":"IF(B53=\"\",\"\",((100*EffSG)/(100-B53+((EffSG*B53)/SGAsph))))","v":""},null,{"$f":"IF(version>6,IF(OR(E53=\"\",G53=\"\",H53=\"\"),\"\",H53/(3.14159*G53^2*E53)*1000),IF(OR(H53=\"\",F53=\"\",D53=\"\"),\"\",H53/(3.14159*F53^2/4*D53/(0.393700787401575)^3)))","v":""},null,{"$f":"IF(U53>=TargDen,1,0)","v":1},{"$f":"IF(U53<TargDen,1,0)","v":0},{"$f":"IF(AND(N53=1,O51=1),1,0)","v":0},{"$f":"IFERROR(IF(P53=1,B53-((U53-TargDen)/(U53-U51)*(B53-B51)),0),0)","v":0},null,{"$f":"IF($P53=1,FORECAST(TargDen,J51:K54,$U51:$V54),\"\")","v":""},{"$f":"IF($P53=1,FORECAST(TargDen,$AO$53:$AO$57,$AP$53:$AP$57),\"\")","v":""},{"$f":"IF(OR(L53=\"\",L54=\"\",J53=\"\"),\"\",AVERAGE(L53:M54)/J53*100)","v":""},null,null,null,null,null,null,null,null,null,null,null,null,null,null,null,{"$f":"(100-B53)/((100/J53)-(B53/SGAsph))","v":{"$error":"#VALUE!"}},{"$f":"100/((100-B53)/AK53+B53/SGAsph)","v":{"$error":"#VALUE!"}},{"$f":"IFERROR(AL53,\"\")","v":""},null,{"$f":"AM53","v":""},{"$f":"U53","v":""}]
[2,null,null,null,null,null,{"$f":"IF(E54<>\"\",75,\"\")","v":""},null,null,null,null,"",null,null,null,null,null,null,null,null,null,null,null,null,null,null,null,null,null,null,null,null,null,null,null,null,{"$error":"#DIV/0!"},{"$error":"#DIV/0!"},null,null,{"$f":"AM55","v":""},{"$f":"U55","v":""}]
[3,null,null,null,null,null,{"$f":"IF(E55<>\"\",75,\"\")","v":""},null,null,{"$f":"IF(B55=\"\",\"\",((100*EffSG)/(100-B55+((EffSG*B55)/SGAsph))))","v":""},null,"",null,{"$f":"IF(U55>=TargDen,1,0)","v":1},{"$f":"IF(U55<TargDen,1,0)","v":0},{"$f":"IF(AND(N55=1,O53=1),1,0)","v":0},{"$f":"IFERROR(IF(P55=1,B55-((U55-TargDen)/(U55-U53)*(B55-B53)),0),0)","v":0},null,{"$f":"IF($P55=1,FORECAST(TargDen,J53:K56,$U53:$V56),\"\")","v":""},{"$f":"IF($P55=1,FORECAST(TargDen,$AO$53:$AO$57,$AP$53:$AP$57),\"\")","v":""},{"$f":"IF(OR(L55=\"\",L56=\"\",J55=\"\"),\"\",AVERAGE(L55:M56)/J55*100)","v":""},null,null,null,null,null,null,null,null,null,null,null,null,null,null,null,{"$error":"#VALUE!"},{"$error":"#VALUE!"},{"$f":"IFERROR(AL55,\"\")","v":""},null,{"$f":"AM57","v":""},{"$f":"U57","v":""}]
[4,null,null,null,null,null,"",null,null,null,null,"",null,null,null,null,null,null,null,null,null,null,null,null,null,null,null,null,null,null,null,null,null,null,null,null,{"$error":"#DIV/0!"},{"$error":"#DIV/0!"},null,null,{"$f":"AM59","v":""},{"$f":"U59","v":""}]
[5,null,null,null,null,null,"",null,null,{"$f":"IF(B57=\"\",\"\",((100*EffSG)/(100-B57+((EffSG*B57)/SGAsph))))","v":""},null,"",null,{"$f":"IF(U57>=TargDen,1,0)","v":1},{"$f":"IF(U57<TargDen,1,0)","v":0},{"$f":"IF(AND(N57=1,O55=1),1,0)","v":0},{"$f":"IFERROR(IF(P57=1,B57-((U57-TargDen)/(U57-U55)*(B57-B55)),0),0)","v":0},null,{"$f":"IF($P57=1,FORECAST(TargDen,J55:K58,$U55:$V58),\"\")","v":""},{"$f":"IF($P57=1,FORECAST(TargDen,$AO$53:$AO$57,$AP$53:$AP$57),\"\")","v":""},{"$f":"IF(OR(L57=\"\",L58=\"\",J57=\"\"),\"\",AVERAGE(L57:M58)/J57*100)","v":""},null,null,null,null,null,null,null,null,null,null,null,null,null,null,null,{"$error":"#VALUE!"},{"$error":"#VALUE!"},{"$f":"IFERROR(AL57,\"\")","v":""},null,{"$f":"AM61","v":""},{"$f":"U61","v":""}]
[6,null,null,null,null,null,"",null,null,null,null,"",null,null,null,null,null,null,null,null,null,null,null,null,null,null,null,null,null,null,null,null,null,null,null,null,{"$error":"#DIV/0!"},{"$error":"#DIV/0!"}]
[7,null,null,null,null,null,"",null,null,{"$f":"IF(B59=\"\",\"\",((100*EffSG)/(100-B59+((EffSG*B59)/SGAsph))))","v":""},null,"",null,{"$f":"IF(U59>=TargDen,1,0)","v":1},{"$f":"IF(U59<TargDen,1,0)","v":0},{"$f":"IF(AND(N59=1,O57=1),1,0)","v":0},{"$f":"IFERROR(IF(P59=1,B59-((U59-TargDen)/(U59-U57)*(B59-B57)),0),0)","v":0},null,{"$f":"IF($P59=1,FORECAST(TargDen,J57:K60,$U57:$V60),\"\")","v":""},{"$f":"IF($P59=1,FORECAST(TargDen,$AO$53:$AO$57,$AP$53:$AP$57),\"\")","v":""},{"$f":"IF(OR(L59=\"\",L60=\"\",J59=\"\"),\"\",AVERAGE(L59:M60)/J59*100)","v":""},null,null,null,null,null,null,null,null,null,null,null,null,null,null,null,{"$error":"#VALUE!"},{"$error":"#VALUE!"},{"$f":"IFERROR(AL59,\"\")","v":""}]
[8,null,null,null,null,null,"",null,null,null,null,"",null,null,null,null,null,null,null,null,null,null,null,null,null,null,null,null,null,null,null,null,null,null,null,null,{"$error":"#DIV/0!"},{"$error":"#DIV/0!"}]
[9,null,null,null,null,null,"",null,null,{"$f":"IF(B61=\"\",\"\",((100*EffSG)/(100-B61+((EffSG*B61)/SGAsph))))","v":""},null,"",null,{"$f":"IF(U61>=TargDen,1,0)","v":1},{"$f":"IF(U61<TargDen,1,0)","v":0},{"$f":"IF(AND(N61=1,O59=1),1,0)","v":0},{"$f":"IFERROR(IF(P61=1,B61-((U61-TargDen)/(U61-U59)*(B61-B59)),0),0)","v":0},null,{"$f":"IF($P61=1,FORECAST(TargDen,J59:K62,$U59:$V62),\"\")","v":""},{"$f":"IF($P61=1,FORECAST(TargDen,$AO$53:$AO$57,$AP$53:$AP$57),\"\")","v":""},{"$f":"IF(OR(L61=\"\",L62=\"\",J61=\"\"),\"\",AVERAGE(L61:M62)/J61*100)","v":""},null,null,null,null,null,null,null,null,null,null,null,null,null,null,null,{"$error":"#VALUE!"},{"$error":"#VALUE!"},{"$f":"IFERROR(AL61,\"\")","v":""}]
[10,null,null,null,null,null,"",null,null,null,null,"",null,null,null,null,null,null,null,null,null,null,null,null,null,null,null,null,null,null,null,null,null,null,null,null,{"$error":"#DIV/0!"},{"$error":"#DIV/0!"}]
[]
[null,"FINAL SPECIMEN",null,null,null,null,null,null,null,null,null,null,null,null,null,null,null,null,null,null,null,null,null,null,null,null,null,null,null,null,null,null,null,null,null,null,null,null,null,null,null,null,null,null,null,null,null,null,"trip4"]
[null,"Asphalt Content (%)",null,"Specific Gravity Of Specimen (Ga)",null,"Maximum Specific Gravity (Gr)",null,"Effective Gravity (Ge)",null,"Density from Gr (Percent)",null,"Film Thickness (microns)",null,null,null,null,null,null,null,null,"Estimated binder ratio"]
[null,null,null,null,null,null,null,{"$f":"IF(F66=\"\",\"\",(100-B66)/((100/F66)-(B66/SGAsph)))","v":""},null,{"$f":"IF(ISERROR(100*(D66/F66)),\"\",100*(D66/F66))","v":""},null,{"$f":"IF(OR(B66=\"\",D66=\"\",F66=\"\"),\"\",1000000*(((B66-((((H66-Gsb)/(Gsb*H66))*SGAsph*100)*(100-B66)/100))/100)/(1-((B66-((((H66-Gsb)/(Gsb*H66))*SGAsph*100)*(100-B66)/100))/100))/(SUM('Film Thickness'!I$22:J$31)*SGAsph*1000)))","v":""},null,null,null,null,null,null,null,null,{"$f":"RecBinder/ROUND(B66,1)*100","v":{"$error":"#DIV/0!"}}]
[]
[null,"Suggested Membrane Target App. Rate, gal/yd2:",null,null,null,{"$f":"IFERROR(0.0110023177161816+96506.5660352875*EXP(VLOOKUP(INDEX('Combined Gradation'!AH35:AH44,COUNTIF('Combined Gradation'!Y35:Y44,\">90\")+1,1),sievesizes,4,FALSE)/25.4)/(J66^3)+-6.26457587920534E-42*EXP(J66)*((VLOOKUP(INDEX('Combined Gradation'!AH35:AH44,COUNTIF('Combined Gradation'!Y35:Y44,\">90\")+1,1),sievesizes,4,FALSE)/25.4)),\"\")","v":""}]
[null,"Effective Specific Gravity:",null,null,null,{"$f":"IFERROR(IF(VLOOKUP(Grade,MIX_RANGE,24),SUM(F44:G49)/COUNTIF(F44:G49,\">0\"),IF(ISERROR(SUM(H26:I30)/(IF(OR(H26=0,H26=\"\"),0,1)+IF(OR(H27=0,H27=\"\"),0,1)+IF(OR(H28=0,H28=\"\"),0,1)+IF(OR(H29=0,H29=\"\"),0,1)+IF(OR(H30=0,H30=\"\"),0,1))),0,SUM(H26:I30)/(IF(OR(H26=0,H26=\"\"),0,1)+IF(OR(H27=0,H27=\"\"),0,1)+IF(OR(H28=0,H28=\"\"),0,1)+IF(OR(H29=0,H29=\"\"),0,1)+IF(OR(H30=0,H30=\"\"),0,1)))),\"\")","v":0},null,null,"Estimated Percent of Stripping, %:",null,null,null,null,null,null,null,null,null,null,null,null,"MIXTURE DENSIFICATION"]
[null,"Optimum Asphalt Content :",null,null,null,{"$f":"IFERROR(IF(VLOOKUP(Grade,MIX_RANGE,24),IF(Q53<>0,Q53,IF(Q55<>0,Q55,IF(Q57<>0,Q57,IF(Q59<>0,Q59,IF(Q61<>0,Q61,\"Invalid design\"))))),IF(Q26<>0,Q26,IF(Q27<>0,Q27,IF(Q28<>0,Q28,IF(Q29<>0,Q29,IF(Q30<>0,Q30,\"Invalid design\")))))),\"\")","v":"Invalid design"},null,{"$f":"IFERROR(IF(OR(optAC=\"\",optAC=\"Invalid design\"),\"\",IF(OR(ROUND(optAC,1)<MinAC,ROUND(optAC,1)>MaxAC),\"<Not meeting requirement\",\"\")),\"\")","v":""},null,null,null,null,null,null,null,null,null,null,null,null,null,"Sample",null,"A","B","Density (%)"]
[null,"Adjusted OAC For QC/QA",null,null,null,{"$f":"('Combined Gradation'!S29*Field718/100)+('Combined Gradation'!U29*Field719/100)+('Combined Gradation'!W29*Field720/100)+(Binder-RecBinder)","v":5.6937500000000005}]
[null,"Binder Ratio @ OAC:",null,null,null,{"$f":"IF(OR(optAC=\"\",optAC=\"Invalid design\"),\"\",RecBinder/ROUND(optAC,1)*100)","v":""},null,{"$f":"IFERROR(IF(F72=\"\",\"\",IF(F72>bindercheck,\"<Exceeds requirement\",\"\")),\"\")","v":""},null,null,"Drain-Down, %:",null,null,null,null,null,null,null,null,null,{"$f":"IF(ISBLANK(M72),\"\",IF(VLOOKUP(Grade,MIX_RANGE,3),IF(M72>0.1,\"<Max. 0.1%\",\"\"),IF(M72>0.2,\"<Max. 0.2%\",\"\")))","v":""},"Gr"]
[null,"VMA @ Optimum AC:",null,null,null,{"$f":"IFERROR(IF(optAC=\"Invalid design\",0,IF(VLOOKUP(Grade,MIX_RANGE,24),IF(COUNTBLANK(R53:R62)=10,\"\",MAX(R53:R62)),IF(COUNTBLANK(R26:R30)=10,\"\",MAX(R26:R30)))),\"\")","v":0},null,{"$f":"IFERROR(IF(OR($F$73=\"\",$F$73=0),\"\",IF(ROUND($F$73,1)<VMA,\"<Not meeting requirement\",\"\")),\"\")","v":""},null,null,"Cantabro Loss, %:",null,null,null,null,null,null,null,null,null,{"$f":"IF(ISBLANK(M73),\"\",IF(M73>20,\"<Max. 20%\",\"\"))","v":""},"Ga"]
[null,"VFA @ Optimum AC:",null,null,null,{"$f":"IF(OR(optAC=\"Invalid design\",F73=\"\"), \"\",((F73-100+TargDen)/F73*100))","v":""},null,{"$f":"IFERROR(IF(acfilmthick=\"\",\"\",IF(OR(acfilmthick<MinVFA,acfilmthick>MaxVFA),\"<Not meeting VFA requirement\",\"\")),\"\")","v":""},null,null,null,null,null,null,null,null,null,null,null,null,null,"Height @ Nini",null,null,null,{"$f":"+IF(AND(X72=\"\",Y72=\"\"),\"\",IF(version = \"1\",((((AVERAGE(X76,Y76)/AVERAGE(X74,Y74))*(AVERAGE(X73,Y73)))/F78)*100),((((AVERAGE(X76,Y76)/AVERAGE(X74,Y74))*(AVERAGE(X73,Y73)))/AVERAGE(X72:Y72))*100)))","v":""}]
[null,"Interpolated Values",null,null,null,null,null,null,"STONE-ON-STONE CONTACT",null,null,null,null,null,null,null,null,null,null,null,null,"Height @ Ndes",null,null,null,{"$f":"+IF(X74=\"\",\"\",IF(version = \"1\",((((AVERAGE(X76,Y76)/AVERAGE(X75,Y75))*(AVERAGE(X73,Y73)))/F78)*100),((((AVERAGE(X76,Y76)/AVERAGE(X75,Y75))*(AVERAGE(X73,Y73)))/AVERAGE(X72:Y72))*100)))","v":""}]
[null,"Specific Gravity (Ga):",null,null,null,{"$f":"IF(ISERROR((TargDen/100)*((100/(((100-optAC)/EffSG)+(optAC/SGAsph))))),\"\",(TargDen/100)*((100/(((100-optAC)/EffSG)+(optAC/SGAsph)))))","v":""},null,null,null,null,null,null,null,null,null,null,null,null,null,null,null,"Height @ Nmax",null,null,null,{"$f":"+IF(X75=\"\",\"\",IF(version = \"1\",(AVERAGE(X73:Y73)/F78)*100,(AVERAGE(X73:Y73)/AVERAGE(X72:Y72))*100))","v":""}]
[null,"Max. Specific Gravity (Gr):",null,null,null,{"$f":"IFERROR(IF(VLOOKUP(Grade,MIX_RANGE,24),IF(ISERROR(LARGE(S53:S62,1)),\"\",LARGE(S53:S62,1)),IF(ISERROR(LARGE(S26:S30,1)),\"\",LARGE(S26:S30,1))),\"\")","v":""},null,null,null,null,"VCA(CA, calc.)",null,{"$f":"IF(ISERROR((CoarseBSG*62.4-DRunit)/(CoarseBSG*62.4)*100),\"\",(CoarseBSG*62.4-DRunit)/(CoarseBSG*62.4)*100)","v":""}]
[null,"Theo. Max. Specific Gravity (Gt):",null,null,null,{"$f":"IFERROR(IF(VLOOKUP(Grade,MIX_RANGE,24),IF(ISERROR(LARGE(T53:T62,1)),\"\",LARGE(T53:T62,1)),IF(ISERROR(LARGE(T26:T30,1)),\"\",LARGE(T26:T30,1))),\"\")","v":""},null,null,null,null,"VCA(MIX, calc.)",null,{"$f":"IF(ISERROR(100-(F76/CoarseBSG)*(INDIRECT(\"'Combined Gradation'!AG\" & INDEX(INDIRECT(VLOOKUP(Grade,MIX_RANGE,2)),1,10)+32))*(100-optAC)/100),\"\",IF(version>3,100-(F76/CoarseBSG)*(INDIRECT(\"'Combined Gradation'!AG\" & INDEX(INDIRECT(VLOOKUP(Grade,MIX_RANGE,2)),1,10)+32))*(100-optAC)/100,100-(F76/CoarseBSG)*(INDIRECT(\"'Combined Gradation'!AG\" & INDEX(INDIRECT(VLOOKUP(Grade,MIX_RANGE,2)),1,10)+32))))","v":""},null,null,null,null,null,null,null,null,"Mixing Temp,ºF:"]
[null,"Dust/Asphalt Ratio:",null,null,null,{"$f":"IF(optAC=\"Invalid design\",\"\",ROUND(VLOOKUP(0.075,DUST,22,FALSE)/optAC,1))","v":""},null,{"$f":"IFERROR(IF(filmthick=\"\",\"\",IF(LEFT(Grade,3)=\"344\",IF(OR(filmthick<0.6,filmthick>1.6),\"<Not within 0.6-1.6 limits\",\"\"),IF(LEFT(Grade,6)=\"SS-CAM\",IF(filmthick>1.4,\"<Exceeds 1.4 max limit\",\"\"),IF(LEFT(Grade,7)=\"SS-3077\",IF(OR(filmthick<0.6,filmthick>1.4),\"<Not within 0.6-1.4 limits\",\"\"),\"\")))),\"\")","v":""},null,null,{"$f":"IFERROR(IF(OR(version = 1,version=2),IF($J$78>$J$77,\"STONE-ON-STONE CONTACT                  NOT ACHIEVED\",\"\"),IF(optAC=\"Error\",\"\",IF($M$78>$M$77,\"STONE-ON-STONE CONTACT                     NOT ACHIEVED\",\"\"))),\"\")","v":""},null,null,null,null,null,null,null,null,null,null,"Molding Temp,ºF:"]
[null,"Remarks:",null,null,{"$f":"NOW()","v":"2020-10-28T23:16:33.930"}]
[null,null,null,null,null,null,null,null,null,null,null,null,null,null,null,null,null,null,null,null,null,"Additional Mixture Evaluation"]
[null,null,null,null,null,null,null,null,null,null,null,null,null,null,null,null,null,null,null,null,null,"Test",null,"AC%","Number of passes",null,"Rut depth (mm)"]
[]
[null,{"$f":"Grade","v":"SS-3074-BMD-SP-C"},null,null,null,null,null,null,null,null,null,null,null,null,null,null,null,null,null,null,null,"Hamburg Wheel"]
[null,null,null,null,null,null,null,null,null,null,null,null,null,null,null,null,null,null,null,null,null,"Overlay Test"]

{"sheet":"DATA_RecycMat","index":10,"n_rows":49,"n_cols":43,"rows_kept":49,"cut":false,"hidden":true,"merged":[[2,3,2,4],[2,5,2,6],[2,7,2,8],[2,9,2,10],[7,24,7,25],[2,11,2,12],[1,21,2,21],[1,22,2,22],[6,21,7,21],[2,29,2,31],[8,24,8,25],[17,28,17,37],[2,41,2,42],[2,35,2,37],[2,38,3,38],[2,32,2,34]]}
[]
["Version: 2015",null,null,"Version:08/1/2012",null,"This table is now obsolete - use DATA_QUARRY instead",null,null,null,null,null,null,null,null,null,null,"Version: 2015",null,null,null,null,"Recycled Aggregate, %","Virgin Aggregate, %"]
["Non-Hazardous Rec Mat     RAS Producers","RAS BIN","RAP BIN","Sandstone",null,"Limestone-Dolomite",null,"Gravel",null,"Igneous",null,"Lightweight",null,"Aggregate Code",null,null,"WMA Technology","WMA in Design?","Hydrated Lime","Mix Description",null,null,null,null,null,"Recycled Mat List","Total Percent",null,null,"Max Allowable Frac RAP",null,null,"Max Ratio Recycled AC\nto Total AC",null,null,"Max Allowable Unfrac RAP",null,null,"RAS",null,null,"Maximum Allowable %"]
["APAC-Texas (Alvarado Plant)",{"$f":"IF(Bin8Recyc=\"RAS\",\"RASList\",\"\")","v":""},{"$f":"IF(Bin8Recyc=\"Fractionated RAP\",IF(LEFT(Grade,2)=\"SS\",\"SSRAPList\",\"RAPList\"),\"\")","v":"SSRAPList"},"Apple (Sawyer, OK)","0050437",1604,1501506,"Aztec Canyon","0418814","Bird Hill",1523213,"Streetman",1817502,{"$f":"IF(ISERROR(VLOOKUP('Combined Gradation'!$E$23,INDIRECT(Bin1Source & \"Table\"),2,FALSE)),\"\",VLOOKUP('Combined Gradation'!$E$23,INDIRECT(Bin1Source & \"Table\"),2,FALSE))","v":""},null,null,"Advera (PQ Corporation)",{"$f":"IF(AND(version>4,WMA=\"\"),0,1)","v":0},{"$f":"IF(version>4,SUM(IF(Bin1Lime=\"Yes\",Bin1Frac,0),IF(Bin2Lime=\"Yes\",Bin2Frac,0),IF(Bin3Lime=\"Yes\",Bin3Frac,0),IF(Bin4Lime=\"Yes\",Bin4Frac,0),IF(Bin5Lime=\"Yes\",Bin5Frac,0),IF(Bin6Lime=\"Yes\",Bin6Frac,0),IF(Bin7Lime=\"Yes\",Bin7Frac,0)),\"\")","v":0},{"$f":"IF(AND(version>4,courselift=\"\"),0,1)","v":1},null,{"$f":"IF(version>3,SUM(Bin8Frac,Bin9Frac,Bin10Frac),IF(Bin1RAP=\"Yes\",Bin1Frac,0)+IF(Bin2RAP=\"Yes\",Bin2Frac,0)+IF(Bin3RAP=\"Yes\",Bin3Frac,0)+IF(Bin4RAP=\"Yes\",Bin4Frac,0)+IF(Bin5RAP=\"Yes\",Bin5Frac,0)+IF(Bin6RAP=\"Yes\",Bin6Frac,0)+IF(Bin7RAP=\"Yes\",Bin7Frac,0))","v":25.2},{"$f":"100-V4","v":74.8},null,"Fractionated RAP",{"$f":"IF(OR(Bin8Recyc=\"Unfractionated RAP\",Bin9Recyc=\"Unfractionated RAP\",Bin10Recyc=\"Unfractionated RAP\"),\"\",\"Fractionated RAP\")","v":"Fractionated RAP"},{"$f":"SUM(IF(Bin8Recyc=\"Fractionated RAP\",TBin8Frac,0),IF(Bin9Recyc=\"Fractionated RAP\",TBin9Frac,0),IF(Bin10Recyc=\"Fractionated RAP\",TBin10Frac,0))","v":20},null,null,"Surface",{"$f":"Z13","v":""},{"$f":"Z14","v":""},"Surface",{"$f":"Z13","v":""},{"$f":"Z14","v":""},"Surface",{"$f":"Z13","v":""},{"$f":"Z14","v":""},null,null,null,"Frac RAP",{"$f":"IF(ISERROR(INDEX(AD5:AF16,MATCH(IFERROR(VALUE(LEFT(Grade,3)),VALUE(RIGHT(LEFT(Grade,7),4))),AC5:AC16,0),MATCH(courselift,AD4:AF4,0))),\"\",INDEX(AD5:AF16,MATCH(IFERROR(VALUE(LEFT(Grade,3)),VALUE(RIGHT(LEFT(Grade,7),4))),AC5:AC16,0),MATCH(courselift,AD4:AF4,0)))","v":35}]
["APAC-Texas (Cold Springs Plant)",{"$f":"IF(Bin9Recyc=\"RAS\",\"RASList\",\"\")","v":""},{"$f":"IF(Bin9Recyc=\"Fractionated RAP\",IF(LEFT(Grade,2)=\"SS\",\"SSRAPList\",\"RAPList\"),\"\")","v":"SSRAPList"},"Brownlee",1402704,"Ardmore, OK","0050412","Beck",2110901,"Cinder Mountain","0050313",null,null,{"$f":"IF(ISERROR(VLOOKUP('Combined Gradation'!$G$23,INDIRECT(Bin2Source & \"Table\"),2,FALSE)),\"\",VLOOKUP('Combined Gradation'!$G$23,INDIRECT(Bin2Source & \"Table\"),2,FALSE))","v":""},null,null,"ALmix WarmWare (ALmix)",null,null,null,null,null,null,null,"Unfractionated RAP",{"$f":"IF(OR(Bin8Recyc=\"Unfractionated RAP\",Bin9Recyc=\"Unfractionated RAP\",Bin10Recyc=\"Unfractionated RAP\",Bin8Recyc=\"RAS\",Bin9Recyc=\"RAS\",Bin10Recyc=\"RAS\",Bin8Recyc=\"Fractionated RAP\",Bin9Recyc=\"Fractionated RAP\",Bin10Recyc=\"Fractionated RAP\"),\"\",\"Unfractionated RAP\")","v":""},{"$f":"SUM(IF(Bin8Recyc=\"Unfractionated RAP\",TBin8Frac,0),IF(Bin9Recyc=\"Unfractionated RAP\",TBin9Frac,0),IF(Bin10Recyc=\"Unfractionated RAP\",TBin10Frac,0))","v":0},null,340,20,30,40,"TABLE","TABLE","TABLE",10,10,10,5,null,null,"Unfrac RAP",{"$f":"IF(ISERROR(INDEX(AJ5:AL16,MATCH(IFERROR(VALUE(LEFT(Grade,3)),VALUE(RIGHT(LEFT(Grade,7),4))),AC5:AC16,0),MATCH(courselift,AJ4:AL4,0))),\"\",INDEX(AJ5:AL16,MATCH(IFERROR(VALUE(LEFT(Grade,3)),VALUE(RIGHT(LEFT(Grade,7),4))),AC5:AC16,0),MATCH(courselift,AJ4:AL4,0)))","v":0}]
["APAC-Texas (Corsicana Plant)",{"$f":"IF(Bin10Recyc=\"RAS\",\"RASList\",\"\")","v":"RASList"},{"$f":"IF(Bin10Recyc=\"Fractionated RAP\",IF(LEFT(Grade,2)=\"SS\",\"SSRAPList\",\"RAPList\"),\"\")","v":""},"Byrd Pit","0050447","Balcones Quarry",1504602,"Big Creek","0411807","Davis, OK.","0050439",null,null,{"$f":"IF(ISERROR(VLOOKUP('Combined Gradation'!$I$23,INDIRECT(Bin3Source & \"Table\"),2,FALSE)),\"\",VLOOKUP('Combined Gradation'!$I$23,INDIRECT(Bin3Source & \"Table\"),2,FALSE))","v":""},null,null,"Aspha-Min (Aspha-Min)",null,null,null,null,null,null,null,"RAS",{"$f":"IF(OR(Bin8Recyc=\"RAS\",Bin9Recyc=\"RAS\",Bin10Recyc=\"RAS\",Bin8Recyc=\"Unfractionated RAP\",Bin9Recyc=\"Unfractionated RAP\",Bin10Recyc=\"Unfractionated RAP\"),\"\",\"RAS\")","v":""},{"$f":"SUM(IF(Bin8Recyc=\"RAS\",TBin8Frac,0),IF(Bin9Recyc=\"RAS\",TBin9Frac,0),IF(Bin10Recyc=\"RAS\",TBin10Frac,0))","v":5},null,341,20,30,40,"TABLE","TABLE","TABLE",10,10,10,5,null,null,"RAS",{"$f":"VLOOKUP(IFERROR(VALUE(LEFT(Grade,3)),VALUE(RIGHT(LEFT(Grade,7),4))),AC5:AM16,11,FALSE)","v":5}]
["APAC-Texas (Leston Plant)",null,"Fractionated RAP",null,null,"Beckmann",1501503,"Boys Ranch","0418008","Jones Mill","0050122",null,null,{"$f":"IF(ISERROR(VLOOKUP('Combined Gradation'!$K$23,INDIRECT(Bin4Source & \"Table\"),2,FALSE)),\"\",VLOOKUP('Combined Gradation'!$K$23,INDIRECT(Bin4Source & \"Table\"),2,FALSE))","v":""},null,null,"Astech PER (Meridian Tech)",null,null,null,null,"Special Provisions",null,null,null,null,null,null,342,10,0,0,15,15,15,0,0,0,5,null,null,"Binder Ratio",{"$f":"IF(VLOOKUP(IFERROR(VALUE(LEFT(Grade,3)),VALUE(RIGHT(LEFT(Grade,7),4))),AC5:AM16,COURSE_COL+4,FALSE)=\"TABLE\",IF(BinderSub=\"Yes\",IF(OR(AC_SUB=\"\",AC_SUB=\"NA\"),20,IF(NOT(ISWMA),OFFSET(RAT_HMA,(AC_ROW)*3+COURSE_COL-1,AC_COL,1,1),OFFSET(RAT_WMA,(AC_ROW)*3+COURSE_COL-1,AC_COL,1,1))),IF(AND(ISWMA,OR(MID(Asphalt,4,5)=\"64-22\",MID(Asphalt,4,5)=\"64-28\")),OFFSET(RAT_WMA,(AC_ROW)*3+COURSE_COL-1,1,1,1),20)),VLOOKUP(IFERROR(VALUE(LEFT(Grade,3)),VALUE(RIGHT(LEFT(Grade,7),4))),AC5:AM16,COURSE_COL+4,FALSE))","v":30}]
["APAC-Texas (Gribble Plant)",null,"Fine 1/2\"",{"$f":"LEFT(C8,8)","v":"Fine 1/2"},null,"Bridgeport","0224904","Broken Bow S & G","0050451","Knippa",1523206,null,null,{"$f":"IF(ISERROR(VLOOKUP('Combined Gradation'!$M$23,INDIRECT(Bin5Source&\"Table\"),2,FALSE)),\"\",VLOOKUP('Combined Gradation'!$M$23,INDIRECT(Bin5Source&\"Table\"),2,FALSE))","v":""},null,null,"Cecabase RT (Arkema)",null,null,null,null,null,null,null,"Maximum Ratio of Recycled Binder to Total Binder",null,null,null,344,20,25,30,"TABLE","TABLE","TABLE",10,10,10,5]
["APAC-Texas (Sunnyvale Plant)",null,"Fine 3/8\"",{"$f":"LEFT(C9,8)","v":"Fine 3/8"},null,"Brownwood",2302501,"D and D",2215905,"McKelligon-Granite",2407206,null,null,{"$f":"IF(ISERROR(VLOOKUP('Combined Gradation'!$O$23,INDIRECT(Bin6Source & \"Table\"),2,FALSE)),\"\",VLOOKUP('Combined Gradation'!$O$23,INDIRECT(Bin6Source & \"Table\"),2,FALSE))","v":""},null,null,"Delta S (Collaborative Aggregates LLC)",null,null,null,null,null,null,null,{"$f":"IF(ISERROR(RecBinder/bindercheck*100),\"\",RecBinder/bindercheck*100)","v":3.9375},null,null,null,346,15,20,20,15,20,20,0,0,0,5]
["Alamo Recycle Centers (Bryan Facility)",null,"Coarse 1/2\"",{"$f":"LEFT(C10,8)","v":"Coarse 1"},null,"Burnet",1402701,"Fletcher Pit","2506508","Mill Creek (Grnt), OK.","0050433",null,null,{"$f":"IF(ISERROR(VLOOKUP('Combined Gradation'!$Q$23,INDIRECT(Bin7Source & \"Table\"),2,FALSE)),\"\",VLOOKUP('Combined Gradation'!$Q$23,INDIRECT(Bin7Source & \"Table\"),2,FALSE))","v":""},null,null,"Double Barrel Green (Astec)",null,null,null,null,null,null,null,null,null,null,null,347,0,0,0,0,0,0,0,0,0,0]
["Alamo Recycle Centers (San Angelo Facility)",null,"Coarse 3/8\"",{"$f":"LEFT(C11,8)","v":"Coarse 3"},null,"Butterfield",2407220,"Frasier Pit","2506509","Padre Canyon",2411613,null,null,null,null,null,"Evoflex (Ingevity)",null,null,null,null,null,null,null,null,"Course",null,null,348,10,0,0,15,15,15,0,0,0,5]
["Alamo Recycle Centers (San Antonio Facility)",null,null,null,null,"Chambers","0224921","Galo",2224019,"Plant 1 ","0050106",null,null,null,null,null,"Evotherm (Ingevity)",null,null,null,null,null,null,null,null,{"$f":"IFERROR(IF(OR(VLOOKUP(Grade,MIX_RANGE,4,0)=1,VLOOKUP(Grade,MIX_RANGE,4,0)=3,VLOOKUP(Grade,MIX_RANGE,4,0)=4),\"Surface\",\"\"),\"Select a mix first\")","v":"Surface"},null,null,334,0,0,0,0,0,0,0,0,0,0]
["Alamo Recycle Centers (Waco Facility)",null,"SS Fractionated RAP",null,null,"Chapman",1523211,"Hoban","0619502","Porcupine Mountain","0040105",null,null,null,null,null,"HydroFoam IEQ (East Texas Asphalt)",null,null,null,null,null,null,null,null,{"$f":"IFERROR(IF(OR(VLOOKUP(Grade,MIX_RANGE,4,0)=2,VLOOKUP(Grade,MIX_RANGE,4,0)=3,VLOOKUP(Grade,MIX_RANGE,4,0)=4,0),\"Intermediate\",\"\"),\"Select a mix first\")","v":""},null,null,3000,0,0,0,0,0,0,0,0,0,0]
["Brazos Valley Recycling",null,"RAP 1/2\"",{"$f":"LEFT(C14,7)","v":"RAP 1/2"},null,"Coleman, OK","0050414","Kritser-Fain","0418812","Snyder, OK.","0050435",null,null,null,null,null,"Maxam (Maxam Equipment)",null,null,null,null,null,null,null,null,{"$f":"IFERROR(IF(OR(VLOOKUP(Grade,MIX_RANGE,4,0)=2,VLOOKUP(Grade,MIX_RANGE,4,0)=3),\"Base\",\"\"),\"Select a mix first\")","v":""},null,null,3074,35,0,0,30,0,0,0,0,0,5]
["C & C Recycling",null,"RAP 3/8\"",{"$f":"LEFT(C15,7)","v":"RAP 3/8"},null,"Cooperton, OK","0050415","Las Viboras",2110905,"Vado","0050310",null,null,null,null,null,"QPR QualiTherm (QPR)",null,null,null,null,null,null,null,null,null,null,null,3076,15,25,30,10,20,25,0,0,0,{"$f":"IF(courselift=\"Surface\",0,3)","v":0}]
["Century Asphalt (Melendy Plant)",null,null,null,null,"Eastland",2306805,"Little River","0050114",null,null,null,null,null,null,null,"Redi-Set WMX (AkzoNobel)",null,null,null,null,null,null,null,null,null,null,null,3077,20,30,35,15,25,30,0,0,0,{"$f":"IF(courselift=\"Surface\",0,3)","v":0}]
["Cherry Crushed Concrete",null,null,null,null,"Feld",1424602,"LS Pit","0418002",null,null,null,null,null,null,null,"Rediset LQ (AkzoNobel)"]
["El Paso C&D Recycling",null,null,null,null,"FM 1283 Ranch","1516317","Luckett","0916104",null,null,null,null,null,null,null,"Sasobit (Sasol Wax Americas)",null,null,null,null,null,null,null,null,null,null,null,"Binder Ratios for Items 340, 341, 344"]
["Pavers Supply Company (Conroe Plant)",null,null,null,null,"Forbes Pit","0505803","Matador",2517309,null,null,null,null,null,null,null,"Terex (Terex Roadbuilding)",null,null,null,null,null,null,null,null,null,null,null,null,"PG 70-22","PG 64-22","PG 70-28","PG 64-28",null,null,"PG 58-28","PG 64-34","PG 58-34"]
["Pavers Supply Company (Huntsville Plant)",null,null,null,null,"Gibbs","0901408","Mitchell Pit","0907401",null,null,null,null,null,null,null,"Ultrafoam GX (Gencor Ind)",null,null,null,null,null,null,null,null,null,null,null,"PG 76-22"]
["R2R Recycling (Plano Plant)",null,null,null,null,"Helotes",1501514,"Murphy ",1323505,null,null,null,null,null,null,null,"ZycoTherm (Zydex Ind)",null,null,null,null,null,null,null,null,null,null,null,"PG 70-22"]
["R. K. Hall Construction (Texarkana)",null,null,null,null,"Huebner Road",1501507,"Pit 424",1716611,null,null,null,null,null,null,null,"Other",null,null,null,null,null,null,null,null,null,null,null,"PG 64-22"]
["R.K. Hall Construction (Little Rock)",null,null,null,null,"Hunter",1504605,"Realitos",2106701,null,null,null,null,null,null,null,null,null,null,null,null,null,null,null,null,null,null,null,"PG 76-28"]
["R.K. Hall Construction (Swift Recycling)",null,null,null,null,"I-35 @ Solms Rd.",1504606,"Reavis",2110906,null,null,null,null,null,null,null,null,null,null,null,null,null,null,null,null,null,null,null,"PG 70-28"]
["Ramming Paving Company (Buda)",null,null,null,null,"Lampasas Quarry",1402706,"Sawyer","0406510",null,null,null,null,null,null,null,null,null,null,null,null,null,null,null,null,null,null,null,"PG 64-28"]
["Ramming Paving Company (Ramming Quarry)",null,null,null,null,"Leach","0212001","Showers",2110904]
["Recon Recycle (Del Valle)",null,null,null,null,"Lone Star",1504607,"Smith","0325205"]
["Recon Recycle (New Braunfels)",null,null,null,null,"Marble Falls",1402702,"South Noodle","0812803"]
["Recon Recycle  (IH-10 Yard)",null,null,null,null,"Matrimar","0040103","Stockett","0400604"]
["Recon Recycle (Schertz Yard )",null,null,null,null,"McKelligon Dolo",2407201,"Sweet 16",2206706]
["The Shingle Yard",null,null,null,null,"Mico # 68",1516315,"Thrasher",2517302]
["Southwest Shingle Recycling ",null,null,null,null,"Mill Creek, OK","0050445","Woods","0505402"]
["Sustainable Pavement Technologies, LLC (Pasadena)",null,null,null,null,"Naruna",1402711,"XIT S & G Pit","0418010"]
["Sustainable Pavement Technologies, LLC (Dallas Yard)",null,null,null,null,"Nehemiah Pit","1410608"]
["Sustainable Pavement Technologies, LLC (Fort Worth Yard)",null,null,null,null,"North Troy","0050448"]
["Sustainable Pavement Technologies (Austin Yard)",null,null,null,null,"Pate","0914710"]
["Sustainable Pavement Technologies (San Antonio Yard)",null,null,null,null,"Perch-Hill","0224901"]
["Terra Firma Materials",null,null,null,null,"Ramming","1424608"]
["Thelin Recycling Company (Abilene)",null,null,null,null,"Rankin","0623102"]
["Thelin Recycling Company (Fort Worth)",null,null,null,null,"Richards Spur","0050405"]
[null,null,null,null,null,"Ruby",1410607]
[null,null,null,null,null,"Servtex",1504603]
[null,null,null,null,null,"South Quarry","2407213"]
[null,null,null,null,null,"Spicewood",1402710]
[null,null,null,null,null,"Stringtown, OK","0050407"]
[null,null,null,null,null,"Tehuacana","0914708"]
[null,null,null,null,null,"Turner","0722611"]
[null,null,null,null,null,"Weatherford","0218409"]
[null,null,null,null,null,"Weir",1424603]

{"sheet":"Data_Revisions","index":11,"n_rows":54,"n_cols":4,"rows_kept":54,"cut":false,"hidden":true,"merged":[[51,1,53,1],[51,3,53,3],[1,3,5,3],[1,1,5,1],[6,1,10,1],[6,3,10,3],[11,1,13,1],[11,3,13,3],[44,3,49,3],[44,1,49,1],[21,1,23,1],[21,3,23,3],[16,1,20,1],[16,3,20,3],[33,3,35,3],[38,3,40,3],[26,3,28,3],[29,3,30,3],[42,3,43,3],[26,1,28,1],[29,1,30,1],[33,1,35,1],[38,1,41,1],[42,1,43,1]]}
[null,"WHEN","WHAT","WHO"]
[null,"2015-05-21","Fix TGC density limits for all mixes","Smit"]
[null,null,"Add 342-PFCR-C mix with limits to Gradations"]
[null,null,"Fix gyrations and density checks on Summary Sheet"]
[null,null,"Fix references to old specs on Summary sheet"]
[null,null,"Fix selection of substitute binders on Combined Gradation sheet"]
[null,"2015-05-28","Fix conditional formatting of CRM and Fiber inputs on Combined Gradation & Summary sheets","Smit"]
[null,null,"Fix mix course selection"]
[null,null,"Revise limit checks for Fiber (now based on RAS), Drain Down and Cantabro Loss on Summary sheet"]
[null,null,"Fix density check for PFC designed using SGC"]
[null,null,"Add Gt calcs for PFC with SGC"]
[null,"2015-06-05","Straighten chart curves","Smit"]
[null,null,"Removed VCA inputs"]
[null,null,"Hide ITS input for mixes that require OV"]
[null,"2015-07-08","Fix max binder ratio calc when WMA used without binder substitution","Smit"]
[null,"2015-07-09","Delete old gradation chart","Smit"]
[null,"2015-08-13","Fix RASCheck reference","Smit"]
[null,null,"Add 334 mixes"]
[null,null,"Fix producer lookup"]
[null,null,"Hide MIXTURE DENSIFICATION fields on Summary"]
[null,null,"Hide Additional Mixture Evaluation on Summary"]
[null,"2015-08-20","Replace \"Error\" on interpolated optAC with \"Invalid design\" and fix associated references","Smit"]
[null,null,"Fix calculation of optAC"]
[null,null,"Update MPL for Aggregates, WMA technology, and RAS Producers lists in the hidden DATA RECYCMAT worksheet"]
[null,"2015-09-02","Fix 348 for dimensional analysis","Smit"]
[null,"2015-09-09","Fix Item 344 to flag dust/asphalt ratio","Smit"]
[null,"2016-06-24","Remove VFA from summary sheet and flags","Smit"]
[null,null,"Fix Enter Specification for other"]
[null,null,"Fix grad and min VMA specs for SMAR-F mixes"]
[null,"2016-10-12","341 DG-F mix, started with the ¾” sieve and should start with the ½” sieve","Smit"]
[null,null,"Prompt and flag spec for RAP stockpiles"]
[null,"2016-11-22","Fix RAP checks","Smit"]
[null,"2017-01-19","Removed round function from AB18 on combined gradation sheet and reformated to show 1 decimal","Smit"]
[null,"2018-03-08","Fix producer code for Young quarry","Rahman"]
[null,null,"Fix maximum density line"]
[null,null,"Fix target density check for CAM "]
[null,"2018-03-22","Add Martin Marietta Webberville aggregate","Rahman"]
[null,"2018-08-10","Change agg A for 348-PFC-C and F from #8 to #4","Rahman"]
[null,"2019-02-28","Add WMA technology Delta S and change WMA supplier name for Evoflex and Evotherm to Ingevity","Rahman"]
[null,null,"Add mixture evaluation@ optimum ac table for item 342 and 348 on the summary sheet"]
[null,null,"Add 348-PFCR-C mix "]
[null,null,"Update operational tolerances for AC for 347 and 348"]
[null,"2019-05-17","Add asphalt sources in a dropdown list","Rahman"]
[null,null,"Make asphalt source a required input by adding error message on binder percent for blank asphalt source"]
[null,"2019-09-27","Add special spec items 3076 and 3077","Rahman"]
[null,null,"Add Rio Medina Quarry from Capitol Aggregates"]
[null,null,"Add missing fourth argument to all VLOOKUP functions"]
[null,null,"Fix Crushed face count for Item 344"]
[null,null,"Fix fractionated recycled aggregate flagging"]
[null,null,"Flag recycled materials for CAM"]
[null,"2019-11-15","Add parts I, VI, VIII to TX207","Rahman"]
[null,"2020-03-03","Add special spec item 3074, balanced mix design","Rahman"]
[null,null,"Add CFE and CPR for overlay test for all mixes"]
[null,null,"Add fourth argument to the VLOOKUP function in Aggregate Classification sheet, cells D28:D37 and C27:C36"]

{"sheet":"GRAD CHART","index":12,"n_rows":0,"n_cols":0,"rows_kept":0,"cut":false,"hidden":false,"merged":[[5,19,5,21]]}

{"sheet":"DATA_CHART","index":13,"n_rows":13,"n_cols":14,"rows_kept":13,"cut":false,"hidden":true,"merged":[]}
[]
[null,null,null,null,null,null,null,"MDL",null,null,"nom","max",0,0]
[null,null,null,null,"Combined gradation",null,null,null,null,null,{"$f":"MATCH(TRUE,INDEX($J$4:$J$13>10,0),0)-1","v":{"$error":"#N/A"}},{"$f":"K3-1","v":{"$error":"#N/A"}},{"$f":"INDEX(C4:C13,L3)","v":{"$error":"#N/A"}},100]
[{"$f":"INDEX(INDIRECT(VLOOKUP(Grade,MIX_RANGE,2,0)),1,2)","v":"1\""},{"$f":"INDEX(INDIRECT(VLOOKUP(Grade,MIX_RANGE,2,0)),1,4)","v":25},{"$f":"B4^0.45","v":4.2566996126039234},0,{"$f":"'Combined Gradation'!Y35","v":""},{"$f":"'Combined Gradation'!Z35","v":100},{"$f":"'Combined Gradation'!AA35","v":100},{"$f":"TREND($N$2:$N$3,$M$2:$M$3,C4)","v":{"$error":"#VALUE!"}}]
[{"$f":"INDEX(INDIRECT(VLOOKUP(Grade,MIX_RANGE,2,0)),2,2)","v":"3/4\""},{"$f":"INDEX(INDIRECT(VLOOKUP(Grade,MIX_RANGE,2,0)),2,4)","v":19},3.7621761023862978,0,{"$f":"'Combined Gradation'!Y36","v":""},{"$f":"'Combined Gradation'!Z36","v":98},{"$f":"'Combined Gradation'!AA36","v":100},{"$f":"TREND($N$2:$N$3,$M$2:$M$3,C5)","v":{"$error":"#VALUE!"}},null,{"$f":"IF(version>=11,E$4-E5,E4-E5)","v":{"$error":"#VALUE!"}}]
[{"$f":"INDEX(INDIRECT(VLOOKUP(Grade,MIX_RANGE,2,0)),3,2)","v":"1/2\""},{"$f":"INDEX(INDIRECT(VLOOKUP(Grade,MIX_RANGE,2,0)),3,4)","v":12.5},3.116086507375345,0,{"$f":"'Combined Gradation'!Y37","v":""},{"$f":"'Combined Gradation'!Z37","v":90},{"$f":"'Combined Gradation'!AA37","v":100},{"$error":"#VALUE!"},null,{"$error":"#VALUE!"}]
[{"$f":"INDEX(INDIRECT(VLOOKUP(Grade,MIX_RANGE,2,0)),4,2)","v":"3/8\""},{"$f":"INDEX(INDIRECT(VLOOKUP(Grade,MIX_RANGE,2,0)),4,4)","v":9.5},2.754074108566122,0,{"$f":"'Combined Gradation'!Y38","v":""},{"$f":"'Combined Gradation'!Z38","v":58},{"$f":"'Combined Gradation'!AA38","v":90},{"$error":"#VALUE!"},null,{"$error":"#VALUE!"}]
[{"$f":"INDEX(INDIRECT(VLOOKUP(Grade,MIX_RANGE,2,0)),5,2)","v":"No. 4"},{"$f":"INDEX(INDIRECT(VLOOKUP(Grade,MIX_RANGE,2,0)),5,4)","v":4.75},2.0161002539629291,0,{"$f":"'Combined Gradation'!Y39","v":""},{"$f":"'Combined Gradation'!Z39","v":28},{"$f":"'Combined Gradation'!AA39","v":90},{"$error":"#VALUE!"},null,{"$error":"#VALUE!"}]
[{"$f":"INDEX(INDIRECT(VLOOKUP(Grade,MIX_RANGE,2,0)),6,2)","v":"No. 8"},{"$f":"INDEX(INDIRECT(VLOOKUP(Grade,MIX_RANGE,2,0)),6,4)","v":2.36},1.4716698795820382,0,{"$f":"'Combined Gradation'!Y40","v":""},{"$f":"'Combined Gradation'!Z40","v":28},{"$f":"'Combined Gradation'!AA40","v":58},{"$error":"#VALUE!"},null,{"$error":"#VALUE!"}]
[{"$f":"INDEX(INDIRECT(VLOOKUP(Grade,MIX_RANGE,2,0)),7,2)","v":"No. 16"},{"$f":"INDEX(INDIRECT(VLOOKUP(Grade,MIX_RANGE,2,0)),7,4)","v":1.18},1.0773254099250416,0,{"$f":"'Combined Gradation'!Y41","v":""},{"$f":"'Combined Gradation'!Z41","v":2},{"$f":"'Combined Gradation'!AA41","v":58},{"$error":"#VALUE!"},null,{"$error":"#VALUE!"}]
[{"$f":"INDEX(INDIRECT(VLOOKUP(Grade,MIX_RANGE,2,0)),8,2)","v":"No. 30"},{"$f":"INDEX(INDIRECT(VLOOKUP(Grade,MIX_RANGE,2,0)),8,4)","v":0.6},0.79463568224020453,0,{"$f":"'Combined Gradation'!Y42","v":""},{"$f":"'Combined Gradation'!Z42","v":2},{"$f":"'Combined Gradation'!AA42","v":58},{"$error":"#VALUE!"},null,{"$error":"#VALUE!"}]
[{"$f":"INDEX(INDIRECT(VLOOKUP(Grade,MIX_RANGE,2,0)),9,2)","v":"No. 50"},{"$f":"INDEX(INDIRECT(VLOOKUP(Grade,MIX_RANGE,2,0)),9,4)","v":0.3},0.58170736792793831,0,{"$f":"'Combined Gradation'!Y43","v":""},{"$f":"'Combined Gradation'!Z43","v":2},{"$f":"'Combined Gradation'!AA43","v":58},{"$error":"#VALUE!"},null,{"$error":"#VALUE!"}]
[{"$f":"INDEX(INDIRECT(VLOOKUP(Grade,MIX_RANGE,2,0)),10,2)","v":"No. 200"},{"$f":"INDEX(INDIRECT(VLOOKUP(Grade,MIX_RANGE,2,0)),10,4)","v":7.4999999999999997E-2},{"$f":"B13^0.45","v":0.31172925995349998},0,{"$f":"'Combined Gradation'!Y44","v":""},{"$f":"'Combined Gradation'!Z44","v":2},{"$f":"'Combined Gradation'!AA44","v":10},{"$error":"#VALUE!"},null,{"$error":"#VALUE!"}]

{"sheet":"DATA_Std Spec GRADATIONS","index":14,"n_rows":407,"n_cols":34,"rows_kept":407,"cut":false,"hidden":true,"merged":[[348,2,356,2],[348,8,356,8],[348,11,356,11],[348,12,356,12],[348,13,356,13],[348,14,356,14],[348,15,356,15],[348,16,356,16],[348,17,356,17],[338,2,347,2],[338,8,347,8],[338,11,347,11],[338,12,347,12],[338,13,347,13],[338,14,347,14],[338,15,347,15],[338,16,347,16],[338,17,347,17],[259,16,265,16],[259,17,265,17],[357,17,361,17],[267,17,276,17],[184,11,189,11],[184,17,189,17],[232,8,237,8],[213,8,221,8],[184,14,189,14],[184,15,189,15],[243,16,250,16],[243,17,250,17],[267,16,276,16],[232,12,237,12],[251,16,258,16],[251,17,258,17],[190,15,196,15],[213,15,221,15],[205,14,212,14],[205,15,212,15],[190,13,196,13],[205,13,212,13],[190,12,196,12],[197,13,204,13],[362,2,367,2],[174,2,183,2],[205,2,212,2],[174,8,183,8],[184,2,189,2],[190,2,196,2],[138,8,145,8],[138,2,145,2],[251,2,258,2],[251,8,258,8],[197,2,204,2],[184,8,189,8],[232,2,237,2],[357,2,361,2],[259,2,265,2],[259,8,265,8],[267,2,276,2],[294,2,301,2],[294,8,301,8],[277,2,285,2],[277,8,285,8],[309,2,318,2],[309,8,318,8],[329,2,337,2],[368,1,375,1],[243,1,250,1],[232,1,237,1],[238,1,242,1],[184,1,189,1],[190,1,196,1],[197,1,204,1],[166,1,173,1],[174,1,183,1],[205,1,212,1],[251,1,258,1],[259,1,265,1],[357,1,361,1],[362,1,367,1],[294,1,301,1],[277,1,285,1],[309,1,318,1],[329,1,337,1],[319,1,328,1],[338,1,347,1],[348,1,356,1],[13,1,21,1],[267,1,276,1],[22,1,29,1],[30,1,37,1],[38,1,44,1],[45,1,54,1],[55,1,64,1],[65,1,74,1],[75,1,83,1],[147,1,152,1],[84,1,93,1],[94,1,102,1],[226,1,231,1],[153,1,158,1],[103,1,111,1],[112,1,120,1],[121,1,128,1],[129,1,137,1],[138,1,145,1],[159,1,164,1],[368,2,375,2],[387,14,387,15],[387,7,387,8],[398,7,398,8],[399,7,399,8],[401,13,401,14],[398,13,398,14],[393,7,393,8],[387,10,389,10],[392,7,392,8],[379,7,379,8],[377,10,379,10],[390,7,390,8],[384,14,384,15],[388,12,388,13],[380,14,380,15],[383,14,383,15],[391,22,391,33],[385,7,385,8],[381,7,381,8],[382,10,384,10],[368,15,375,15],[368,16,375,16],[368,17,375,17],[362,16,367,16],[362,17,367,17],[362,15,367,15],[362,8,367,8],[362,11,367,11],[384,12,384,13],[391,7,391,8],[383,7,383,8],[380,7,380,8],[368,8,375,8],[368,11,375,11],[368,12,375,12],[368,13,375,13],[380,12,380,13],[381,12,381,13],[384,7,384,8],[379,12,379,15],[243,12,250,12],[232,13,237,13],[243,2,250,2],[243,11,250,11],[213,2,221,2],[213,13,221,13],[213,12,221,12],[213,11,221,11],[243,13,250,13],[226,2,231,2],[222,2,225,2],[226,12,231,12],[226,13,231,13],[238,2,242,2],[238,20,242,20],[232,14,237,14],[232,15,237,15],[238,14,242,14],[238,15,242,15],[238,18,242,18],[232,19,237,19],[238,19,242,19],[232,18,237,18],[232,16,237,16],[232,17,237,17],[238,16,242,16],[238,17,242,17],[65,15,74,15],[84,15,93,15],[45,14,54,14],[45,15,54,15],[30,14,37,14],[30,15,37,15],[22,14,29,14],[22,15,29,15],[232,20,237,20],[197,15,204,15],[190,14,196,14],[190,18,196,18],[159,17,164,17],[184,19,189,19],[184,16,189,16],[184,18,189,18],[55,14,64,14],[55,15,64,15],[65,14,74,14],[94,14,102,14],[94,15,102,15],[103,14,111,14],[103,15,111,15],[75,14,83,14],[190,19,196,19],[213,17,221,17],[205,16,212,16],[205,17,212,17],[213,16,221,16],[197,16,204,16],[197,17,204,17],[190,17,196,17],[197,19,204,19],[205,18,212,18],[205,19,212,19],[197,18,204,18],[213,19,221,19],[213,18,221,18],[190,16,196,16],[437,7,437,8],[385,12,385,13],[388,14,388,15],[436,7,436,8],[387,12,387,13],[430,7,430,8],[388,7,388,8],[389,7,389,8],[395,7,395,8],[396,7,396,8],[391,12,391,20],[400,13,400,14],[385,14,385,15],[386,14,386,15],[433,7,433,8],[435,7,435,8],[413,7,413,8],[402,7,402,8],[403,7,403,8],[404,7,404,8],[386,12,386,13],[428,7,428,8],[386,7,386,8],[427,7,427,8],[1,6,1,7],[30,8,37,8],[38,8,44,8],[45,8,54,8],[13,8,21,8],[22,8,29,8],[0,8,1,8],[45,2,54,2],[38,2,44,2],[4,2,12,2],[4,8,12,8],[30,2,37,2],[22,2,29,2],[13,2,21,2],[94,2,102,2],[129,2,137,2],[103,8,111,8],[129,8,137,8],[112,8,120,8],[166,2,173,2],[166,8,173,8],[55,2,64,2],[75,2,83,2],[153,2,158,2],[147,2,152,2],[147,8,152,8],[103,2,111,2],[84,2,93,2],[84,8,93,8],[55,8,64,8],[112,2,120,2],[121,8,128,8],[121,2,128,2],[94,8,102,8],[75,8,83,8],[65,2,74,2],[159,2,164,2],[159,8,164,8],[1,9,1,10],[30,11,37,11],[38,11,44,11],[382,12,382,13],[383,12,383,13],[238,8,242,8],[205,8,212,8],[243,8,250,8],[232,11,237,11],[238,13,242,13],[65,8,74,8],[103,13,111,13],[112,12,120,12],[112,13,120,13],[129,13,137,13],[153,8,158,8],[205,11,212,11],[190,8,196,8],[197,8,204,8],[190,11,196,11],[197,12,204,12],[197,11,204,11],[184,13,189,13],[357,8,361,8],[259,11,265,11],[259,12,265,12],[259,13,265,13],[259,14,265,14],[259,15,265,15],[357,12,361,12],[267,13,276,13],[267,14,276,14],[357,15,361,15],[267,15,276,15],[357,14,361,14],[357,13,361,13],[294,11,301,11],[294,12,301,12],[294,13,301,13],[294,14,301,14],[294,15,301,15],[277,11,285,11],[277,12,285,12],[277,13,285,13],[277,14,285,14],[277,15,285,15],[309,11,318,11],[309,12,318,12],[243,14,250,14],[243,15,250,15],[159,11,164,11],[4,11,12,11],[13,11,21,11],[226,14,231,14],[226,15,231,15],[251,15,258,15],[251,12,258,12],[251,13,258,13],[251,14,258,14],[251,11,258,11],[75,12,83,12],[153,12,158,12],[55,11,64,11],[65,11,74,11],[38,12,44,12],[94,12,102,12],[94,13,102,13],[121,12,128,12],[45,13,54,13],[55,12,64,12],[55,13,64,13],[65,12,74,12],[13,12,21,12],[13,13,21,13],[45,12,54,12],[22,12,29,12],[30,12,37,12],[1,11,2,11],[22,11,29,11],[45,11,54,11],[174,14,183,14],[159,12,164,12],[159,13,164,13],[159,14,164,14],[103,12,111,12],[65,13,74,13],[84,11,93,11],[84,12,93,12],[181,20,183,20],[94,11,102,11],[103,11,111,11],[112,11,120,11],[121,11,128,11],[146,11,146,12],[147,12,152,12],[121,13,128,13],[166,12,173,12],[138,13,145,13],[129,11,137,11],[138,11,145,11],[138,12,145,12],[129,12,137,12],[181,18,182,19],[153,15,158,15],[129,14,137,14],[129,15,137,15],[138,14,145,14],[138,15,145,15],[166,14,173,14],[166,15,173,15],[112,14,120,14],[112,15,120,15],[1,16,1,17],[4,16,12,16],[4,17,12,17],[13,16,21,16],[13,17,21,17],[22,16,29,16],[22,17,29,17],[22,13,29,13],[38,13,44,13],[30,13,37,13],[30,16,37,16],[1,14,1,15],[4,14,12,14],[4,15,12,15],[13,14,21,14],[13,15,21,15],[38,14,44,14],[38,15,44,15],[30,17,37,17],[38,16,44,16],[38,17,44,17],[1,12,1,13],[4,12,12,12],[4,13,12,13],[75,16,83,16],[174,17,183,17],[174,13,183,13],[153,13,158,13],[166,13,173,13],[153,17,158,17],[129,16,137,16],[129,17,137,17],[138,17,145,17],[174,16,183,16],[147,13,152,13],[75,13,83,13],[121,14,128,14],[121,15,128,15],[147,14,152,14],[147,15,152,15],[153,14,158,14],[84,14,93,14],[174,15,183,15],[159,15,164,15],[159,16,164,16],[75,15,83,15],[84,13,93,13],[112,17,120,17],[121,16,128,16],[121,17,128,17],[138,16,145,16],[147,16,152,16],[205,12,212,12],[147,11,152,11],[174,11,183,11],[174,12,183,12],[184,12,189,12],[197,14,204,14],[166,11,173,11],[153,11,158,11],[429,7,429,8],[382,7,382,8],[431,7,431,8],[267,8,276,8],[45,16,54,16],[45,17,54,17],[84,16,93,16],[84,17,93,17],[94,16,102,16],[94,17,102,17],[55,16,64,16],[55,17,64,17],[65,16,74,16],[65,17,74,17],[75,17,83,17],[213,14,221,14],[75,11,83,11],[166,16,173,16],[166,17,173,17],[153,16,158,16],[147,17,152,17],[103,16,111,16],[103,17,111,17],[112,16,120,16],[426,7,426,8],[421,7,421,8],[397,7,397,8],[394,7,394,8],[423,7,423,8],[402,13,402,14],[403,13,403,14],[399,13,399,14],[424,7,424,8],[357,16,361,16],[368,14,375,14],[382,14,382,15],[381,14,381,15],[415,7,415,8],[416,7,416,8],[406,7,406,8],[407,7,407,8],[408,7,408,8],[409,7,409,8],[405,7,405,8],[362,13,367,13],[362,14,367,14],[357,11,361,11],[226,16,231,16],[226,17,231,17],[226,18,231,18],[226,19,231,19],[226,20,231,20],[434,7,434,8],[238,12,242,12],[238,11,242,11],[420,7,420,8],[267,11,276,11],[267,12,276,12],[414,7,414,8],[411,7,411,8],[412,7,412,8],[410,7,410,8],[400,7,400,8],[401,7,401,8],[425,7,425,8],[417,7,417,8],[418,7,418,8],[419,7,419,8],[422,7,422,8],[432,7,432,8],[362,12,367,12],[294,16,301,16],[294,17,301,17],[302,1,308,1],[302,2,308,2],[302,8,308,8],[302,11,308,11],[302,12,308,12],[302,13,308,13],[302,14,308,14],[302,15,308,15],[302,16,308,16],[302,17,308,17],[277,16,285,16],[277,17,285,17],[286,1,293,1],[286,2,293,2],[286,8,293,8],[286,11,293,11],[286,12,293,12],[286,13,293,13],[286,14,293,14],[286,15,293,15],[286,16,293,16],[286,17,293,17],[329,17,337,17],[309,13,318,13],[309,14,318,14],[309,15,318,15],[309,16,318,16],[309,17,318,17],[319,17,328,17],[319,2,328,2],[319,8,328,8],[319,11,328,11],[319,12,328,12],[319,13,328,13],[319,14,328,14],[319,15,328,15],[319,16,328,16],[329,8,337,8],[329,11,337,11],[329,12,337,12],[329,13,337,13],[329,14,337,14],[329,15,337,15],[329,16,337,16]]}
[null,null,null,null,null,null,null,null,"Design VMA:"]
[null,null,null,null,null,null,"Washed Sieve",null,null,"Reference Zone:",null,"# of Sieves with Coarse Aggregate","AC Content",null,"TGC Target Lab Density",null,"Gyrations"]
[null,null,"Grade",null,null,null,"Min","Max","Min","Lower","Upper",null,"Min","Max","Min","Max","Min","Max",null,"Sieve Size",null,null,null,"Combined Gradation","Lower Spec Limit","Upper Spec Limit"]
[null,null,1,2,3,4,5,6,7,8,9,10,11,12,13,14,15,16,null,{"$f":"sieve1","v":"1\""},{"$f":"IF(T4<>\"\",VLOOKUP(T4,$E$382:$F$407,2,FALSE),\"\")","v":25},{"$f":"IF(ISERROR(U4^0.45),\"\",U4^0.45)","v":4.2566996126039234},{"$f":"100","v":100},{"$f":"IF(T4=\"\",\"\",'Combined Gradation'!Y35)","v":""},{"$f":"'Combined Gradation'!Z35","v":100},{"$f":"'Combined Gradation'!AA35","v":100}]
[null,null,"defunct",null,null,null,null,null,null,null,null,null,null,null,null,null,null,null,null,{"$f":"sieve2","v":"3/4\""},19,{"$f":"IF(ISERROR(U5^0.45),\"\",U5^0.45)","v":3.7621761023862978},{"$f":"IF(ISERROR((100*($V5/$V$4))),\"\",(100*($V5/$V$4)))","v":88.382466341919908},{"$f":"IF(T5=\"\",\"\",'Combined Gradation'!Y36)","v":""},{"$f":"'Combined Gradation'!Z36","v":98},{"$f":"'Combined Gradation'!AA36","v":100}]
[null,null,null,null,null,null,null,null,null,null,null,null,null,null,null,null,null,null,null,{"$f":"sieve3","v":"1/2\""},12.5,3.116086507375345,73.204284797281289,{"$f":"IF(T6=\"\",\"\",'Combined Gradation'!Y37)","v":""},{"$f":"'Combined Gradation'!Z37","v":90},{"$f":"'Combined Gradation'!AA37","v":100}]
[null,null,null,null,null,null,null,null,null,null,null,null,null,null,null,null,null,null,null,{"$f":"sieve4","v":"3/8\""},9.5,2.754074108566122,64.699752371800329,{"$f":"IF(T7=\"\",\"\",'Combined Gradation'!Y38)","v":""},{"$f":"'Combined Gradation'!Z38","v":58},{"$f":"'Combined Gradation'!AA38","v":90}]
[null,null,null,null,null,null,null,null,null,null,null,null,null,null,null,null,null,null,null,{"$f":"sieve5","v":"No. 4"},4.75,2.0161002539629291,47.36299098938845,{"$f":"IF(T8=\"\",\"\",'Combined Gradation'!Y39)","v":""},{"$f":"'Combined Gradation'!Z39","v":28},{"$f":"'Combined Gradation'!AA39","v":90}]
[null,null,null,null,null,null,null,null,null,null,null,null,null,null,null,null,null,null,null,{"$f":"sieve6","v":"No. 8"},2.36,1.4716698795820382,34.573026370582518,{"$f":"IF(T9=\"\",\"\",'Combined Gradation'!Y40)","v":""},{"$f":"'Combined Gradation'!Z40","v":28},{"$f":"'Combined Gradation'!AA40","v":58}]
[null,null,null,null,null,null,null,null,null,null,null,null,null,null,null,null,null,null,null,{"$f":"sieve7","v":"No. 16"},1.18,1.0773254099250416,25.308936687360379,{"$f":"IF(T10=\"\",\"\",'Combined Gradation'!Y41)","v":""},{"$f":"'Combined Gradation'!Z41","v":2},{"$f":"'Combined Gradation'!AA41","v":58}]
[null,null,null,null,null,null,null,null,null,null,null,null,null,null,null,null,null,null,null,{"$f":"sieve8","v":"No. 30"},0.6,0.79463568224020453,18.667882504260316,{"$f":"IF(T11=\"\",\"\",'Combined Gradation'!Y42)","v":""},{"$f":"'Combined Gradation'!Z42","v":2},{"$f":"'Combined Gradation'!AA42","v":58}]
[null,null,null,null,null,null,null,null,null,null,null,null,null,null,null,null,null,null,null,{"$f":"sieve9","v":"No. 50"},0.3,0.58170736792793831,13.665689874040565,{"$f":"IF(T12=\"\",\"\",'Combined Gradation'!Y43)","v":""},{"$f":"'Combined Gradation'!Z43","v":2},{"$f":"'Combined Gradation'!AA43","v":58}]
[null,null,null,null,null,null,null,null,null,null,null,null,null,null,null,null,null,null,null,{"$f":"sieve10","v":"No. 200"},7.4999999999999997E-2,0.31172925995349998,7.3232618771238087,{"$f":"IF(T13=\"\",\"\",'Combined Gradation'!Y44)","v":""},{"$f":"'Combined Gradation'!Z44","v":2},{"$f":"'Combined Gradation'!AA44","v":10}]
[null,"MIX_02/28","340/1-DG-B","1-1/2\"",null,{"$f":"VLOOKUP(D14,$E$382:$F$407,2,FALSE)","v":37.5},100,100,13,null,null,null,null,null,96.5,97.5,35,100]
[null,null,null,"1\"",null,25,98,100]
[null,null,null,"3/4\"",null,19,84,98]
[null,null,null,"3/8\"",null,9.5,60,80]
[null,null,null,"No. 4",null,4.75,40,60]
[null,null,null,"No. 8",null,2.36,29,43]
[null,null,null,"No. 30",null,0.6,13,28]
[null,null,null,"No. 50",null,0.3,6,20]
[null,null,null,"No. 200",null,7.4999999999999997E-2,2,7]
[null,"MIX_03/29","340/1-DG-C","1\"",null,25,100,100,14,null,null,null,null,null,96.5,97.5,35,100]
[null,null,null,"3/4\"",null,19,95,100,null,null,null,null,null,null,null,null,null,null,null,null,"JUNK FIELD #'S"]
[null,null,null,"3/8\"",null,9.5,70,85]
[null,null,null,"No. 4",null,4.75,43,63]
[null,null,null,"No. 8",null,2.36,32,44]
[null,null,null,"No. 30",null,0.6,14,28]
[null,null,null,"No. 50",null,0.3,7,21]
[null,null,null,"No. 200",null,7.4999999999999997E-2,2,7]
[null,"MIX_04/30","340/1-DG-D","3/4\"",null,19,100,100,15,null,null,null,null,null,96.5,97.5,35,100]
[null,null,null,"1/2\"",null,12.5,98,100]
[null,null,null,"3/8\"",null,9.5,85,100]
[null,null,null,"No. 4",null,4.75,50,70]
[null,null,null,"No. 8",null,2.36,35,46]
[null,null,null,"No. 30",null,0.6,15,29]
[null,null,null,"No. 50",null,0.3,7,20]
[null,null,null,"No. 200",null,7.4999999999999997E-2,2,7]
[null,"MIX_05/31","340/1-DG-F",{"$f":"IF(version>=9,\"1/2\"\"\",\"3/4\"\"\")","v":"1/2\""},null,12.5,100,100,16,null,null,null,null,null,96.5,97.5,35,100]
[null,null,null,"3/8\"",null,9.5,98,100]
[null,null,null,"No. 4",null,4.75,{"$f":"IF(OR(version>4, specialprovision=\"341-024\"),70,80)","v":70},{"$f":"IF(OR(version>4, specialprovision=\"341-024\"),90,86)","v":90}]
[null,null,null,"No. 8",null,2.36,38,48]
[null,null,null,"No. 30",null,0.6,12,27]
[null,null,null,"No. 50",null,0.3,6,19]
[null,null,null,"No. 200",null,7.4999999999999997E-2,2,7]
[null,"MIX_10","344-SP-A","2\"",null,{"$f":"VLOOKUP(D46,$E$382:$F$407,2,FALSE)","v":50},100,100,13,null,null,6,null,null,"NA","NA",35,100]
[null,null,null,"1-1/2\"",null,37.5,98,100]
[null,null,null,"1\"",null,25,90,100]
[null,null,null,"3/4\"",null,19,45,90]
[null,null,null,"No. 4",null,4.75,19,90,null,39.5,39.5]
[null,null,null,"No. 8",null,2.36,19,45,null,26.8,30.8]
[null,null,null,"No. 16",null,1.18,1,45,null,18.100000000000001,24.1]
[null,null,null,"No. 30",null,0.6,1,45,null,13.6,17.5]
[null,null,null,"No. 50",null,0.3,1,45,null,11.4,11.4]
[null,null,null,"No. 200",null,7.4999999999999997E-2,1,7]
[null,"MIX_11","344-SP-B","1-1/2\"",null,37.5,100,100,14,null,null,6,null,null,"NA","NA",35,100]
[null,null,null,"1\"",null,25,98,100]
[null,null,null,"3/4\"",null,19,90,100]
[null,null,null,"1/2\"",null,12.5,49,90]
[null,null,null,"No. 4",null,4.75,23,90]
[null,null,null,"No. 8",null,2.36,23,49,null,34.6,34.6]
[null,null,null,"No. 16",null,1.18,2,49,null,22.3,28.3]
[null,null,null,"No. 30",null,0.6,2,49,null,16.7,20.7]
[null,null,null,"No. 50",null,0.3,2,49,null,13.7,13.7]
[null,null,null,"No. 200",null,7.4999999999999997E-2,2,8]
[null,"MIX_12","344-SP-C","1\"",null,25,100,100,15,null,null,6,null,null,"NA","NA",35,100]
[null,null,null,"3/4\"",null,19,98,100]
[null,null,null,"1/2\"",null,12.5,90,100]
[null,null,null,"3/8\"",null,9.5,58,90]
[null,null,null,"No. 4",null,4.75,28,90]
[null,null,null,"No. 8",null,2.36,28,58,null,39.1,39.1]
[null,null,null,"No. 16",null,1.18,2,58,null,25.6,31.6]
[null,null,null,"No. 30",null,0.6,2,58,null,19.100000000000001,23.1]
[null,null,null,"No. 50",null,0.3,2,58,null,15.5,15.5]
[null,null,null,"No. 200",null,7.4999999999999997E-2,2,10]
[null,"MIX_13","344-SP-D","3/4\"",null,19,100,100,16,null,null,5,null,null,"NA","NA",35,100]
[null,null,null,"1/2\"",null,12.5,98,100]
[null,null,null,"3/8\"",null,{"$f":"VLOOKUP(D78,$E$382:$F$407,2,FALSE)","v":9.5},90,100]
[null,null,null,"No. 4",null,4.75,32,90]
[null,null,null,"No. 8",null,2.36,32,67,null,47.2,47.2]
[null,null,null,"No. 16",null,1.18,2,67,null,31.6,37.6]
[null,null,null,"No. 30",null,0.6,2,67,null,23.5,27.5]
[null,null,null,"No. 50",null,0.3,2,67,null,18.7,18.7]
[null,null,null,"No. 200",null,7.4999999999999997E-2,2,10]
[null,"MIX_32","334-HMCL-A","2\"",null,50,100,100,12,null,null,null,null,null,91,94,35,100]
[null,null,null,"1-1/2\"",null,37.5,98,100]
[null,null,null,"1\"",null,25,78,94]
[null,null,null,"3/4\"",null,19,64,85]
[null,null,null,"1/2\"",null,12.5,50,70]
[null,null,null,"No. 4",null,4.75,30,50]
[null,null,null,"No. 8",null,2.36,22,36]
[null,null,null,"No. 30",null,0.6,8,23]
[null,null,null,"No. 50",null,0.3,3,19]
[null,null,null,"No. 200",null,7.4999999999999997E-2,2,7]
[null,"MIX_33","334-HMCL-B","1-1/2\"",null,37.5,100,100,13,null,null,null,null,null,91,94,35,100]
[null,null,null,"1\"",null,25,98,100]
[null,null,null,"3/4\"",null,19,84,98]
[null,null,null,"3/8\"",null,9.5,60,80]
[null,null,null,"No. 4",null,4.75,40,60]
[null,null,null,"No. 8",null,2.36,29,43]
[null,null,null,"No. 30",null,0.6,13,28]
[null,null,null,"No. 50",null,0.3,6,20]
[null,null,null,"No. 200",null,7.4999999999999997E-2,2,7]
[null,"MIX_14","346-SMA-C","3/4\"",null,19,100,100,17.5,null,null,5,6,7,"NA","NA",35,100]
[null,null,null,"1/2\"",null,12.5,80,90]
[null,null,null,"3/8\"",null,9.5,25,60]
[null,null,null,"No. 4",null,4.75,20,28]
[null,null,null,"No. 8",null,2.36,14,20]
[null,null,null,"No. 16",null,1.18,8,20]
[null,null,null,"No. 30",null,{"$f":"VLOOKUP(D110,$E$382:$F$407,2,FALSE)","v":0.6},8,20]
[null,null,null,"No. 50",null,0.3,8,20]
[null,null,null,"No. 200",null,7.4999999999999997E-2,8,12]
[null,"MIX_15","346-SMA-D","3/4\"",null,19,100,100,17.5,null,null,5,6,7,"NA","NA",35,100]
[null,null,null,"1/2\"",null,12.5,85,99]
[null,null,null,"3/8\"",null,9.5,50,75]
[null,null,null,"No. 4",null,4.75,20,32]
[null,null,null,"No. 8",null,2.36,16,28]
[null,null,null,"No. 16",null,1.18,8,28]
[null,null,null,"No. 30",null,0.6,8,28]
[null,null,null,"No. 50",null,0.3,8,28]
[null,null,null,"No. 200",null,7.4999999999999997E-2,8,12]
[null,"MIX_16","346-SMA-F","1/2\"",null,12.5,100,100,17.5,null,null,4,6,7,"NA","NA",35,100]
[null,null,null,"3/8\"",null,9.5,70,100]
[null,null,null,"No. 4",null,4.75,30,60]
[null,null,null,"No. 8",null,2.36,20,40]
[null,null,null,"No. 16",null,1.18,6,30]
[null,null,null,"No. 30",null,0.6,6,30]
[null,null,null,"No. 50",null,0.3,6,30]
[null,null,null,"No. 200",null,7.4999999999999997E-2,4,12]
[null,"MIX_17","346-SMAR-C","3/4\"",null,19,100,100,19,null,null,5,7,10,"NA","NA",35,100]
[null,null,null,"1/2\"",null,12.5,72,85]
[null,null,null,"3/8\"",null,9.5,50,70]
[null,null,null,"No. 4",null,4.75,30,45]
[null,null,null,"No. 8",null,2.36,17,27]
[null,null,null,"No. 16",null,1.18,12,22]
[null,null,null,"No. 30",null,0.6,8,20]
[null,null,null,"No. 50",null,0.3,6,15]
[null,null,null,"No. 200",null,7.4999999999999997E-2,5,9]
[null,"MIX_18","346-SMAR-F","1/2\"",null,12.5,100,100,{"$f":"IF(version>=9,19,17.5)","v":19},null,null,4,7,10,"NA","NA",35,100]
[null,null,null,"3/8\"",null,9.5,{"$f":"IF(version>=9,95,70)","v":95},100]
[null,null,null,"No. 4",null,4.75,{"$f":"IF(version>=9,40,30)","v":40},{"$f":"IF(version>=9,50,60)","v":50}]
[null,null,null,"No. 8",null,2.36,{"$f":"IF(version>=9,17,20)","v":17},{"$f":"IF(version>=9,27,40)","v":27}]
[null,null,null,"No. 16",null,1.18,{"$f":"IF(version>=9,12,6)","v":12},{"$f":"IF(version>=9,22,30)","v":22}]
[null,null,null,"No. 30",null,0.6,{"$f":"IF(version>=9,8,6)","v":8},{"$f":"IF(version>=9,20,30)","v":20}]
[null,null,null,"No. 50",null,0.3,6,{"$f":"IF(version>=9,15,30)","v":15}]
[null,null,null,"No. 200",null,7.4999999999999997E-2,{"$f":"IF(version>=9,5,4)","v":5},{"$f":"IF(version>=9,9,12)","v":9}]
[]
[null,"MIX_07","342-PFC-C","3/4\"",null,{"$f":"VLOOKUP(D148,$E$382:$F$407,2,FALSE)","v":19},100,100,null,null,null,null,6,7,0,82,50,50]
[null,null,null,"1/2\"",null,12.5,80,100]
[null,null,null,"3/8\"",null,9.5,35,60]
[null,null,null,"No. 4",null,4.75,1,20]
[null,null,null,"No. 8",null,2.36,1,10]
[null,null,null,"No. 200",null,7.4999999999999997E-2,1,4]
[null,"MIX_08","342-PFCR-F","3/4\"",null,19,100,100,null,null,null,null,8,10,0,82,50,50]
[null,null,null,"1/2\"",null,12.5,95,100]
[null,null,null,"3/8\"",null,9.5,50,80]
[null,null,null,"No. 4",null,4.75,0,8]
[null,null,null,"No. 8",null,2.36,0,4]
[null,null,null,"No. 200",null,7.4999999999999997E-2,0,4]
[null,"MIX_09","342-PFCR-C","3/4\"",null,19,100,100,null,null,null,null,7,9,0,82,50,50]
[null,null,null,"1/2\"",null,12.5,80,100]
[null,null,null,"3/8\"",null,9.5,35,60]
[null,null,null,"No. 4",null,4.75,0,20]
[null,null,null,"No. 8",null,2.36,0,10]
[null,null,null,"No. 200",null,7.4999999999999997E-2,0,4]
[]
["Check ","MIX_26","SS-CAM","1/2\"",null,{"$f":"VLOOKUP(D167,$E$382:$F$407,2,FALSE)","v":12.5},100,100,17,null,null,null,7,999999,98,98,50,100]
["params",null,null,"3/8\"",null,9.5,98,100]
[null,null,null,"No. 4",null,4.75,70,90]
[null,null,null,"No. 8",null,2.36,40,65]
[null,null,null,"No. 16",null,1.18,20,45]
[null,null,null,"No. 30",null,0.6,10,30]
[null,null,null,"No. 50",null,0.3,10,20]
[null,null,null,"No. 200",null,7.4999999999999997E-2,2,10]
[null,"Currently not in use but \"field\" names are present.","Other",null,null,{"$error":"#N/A"},null,null,null,null,null,null,null,null,0,100,0,999999]
[null,null,null,null,null,{"$error":"#N/A"}]
[null,null,null,null,null,{"$error":"#N/A"}]
[null,null,null,null,null,{"$error":"#N/A"}]
[null,null,null,null,null,{"$error":"#N/A"}]
[null,null,null,null,null,{"$error":"#N/A"}]
[null,null,null,null,null,{"$error":"#N/A"}]
[null,null,null,null,null,{"$error":"#N/A"},null,null,null,null,null,null,null,null,null,null,null,null,"Membrane Application Rates",null,"SA Factors"]
[null,null,null,null,null,{"$error":"#N/A"}]
[null,null,null,null,null,{"$error":"#N/A"},null,null,null,null,null,null,null,null,null,null,null,null,"MIN","MAX"]
[null,"MIX_23","348-TBWC-A","3/8\"",null,9.5,100,100,null,null,null,{"$f":"IF(AND(version>2,version<6),M$185,\"\")","v":""},5,5.8,0,92,50,50,0.14000000000000001,0.19,0.41]
[null,null,null,"No. 4",null,4.75,35,55,null,null,null,null,null,null,null,null,null,null,null,null,0.41]
[null,null,null,"No. 8",null,2.36,19,30,null,null,null,null,null,null,null,null,null,null,null,null,0.82]
[null,null,null,"No. 16",null,1.18,14,25,null,null,null,null,null,null,null,null,null,null,null,null,1.64]
[null,null,null,"No. 50",null,0.3,7,14,null,null,null,null,null,null,null,null,null,null,null,null,6.14]
[null,null,null,"No. 200",null,7.4999999999999997E-2,4,6,null,null,null,null,null,null,null,null,null,null,null,null,32.770000000000003]
[null,"MIX_24","348-TBWC-B","1/2\"",null,12.5,100,100,null,null,null,{"$f":"IF(AND(version>2,version<6),M$191,\"\")","v":""},4.8,5.6,0,92,50,50,0.17,0.24,0.41]
[null,null,null,"3/8\"",null,9.5,75,100,null,null,null,null,null,null,null,null,null,null,null,null,"-"]
[null,null,null,"No. 4",null,4.75,22,36,null,null,null,null,null,null,null,null,null,null,null,null,0.41]
[null,null,null,"No. 8",null,2.36,19,30,null,null,null,null,null,null,null,null,null,null,null,null,0.82]
[null,null,null,"No. 16",null,1.18,14,24,null,null,null,null,null,null,null,null,null,null,null,null,1.64]
[null,null,null,"No. 50",null,0.3,7,14,null,null,null,null,null,null,null,null,null,null,null,null,6.14]
[null,null,null,"No. 200",null,7.4999999999999997E-2,4,6,null,null,null,null,null,null,null,null,null,null,null,null,32.770000000000003]
[null,"MIX_25","348-TBWC-C","3/4\"",null,19,100,100,null,null,null,{"$f":"IF(AND(version>2,version<6),M$198,\"\")","v":""},4.8,5.6,0,92,50,50,0.2,0.27,0.41]
[null,null,null,"1/2\"",null,12.5,75,100,null,null,null,null,null,null,null,null,null,null,null,null,"-"]
[null,null,null,"3/8\"",null,9.5,55,80,null,null,null,null,null,null,null,null,null,null,null,null,"-"]
[null,null,null,"No. 4",null,4.75,22,36,null,null,null,null,null,null,null,null,null,null,null,null,0.41]
[null,null,null,"No. 8",null,2.36,19,30,null,null,null,null,null,null,null,null,null,null,null,null,0.82]
[null,null,null,"No. 16",null,1.18,14,24,null,null,null,null,null,null,null,null,null,null,null,null,1.64]
[null,null,null,"No. 50",null,0.3,7,14,null,null,null,null,null,null,null,null,null,null,null,null,6.14]
[null,null,null,"No. 200",null,7.4999999999999997E-2,4,6,null,null,null,null,null,null,null,null,null,null,null,null,32.770000000000003]
[null,"MIX_34","334-HMCL-C","1\"",null,25,100,100,14,null,null,null,null,null,91,94,35,100]
[null,null,null,"3/4\"",null,19,95,100]
[null,null,null,"3/8\"",null,9.5,70,85]
[null,null,null,"No. 4",null,4.75,43,63]
[null,null,null,"No. 8",null,2.36,32,44]
[null,null,null,"No. 30",null,0.6,14,28]
[null,null,null,"No. 50",null,0.3,7,21]
[null,null,null,"No. 200",null,7.4999999999999997E-2,2,7]
[null,null,"defunct"]
[]
[]
[]
[]
[]
[]
[]
[]
[null,null,"defunct"]
[]
[]
[]
[null,"MIX_37","348-PFCR-C","3/4\"",null,{"$f":"VLOOKUP(D227,$E$382:$F$407,2,FALSE)","v":19},100,100,null,null,null,null,7,9,0,82,50,50,0.32500000000000001,9999]
[null,null,null,"1/2\"",null,12.5,80,100]
[null,null,null,"3/8\"",null,9.5,35,60]
[null,null,null,"No. 4",null,4.75,0,20]
[null,null,null,"No. 8",null,2.36,0,10]
[null,null,null,"No. 200",null,7.4999999999999997E-2,0,4]
[null,"MIX_22","348-PFC-C","3/4\"",null,19,100,100,null,null,null,{"$f":"IF(AND(version>2,version<6),M$233,\"\")","v":""},6,7,0,82,50,50,{"$f":"IF(lift=\"\",0,0.1*lift+0.175)","v":0},9999]
[null,null,null,"1/2\"",null,12.5,80,100]
[null,null,null,"3/8\"",null,9.5,35,60]
[null,null,null,"No. 4",null,4.75,1,20]
[null,null,null,"No. 8",null,2.36,1,10]
[null,null,null,"No. 200",null,7.4999999999999997E-2,1,4]
["Check ","MIX_21","348-PFC-F","1/2\"",null,12.5,100,100,null,null,null,{"$f":"IF(AND(version>2,version<6),M$239,\"\")","v":""},6,7,0,78,50,50,{"$f":"IF(lift=\"\",0,0.1*lift+0.15)","v":0},9999]
["params",null,null,"3/8\"",null,9.5,95,100]
[null,null,null,"No. 4",null,4.75,20,55]
[null,null,null,"No. 8",null,2.36,1,10]
[null,null,null,"No. 200",null,7.4999999999999997E-2,1,4]
["Check ","MIX_20","347-TOM-F","1/2\"",null,12.5,100,100,16.5,null,null,4,6.5,999999,97.5,97.5,35,100]
["params",null,null,"3/8\"",null,9.5,98,100]
[null,null,null,"No. 4",null,4.75,70,95]
[null,null,null,"No. 8",null,2.36,40,65]
[null,null,null,"No. 16",null,1.18,20,45]
[null,null,null,"No. 30",null,0.6,10,35]
[null,null,null,"No. 50",null,0.3,10,20]
[null,null,null,"No. 200",null,7.4999999999999997E-2,2,12]
[null,"MIX_35","334-HMCL-D","3/4\"",null,19,100,100,15,null,null,null,null,null,91,94,35,100]
[null,null,null,"1/2\"",null,12.5,98,100]
[null,null,null,"3/8\"",null,9.5,85,100]
[null,null,null,"No. 4",null,4.75,50,70]
[null,null,null,"No. 8",null,2.36,35,46]
[null,null,null,"No. 30",null,0.6,15,29]
[null,null,null,"No. 50",null,0.3,7,20]
[null,null,null,"No. 200",null,7.4999999999999997E-2,2,7]
[null,"MIX_36","334-HMCL-F","3/4\"",null,19,100,100,16,null,null,null,null,null,91,94,35,100]
[null,null,null,"3/8\"",null,9.5,98,100]
[null,null,null,"No. 4",null,4.75,{"$f":"IF(OR(version>4, specialprovision=\"341-024\"),70,80)","v":70},{"$f":"IF(OR(version>4, specialprovision=\"341-024\"),90,86)","v":90}]
[null,null,null,"No. 8",null,2.36,38,48]
[null,null,null,"No. 30",null,0.6,12,27]
[null,null,null,"No. 50",null,0.3,6,19]
[null,null,null,"No. 200",null,7.4999999999999997E-2,2,7]
[]
[null,"MIX_01/27","340/1-DG-A","2\"",null,{"$f":"VLOOKUP(D268,$E$382:$F$407,2,FALSE)","v":50},100,100,12,null,null,null,null,null,96.5,97.5,35,100]
[null,null,null,"1-1/2\"",null,37.5,98,100]
[null,null,null,"1\"",null,25,78,94]
[null,null,null,"3/4\"",null,19,64,85]
[null,null,null,"1/2\"",null,12.5,50,70]
[null,null,null,"No. 4",null,4.75,30,50]
[null,null,null,"No. 8",null,2.36,22,36]
[null,null,null,"No. 30",null,0.6,8,23]
[null,null,null,"No. 50",null,0.3,3,19]
[null,null,null,"No. 200",null,7.4999999999999997E-2,2,7]
[null,"MIX_38","SS-3076-DG-B","1-1/2\"",null,37.5,100,100,13,null,null,null,null,null,96.5,97.5,35,100]
[null,null,null,"1\"",null,25,98,100]
[null,null,null,"3/4\"",null,19,84,98]
[null,null,null,"3/8\"",null,9.5,60,80]
[null,null,null,"No. 4",null,4.75,40,60]
[null,null,null,"No. 8",null,2.36,29,43]
[null,null,null,"No. 30",null,0.6,13,28]
[null,null,null,"No. 50",null,0.3,6,20]
[null,null,null,"No. 200",null,7.4999999999999997E-2,2,7]
[null,"MIX_39","SS-3076-DG-C","1\"",null,25,100,100,14,null,null,null,null,null,96.5,97.5,35,100]
[null,null,null,"3/4\"",null,19,95,100]
[null,null,null,"3/8\"",null,9.5,70,85]
[null,null,null,"No. 4",null,4.75,43,63]
[null,null,null,"No. 8",null,2.36,32,44]
[null,null,null,"No. 30",null,0.6,14,28]
[null,null,null,"No. 50",null,0.3,7,21]
[null,null,null,"No. 200",null,7.4999999999999997E-2,2,7]
[null,"MIX_40","SS-3076-DG-D","3/4\"",null,19,100,100,15,null,null,null,null,null,96.5,97.5,35,100]
[null,null,null,"1/2\"",null,12.5,98,100]
[null,null,null,"3/8\"",null,9.5,85,100]
[null,null,null,"No. 4",null,4.75,50,70]
[null,null,null,"No. 8",null,2.36,35,46]
[null,null,null,"No. 30",null,{"$f":"VLOOKUP(D300,$E$382:$F$407,2,FALSE)","v":0.6},15,29]
[null,null,null,"No. 50",null,0.3,7,20]
[null,null,null,"No. 200",null,7.4999999999999997E-2,2,7]
[null,"MIX_41","SS-3076-DG-F",{"$f":"IF(version>=9,\"1/2\"\"\",\"3/4\"\"\")","v":"1/2\""},null,12.5,100,100,16,null,null,null,null,null,96.5,97.5,35,100]
[null,null,null,"3/8\"",null,9.5,98,100]
[null,null,null,"No. 4",null,4.75,{"$f":"IF(OR(version>4, specialprovision=\"341-024\"),70,80)","v":70},{"$f":"IF(OR(version>4, specialprovision=\"341-024\"),90,86)","v":90}]
[null,null,null,"No. 8",null,2.36,38,48]
[null,null,null,"No. 30",null,0.6,12,27]
[null,null,null,"No. 50",null,0.3,6,19]
[null,null,null,"No. 200",null,7.4999999999999997E-2,2,7]
[null,"MIX_42","SS-3077-SP-B","1-1/2\"",null,37.5,100,100,14,null,null,6,null,null,"NA","NA",35,100]
[null,null,null,"1\"",null,25,98,100]
[null,null,null,"3/4\"",null,19,90,100]
[null,null,null,"1/2\"",null,12.5,49,90]
[null,null,null,"No. 4",null,4.75,23,90]
[null,null,null,"No. 8",null,2.36,23,34.6,null,34.6,34.6]
[null,null,null,"No. 16",null,1.18,2,28.3,null,22.3,28.3]
[null,null,null,"No. 30",null,0.6,2,20.7,null,16.7,20.7]
[null,null,null,"No. 50",null,0.3,2,13.7,null,13.7,13.7]
[null,null,null,"No. 200",null,7.4999999999999997E-2,2,8]
[null,"MIX_43","SS-3077-SP-C","1\"",null,25,100,100,15,null,null,6,null,null,"NA","NA",35,100]
[null,null,null,"3/4\"",null,19,98,100]
[null,null,null,"1/2\"",null,12.5,90,100]
[null,null,null,"3/8\"",null,9.5,58,90]
[null,null,null,"No. 4",null,4.75,28,90]
[null,null,null,"No. 8",null,2.36,28,37,null,39.1,39.1]
[null,null,null,"No. 16",null,1.18,2,31.6,null,25.6,31.6]
[null,null,null,"No. 30",null,0.6,2,23.1,null,19.100000000000001,23.1]
[null,null,null,"No. 50",null,0.3,2,15.5,null,15.5,15.5]
[null,null,null,"No. 200",null,7.4999999999999997E-2,2,10]
[null,"MIX_44","SS-3077-SP-D","3/4\"",null,19,100,100,16,null,null,5,null,null,"NA","NA",35,100]
[null,null,null,"1/2\"",null,12.5,98,100]
[null,null,null,"3/8\"",null,{"$f":"VLOOKUP(D332,$E$382:$F$407,2,FALSE)","v":9.5},90,100]
[null,null,null,"No. 4",null,4.75,32,90]
[null,null,null,"No. 8",null,2.36,32,40,null,47.2,47.2]
[null,null,null,"No. 16",null,1.18,2,37.6,null,31.6,37.6]
[null,null,null,"No. 30",null,0.6,2,27.5,null,23.5,27.5]
[null,null,null,"No. 50",null,0.3,2,18.7,null,18.7,18.7]
[null,null,null,"No. 200",null,7.4999999999999997E-2,2,10]
[null,"MIX_45","SS-3074-BMD-SP-C","1\"",null,{"$f":"VLOOKUP(D339,$E$382:$F$407,2,FALSE)","v":25},100,100,15,null,null,6,null,null,"NA","NA",35,100]
[null,null,null,"3/4\"",null,19,98,100]
[null,null,null,"1/2\"",null,12.5,90,100]
[null,null,null,"3/8\"",null,9.5,58,90]
[null,null,null,"No. 4",null,4.75,28,90]
[null,null,null,"No. 8",null,2.36,28,58,null,39.1,39.1]
[null,null,null,"No. 16",null,1.18,2,58,null,25.6,31.6]
[null,null,null,"No. 30",null,0.6,2,58,null,19.100000000000001,23.1]
[null,null,null,"No. 50",null,0.3,2,58,null,15.5,15.5]
[null,null,null,"No. 200",null,7.4999999999999997E-2,2,10]
[null,"MIX_46","SS-3074-BMD-SP-D","3/4\"",null,19,100,100,16,null,null,5,null,null,"NA","NA",35,100]
[null,null,null,"1/2\"",null,12.5,98,100]
[null,null,null,"3/8\"",null,9.5,90,100]
[null,null,null,"No. 4",null,4.75,32,90]
[null,null,null,"No. 8",null,2.36,32,67,null,47.2,47.2]
[null,null,null,"No. 16",null,1.18,2,67,null,31.6,37.6]
[null,null,null,"No. 30",null,0.6,2,67,null,23.5,27.5]
[null,null,null,"No. 50",null,0.3,2,67,null,18.7,18.7]
[null,null,null,"No. 200",null,7.4999999999999997E-2,2,10]
[null,"MIX_06","342-PFC-F","1/2\"",null,{"$f":"VLOOKUP(D358,$E$382:$F$407,2,FALSE)","v":12.5},100,100,null,null,null,null,6,7,0,78,50,50]
[null,null,null,"3/8\"",null,9.5,95,100]
[null,null,null,"No. 4",null,4.75,20,55]
[null,null,null,"No. 8",null,2.36,1,10]
[null,null,null,"No. 200",null,7.4999999999999997E-2,1,4]
[null,"MIX_09","342-PFCR-C","3/4\"",null,19,100,100,null,null,null,null,7,9,0,82,50,50]
[null,null,null,"1/2\"",null,12.5,80,100]
[null,null,null,"3/8\"",null,9.5,35,60]
[null,null,null,"No. 4",null,4.75,0,20]
[null,null,null,"No. 8",null,2.36,0,10]
[null,null,null,"No. 200",null,7.4999999999999997E-2,0,4]
[null,"MIX_19","347-TOM-C","1/2\"",null,12.5,100,100,16,null,null,4,6,999999,97.5,97.5,35,100]
[null,null,null,"3/8\"",null,9.5,95,100]
[null,null,null,"No. 4",null,4.75,40,60]
[null,null,null,"No. 8",null,2.36,17,27]
[null,null,null,"No. 16",null,1.18,5,27]
[null,null,null,"No. 30",null,0.6,5,27]
[null,null,null,"No. 50",null,0.3,5,27]
[null,null,null,"No. 200",null,7.4999999999999997E-2,5,9]
[]
[null,null,null,null,null,null,null,null,null,null,"Membrane Application Check"]
[]
[null,null,"Gradation Table",null,null,null,null,null,null,null,null,null,"MINIMUM PFC AC CONTENT"]
[null,null,"English","Metric","Selection","Size",null,null,null,null,{"$f":"IF(ISERROR(INDEX(INDIRECT(VLOOKUP(Grade,MIX_RANGE,2,0)),1,17)),0,IF(OR(memapprate<INDEX(INDIRECT(VLOOKUP(Grade,MIX_RANGE,2,0)),1,17),memapprate>INDEX(INDIRECT(VLOOKUP(Grade,MIX_RANGE,2,0)),1,18)),1,0))","v":0},null,"Bulk Specific Gravity",null,"Minimum AC%"]
[null,null,"2\"","50 mm",{"$f":"C382","v":"2\""},50,null,null,null,null,null,null,0,null,6]
[null,null,"1-3/4\"","45 mm",{"$f":"C383","v":"1-3/4\""},45,null,null,null,null,"Target Density Check",null,2.75,null,6]
[null,null,"1-1/2\"","37.5 mm","1-1/2\"",37.5,null,null,null,null,null,null,2.8,null,5.9]
[null,null,"1-1/4\"","31.5 mm","1-1/4\"",31.5,null,null,null,null,null,null,2.85,null,5.8]
[null,null,"1\"","25 mm","1\"",25,null,null,null,null,{"$f":"IF(OR(ISBLANK(Gyrations),VLOOKUP(Grade,MIX_RANGE,24,0)),IF(OR(TargDen<INDEX(INDIRECT(VLOOKUP(Grade,MIX_RANGE,2,0)),1,13),TargDen>INDEX(INDIRECT(VLOOKUP(Grade,MIX_RANGE,2,0)),1,14)),1,0),IF(TargDen<>IF(version>=11,VLOOKUP(Grade,MIX_RANGE,18,0),96),1,0))","v":1},null,2.9,null,5.7]
[null,null,"7/8\"","22.4 mm","7/8\"",22.4,null,null,null,null,null,null,2.95,null,5.6]
[null,null,"3/4\"","19 mm","3/4\"",19,null,null,null,null,"Number of Gyrations Check",null,3,null,5.5]
[null,null,"5/8\"","16 mm","5/8\"",16,null,null,null,null,null,null,9999999999,null,5.5]
[null,null,"1/2\"","12.5 mm","1/2\"",12.5]
[null,null,"7/16\"","11.2 mm","7/16\"",11.2,null,null,null,null,{"$f":"IF(OR(Gyrations<INDEX(INDIRECT(VLOOKUP(Grade,MIX_RANGE,2,0)),1,15),Gyrations>INDEX(INDIRECT(VLOOKUP(Grade,MIX_RANGE,2,0)),1,16)),1,0)","v":1}]
[null,null,"3/8\"","9.5 mm","3/8\"",9.5,null,null,null,null,null,null,"BINDER SUBSTITUTION",null,null,null,null,null,null,null,null,null,"BINDER SUBSTITUTION (SS 3224)"]
[null,null,"5/16\"","8 mm","5/16\"",8,null,null,null,null,null,null,"PG 76-22","PG 70-22","PG 64-22","PG 76-28","PG 70-28","PG 64-28",{"$f":"IF(BinderSub=\"Yes\",\"\",\"PG 58-28\")","v":"PG 58-28"},{"$f":"IF(BinderSub=\"Yes\",\"\",\"PG 64-34\")","v":"PG 64-34"},{"$f":"IF(BinderSub=\"Yes\",\"\",\"PG 58-34\")","v":"PG 58-34"},null,"PG 76-16","PG 70-16","PG 64-16","PG 82-22","PG 76-22","PG 70-22","PG 64-22","PG 58-22","PG 76-28","PG 70-28","PG 64-28","PG 58-28"]
[null,null,"1/4\"","6.3 mm","1/4\"",6.3,null,null,null,null,null,null,"PG 70-22","PG 64-22","PG 58-28","PG 70-28","PG 64-28","PG 58-28",null,null,null,null,null,null,null,null,"PG 70-22","PG 64-22","PG 58-22",null,"PG 70-28","PG 64-28","PG 58-28"]
[null,null,"No. 4","4.75 mm","No. 4",4.75,null,null,null,null,null,null,"PG 64-22",{"$f":"IF(AND(OR(WMA=\"Yes\", WMA=\"No (WMA during prod.)\"),WMACheck=\"\"),\"\",\"PG 64-28\")","v":"PG 64-28"},null,"PG 64-28","PG 58-28",{"$f":"IF(AND(OR(WMA=\"Yes\", WMA=\"No (WMA during prod.)\"),WMACheck=\"\"),\"\",\"PG 58-34\")","v":"PG 58-34"},null,null,null,null,null,null,null,null,"PG 64-22","PG 58-22",null,null,"PG 64-28","PG 58-28"]
[null,null,"No. 6","3.35 mm","No. 6",3.35,null,null,null,null,null,null,{"$f":"IF(AND(OR(WMA=\"Yes\", WMA=\"No (WMA during prod.)\"),WMACheck=\"\"),\"\",\"PG 70-28\")","v":"PG 70-28"},"PG 58-28",null,{"$f":"IF(AND(OR(WMA=\"Yes\", WMA=\"No (WMA during prod.)\"),WMACheck=\"\"),\"\",\"PG 64-34\")","v":"PG 64-34"},{"$f":"IF(AND(OR(WMA=\"Yes\", WMA=\"No (WMA during prod.)\"),WMACheck=\"\"),\"\",\"PG 64-34\")","v":"PG 64-34"}]
[null,null,"No. 8","2.36 mm","No. 8",2.36,null,null,null,null,null,null,{"$f":"IF(AND(OR(WMA=\"Yes\", WMA=\"No (WMA during prod.)\"),WMACheck=\"\"),\"\",\"PG 64-28\")","v":"PG 64-28"},null,null,null,{"$f":"IF(AND(OR(WMA=\"Yes\", WMA=\"No (WMA during prod.)\"),WMACheck=\"\"),\"\",\"PG 58-34\")","v":"PG 58-34"}]
[null,null,"No. 10","2 mm","No. 10",2]
[null,null,"No. 14","1.4 mm","No. 14",1.4,null,null,null,null,null,null,"VFA Min.","Design VMA Min. Req",null,"IDT Min.","OT Min","CFE Min","CPR Max"]
[null,null,"No. 16","1.18 mm","No. 16",1.18,null,null,null,null,null,null,{"$f":"IF(version>3,IF(VLOOKUP(Grade,MIX_RANGE,15,0),73,0),0)","v":73},{"$f":"IF(ISERROR(INDEX(INDIRECT(VLOOKUP(Grade,MIX_RANGE,2,FALSE)),1,7)),0,INDEX(INDIRECT(VLOOKUP(Grade,MIX_RANGE,2,0)),1,7))","v":15},null,85,{"$f":"VLOOKUP(Grade,MIX_RANGE,27,0)","v":0},{"$f":"VLOOKUP(Grade,MIX_RANGE,36,0)","v":1},{"$f":"VLOOKUP(Grade,MIX_RANGE,37,0)","v":0.45}]
[null,null,"No. 20",".85 µm","No. 20",0.85,null,null,null,null,null,null,"VFA Max.","Design Min. AC Req",null,"IDT Max."]
[null,null,"No. 30",".6 µm","No. 30",0.6,null,null,null,null,null,null,{"$f":"IF(version>3,IF(VLOOKUP(Grade,MIX_RANGE,15,0),76,999999),999999)","v":76},{"$f":"IF(ISERROR(INDEX(INDIRECT(VLOOKUP(Grade,MIX_RANGE,2,0)),1,11)),0,INDEX(INDIRECT(VLOOKUP(Grade,MIX_RANGE,2,0)),1,11))","v":0},null,200]
[null,null,"No. 40",".425 µm","No. 40",0.42499999999999999,null,null,null,null,null,null,null,"Design Max. AC Req"]
[null,null,"No. 50",".3 µm","No. 50",0.3,null,null,null,null,null,null,null,{"$f":"IF(OR(ISERROR(INDEX(INDIRECT(VLOOKUP(Grade,MIX_RANGE,2,0)),1,12)),INDEX(INDIRECT(VLOOKUP(Grade,MIX_RANGE,2,0)),1,12)=\"\"),999999,INDEX(INDIRECT(VLOOKUP(Grade,MIX_RANGE,2,0)),1,12))","v":999999}]
[null,null,"No. 80",".18 µm","No. 80",0.18]
[null,null,"No. 100",".15 µm","No. 100",0.15]
[null,null,"No. 200",".075 µm","No. 200",7.4999999999999997E-2]

{"sheet":"DATA_AC","index":15,"n_rows":82,"n_cols":23,"rows_kept":82,"cut":false,"hidden":true,"merged":[[1,16,1,18],[73,1,75,1],[73,7,75,7],[76,1,78,1],[76,7,78,7],[55,1,57,1],[55,7,57,7],[58,1,60,1],[58,7,60,7],[61,1,63,1],[61,7,63,7],[46,1,48,1],[46,7,48,7],[49,1,51,1],[49,7,51,7],[52,1,54,1],[79,1,81,1],[79,7,81,7],[64,1,66,1],[64,7,66,7],[67,1,69,1],[67,7,69,7],[70,1,72,1],[70,7,72,7],[52,7,54,7],[37,1,39,1],[37,7,39,7],[40,1,42,1],[40,7,42,7],[43,1,45,1],[43,7,45,7],[28,1,30,1],[28,7,30,7],[31,1,33,1],[31,7,33,7],[34,1,36,1],[34,7,36,7],[25,1,27,1],[25,7,27,7],[1,3,1,9],[2,3,2,6],[2,8,2,9],[24,3,24,6],[24,8,24,9]]}
[]
[null,null,null,"SUBSTITUTE BINDERS",null,null,null,null,null,null,null,null,"Asphalt Source",null,null,null,"SUBSTITUTE BINDERS FOR SPECIAL SPEC",null,null,null,null,null,"Substitute binder for special spec"]
[null,"#","AC GRADES","HMA",null,null,null,"AC GRADES","WMA",null,null,null,"Alon",null,"#","AC GRADES","Surface","Intermediate","Base",null,null,null,{"$f":"IF(BinderSub=\"Yes\",INDEX(Q4:S22,MATCH(Asphalt,P4:P22,0),MATCH(courselift,Q3:S3,0)),\"NA\")","v":"NA"}]
[null,1,"PG 52-28","NA",null,null,null,{"$f":"C4","v":"PG 52-28"},"NA",null,null,null,"Asphalt Fuel and Supply",null,1,"PG 52-28","NA","NA","NA"]
[null,2,"PG 58-22","NA",null,null,null,{"$f":"C5","v":"PG 58-22"},"NA",null,null,null,"APU",null,2,"PG 58-22","NA","NA","NA"]
[null,3,"PG 58-28","NA",null,null,null,"PG 58-28","NA",null,null,null,"ATT",null,3,"PG 58-28","NA","NA","NA"]
[null,4,"PG 58-34","NA",null,null,null,"PG 58-34","NA",null,null,null,"Blacklidge GP",null,4,"PG 58-34","NA","NA","NA"]
[null,5,"PG 64-16","NA",null,null,null,"PG 64-16","NA",null,null,null,"Blacklidge Terrell",null,5,"PG 64-16","NA","NA","NA"]
[null,6,"PG 64-22","PG 58-28",null,null,null,"PG 64-22","PG 58-28",null,null,null,"Century",null,6,"PG 64-22","NA","NA","NA"]
[null,7,"PG 64-28","PG 58-28","PG 58-34",null,null,"PG 64-28","PG 58-28",null,null,null,"Cleveland",null,7,"PG 64-28","NA","NA","NA"]
[null,8,"PG 64-34","NA",null,null,null,"PG 64-34","NA",null,null,null,"Coastal Clinton",null,8,"PG 64-34","NA","NA","NA"]
[null,9,"PG 70-16","NA",null,null,null,"PG 70-16","NA",null,null,null,"Colorado",null,9,"PG 70-16","NA","NA","NA"]
[null,10,"PG 70-22","PG 64-22","PG 64-28","PG 58-28",null,"PG 70-22","PG 64-22","PG 58-28",null,null,"Ergon Ardmore",null,10,"PG 70-22","NA","PG 64-22","PG 64-22"]
[null,11,"PG 70-28","PG 64-28","PG 58-28","PG 64-34","PG 58-34","PG 70-28","PG 64-28","PG 58-28",null,null,"Ergon Austin",null,11,"PG 70-28","NA","PG 64-28","PG 64-28"]
[null,12,"PG 70-34","NA",null,null,null,"PG 70-34","NA",null,null,null,"Ergon Corpus",null,12,"PG 70-34","NA","NA","NA"]
[null,13,"PG 76-16","NA",null,null,null,"PG 76-16","NA",null,null,null,"Ergon Lawton",null,13,"PG 76-16","NA","NA","NA"]
[null,14,"PG 76-22","PG 70-22","PG 64-22","PG 70-28","PG 64-28","PG 76-22","PG 70-22","PG 64-22",null,null,"Ergon Mt. Pleasant",null,14,"PG 76-22","PG 70-22","PG 70-22","PG 70-22"]
[null,15,"PG 76-28","PG 70-28","PG 64-28","PG 64-34",null,"PG 76-28","PG 70-28","PG 64-28",null,null,"Ergon Pleasanton",null,15,"PG 76-28","PG 70-28","PG 70-28","PG 70-28"]
[null,16,"PG 76-34","NA",null,null,null,"PG 76-34","NA",null,null,null,"Ergon Roswell",null,16,"PG 76-34","NA","NA","NA"]
[null,17,"PG 82-16","NA",null,null,null,"PG 82-16","NA",null,null,null,"Ergon SA",null,17,"PG 82-16","NA","NA","NA"]
[null,18,"PG 82-22","NA",null,null,null,"PG 82-22","NA",null,null,null,"Ergon Temple",null,18,"PG 82-22","NA","NA","NA"]
[null,19,"PG 82-28","NA",null,null,null,"PG 82-28","NA",null,null,null,"Ergon Dodge",null,19,"PG 82-28","NA","NA","NA"]
[null,null,null,null,null,null,null,null,null,null,null,null,"Ergon Ennis"]
[null,null,null,null,null,null,null,null,null,null,null,null,"Ergon Vicksburg"]
[null,null,null,"HMA",null,null,null,null,"WMA",null,null,null,"Ergon Manor"]
[null,1,"Surface",null,null,null,null,1,null,null,null,null,"Ergon Lubbock"]
[null,null,"Intermediate",null,null,null,null,null,null,null,null,null,"Ergon Saginaw"]
[null,null,"Base",null,null,null,null,null,null,null,null,null,"Gary Williams"]
[null,2,"Surface",null,null,null,null,2,null,null,null,null,"GOTAC"]
[null,null,"Intermediate",null,null,null,null,null,null,null,null,null,"Holly Catoosa"]
[null,null,"Base",null,null,null,null,null,null,null,null,null,"Holly Rosario"]
[null,3,"Surface",null,null,null,null,3,null,null,null,null,"Holly Albuquerque"]
[null,null,"Intermediate",null,null,null,null,null,null,null,null,null,"Holly Artesia"]
[null,null,"Base",null,null,null,null,null,null,null,null,null,"Hunt Houston"]
[null,4,"Surface",null,null,null,null,4,null,null,null,null,"Hunt Dallas"]
[null,null,"Intermediate",null,null,null,null,null,null,null,null,null,"Jebro"]
[null,null,"Base",null,null,null,null,null,null,null,null,null,"Lion Muskogee"]
[null,5,"Surface",null,null,null,null,5,null,null,null,null,"Lion Henderson"]
[null,null,"Intermediate",null,null,null,null,null,null,null,null,null,"Lion Oil"]
[null,null,"Base",null,null,null,null,null,null,null,null,null,"Martin PN"]
[null,6,"Surface",30,null,null,null,6,30,null,null,null,"Martin Beaumont"]
[null,null,"Intermediate",35,null,null,null,null,35,null,null,null,"Martin Hondo"]
[null,null,"Base",40,null,null,null,null,40,null,null,null,"Martin Neches"]
[null,7,"Surface",20,30,null,null,7,30,null,null,null,"Martin Houston"]
[null,null,"Intermediate",20,35,null,null,null,35,null,null,null,"Pelican Channelview"]
[null,null,"Base",20,40,null,null,null,40,null,null,null,"Prime Eco"]
[null,8,"Surface",null,null,null,null,8,null,null,null,null,"Trumbull Irving"]
[null,null,"Intermediate",null,null,null,null,null,null,null,null,null,"US Polyco Cleburne"]
[null,null,"Base",null,null,null,null,null,null,null,null,null,"US Polyco Ennis"]
[null,9,"Surface",null,null,null,null,9,null,null,null,null,"Valero Brownsville"]
[null,null,"Intermediate",null,null,null,null,null,null,null,null,null,"Valero Trans"]
[null,null,"Base",null,null,null,null,null,null,null,null,null,"Valero Ardmore"]
[null,10,"Surface",20,30,30,null,10,30,30,null,null,"Valero CC"]
[null,null,"Intermediate",20,35,35,null,null,35,35,null,null,"Valero (Eagle) CC"]
[null,null,"Base",20,40,40,null,null,40,40,null,null,"Valero Houston"]
[null,11,"Surface",20,20,30,30,11,30,30,null,null,"Valero Sunray"]
[null,null,"Intermediate",20,20,35,35,null,35,35,null,null,"Vance Brothers"]
[null,null,"Base",20,20,40,40,null,40,40,null,null,"Western"]
[null,12,"Surface",null,null,null,null,12,null,null,null,null,"Wright Brownwood"]
[null,null,"Intermediate"]
[null,null,"Base"]
[null,13,"Surface",null,null,null,null,13]
[null,null,"Intermediate"]
[null,null,"Base"]
[null,14,"Surface",20,20,30,30,14,30,30]
[null,null,"Intermediate",20,20,35,35,null,35,35]
[null,null,"Base",20,20,40,40,null,40,40]
[null,15,"Surface",20,20,30,null,15,30,30]
[null,null,"Intermediate",20,20,35,null,null,35,35]
[null,null,"Base",20,20,40,null,null,40,40]
[null,16,"Surface",null,null,null,null,16]
[null,null,"Intermediate"]
[null,null,"Base"]
[null,17,"Surface",null,null,null,null,17]
[null,null,"Intermediate"]
[null,null,"Base"]
[null,18,"Surface",null,null,null,null,18]
[null,null,"Intermediate"]
[null,null,"Base"]
[null,19,"Surface",null,null,null,null,19]
[null,null,"Intermediate"]
[null,null,"Base"]

{"sheet":"Data_Charts","index":16,"n_rows":7,"n_cols":10,"rows_kept":7,"cut":false,"hidden":true,"merged":[[0,9,1,9],[0,8,1,8],[0,4,0,6],[0,0,1,0],[0,2,1,2],[0,3,1,3],[0,7,1,7]]}
["Asphalt Content",null,"Density","VMA","Creep Properties",null,null,"ITS","Ga","Gr"]
[null,null,null,null,"No. Cycles","Rut Depth"]
[{"$f":"IF(Summary!B26<>\"\",Summary!B26,NA())","v":{"$error":"#N/A"}},null,{"$f":"IF(Summary!L26<>\"\",Summary!L26,NA())","v":{"$error":"#N/A"}},{"$f":"IF(Summary!U26<>\"\",Summary!U26,NA())","v":{"$error":"#N/A"}},{"$f":"IF(Summary!Y26<>\"\",Summary!Y26,NA())","v":{"$error":"#N/A"}},{"$f":"IF(Summary!AA26<>\"\",Summary!AA26,NA())","v":{"$error":"#N/A"}},{"$f":"IF(Summary!AC26<>\"\",Summary!AC26,NA())","v":{"$error":"#N/A"}},{"$f":"IF(Summary!W26<>\"\",Summary!W26,NA())","v":{"$error":"#N/A"}},{"$f":"IF(Summary!D26<>\"\", Summary!D26,NA())","v":{"$error":"#N/A"}},{"$f":"IF(Summary!F26<>\"\",Summary!F26, NA())","v":{"$error":"#N/A"}}]
[{"$f":"IF(Summary!B27<>\"\",Summary!B27,NA())","v":{"$error":"#N/A"}},null,{"$f":"IF(Summary!L27<>\"\",Summary!L27,NA())","v":{"$error":"#N/A"}},{"$f":"IF(Summary!U27<>\"\",Summary!U27,NA())","v":{"$error":"#N/A"}},{"$f":"IF(Summary!Y26<>\"\",Summary!Y26,NA())","v":{"$error":"#N/A"}},{"$f":"IF(Summary!AA26<>\"\",Summary!AA26,NA())","v":{"$error":"#N/A"}},{"$f":"IF(Summary!AC27<>\"\",Summary!AC27,NA())","v":{"$error":"#N/A"}},{"$f":"IF(Summary!W26<>\"\",Summary!W26,NA())","v":{"$error":"#N/A"}},{"$f":"IF(Summary!D27<>\"\", Summary!D27,NA())","v":{"$error":"#N/A"}},{"$f":"IF(Summary!F27<>\"\",Summary!F27, NA())","v":{"$error":"#N/A"}}]
[{"$f":"IF(Summary!B28<>\"\",Summary!B28,NA())","v":{"$error":"#N/A"}},null,{"$f":"IF(Summary!L28<>\"\",Summary!L28,NA())","v":{"$error":"#N/A"}},{"$f":"IF(Summary!U28<>\"\",Summary!U28,NA())","v":{"$error":"#N/A"}},{"$f":"IF(Summary!Y26<>\"\",Summary!Y26,NA())","v":{"$error":"#N/A"}},{"$f":"IF(Summary!AA26<>\"\",Summary!AA26,NA())","v":{"$error":"#N/A"}},{"$f":"IF(Summary!AC28<>\"\",Summary!AC28,NA())","v":{"$error":"#N/A"}},{"$f":"IF(Summary!W26<>\"\",Summary!W26,NA())","v":{"$error":"#N/A"}},{"$f":"IF(Summary!D28<>\"\", Summary!D28,NA())","v":{"$error":"#N/A"}},{"$f":"IF(Summary!F28<>\"\",Summary!F28, NA())","v":{"$error":"#N/A"}}]
[{"$f":"IF(Summary!B29<>\"\",Summary!B29,NA())","v":{"$error":"#N/A"}},null,{"$f":"IF(Summary!L29<>\"\",Summary!L29,NA())","v":{"$error":"#N/A"}},{"$f":"IF(Summary!U29<>\"\",Summary!U29,NA())","v":{"$error":"#N/A"}},{"$f":"IF(Summary!Y26<>\"\",Summary!Y26,NA())","v":{"$error":"#N/A"}},{"$f":"IF(Summary!AA26<>\"\",Summary!AA26,NA())","v":{"$error":"#N/A"}},{"$f":"IF(Summary!AC29<>\"\",Summary!AC29,NA())","v":{"$error":"#N/A"}},{"$f":"IF(Summary!W26<>\"\",Summary!W26,NA())","v":{"$error":"#N/A"}},{"$f":"IF(Summary!D29<>\"\", Summary!D29,NA())","v":{"$error":"#N/A"}},{"$f":"IF(Summary!F29<>\"\",Summary!F29, NA())","v":{"$error":"#N/A"}}]
[{"$f":"IF(Summary!B30<>\"\",Summary!B30,NA())","v":{"$error":"#N/A"}},null,{"$f":"IF(Summary!L30<>\"\",Summary!L30,NA())","v":{"$error":"#N/A"}},{"$f":"IF(Summary!U30<>\"\",Summary!U30,NA())","v":{"$error":"#N/A"}},{"$f":"IF(Summary!Y26<>\"\",Summary!Y26,NA())","v":{"$error":"#N/A"}},{"$f":"IF(Summary!AA26<>\"\",Summary!AA26,NA())","v":{"$error":"#N/A"}},{"$f":"IF(Summary!AC30<>\"\",Summary!AC30,NA())","v":{"$error":"#N/A"}},{"$f":"IF(Summary!W26<>\"\",Summary!W26,NA())","v":{"$error":"#N/A"}},{"$f":"IF(Summary!D30<>\"\", Summary!D30,NA())","v":{"$error":"#N/A"}},{"$f":"IF(Summary!F30<>\"\",Summary!F30, NA())","v":{"$error":"#N/A"}}]

{"sheet":"DATA_QUARRY","index":17,"n_rows":47,"n_cols":33,"rows_kept":47,"cut":false,"hidden":true,"merged":[[1,1,1,3],[1,5,1,7],[1,9,1,11],[1,13,1,15],[1,17,1,19]]}
[null,null,null,null,null,null,null,null,null,null,null,null,null,null,null,null,null,null,null,null,null,null,null,null,null,null,1,2,3,4,5,6,7]
[null,"Sandstone",null,null,null,"Limestone_Dolomite",null,null,null,"Gravel",null,null,null,"Igneous",null,null,null,"Lightweight",null,null,null,null,null,null,null,null,{"$f":"IFERROR(VLOOKUP(Bin1Pit,INDIRECT(Bin1Source),3,FALSE),\"\")","v":""},{"$f":"IFERROR(VLOOKUP(Bin2Pit,INDIRECT(Bin2Source),3,FALSE),\"\")","v":""},{"$f":"IFERROR(VLOOKUP(Bin3Pit,INDIRECT(Bin3Source),3,FALSE),\"\")","v":""},{"$f":"IFERROR(VLOOKUP(Bin4Pit,INDIRECT(Bin4Source),3,FALSE),\"\")","v":""},{"$f":"IFERROR(VLOOKUP(Bin5Pit,INDIRECT(Bin5Source),3,FALSE),\"\")","v":""},{"$f":"IFERROR(VLOOKUP(Bin6Pit,INDIRECT(Bin6Source),3,FALSE),\"\")","v":""},{"$f":"IFERROR(VLOOKUP(Bin7Pit,INDIRECT(Bin7Source),3,FALSE),\"\")","v":""}]
[null,"Apple (Sawyer, OK)","0050437","Martin Marietta Mtrls",null,"1604","1501506","Vulcan Materials",null,"AC Rio Grande Pit","2225301","Anderson Columbia Co, Inc.",null,"Bird Hill","1523213","Martin Marietta ",null,"Streetman",1817502,"Trinity Expanded Shale and Clay",null,null,null,null,null,null,{"$f":"IFERROR(VLOOKUP(Bin1Pit,INDIRECT(Bin1Source),2,FALSE),\"\")","v":""},{"$f":"IFERROR(VLOOKUP(Bin2Pit,INDIRECT(Bin2Source),2,FALSE),\"\")","v":""},{"$f":"IFERROR(VLOOKUP(Bin3Pit,INDIRECT(Bin3Source),2,FALSE),\"\")","v":""},{"$f":"IFERROR(VLOOKUP(Bin4Pit,INDIRECT(Bin4Source),2,FALSE),\"\")","v":""},{"$f":"IFERROR(VLOOKUP(Bin5Pit,INDIRECT(Bin5Source),2,FALSE),\"\")","v":""},{"$f":"IFERROR(VLOOKUP(Bin6Pit,INDIRECT(Bin6Source),2,FALSE),\"\")","v":""},{"$f":"IFERROR(VLOOKUP(Bin7Pit,INDIRECT(Bin7Source),2,FALSE),\"\")","v":""}]
[null,"Brownlee","1402704","Capitol Aggregates",null,"Ardmore, OK","0050412","Dolese Brothers",null,"Archer Pit","2517311","J. Lee Milligan, Inc.",null,"Cinder Mountain","0050313","Volcanic Stone"]
[null,"Byrd Pit","0050447","Smith Buster Crushed Stone , LLC",null,"Balcones Quarry","1504602","Cemex",null,"Avispa Canyon","2407229","Jobe Materials, L.P.",null,"Davenport-Cline Basalt Quarry","1523215","Colorado Materials"]
[null,null,null,null,null,"Beckmann","1501503","Martin Marietta",null,"Aztec Canyon","0418814","J. Lee Milligan, Inc.",null,"Davis, OK","0050439","Hanson Aggregates"]
[null,null,null,null,null,"Bridgeport","0224904","Martin Marietta",null,"Beck","2110901","Valley Caliche",null,"Jones Mill","0050122","Martin Marietta "]
[null,null,null,null,null,"Brownwood","2302501","Vulcan Materials",null,"Big Creek","0411807","Big Creek Sand & Gravel, Inc.",null,"Knippa","1523206","Vulcan Materials"]
[null,null,null,null,null,"Burnet","1402701","Hanson Aggregates",null,"Boys Ranch","0418008","J. Lee Milligan, Inc.",null,"McKelligon-Granite","2407206","Cemex"]
[null,null,null,null,null,"Chambers","0224921","Martin Marietta",null,"Broken Bow S & G","0050451","Martin Marietta",null,"Mill Creek (Grnt), OK","0050433","Martin Marietta "]
[null,null,null,null,null,"Chapman","1523211","South Texas Aggregates",null,"D and D","2215905","South Texas Aggregates",null,"Padre Canyon","2411613","Jobe Materials, L.P."]
[null,null,null,null,null,"Coleman, OK","0050414","Dolese Brothers",null,"Fletcher Pit","2506508","Gilvin-Terrill, Ltd.",null,"Plant 1","0050106","Granite Mountain Quarries"]
[null,null,null,null,null,"Cooperton, OK","0050415","Dolese Brothers",null,"Frasier Pit","2506509","J. Lee Milligan, Inc.",null,"Porcupine Mountain","0040205","Martin Marietta "]
[null,null,null,null,null,"Eastland","2306805","Vulcan Materials",null,"Hoban","0619502","Capitol Aggregates",null,"Snyder, OK","0050435","Martin Marietta "]
[null,null,null,null,null,"Feld","1424602","Texas Crushed Stone",null,"Jaehne Pit","1523216","Colorado Materials",null,"Vado","0050310","Cemex"]
[null,null,null,null,null,"Florence Quarry","1424608","Industrial Asphalt & Aggregate",null,"Krister-Fain","0418812","Texas Sand & Gravel",null,"Vado Quarry","2450314","Jobe Materials, L.P."]
[null,null,null,null,null,"Gibbs","0901408","Killeen Crushed Stone",null,"Las Viboras","2110905","Upper Valley Materials"]
[null,null,null,null,null,"Hays Quarry","1410608","Industrial Asphalt & Aggregate",null,"Little River","0050114","Hanson Aggregates"]
[null,null,null,null,null,"Helotes","1501514","Vulcan Materials",null,"LS Pit","0418002","LS Sand & Gravel"]
[null,null,null,null,null,"Huebner Road","1501507","Vulcan Materials",null,"Matador","2517309","Duininck Brothers"]
[null,null,null,null,null,"Hunter","1504605","Colorado Materials",null,"Mitchell Pit","0907401","Big Creek Construction"]
[null,null,null,null,null,"I-35 @ Solms Rd.","1504606","Martin Marietta",null,"Murphy","1323505","Fordyce Co."]
[null,null,null,null,null,"Lampasas Quarry","1402706","Austin Aggregates",null,"Pit 424","1716611","Mine Service Ltd."]
[null,null,null,null,null,"Leach","0212001","Zack Burkett Co.",null,"Realitos","2106701","Wright Materials"]
[null,null,null,null,null,"Lone Star","1504607","Dean Word Co.",null,"Reavis","2110906","Frontera Materials"]
[null,null,null,null,null,"Marble Falls Quarry","1402702","Oldcastle Materials Texas",null,"Sawyer","0406510","J. Lee Milligan, Inc."]
[null,null,null,null,null,"Matrimar","0040103","Border Pacific",null,"Showers","2110904","Fordyce Co."]
[null,null,null,null,null,"McKelligon-Dolomite","2407201","Cemex",null,"Smith","0325205","Zack Burkett"]
[null,null,null,null,null,"Mico","1516315","Vulcan Materials",null,"South Noodle","0812803","R.E. Janes Gravel Co."]
[null,null,null,null,null,"Mill Creek, OK","0050445","Martin Marietta",null,"Sweet 16","2206706","Bay, Inc."]
[null,null,null,null,null,"Naruna","1402711","Austin Aggregates",null,"Thrasher","2517302","Thrasher S & G"]
[null,null,null,null,null,"Ned Finney Quarry","2407220","Jobe Materials, L.P.",null,"XIT S & G Pit","0418010","XIT Sand & Gravel, LLC"]
[null,null,null,null,null,"North Troy","0050448","Vulcan Materials ",null,"Young","0907302","Big Creek Construction"]
[null,null,null,null,null,"Pate","0914710","Cedar Creek Stone",null,"Webberville",1422712,"Martin Marietta"]
[null,null,null,null,null,"Perch-Hill","0224901","Hanson Aggregates"]
[null,null,null,null,null,"Rankin","0623102","Jones Brothers"]
[null,null,null,null,null,"Richards Spur","0050405","Dolese Brothers"]
[null,null,null,null,null,"Rio Medina Quarry MM","1516312","Martin Marietta"]
[null,null,null,null,null,"Rio Medina Quarry CA","1516321","Capitol Aggregates, LTD"]
[null,null,null,null,null,"Ruby","1410607","Centex Materials"]
[null,null,null,null,null,"Servtex","1504603","Hanson Aggregates"]
[null,null,null,null,null,"Spicewood","1402710","Vulcan Materials"]
[null,null,null,null,null,"Springfield Quarry","0212002","Zack Burkett Co"]
[null,null,null,null,null,"Stringtown, OK","0050407","Lattimore Materials"]
[null,null,null,null,null,"Tehuacana","0914708","Vulcan Materials"]
[null,null,null,null,null,"Turner","0722611","CSA Materials"]
[null,null,null,null,null,"Weatherford","0218409","Vulcan Materials"]

{"sheet":"DATA_Sheet3","index":18,"n_rows":14,"n_cols":5,"rows_kept":14,"cut":false,"hidden":true,"merged":[]}
[null,null,"AAA","b","a"]
[null,null,"Bird Hill","1523213","Martin Marietta Materials"]
[null,null,"Cinder Mountain","0050313","Volcanic Stone"]
[null,null,"Davis, OK.","0050439","Hanson Aggregates"]
[null,null,"Jones Mill","0050122","Martin Marietta Materials"]
[null,null,"Knippa","1523206","Vulcan Materials"]
[null,null,"McKelligon-Granite","2407206","Cemex"]
[null,null,"Mill Creek(Grnt), OK.","0050433","Martin Marietta Materials"]
[null,null,"Padre Canyon","2411613","Jobe Materials, L.P."]
[null,null,"Plant 1","0050106","Granite Mountain Quarries"]
[null,null,"Porcupine Mountain","0040105","Martin Marietta Materials"]
[null,null,"Snyder, OK.","0050435","Martin Marietta Materials"]
[null,null,"Vado","0050310","Cemex"]
[null,null,"Vado Quarry","2450314","Jobe Materials, L.P."]

{"sheet":"DATA_MIXES","index":19,"n_rows":50,"n_cols":41,"rows_kept":50,"cut":false,"hidden":true,"merged":[]}
[null,null,null,null,null,null,null,null,null,null,null,null,null,null,null,null,null,null,null,null,null,null,null,null,"PFC",null,null,null,null,null,null,null,null,null,null,null,37,38,39,40]
[null,1,2,3,4,5,6,7,8,9,10,11,12,13,14,15,16,17,18,19,20,21,22,23,24,25,26,27,28,29,30,31,32,33,34,35,36,37]
[null,"MIX TYPES","MIX ID","RAP/RAS","Lift","Compactor","Cant","MGL","TBWC1","TBWC2","CRM?","Fiber?","Membrane?","Draindown?","RR","RZ","NDES","Ge","Gmb","SAC8","FT","OV","trip1","trip2","trip3","trip4","dryrod","OT","Del. Mtrl","MSS","LAA","CFC","MicroDeval","BinderSubs","IDT","HWT","CFE","CPR"]
[null,"334-HMCL-A","MIX_32",-1,2,3,0,0,1,1,0,0,0,0,-1,0,null,0,96,0,0,0,-1,0,0,0,0,0,1.5,30,40,85,0,-1,0,0,0,999999]
[null,"334-HMCL-B","MIX_33",-1,2,3,0,0,1,1,0,0,0,0,-1,0,null,0,96,0,0,0,-1,0,0,0,0,0,1.5,30,40,85,0,-1,0,0,0,999999]
[null,"334-HMCL-C","MIX_34",-1,3,3,0,0,1,1,0,0,0,0,-1,0,null,0,96,0,0,0,-1,0,0,0,0,0,1.5,30,40,85,0,-1,0,0,0,999999]
[null,"334-HMCL-D","MIX_35",-1,4,3,0,0,1,1,0,0,0,0,0,0,null,0,96,0,0,0,-1,0,0,0,0,0,1.5,30,40,85,0,-1,0,0,0,999999]
[null,"334-HMCL-F","MIX_36",-1,4,3,0,0,1,1,0,0,0,0,0,0,null,0,96,0,0,0,-1,0,0,0,0,0,1.5,30,40,85,0,-1,0,0,0,999999]
[null,"340-DG-A","MIX_27",-1,2,3,0,0,1,1,0,0,0,0,-1,0,null,0,96,0,0,0,-1,0,0,0,0,0,1.5,30,40,85,0,-1,-1,-1,0,999999,null,null,{"$f":"B9","v":"340-DG-A"}]
[null,"340-DG-B","MIX_28",-1,2,3,0,0,1,1,0,0,0,0,-1,0,null,0,96,0,0,0,-1,0,0,0,0,0,1.5,30,40,85,0,-1,-1,-1,0,999999,null,null,{"$f":"B10","v":"340-DG-B"}]
[null,"340-DG-C","MIX_29",-1,3,3,0,0,1,1,0,0,0,0,-1,0,null,0,96,0,0,0,-1,0,0,0,0,0,1.5,30,40,85,0,-1,-1,-1,0,999999,null,null,"340-DG-C"]
[null,"340-DG-D","MIX_30",-1,4,3,0,0,1,1,0,0,0,0,0,0,null,0,96,0,0,0,-1,0,0,0,0,0,1.5,30,40,85,0,-1,-1,-1,0,999999,null,null,"340-DG-D"]
[null,"340-DG-F","MIX_31",-1,4,3,0,0,1,1,0,0,0,0,0,0,null,0,96,0,0,0,-1,0,0,0,0,0,1.5,30,40,85,0,-1,-1,-1,0,999999,null,null,"340-DG-F"]
[null,"341-DG-A","MIX_01",-1,2,3,0,0,1,1,0,0,0,0,-1,0,null,0,96,0,0,0,-1,0,0,0,0,0,1.5,30,40,85,-1,-1,-1,-1,0,999999,null,null,"341-DG-A"]
[null,"341-DG-B","MIX_02",-1,2,3,0,0,1,1,0,0,0,0,-1,0,null,0,96,0,0,0,-1,0,0,0,0,0,1.5,30,40,85,-1,-1,-1,-1,0,999999,null,null,"341-DG-B"]
[null,"341-DG-C","MIX_03",-1,3,3,0,0,1,1,0,0,0,0,-1,0,null,0,96,0,0,0,-1,0,0,0,0,0,1.5,30,40,85,-1,-1,-1,-1,0,999999,null,null,"341-DG-C"]
[null,"341-DG-D","MIX_04",-1,4,3,0,0,1,1,0,0,0,0,0,0,null,0,96,0,0,0,-1,0,0,0,0,0,1.5,30,40,85,-1,-1,-1,-1,0,999999,null,null,"341-DG-D"]
[null,"341-DG-F","MIX_05",-1,4,3,0,0,1,1,0,0,0,0,0,0,null,0,96,0,0,0,-1,0,0,0,0,0,1.5,30,40,85,-1,-1,-1,-1,0,999999,null,null,"341-DG-F"]
[null,"342-PFC-C","MIX_07",-1,1,1,-1,1,1,1,0,-1,0,-1,0,0,50,-1,null,0,0,0,0,0,-1,0,0,0,1,20,30,95,-1,0,0,0,0,999999,null,null,"342-PFC-C"]
[null,"342-PFC-F","MIX_06",-1,1,1,-1,1,1,1,0,-1,0,-1,0,0,50,-1,null,0,0,-1,0,0,-1,0,0,200,1,20,30,95,-1,0,0,-1,0,999999,null,null,"342-PFC-F"]
[null,"342-PFCR-C","MIX_09",-1,1,1,-1,1,1,1,-1,0,0,-1,0,0,50,-1,null,0,0,0,0,0,-1,0,0,0,1,20,30,95,-1,0,0,0,0,999999,null,null,"342-PFCR-C"]
[null,"342-PFCR-F","MIX_08",-1,1,1,-1,1,1,1,-1,0,0,-1,0,0,50,-1,null,0,0,0,0,0,-1,0,0,0,1,20,30,95,-1,0,0,0,0,999999,null,null,"342-PFCR-F"]
[null,"344-SP-A","MIX_10",-1,2,1,0,0,1,1,0,0,0,0,-1,-1,null,0,96,0,0,0,-1,0,0,0,-1,0,1,25,35,{"$f":"IF(version>=13,85,95)","v":85},-1,-1,-1,-1,0,999999,null,null,"344-SP-A"]
[null,"344-SP-B","MIX_11",-1,2,1,0,0,1,1,0,0,0,0,-1,-1,null,0,96,0,0,0,-1,0,0,0,-1,0,1,25,35,{"$f":"IF(version>=13,85,95)","v":85},-1,-1,-1,-1,0,999999,null,null,"344-SP-B"]
[null,"344-SP-C","MIX_12",-1,3,1,0,0,1,1,0,0,0,0,-1,-1,null,0,96,0,0,0,-1,0,0,0,-1,0,1,25,35,{"$f":"IF(version>=13,85,95)","v":85},-1,-1,-1,-1,0,999999,null,null,"344-SP-C"]
[null,"344-SP-D","MIX_13",-1,4,1,0,0,1,1,0,0,0,0,0,-1,null,0,96,0,0,0,-1,0,0,0,-1,0,1,25,35,{"$f":"IF(version>=13,85,95)","v":85},-1,-1,-1,-1,0,999999,null,null,"344-SP-D"]
[null,"346-SMA-C","MIX_14",-1,4,1,0,0,1,1,0,-1,0,-1,0,0,null,0,96,0,0,-1,-1,0,0,0,-1,200,1,20,30,95,-1,0,0,-1,0,999999,null,null,"346-SMA-C"]
[null,"346-SMA-D","MIX_15",-1,4,1,0,0,1,1,0,-1,0,-1,0,0,null,0,96,0,0,-1,-1,0,0,0,-1,200,1,20,30,95,-1,0,0,-1,0,999999,null,null,"346-SMA-D"]
[null,"346-SMA-F","MIX_16",-1,4,1,0,0,1,1,0,-1,0,-1,0,0,null,0,96,0,0,-1,-1,0,0,0,-1,200,1,20,30,95,-1,0,0,-1,0,999999,null,null,"346-SMA-F"]
[null,"346-SMAR-C","MIX_17",-1,4,1,0,0,1,1,-1,0,0,-1,0,0,null,0,96,0,0,-1,-1,0,0,0,-1,200,1,20,30,95,-1,0,0,-1,0,999999,null,null,"346-SMAR-C"]
[null,"346-SMAR-F","MIX_18",-1,4,1,0,0,1,1,-1,0,0,-1,0,0,null,0,96,0,0,-1,-1,0,0,0,-1,200,1,20,30,95,-1,0,0,-1,0,999999,null,null,"346-SMAR-F"]
[null,"347-TOM-C","MIX_19",0,1,3,0,0,1,1,0,0,0,-1,0,0,null,0,96,-1,0,-1,-1,0,0,0,0,300,1,20,30,100,-1,0,-1,-1,0,999999,null,null,"347-TOM-C"]
[null,"347-TOM-F","MIX_20",0,1,3,0,0,1,1,0,0,0,-1,0,0,null,0,96,-1,0,-1,-1,0,0,0,0,300,1,20,30,100,-1,0,-1,-1,0,999999,null,null,"347-TOM-F"]
[null,"348-PFC-C","MIX_22",-1,1,1,-1,1,1,1,0,-1,-1,-1,0,0,50,-1,null,0,0,0,0,0,-1,0,0,0,1,20,30,95,-1,0,0,0,0,999999,null,null,"348-PFC-C"]
[null,"348-PFC-F","MIX_21",-1,1,1,-1,1,1,1,0,-1,-1,-1,0,0,50,-1,null,0,0,-1,0,0,-1,0,0,200,1,20,30,95,-1,0,0,-1,0,999999,null,null,"348-PFC-F"]
[null,"348-PFCR-C","MIX_37",-1,1,1,-1,1,1,1,-1,0,-1,-1,0,0,50,-1,null,0,0,0,0,0,-1,0,0,0,1,20,30,95,-1,0,0,0,0,999999,null,null,"348-PFCR-C"]
[null,"348-TBWC-A","MIX_23",-1,1,1,-1,1,1,1,0,0,-1,-1,0,0,50,-1,null,0,-1,0,0,0,-1,-1,0,0,1,20,30,95,-1,0,0,0,0,999999,null,null,"348-TBWC-A"]
[null,"348-TBWC-B","MIX_24",-1,1,1,-1,1,1,1,0,0,-1,-1,0,0,50,-1,null,0,-1,0,0,0,-1,-1,0,0,1,20,30,95,-1,0,0,0,0,999999,null,null,"348-TBWC-B"]
[null,"348-TBWC-C","MIX_25",-1,1,1,-1,1,1,1,0,0,-1,-1,0,0,50,-1,null,0,-1,0,0,0,-1,-1,0,0,1,20,30,95,-1,0,0,0,0,999999,null,null,"348-TBWC-C"]
[null,"Other","MIX_00",-1,3,3,-1,-1,-1,-1,-1,-1,-1,-1,-1,-1,null,null,-1,-1,0,-1,-1,0,0,0,-1,-1,-1,-1,-1,-1,-1,-1,-1,-1,0,999999]
[null,{"$f":"IF(version>=13,\"SS-3000-CAM\",\"SS-CAM\")","v":"SS-3000-CAM"},"MIX_26",{"$f":"IF(version>=13,0,-1)","v":0},4,1,0,0,1,1,0,0,0,0,0,0,50,0,98,0,0,-1,-1,0,0,0,0,750,1,20,30,95,0,0,-1,-1,0,999999,null,null,"SS-3000-CAM"]
[null,"SS-3076-DG-B","MIX_38",-1,2,3,0,0,1,1,0,0,0,0,-1,0,null,0,96,0,0,0,-1,0,0,0,0,0,1.5,30,40,85,-1,-1,-1,-1,0,999999,null,null,{"$f":"B42","v":"SS-3076-DG-B"}]
[null,"SS-3076-DG-C","MIX_39",-1,3,3,0,0,1,1,0,0,0,0,-1,0,null,0,96,0,0,0,-1,0,0,0,0,0,1.5,30,40,85,-1,-1,-1,-1,0,999999,null,null,"SS-3076-DG-C"]
[null,"SS-3076-DG-D","MIX_40",-1,4,3,0,0,1,1,0,0,0,0,0,0,null,0,96,0,0,0,-1,0,0,0,0,0,1.5,30,40,85,-1,-1,-1,-1,0,999999,null,null,"SS-3076-DG-D"]
[null,"SS-3076-DG-F","MIX_41",-1,4,3,0,0,1,1,0,0,0,0,0,0,null,0,96,0,0,0,-1,0,0,0,0,0,1.5,30,40,85,-1,-1,-1,-1,0,999999,null,null,"SS-3076-DG-F"]
[null,"SS-3077-SP-B","MIX_42",-1,2,1,0,0,1,1,0,0,0,0,-1,-1,null,0,96,0,0,0,-1,0,0,0,-1,0,1,{"$f":"IF(courselift=\"Base\",30,25)","v":25},{"$f":"IF(courselift=\"Base\",40,35)","v":35},85,-1,-1,-1,-1,0,999999,null,null,"SS-3077-SP-B"]
[null,"SS-3077-SP-C","MIX_43",-1,3,1,0,0,1,1,0,0,0,0,-1,-1,null,0,96,0,0,0,-1,0,0,0,-1,0,1,{"$f":"IF(courselift=\"Base\",30,25)","v":25},{"$f":"IF(courselift=\"Base\",40,35)","v":35},85,-1,-1,-1,-1,0,999999,null,null,"SS-3077-SP-C"]
[null,"SS-3077-SP-D","MIX_44",-1,4,1,0,0,1,1,0,0,0,0,0,-1,null,0,96,0,0,0,-1,0,0,0,-1,0,1,{"$f":"IF(courselift=\"Base\",30,25)","v":25},{"$f":"IF(courselift=\"Base\",40,35)","v":35},85,-1,-1,-1,-1,0,999999,null,null,"SS-3077-SP-D"]
[null,"SS-3074-BMD-SP-C","MIX_45",-1,1,1,0,0,1,1,0,0,0,0,-1,-1,null,0,96,0,0,-1,-1,0,0,0,-1,0,1,{"$f":"IF(courselift=\"Base\",30,25)","v":25},{"$f":"IF(courselift=\"Base\",40,35)","v":35},85,-1,-1,-1,-1,1,0.45,null,null,{"$f":"B49","v":"SS-3074-BMD-SP-C"}]
[null,"SS-3074-BMD-SP-D","MIX_46",-1,1,1,0,0,1,1,0,0,0,0,0,-1,null,0,96,0,0,-1,-1,0,0,0,-1,0,1,{"$f":"IF(courselift=\"Base\",30,25)","v":25},{"$f":"IF(courselift=\"Base\",40,35)","v":35},85,-1,-1,-1,-1,1,0.45,null,null,"SS-3074-BMD-SP-D"]